{"text_format":"1","workbook":"xlsx","n_sheets":9,"sheets":["CoverSheet Develope","Cover_Sheet","Week_1","June","July","August","September","Dart_Capacity_Upload","Bkup_Dart_Capacity_Upload"],"not_rendered":{"charts":0,"images":0,"macros":1,"external_links":1,"defined_names":53,"comments":0,"pivot_tables":0},"unopened":[],"bounds":{"document_bytes":16777216,"sheet_cells":100000,"rows_first":2000,"rows_last":500,"rows_between":2000,"halvings":0,"cell_chars":16384,"cell_head_chars":4096},"cells_cut":0,"cells_raw":0,"read":"whole","date_system":"1900"}

{"sheet":"CoverSheet Develope","index":0,"n_rows":1999,"n_cols":8,"rows_kept":1999,"cut":false,"hidden":true,"merged":[]}
["EBB","MaxOut #","Description","Start","Finish","Notes","Project Type","Loc."]
[{"$f":"IF(Cover_Sheet!A2=0,\"N\",\"Y\")","v":"N"},{"$f":"Cover_Sheet!B2","v":0},{"$f":"Cover_Sheet!C2","v":0},{"$f":"Cover_Sheet!D2","v":"00:00:00"},{"$f":"Cover_Sheet!E2","v":"00:00:00"},{"$f":"IF(Cover_Sheet!F2=\"\",\"\",Cover_Sheet!F2)","v":""},{"$f":"Cover_Sheet!G2","v":0},{"$f":"Cover_Sheet!H2","v":0}]
[{"$f":"IF(Cover_Sheet!A3=0,\"N\",\"Y\")","v":"N"},{"$f":"Cover_Sheet!B3","v":0},{"$f":"Cover_Sheet!C3","v":0},{"$f":"Cover_Sheet!D3","v":"00:00:00"},{"$f":"Cover_Sheet!E3","v":"00:00:00"},{"$f":"IF(Cover_Sheet!F3=\"\",\"\",Cover_Sheet!F3)","v":""},{"$f":"Cover_Sheet!G3","v":0},{"$f":"Cover_Sheet!H3","v":0}]
[{"$f":"IF(Cover_Sheet!A4=0,\"N\",\"Y\")","v":"N"},{"$f":"Cover_Sheet!B4","v":0},{"$f":"Cover_Sheet!C4","v":0},{"$f":"Cover_Sheet!D4","v":"00:00:00"},{"$f":"Cover_Sheet!E4","v":"00:00:00"},{"$f":"IF(Cover_Sheet!F4=\"\",\"\",Cover_Sheet!F4)","v":""},{"$f":"Cover_Sheet!G4","v":0},{"$f":"Cover_Sheet!H4","v":0}]
[{"$f":"IF(Cover_Sheet!A5=0,\"N\",\"Y\")","v":"N"},{"$f":"Cover_Sheet!B5","v":0},{"$f":"Cover_Sheet!C5","v":0},{"$f":"Cover_Sheet!D5","v":"00:00:00"},{"$f":"Cover_Sheet!E5","v":"00:00:00"},{"$f":"IF(Cover_Sheet!F5=\"\",\"\",Cover_Sheet!F5)","v":""},{"$f":"Cover_Sheet!G5","v":0},{"$f":"Cover_Sheet!H5","v":0}]
[{"$f":"IF(Cover_Sheet!A6=0,\"N\",\"Y\")","v":"N"},{"$f":"Cover_Sheet!B6","v":0},{"$f":"Cover_Sheet!C6","v":0},{"$f":"Cover_Sheet!D6","v":"00:00:00"},{"$f":"Cover_Sheet!E6","v":"00:00:00"},{"$f":"IF(Cover_Sheet!F6=\"\",\"\",Cover_Sheet!F6)","v":""},{"$f":"Cover_Sheet!G6","v":0},{"$f":"Cover_Sheet!H6","v":0}]
[{"$f":"IF(Cover_Sheet!A7=0,\"N\",\"Y\")","v":"N"},{"$f":"Cover_Sheet!B7","v":0},{"$f":"Cover_Sheet!C7","v":0},{"$f":"Cover_Sheet!D7","v":"00:00:00"},{"$f":"Cover_Sheet!E7","v":"00:00:00"},{"$f":"IF(Cover_Sheet!F7=\"\",\"\",Cover_Sheet!F7)","v":""},{"$f":"Cover_Sheet!G7","v":0},{"$f":"Cover_Sheet!H7","v":0}]
[{"$f":"IF(Cover_Sheet!A8=0,\"N\",\"Y\")","v":"N"},{"$f":"Cover_Sheet!B8","v":0},{"$f":"Cover_Sheet!C8","v":0},{"$f":"Cover_Sheet!D8","v":"00:00:00"},{"$f":"Cover_Sheet!E8","v":"00:00:00"},{"$f":"IF(Cover_Sheet!F8=\"\",\"\",Cover_Sheet!F8)","v":""},{"$f":"Cover_Sheet!G8","v":0},{"$f":"Cover_Sheet!H8","v":0}]
[{"$f":"IF(Cover_Sheet!A9=0,\"N\",\"Y\")","v":"N"},{"$f":"Cover_Sheet!B9","v":0},{"$f":"Cover_Sheet!C9","v":0},{"$f":"Cover_Sheet!D9","v":"00:00:00"},{"$f":"Cover_Sheet!E9","v":"00:00:00"},{"$f":"IF(Cover_Sheet!F9=\"\",\"\",Cover_Sheet!F9)","v":""},{"$f":"Cover_Sheet!G9","v":0},{"$f":"Cover_Sheet!H9","v":0}]
[{"$f":"IF(Cover_Sheet!A10=0,\"N\",\"Y\")","v":"N"},{"$f":"Cover_Sheet!B10","v":0},{"$f":"Cover_Sheet!C10","v":0},{"$f":"Cover_Sheet!D10","v":"00:00:00"},{"$f":"Cover_Sheet!E10","v":"00:00:00"},{"$f":"IF(Cover_Sheet!F10=\"\",\"\",Cover_Sheet!F10)","v":""},{"$f":"Cover_Sheet!G10","v":0},{"$f":"Cover_Sheet!H10","v":0}]
[{"$f":"IF(Cover_Sheet!A11=0,\"N\",\"Y\")","v":"N"},{"$f":"Cover_Sheet!B11","v":0},{"$f":"Cover_Sheet!C11","v":0},{"$f":"Cover_Sheet!D11","v":"00:00:00"},{"$f":"Cover_Sheet!E11","v":"00:00:00"},{"$f":"IF(Cover_Sheet!F11=\"\",\"\",Cover_Sheet!F11)","v":""},{"$f":"Cover_Sheet!G11","v":0},{"$f":"Cover_Sheet!H11","v":0}]
[{"$f":"IF(Cover_Sheet!A12=0,\"N\",\"Y\")","v":"N"},{"$f":"Cover_Sheet!B12","v":0},{"$f":"Cover_Sheet!C12","v":0},{"$f":"Cover_Sheet!D12","v":"00:00:00"},{"$f":"Cover_Sheet!E12","v":"00:00:00"},{"$f":"IF(Cover_Sheet!F12=\"\",\"\",Cover_Sheet!F12)","v":""},{"$f":"Cover_Sheet!G12","v":0},{"$f":"Cover_Sheet!H12","v":0}]
[{"$f":"IF(Cover_Sheet!A13=0,\"N\",\"Y\")","v":"N"},{"$f":"Cover_Sheet!B13","v":0},{"$f":"Cover_Sheet!C13","v":0},{"$f":"Cover_Sheet!D13","v":"00:00:00"},{"$f":"Cover_Sheet!E13","v":"00:00:00"},{"$f":"IF(Cover_Sheet!F13=\"\",\"\",Cover_Sheet!F13)","v":""},{"$f":"Cover_Sheet!G13","v":0},{"$f":"Cover_Sheet!H13","v":0}]
[{"$f":"IF(Cover_Sheet!A14=0,\"N\",\"Y\")","v":"N"},{"$f":"Cover_Sheet!B14","v":0},{"$f":"Cover_Sheet!C14","v":0},{"$f":"Cover_Sheet!D14","v":"00:00:00"},{"$f":"Cover_Sheet!E14","v":"00:00:00"},{"$f":"IF(Cover_Sheet!F14=\"\",\"\",Cover_Sheet!F14)","v":""},{"$f":"Cover_Sheet!G14","v":0},{"$f":"Cover_Sheet!H14","v":0}]
[{"$f":"IF(Cover_Sheet!A15=0,\"N\",\"Y\")","v":"N"},{"$f":"Cover_Sheet!B15","v":0},{"$f":"Cover_Sheet!C15","v":0},{"$f":"Cover_Sheet!D15","v":"00:00:00"},{"$f":"Cover_Sheet!E15","v":"00:00:00"},{"$f":"IF(Cover_Sheet!F15=\"\",\"\",Cover_Sheet!F15)","v":""},{"$f":"Cover_Sheet!G15","v":0},{"$f":"Cover_Sheet!H15","v":0}]
[{"$f":"IF(Cover_Sheet!A16=0,\"N\",\"Y\")","v":"N"},{"$f":"Cover_Sheet!B16","v":0},{"$f":"Cover_Sheet!C16","v":0},{"$f":"Cover_Sheet!D16","v":"00:00:00"},{"$f":"Cover_Sheet!E16","v":"00:00:00"},{"$f":"IF(Cover_Sheet!F16=\"\",\"\",Cover_Sheet!F16)","v":""},{"$f":"Cover_Sheet!G16","v":0},{"$f":"Cover_Sheet!H16","v":0}]
[{"$f":"IF(Cover_Sheet!A17=0,\"N\",\"Y\")","v":"N"},{"$f":"Cover_Sheet!B17","v":0},{"$f":"Cover_Sheet!C17","v":0},{"$f":"Cover_Sheet!D17","v":"00:00:00"},{"$f":"Cover_Sheet!E17","v":"00:00:00"},{"$f":"IF(Cover_Sheet!F17=\"\",\"\",Cover_Sheet!F17)","v":""},{"$f":"Cover_Sheet!G17","v":0},{"$f":"Cover_Sheet!H17","v":0}]
[{"$f":"IF(Cover_Sheet!A18=0,\"N\",\"Y\")","v":"N"},{"$f":"Cover_Sheet!B18","v":0},{"$f":"Cover_Sheet!C18","v":0},{"$f":"Cover_Sheet!D18","v":"00:00:00"},{"$f":"Cover_Sheet!E18","v":"00:00:00"},{"$f":"IF(Cover_Sheet!F18=\"\",\"\",Cover_Sheet!F18)","v":""},{"$f":"Cover_Sheet!G18","v":0},{"$f":"Cover_Sheet!H18","v":0}]
[{"$f":"IF(Cover_Sheet!A19=0,\"N\",\"Y\")","v":"N"},{"$f":"Cover_Sheet!B19","v":0},{"$f":"Cover_Sheet!C19","v":0},{"$f":"Cover_Sheet!D19","v":"00:00:00"},{"$f":"Cover_Sheet!E19","v":"00:00:00"},{"$f":"IF(Cover_Sheet!F19=\"\",\"\",Cover_Sheet!F19)","v":""},{"$f":"Cover_Sheet!G19","v":0},{"$f":"Cover_Sheet!H19","v":0}]
[{"$f":"IF(Cover_Sheet!A20=0,\"N\",\"Y\")","v":"N"},{"$f":"Cover_Sheet!B20","v":0},{"$f":"Cover_Sheet!C20","v":0},{"$f":"Cover_Sheet!D20","v":"00:00:00"},{"$f":"Cover_Sheet!E20","v":"00:00:00"},{"$f":"IF(Cover_Sheet!F20=\"\",\"\",Cover_Sheet!F20)","v":""},{"$f":"Cover_Sheet!G20","v":0},{"$f":"Cover_Sheet!H20","v":0}]
[{"$f":"IF(Cover_Sheet!A21=0,\"N\",\"Y\")","v":"N"},{"$f":"Cover_Sheet!B21","v":0},{"$f":"Cover_Sheet!C21","v":0},{"$f":"Cover_Sheet!D21","v":"00:00:00"},{"$f":"Cover_Sheet!E21","v":"00:00:00"},{"$f":"IF(Cover_Sheet!F21=\"\",\"\",Cover_Sheet!F21)","v":""},{"$f":"Cover_Sheet!G21","v":0},{"$f":"Cover_Sheet!H21","v":0}]
[{"$f":"IF(Cover_Sheet!A22=0,\"N\",\"Y\")","v":"N"},{"$f":"Cover_Sheet!B22","v":0},{"$f":"Cover_Sheet!C22","v":0},{"$f":"Cover_Sheet!D22","v":"00:00:00"},{"$f":"Cover_Sheet!E22","v":"00:00:00"},{"$f":"IF(Cover_Sheet!F22=\"\",\"\",Cover_Sheet!F22)","v":""},{"$f":"Cover_Sheet!G22","v":0},{"$f":"Cover_Sheet!H22","v":0}]
[{"$f":"IF(Cover_Sheet!A23=0,\"N\",\"Y\")","v":"N"},{"$f":"Cover_Sheet!B23","v":0},{"$f":"Cover_Sheet!C23","v":0},{"$f":"Cover_Sheet!D23","v":"00:00:00"},{"$f":"Cover_Sheet!E23","v":"00:00:00"},{"$f":"IF(Cover_Sheet!F23=\"\",\"\",Cover_Sheet!F23)","v":""},{"$f":"Cover_Sheet!G23","v":0},{"$f":"Cover_Sheet!H23","v":0}]
[{"$f":"IF(Cover_Sheet!A24=0,\"N\",\"Y\")","v":"N"},{"$f":"Cover_Sheet!B24","v":0},{"$f":"Cover_Sheet!C24","v":0},{"$f":"Cover_Sheet!D24","v":"00:00:00"},{"$f":"Cover_Sheet!E24","v":"00:00:00"},{"$f":"IF(Cover_Sheet!F24=\"\",\"\",Cover_Sheet!F24)","v":""},{"$f":"Cover_Sheet!G24","v":0},{"$f":"Cover_Sheet!H24","v":0}]
[{"$f":"IF(Cover_Sheet!A25=0,\"N\",\"Y\")","v":"N"},{"$f":"Cover_Sheet!B25","v":0},{"$f":"Cover_Sheet!C25","v":0},{"$f":"Cover_Sheet!D25","v":"00:00:00"},{"$f":"Cover_Sheet!E25","v":"00:00:00"},{"$f":"IF(Cover_Sheet!F25=\"\",\"\",Cover_Sheet!F25)","v":""},{"$f":"Cover_Sheet!G25","v":0},{"$f":"Cover_Sheet!H25","v":0}]
[{"$f":"IF(Cover_Sheet!A26=0,\"N\",\"Y\")","v":"N"},{"$f":"Cover_Sheet!B26","v":0},{"$f":"Cover_Sheet!C26","v":0},{"$f":"Cover_Sheet!D26","v":"00:00:00"},{"$f":"Cover_Sheet!E26","v":"00:00:00"},{"$f":"IF(Cover_Sheet!F26=\"\",\"\",Cover_Sheet!F26)","v":""},{"$f":"Cover_Sheet!G26","v":0},{"$f":"Cover_Sheet!H26","v":0}]
[{"$f":"IF(Cover_Sheet!A27=0,\"N\",\"Y\")","v":"N"},{"$f":"Cover_Sheet!B27","v":0},{"$f":"Cover_Sheet!C27","v":0},{"$f":"Cover_Sheet!D27","v":"00:00:00"},{"$f":"Cover_Sheet!E27","v":"00:00:00"},{"$f":"IF(Cover_Sheet!F27=\"\",\"\",Cover_Sheet!F27)","v":""},{"$f":"Cover_Sheet!G27","v":0},{"$f":"Cover_Sheet!H27","v":0}]
[{"$f":"IF(Cover_Sheet!A28=0,\"N\",\"Y\")","v":"N"},{"$f":"Cover_Sheet!B28","v":0},{"$f":"Cover_Sheet!C28","v":0},{"$f":"Cover_Sheet!D28","v":"00:00:00"},{"$f":"Cover_Sheet!E28","v":"00:00:00"},{"$f":"IF(Cover_Sheet!F28=\"\",\"\",Cover_Sheet!F28)","v":""},{"$f":"Cover_Sheet!G28","v":0},{"$f":"Cover_Sheet!H28","v":0}]
[{"$f":"IF(Cover_Sheet!A29=0,\"N\",\"Y\")","v":"N"},{"$f":"Cover_Sheet!B29","v":0},{"$f":"Cover_Sheet!C29","v":0},{"$f":"Cover_Sheet!D29","v":"00:00:00"},{"$f":"Cover_Sheet!E29","v":"00:00:00"},{"$f":"IF(Cover_Sheet!F29=\"\",\"\",Cover_Sheet!F29)","v":""},{"$f":"Cover_Sheet!G29","v":0},{"$f":"Cover_Sheet!H29","v":0}]
[{"$f":"IF(Cover_Sheet!A30=0,\"N\",\"Y\")","v":"N"},{"$f":"Cover_Sheet!B30","v":0},{"$f":"Cover_Sheet!C30","v":0},{"$f":"Cover_Sheet!D30","v":"00:00:00"},{"$f":"Cover_Sheet!E30","v":"00:00:00"},{"$f":"IF(Cover_Sheet!F30=\"\",\"\",Cover_Sheet!F30)","v":""},{"$f":"Cover_Sheet!G30","v":0},{"$f":"Cover_Sheet!H30","v":0}]
[{"$f":"IF(Cover_Sheet!A31=0,\"N\",\"Y\")","v":"N"},{"$f":"Cover_Sheet!B31","v":0},{"$f":"Cover_Sheet!C31","v":0},{"$f":"Cover_Sheet!D31","v":"00:00:00"},{"$f":"Cover_Sheet!E31","v":"00:00:00"},{"$f":"IF(Cover_Sheet!F31=\"\",\"\",Cover_Sheet!F31)","v":""},{"$f":"Cover_Sheet!G31","v":0},{"$f":"Cover_Sheet!H31","v":0}]
[{"$f":"IF(Cover_Sheet!A32=0,\"N\",\"Y\")","v":"N"},{"$f":"Cover_Sheet!B32","v":0},{"$f":"Cover_Sheet!C32","v":0},{"$f":"Cover_Sheet!D32","v":"00:00:00"},{"$f":"Cover_Sheet!E32","v":"00:00:00"},{"$f":"IF(Cover_Sheet!F32=\"\",\"\",Cover_Sheet!F32)","v":""},{"$f":"Cover_Sheet!G32","v":0},{"$f":"Cover_Sheet!H32","v":0}]
[{"$f":"IF(Cover_Sheet!A33=0,\"N\",\"Y\")","v":"N"},{"$f":"Cover_Sheet!B33","v":0},{"$f":"Cover_Sheet!C33","v":0},{"$f":"Cover_Sheet!D33","v":"00:00:00"},{"$f":"Cover_Sheet!E33","v":"00:00:00"},{"$f":"IF(Cover_Sheet!F33=\"\",\"\",Cover_Sheet!F33)","v":""},{"$f":"Cover_Sheet!G33","v":0},{"$f":"Cover_Sheet!H33","v":0}]
[{"$f":"IF(Cover_Sheet!A34=0,\"N\",\"Y\")","v":"N"},{"$f":"Cover_Sheet!B34","v":0},{"$f":"Cover_Sheet!C34","v":0},{"$f":"Cover_Sheet!D34","v":"00:00:00"},{"$f":"Cover_Sheet!E34","v":"00:00:00"},{"$f":"IF(Cover_Sheet!F34=\"\",\"\",Cover_Sheet!F34)","v":""},{"$f":"Cover_Sheet!G34","v":0},{"$f":"Cover_Sheet!H34","v":0}]
[{"$f":"IF(Cover_Sheet!A35=0,\"N\",\"Y\")","v":"N"},{"$f":"Cover_Sheet!B35","v":0},{"$f":"Cover_Sheet!C35","v":0},{"$f":"Cover_Sheet!D35","v":"00:00:00"},{"$f":"Cover_Sheet!E35","v":"00:00:00"},{"$f":"IF(Cover_Sheet!F35=\"\",\"\",Cover_Sheet!F35)","v":""},{"$f":"Cover_Sheet!G35","v":0},{"$f":"Cover_Sheet!H35","v":0}]
[{"$f":"IF(Cover_Sheet!A36=0,\"N\",\"Y\")","v":"N"},{"$f":"Cover_Sheet!B36","v":0},{"$f":"Cover_Sheet!C36","v":0},{"$f":"Cover_Sheet!D36","v":"00:00:00"},{"$f":"Cover_Sheet!E36","v":"00:00:00"},{"$f":"IF(Cover_Sheet!F36=\"\",\"\",Cover_Sheet!F36)","v":""},{"$f":"Cover_Sheet!G36","v":0},{"$f":"Cover_Sheet!H36","v":0}]
[{"$f":"IF(Cover_Sheet!A37=0,\"N\",\"Y\")","v":"N"},{"$f":"Cover_Sheet!B37","v":0},{"$f":"Cover_Sheet!C37","v":0},{"$f":"Cover_Sheet!D37","v":"00:00:00"},{"$f":"Cover_Sheet!E37","v":"00:00:00"},{"$f":"IF(Cover_Sheet!F37=\"\",\"\",Cover_Sheet!F37)","v":""},{"$f":"Cover_Sheet!G37","v":0},{"$f":"Cover_Sheet!H37","v":0}]
[{"$f":"IF(Cover_Sheet!A38=0,\"N\",\"Y\")","v":"N"},{"$f":"Cover_Sheet!B38","v":0},{"$f":"Cover_Sheet!C38","v":0},{"$f":"Cover_Sheet!D38","v":"00:00:00"},{"$f":"Cover_Sheet!E38","v":"00:00:00"},{"$f":"IF(Cover_Sheet!F38=\"\",\"\",Cover_Sheet!F38)","v":""},{"$f":"Cover_Sheet!G38","v":0},{"$f":"Cover_Sheet!H38","v":0}]
[{"$f":"IF(Cover_Sheet!A39=0,\"N\",\"Y\")","v":"N"},{"$f":"Cover_Sheet!B39","v":0},{"$f":"Cover_Sheet!C39","v":0},{"$f":"Cover_Sheet!D39","v":"00:00:00"},{"$f":"Cover_Sheet!E39","v":"00:00:00"},{"$f":"IF(Cover_Sheet!F39=\"\",\"\",Cover_Sheet!F39)","v":""},{"$f":"Cover_Sheet!G39","v":0},{"$f":"Cover_Sheet!H39","v":0}]
[{"$f":"IF(Cover_Sheet!A40=0,\"N\",\"Y\")","v":"N"},{"$f":"Cover_Sheet!B40","v":0},{"$f":"Cover_Sheet!C40","v":0},{"$f":"Cover_Sheet!D40","v":"00:00:00"},{"$f":"Cover_Sheet!E40","v":"00:00:00"},{"$f":"IF(Cover_Sheet!F40=\"\",\"\",Cover_Sheet!F40)","v":""},{"$f":"Cover_Sheet!G40","v":0},{"$f":"Cover_Sheet!H40","v":0}]
[{"$f":"IF(Cover_Sheet!A41=0,\"N\",\"Y\")","v":"N"},{"$f":"Cover_Sheet!B41","v":0},{"$f":"Cover_Sheet!C41","v":0},{"$f":"Cover_Sheet!D41","v":"00:00:00"},{"$f":"Cover_Sheet!E41","v":"00:00:00"},{"$f":"IF(Cover_Sheet!F41=\"\",\"\",Cover_Sheet!F41)","v":""},{"$f":"Cover_Sheet!G41","v":0},{"$f":"Cover_Sheet!H41","v":0}]
[{"$f":"IF(Cover_Sheet!A42=0,\"N\",\"Y\")","v":"N"},{"$f":"Cover_Sheet!B42","v":0},{"$f":"Cover_Sheet!C42","v":0},{"$f":"Cover_Sheet!D42","v":"00:00:00"},{"$f":"Cover_Sheet!E42","v":"00:00:00"},{"$f":"IF(Cover_Sheet!F42=\"\",\"\",Cover_Sheet!F42)","v":""},{"$f":"Cover_Sheet!G42","v":0},{"$f":"Cover_Sheet!H42","v":0}]
[{"$f":"IF(Cover_Sheet!A43=0,\"N\",\"Y\")","v":"N"},{"$f":"Cover_Sheet!B43","v":0},{"$f":"Cover_Sheet!C43","v":0},{"$f":"Cover_Sheet!D43","v":"00:00:00"},{"$f":"Cover_Sheet!E43","v":"00:00:00"},{"$f":"IF(Cover_Sheet!F43=\"\",\"\",Cover_Sheet!F43)","v":""},{"$f":"Cover_Sheet!G43","v":0},{"$f":"Cover_Sheet!H43","v":0}]
[{"$f":"IF(Cover_Sheet!A44=0,\"N\",\"Y\")","v":"N"},{"$f":"Cover_Sheet!B44","v":0},{"$f":"Cover_Sheet!C44","v":0},{"$f":"Cover_Sheet!D44","v":"00:00:00"},{"$f":"Cover_Sheet!E44","v":"00:00:00"},{"$f":"IF(Cover_Sheet!F44=\"\",\"\",Cover_Sheet!F44)","v":""},{"$f":"Cover_Sheet!G44","v":0},{"$f":"Cover_Sheet!H44","v":0}]
[{"$f":"IF(Cover_Sheet!A45=0,\"N\",\"Y\")","v":"N"},{"$f":"Cover_Sheet!B45","v":0},{"$f":"Cover_Sheet!C45","v":0},{"$f":"Cover_Sheet!D45","v":"00:00:00"},{"$f":"Cover_Sheet!E45","v":"00:00:00"},{"$f":"IF(Cover_Sheet!F45=\"\",\"\",Cover_Sheet!F45)","v":""},{"$f":"Cover_Sheet!G45","v":0},{"$f":"Cover_Sheet!H45","v":0}]
[{"$f":"IF(Cover_Sheet!A46=0,\"N\",\"Y\")","v":"N"},{"$f":"Cover_Sheet!B46","v":0},{"$f":"Cover_Sheet!C46","v":0},{"$f":"Cover_Sheet!D46","v":"00:00:00"},{"$f":"Cover_Sheet!E46","v":"00:00:00"},{"$f":"IF(Cover_Sheet!F46=\"\",\"\",Cover_Sheet!F46)","v":""},{"$f":"Cover_Sheet!G46","v":0},{"$f":"Cover_Sheet!H46","v":0}]
[{"$f":"IF(Cover_Sheet!A47=0,\"N\",\"Y\")","v":"N"},{"$f":"Cover_Sheet!B47","v":0},{"$f":"Cover_Sheet!C47","v":0},{"$f":"Cover_Sheet!D47","v":"00:00:00"},{"$f":"Cover_Sheet!E47","v":"00:00:00"},{"$f":"IF(Cover_Sheet!F47=\"\",\"\",Cover_Sheet!F47)","v":""},{"$f":"Cover_Sheet!G47","v":0},{"$f":"Cover_Sheet!H47","v":0}]
[{"$f":"IF(Cover_Sheet!A48=0,\"N\",\"Y\")","v":"N"},{"$f":"Cover_Sheet!B48","v":0},{"$f":"Cover_Sheet!C48","v":0},{"$f":"Cover_Sheet!D48","v":"00:00:00"},{"$f":"Cover_Sheet!E48","v":"00:00:00"},{"$f":"IF(Cover_Sheet!F48=\"\",\"\",Cover_Sheet!F48)","v":""},{"$f":"Cover_Sheet!G48","v":0},{"$f":"Cover_Sheet!H48","v":0}]
[{"$f":"IF(Cover_Sheet!A49=0,\"N\",\"Y\")","v":"N"},{"$f":"Cover_Sheet!B49","v":0},{"$f":"Cover_Sheet!C49","v":0},{"$f":"Cover_Sheet!D49","v":"00:00:00"},{"$f":"Cover_Sheet!E49","v":"00:00:00"},{"$f":"IF(Cover_Sheet!F49=\"\",\"\",Cover_Sheet!F49)","v":""},{"$f":"Cover_Sheet!G49","v":0},{"$f":"Cover_Sheet!H49","v":0}]
[{"$f":"IF(Cover_Sheet!A50=0,\"N\",\"Y\")","v":"N"},{"$f":"Cover_Sheet!B50","v":0},{"$f":"Cover_Sheet!C50","v":0},{"$f":"Cover_Sheet!D50","v":"00:00:00"},{"$f":"Cover_Sheet!E50","v":"00:00:00"},{"$f":"IF(Cover_Sheet!F50=\"\",\"\",Cover_Sheet!F50)","v":""},{"$f":"Cover_Sheet!G50","v":0},{"$f":"Cover_Sheet!H50","v":0}]
[{"$f":"IF(Cover_Sheet!A51=0,\"N\",\"Y\")","v":"N"},{"$f":"Cover_Sheet!B51","v":0},{"$f":"Cover_Sheet!C51","v":0},{"$f":"Cover_Sheet!D51","v":"00:00:00"},{"$f":"Cover_Sheet!E51","v":"00:00:00"},{"$f":"IF(Cover_Sheet!F51=\"\",\"\",Cover_Sheet!F51)","v":""},{"$f":"Cover_Sheet!G51","v":0},{"$f":"Cover_Sheet!H51","v":0}]
[{"$f":"IF(Cover_Sheet!A52=0,\"N\",\"Y\")","v":"N"},{"$f":"Cover_Sheet!B52","v":0},{"$f":"Cover_Sheet!C52","v":0},{"$f":"Cover_Sheet!D52","v":"00:00:00"},{"$f":"Cover_Sheet!E52","v":"00:00:00"},{"$f":"IF(Cover_Sheet!F52=\"\",\"\",Cover_Sheet!F52)","v":""},{"$f":"Cover_Sheet!G52","v":0},{"$f":"Cover_Sheet!H52","v":0}]
[{"$f":"IF(Cover_Sheet!A53=0,\"N\",\"Y\")","v":"N"},{"$f":"Cover_Sheet!B53","v":0},{"$f":"Cover_Sheet!C53","v":0},{"$f":"Cover_Sheet!D53","v":"00:00:00"},{"$f":"Cover_Sheet!E53","v":"00:00:00"},{"$f":"IF(Cover_Sheet!F53=\"\",\"\",Cover_Sheet!F53)","v":""},{"$f":"Cover_Sheet!G53","v":0},{"$f":"Cover_Sheet!H53","v":0}]
[{"$f":"IF(Cover_Sheet!A54=0,\"N\",\"Y\")","v":"N"},{"$f":"Cover_Sheet!B54","v":0},{"$f":"Cover_Sheet!C54","v":0},{"$f":"Cover_Sheet!D54","v":"00:00:00"},{"$f":"Cover_Sheet!E54","v":"00:00:00"},{"$f":"IF(Cover_Sheet!F54=\"\",\"\",Cover_Sheet!F54)","v":""},{"$f":"Cover_Sheet!G54","v":0},{"$f":"Cover_Sheet!H54","v":0}]
[{"$f":"IF(Cover_Sheet!A55=0,\"N\",\"Y\")","v":"N"},{"$f":"Cover_Sheet!B55","v":0},{"$f":"Cover_Sheet!C55","v":0},{"$f":"Cover_Sheet!D55","v":"00:00:00"},{"$f":"Cover_Sheet!E55","v":"00:00:00"},{"$f":"IF(Cover_Sheet!F55=\"\",\"\",Cover_Sheet!F55)","v":""},{"$f":"Cover_Sheet!G55","v":0},{"$f":"Cover_Sheet!H55","v":0}]
[{"$f":"IF(Cover_Sheet!A56=0,\"N\",\"Y\")","v":"N"},{"$f":"Cover_Sheet!B56","v":0},{"$f":"Cover_Sheet!C56","v":0},{"$f":"Cover_Sheet!D56","v":"00:00:00"},{"$f":"Cover_Sheet!E56","v":"00:00:00"},{"$f":"IF(Cover_Sheet!F56=\"\",\"\",Cover_Sheet!F56)","v":""},{"$f":"Cover_Sheet!G56","v":0},{"$f":"Cover_Sheet!H56","v":0}]
[{"$f":"IF(Cover_Sheet!A57=0,\"N\",\"Y\")","v":"N"},{"$f":"Cover_Sheet!B57","v":0},{"$f":"Cover_Sheet!C57","v":0},{"$f":"Cover_Sheet!D57","v":"00:00:00"},{"$f":"Cover_Sheet!E57","v":"00:00:00"},{"$f":"IF(Cover_Sheet!F57=\"\",\"\",Cover_Sheet!F57)","v":""},{"$f":"Cover_Sheet!G57","v":0},{"$f":"Cover_Sheet!H57","v":0}]
[{"$f":"IF(Cover_Sheet!A58=0,\"N\",\"Y\")","v":"N"},{"$f":"Cover_Sheet!B58","v":0},{"$f":"Cover_Sheet!C58","v":0},{"$f":"Cover_Sheet!D58","v":"00:00:00"},{"$f":"Cover_Sheet!E58","v":"00:00:00"},{"$f":"IF(Cover_Sheet!F58=\"\",\"\",Cover_Sheet!F58)","v":""},{"$f":"Cover_Sheet!G58","v":0},{"$f":"Cover_Sheet!H58","v":0}]
[{"$f":"IF(Cover_Sheet!A59=0,\"N\",\"Y\")","v":"N"},{"$f":"Cover_Sheet!B59","v":0},{"$f":"Cover_Sheet!C59","v":0},{"$f":"Cover_Sheet!D59","v":"00:00:00"},{"$f":"Cover_Sheet!E59","v":"00:00:00"},{"$f":"IF(Cover_Sheet!F59=\"\",\"\",Cover_Sheet!F59)","v":""},{"$f":"Cover_Sheet!G59","v":0},{"$f":"Cover_Sheet!H59","v":0}]
[{"$f":"IF(Cover_Sheet!A60=0,\"N\",\"Y\")","v":"N"},{"$f":"Cover_Sheet!B60","v":0},{"$f":"Cover_Sheet!C60","v":0},{"$f":"Cover_Sheet!D60","v":"00:00:00"},{"$f":"Cover_Sheet!E60","v":"00:00:00"},{"$f":"IF(Cover_Sheet!F60=\"\",\"\",Cover_Sheet!F60)","v":""},{"$f":"Cover_Sheet!G60","v":0},{"$f":"Cover_Sheet!H60","v":0}]
[{"$f":"IF(Cover_Sheet!A61=0,\"N\",\"Y\")","v":"N"},{"$f":"Cover_Sheet!B61","v":0},{"$f":"Cover_Sheet!C61","v":0},{"$f":"Cover_Sheet!D61","v":"00:00:00"},{"$f":"Cover_Sheet!E61","v":"00:00:00"},{"$f":"IF(Cover_Sheet!F61=\"\",\"\",Cover_Sheet!F61)","v":""},{"$f":"Cover_Sheet!G61","v":0},{"$f":"Cover_Sheet!H61","v":0}]
[{"$f":"IF(Cover_Sheet!A62=0,\"N\",\"Y\")","v":"N"},{"$f":"Cover_Sheet!B62","v":0},{"$f":"Cover_Sheet!C62","v":0},{"$f":"Cover_Sheet!D62","v":"00:00:00"},{"$f":"Cover_Sheet!E62","v":"00:00:00"},{"$f":"IF(Cover_Sheet!F62=\"\",\"\",Cover_Sheet!F62)","v":""},{"$f":"Cover_Sheet!G62","v":0},{"$f":"Cover_Sheet!H62","v":0}]
[{"$f":"IF(Cover_Sheet!A63=0,\"N\",\"Y\")","v":"N"},{"$f":"Cover_Sheet!B63","v":0},{"$f":"Cover_Sheet!C63","v":0},{"$f":"Cover_Sheet!D63","v":"00:00:00"},{"$f":"Cover_Sheet!E63","v":"00:00:00"},{"$f":"IF(Cover_Sheet!F63=\"\",\"\",Cover_Sheet!F63)","v":""},{"$f":"Cover_Sheet!G63","v":0},{"$f":"Cover_Sheet!H63","v":0}]
[{"$f":"IF(Cover_Sheet!A64=0,\"N\",\"Y\")","v":"N"},{"$f":"Cover_Sheet!B64","v":0},{"$f":"Cover_Sheet!C64","v":0},{"$f":"Cover_Sheet!D64","v":"00:00:00"},{"$f":"Cover_Sheet!E64","v":"00:00:00"},{"$f":"IF(Cover_Sheet!F64=\"\",\"\",Cover_Sheet!F64)","v":""},{"$f":"Cover_Sheet!G64","v":0},{"$f":"Cover_Sheet!H64","v":0}]
[{"$f":"IF(Cover_Sheet!A65=0,\"N\",\"Y\")","v":"N"},{"$f":"Cover_Sheet!B65","v":0},{"$f":"Cover_Sheet!C65","v":0},{"$f":"Cover_Sheet!D65","v":"00:00:00"},{"$f":"Cover_Sheet!E65","v":"00:00:00"},{"$f":"IF(Cover_Sheet!F65=\"\",\"\",Cover_Sheet!F65)","v":""},{"$f":"Cover_Sheet!G65","v":0},{"$f":"Cover_Sheet!H65","v":0}]
[{"$f":"IF(Cover_Sheet!A66=0,\"N\",\"Y\")","v":"N"},{"$f":"Cover_Sheet!B66","v":0},{"$f":"Cover_Sheet!C66","v":0},{"$f":"Cover_Sheet!D66","v":"00:00:00"},{"$f":"Cover_Sheet!E66","v":"00:00:00"},{"$f":"IF(Cover_Sheet!F66=\"\",\"\",Cover_Sheet!F66)","v":""},{"$f":"Cover_Sheet!G66","v":0},{"$f":"Cover_Sheet!H66","v":0}]
[{"$f":"IF(Cover_Sheet!A67=0,\"N\",\"Y\")","v":"N"},{"$f":"Cover_Sheet!B67","v":0},{"$f":"Cover_Sheet!C67","v":0},{"$f":"Cover_Sheet!D67","v":"00:00:00"},{"$f":"Cover_Sheet!E67","v":"00:00:00"},{"$f":"IF(Cover_Sheet!F67=\"\",\"\",Cover_Sheet!F67)","v":""},{"$f":"Cover_Sheet!G67","v":0},{"$f":"Cover_Sheet!H67","v":0}]
[{"$f":"IF(Cover_Sheet!A68=0,\"N\",\"Y\")","v":"N"},{"$f":"Cover_Sheet!B68","v":0},{"$f":"Cover_Sheet!C68","v":0},{"$f":"Cover_Sheet!D68","v":"00:00:00"},{"$f":"Cover_Sheet!E68","v":"00:00:00"},{"$f":"IF(Cover_Sheet!F68=\"\",\"\",Cover_Sheet!F68)","v":""},{"$f":"Cover_Sheet!G68","v":0},{"$f":"Cover_Sheet!H68","v":0}]
[{"$f":"IF(Cover_Sheet!A69=0,\"N\",\"Y\")","v":"N"},{"$f":"Cover_Sheet!B69","v":0},{"$f":"Cover_Sheet!C69","v":0},{"$f":"Cover_Sheet!D69","v":"00:00:00"},{"$f":"Cover_Sheet!E69","v":"00:00:00"},{"$f":"IF(Cover_Sheet!F69=\"\",\"\",Cover_Sheet!F69)","v":""},{"$f":"Cover_Sheet!G69","v":0},{"$f":"Cover_Sheet!H69","v":0}]
[{"$f":"IF(Cover_Sheet!A70=0,\"N\",\"Y\")","v":"N"},{"$f":"Cover_Sheet!B70","v":0},{"$f":"Cover_Sheet!C70","v":0},{"$f":"Cover_Sheet!D70","v":"00:00:00"},{"$f":"Cover_Sheet!E70","v":"00:00:00"},{"$f":"IF(Cover_Sheet!F70=\"\",\"\",Cover_Sheet!F70)","v":""},{"$f":"Cover_Sheet!G70","v":0},{"$f":"Cover_Sheet!H70","v":0}]
[{"$f":"IF(Cover_Sheet!A71=0,\"N\",\"Y\")","v":"N"},{"$f":"Cover_Sheet!B71","v":0},{"$f":"Cover_Sheet!C71","v":0},{"$f":"Cover_Sheet!D71","v":"00:00:00"},{"$f":"Cover_Sheet!E71","v":"00:00:00"},{"$f":"IF(Cover_Sheet!F71=\"\",\"\",Cover_Sheet!F71)","v":""},{"$f":"Cover_Sheet!G71","v":0},{"$f":"Cover_Sheet!H71","v":0}]
[{"$f":"IF(Cover_Sheet!A72=0,\"N\",\"Y\")","v":"N"},{"$f":"Cover_Sheet!B72","v":0},{"$f":"Cover_Sheet!C72","v":0},{"$f":"Cover_Sheet!D72","v":"00:00:00"},{"$f":"Cover_Sheet!E72","v":"00:00:00"},{"$f":"IF(Cover_Sheet!F72=\"\",\"\",Cover_Sheet!F72)","v":""},{"$f":"Cover_Sheet!G72","v":0},{"$f":"Cover_Sheet!H72","v":0}]
[{"$f":"IF(Cover_Sheet!A73=0,\"N\",\"Y\")","v":"N"},{"$f":"Cover_Sheet!B73","v":0},{"$f":"Cover_Sheet!C73","v":0},{"$f":"Cover_Sheet!D73","v":"00:00:00"},{"$f":"Cover_Sheet!E73","v":"00:00:00"},{"$f":"IF(Cover_Sheet!F73=\"\",\"\",Cover_Sheet!F73)","v":""},{"$f":"Cover_Sheet!G73","v":0},{"$f":"Cover_Sheet!H73","v":0}]
[{"$f":"IF(Cover_Sheet!A74=0,\"N\",\"Y\")","v":"N"},{"$f":"Cover_Sheet!B74","v":0},{"$f":"Cover_Sheet!C74","v":0},{"$f":"Cover_Sheet!D74","v":"00:00:00"},{"$f":"Cover_Sheet!E74","v":"00:00:00"},{"$f":"IF(Cover_Sheet!F74=\"\",\"\",Cover_Sheet!F74)","v":""},{"$f":"Cover_Sheet!G74","v":0},{"$f":"Cover_Sheet!H74","v":0}]
[{"$f":"IF(Cover_Sheet!A75=0,\"N\",\"Y\")","v":"N"},{"$f":"Cover_Sheet!B75","v":0},{"$f":"Cover_Sheet!C75","v":0},{"$f":"Cover_Sheet!D75","v":"00:00:00"},{"$f":"Cover_Sheet!E75","v":"00:00:00"},{"$f":"IF(Cover_Sheet!F75=\"\",\"\",Cover_Sheet!F75)","v":""},{"$f":"Cover_Sheet!G75","v":0},{"$f":"Cover_Sheet!H75","v":0}]
[{"$f":"IF(Cover_Sheet!A76=0,\"N\",\"Y\")","v":"N"},{"$f":"Cover_Sheet!B76","v":0},{"$f":"Cover_Sheet!C76","v":0},{"$f":"Cover_Sheet!D76","v":"00:00:00"},{"$f":"Cover_Sheet!E76","v":"00:00:00"},{"$f":"IF(Cover_Sheet!F76=\"\",\"\",Cover_Sheet!F76)","v":""},{"$f":"Cover_Sheet!G76","v":0},{"$f":"Cover_Sheet!H76","v":0}]
[{"$f":"IF(Cover_Sheet!A77=0,\"N\",\"Y\")","v":"N"},{"$f":"Cover_Sheet!B77","v":0},{"$f":"Cover_Sheet!C77","v":0},{"$f":"Cover_Sheet!D77","v":"00:00:00"},{"$f":"Cover_Sheet!E77","v":"00:00:00"},{"$f":"IF(Cover_Sheet!F77=\"\",\"\",Cover_Sheet!F77)","v":""},{"$f":"Cover_Sheet!G77","v":0},{"$f":"Cover_Sheet!H77","v":0}]
[{"$f":"IF(Cover_Sheet!A78=0,\"N\",\"Y\")","v":"N"},{"$f":"Cover_Sheet!B78","v":0},{"$f":"Cover_Sheet!C78","v":0},{"$f":"Cover_Sheet!D78","v":"00:00:00"},{"$f":"Cover_Sheet!E78","v":"00:00:00"},{"$f":"IF(Cover_Sheet!F78=\"\",\"\",Cover_Sheet!F78)","v":""},{"$f":"Cover_Sheet!G78","v":0},{"$f":"Cover_Sheet!H78","v":0}]
[{"$f":"IF(Cover_Sheet!A79=0,\"N\",\"Y\")","v":"N"},{"$f":"Cover_Sheet!B79","v":0},{"$f":"Cover_Sheet!C79","v":0},{"$f":"Cover_Sheet!D79","v":"00:00:00"},{"$f":"Cover_Sheet!E79","v":"00:00:00"},{"$f":"IF(Cover_Sheet!F79=\"\",\"\",Cover_Sheet!F79)","v":""},{"$f":"Cover_Sheet!G79","v":0},{"$f":"Cover_Sheet!H79","v":0}]
[{"$f":"IF(Cover_Sheet!A80=0,\"N\",\"Y\")","v":"N"},{"$f":"Cover_Sheet!B80","v":0},{"$f":"Cover_Sheet!C80","v":0},{"$f":"Cover_Sheet!D80","v":"00:00:00"},{"$f":"Cover_Sheet!E80","v":"00:00:00"},{"$f":"IF(Cover_Sheet!F80=\"\",\"\",Cover_Sheet!F80)","v":""},{"$f":"Cover_Sheet!G80","v":0},{"$f":"Cover_Sheet!H80","v":0}]
[{"$f":"IF(Cover_Sheet!A81=0,\"N\",\"Y\")","v":"N"},{"$f":"Cover_Sheet!B81","v":0},{"$f":"Cover_Sheet!C81","v":0},{"$f":"Cover_Sheet!D81","v":"00:00:00"},{"$f":"Cover_Sheet!E81","v":"00:00:00"},{"$f":"IF(Cover_Sheet!F81=\"\",\"\",Cover_Sheet!F81)","v":""},{"$f":"Cover_Sheet!G81","v":0},{"$f":"Cover_Sheet!H81","v":0}]
[{"$f":"IF(Cover_Sheet!A82=0,\"N\",\"Y\")","v":"N"},{"$f":"Cover_Sheet!B82","v":0},{"$f":"Cover_Sheet!C82","v":0},{"$f":"Cover_Sheet!D82","v":"00:00:00"},{"$f":"Cover_Sheet!E82","v":"00:00:00"},{"$f":"IF(Cover_Sheet!F82=\"\",\"\",Cover_Sheet!F82)","v":""},{"$f":"Cover_Sheet!G82","v":0},{"$f":"Cover_Sheet!H82","v":0}]
[{"$f":"IF(Cover_Sheet!A83=0,\"N\",\"Y\")","v":"N"},{"$f":"Cover_Sheet!B83","v":0},{"$f":"Cover_Sheet!C83","v":0},{"$f":"Cover_Sheet!D83","v":"00:00:00"},{"$f":"Cover_Sheet!E83","v":"00:00:00"},{"$f":"IF(Cover_Sheet!F83=\"\",\"\",Cover_Sheet!F83)","v":""},{"$f":"Cover_Sheet!G83","v":0},{"$f":"Cover_Sheet!H83","v":0}]
[{"$f":"IF(Cover_Sheet!A84=0,\"N\",\"Y\")","v":"N"},{"$f":"Cover_Sheet!B84","v":0},{"$f":"Cover_Sheet!C84","v":0},{"$f":"Cover_Sheet!D84","v":"00:00:00"},{"$f":"Cover_Sheet!E84","v":"00:00:00"},{"$f":"IF(Cover_Sheet!F84=\"\",\"\",Cover_Sheet!F84)","v":""},{"$f":"Cover_Sheet!G84","v":0},{"$f":"Cover_Sheet!H84","v":0}]
[{"$f":"IF(Cover_Sheet!A85=0,\"N\",\"Y\")","v":"N"},{"$f":"Cover_Sheet!B85","v":0},{"$f":"Cover_Sheet!C85","v":0},{"$f":"Cover_Sheet!D85","v":"00:00:00"},{"$f":"Cover_Sheet!E85","v":"00:00:00"},{"$f":"IF(Cover_Sheet!F85=\"\",\"\",Cover_Sheet!F85)","v":""},{"$f":"Cover_Sheet!G85","v":0},{"$f":"Cover_Sheet!H85","v":0}]
[{"$f":"IF(Cover_Sheet!A86=0,\"N\",\"Y\")","v":"N"},{"$f":"Cover_Sheet!B86","v":0},{"$f":"Cover_Sheet!C86","v":0},{"$f":"Cover_Sheet!D86","v":"00:00:00"},{"$f":"Cover_Sheet!E86","v":"00:00:00"},{"$f":"IF(Cover_Sheet!F86=\"\",\"\",Cover_Sheet!F86)","v":""},{"$f":"Cover_Sheet!G86","v":0},{"$f":"Cover_Sheet!H86","v":0}]
[{"$f":"IF(Cover_Sheet!A87=0,\"N\",\"Y\")","v":"N"},{"$f":"Cover_Sheet!B87","v":0},{"$f":"Cover_Sheet!C87","v":0},{"$f":"Cover_Sheet!D87","v":"00:00:00"},{"$f":"Cover_Sheet!E87","v":"00:00:00"},{"$f":"IF(Cover_Sheet!F87=\"\",\"\",Cover_Sheet!F87)","v":""},{"$f":"Cover_Sheet!G87","v":0},{"$f":"Cover_Sheet!H87","v":0}]
[{"$f":"IF(Cover_Sheet!A88=0,\"N\",\"Y\")","v":"N"},{"$f":"Cover_Sheet!B88","v":0},{"$f":"Cover_Sheet!C88","v":0},{"$f":"Cover_Sheet!D88","v":"00:00:00"},{"$f":"Cover_Sheet!E88","v":"00:00:00"},{"$f":"IF(Cover_Sheet!F88=\"\",\"\",Cover_Sheet!F88)","v":""},{"$f":"Cover_Sheet!G88","v":0},{"$f":"Cover_Sheet!H88","v":0}]
[{"$f":"IF(Cover_Sheet!A89=0,\"N\",\"Y\")","v":"N"},{"$f":"Cover_Sheet!B89","v":0},{"$f":"Cover_Sheet!C89","v":0},{"$f":"Cover_Sheet!D89","v":"00:00:00"},{"$f":"Cover_Sheet!E89","v":"00:00:00"},{"$f":"IF(Cover_Sheet!F89=\"\",\"\",Cover_Sheet!F89)","v":""},{"$f":"Cover_Sheet!G89","v":0},{"$f":"Cover_Sheet!H89","v":0}]
[{"$f":"IF(Cover_Sheet!A90=0,\"N\",\"Y\")","v":"N"},{"$f":"Cover_Sheet!B90","v":0},{"$f":"Cover_Sheet!C90","v":0},{"$f":"Cover_Sheet!D90","v":"00:00:00"},{"$f":"Cover_Sheet!E90","v":"00:00:00"},{"$f":"IF(Cover_Sheet!F90=\"\",\"\",Cover_Sheet!F90)","v":""},{"$f":"Cover_Sheet!G90","v":0},{"$f":"Cover_Sheet!H90","v":0}]
[{"$f":"IF(Cover_Sheet!A91=0,\"N\",\"Y\")","v":"N"},{"$f":"Cover_Sheet!B91","v":0},{"$f":"Cover_Sheet!C91","v":0},{"$f":"Cover_Sheet!D91","v":"00:00:00"},{"$f":"Cover_Sheet!E91","v":"00:00:00"},{"$f":"IF(Cover_Sheet!F91=\"\",\"\",Cover_Sheet!F91)","v":""},{"$f":"Cover_Sheet!G91","v":0},{"$f":"Cover_Sheet!H91","v":0}]
[{"$f":"IF(Cover_Sheet!A92=0,\"N\",\"Y\")","v":"N"},{"$f":"Cover_Sheet!B92","v":0},{"$f":"Cover_Sheet!C92","v":0},{"$f":"Cover_Sheet!D92","v":"00:00:00"},{"$f":"Cover_Sheet!E92","v":"00:00:00"},{"$f":"IF(Cover_Sheet!F92=\"\",\"\",Cover_Sheet!F92)","v":""},{"$f":"Cover_Sheet!G92","v":0},{"$f":"Cover_Sheet!H92","v":0}]
[{"$f":"IF(Cover_Sheet!A93=0,\"N\",\"Y\")","v":"N"},{"$f":"Cover_Sheet!B93","v":0},{"$f":"Cover_Sheet!C93","v":0},{"$f":"Cover_Sheet!D93","v":"00:00:00"},{"$f":"Cover_Sheet!E93","v":"00:00:00"},{"$f":"IF(Cover_Sheet!F93=\"\",\"\",Cover_Sheet!F93)","v":""},{"$f":"Cover_Sheet!G93","v":0},{"$f":"Cover_Sheet!H93","v":0}]
[{"$f":"IF(Cover_Sheet!A94=0,\"N\",\"Y\")","v":"N"},{"$f":"Cover_Sheet!B94","v":0},{"$f":"Cover_Sheet!C94","v":0},{"$f":"Cover_Sheet!D94","v":"00:00:00"},{"$f":"Cover_Sheet!E94","v":"00:00:00"},{"$f":"IF(Cover_Sheet!F94=\"\",\"\",Cover_Sheet!F94)","v":""},{"$f":"Cover_Sheet!G94","v":0},{"$f":"Cover_Sheet!H94","v":0}]
[{"$f":"IF(Cover_Sheet!A95=0,\"N\",\"Y\")","v":"N"},{"$f":"Cover_Sheet!B95","v":0},{"$f":"Cover_Sheet!C95","v":0},{"$f":"Cover_Sheet!D95","v":"00:00:00"},{"$f":"Cover_Sheet!E95","v":"00:00:00"},{"$f":"IF(Cover_Sheet!F95=\"\",\"\",Cover_Sheet!F95)","v":""},{"$f":"Cover_Sheet!G95","v":0},{"$f":"Cover_Sheet!H95","v":0}]
[{"$f":"IF(Cover_Sheet!A96=0,\"N\",\"Y\")","v":"N"},{"$f":"Cover_Sheet!B96","v":0},{"$f":"Cover_Sheet!C96","v":0},{"$f":"Cover_Sheet!D96","v":"00:00:00"},{"$f":"Cover_Sheet!E96","v":"00:00:00"},{"$f":"IF(Cover_Sheet!F96=\"\",\"\",Cover_Sheet!F96)","v":""},{"$f":"Cover_Sheet!G96","v":0},{"$f":"Cover_Sheet!H96","v":0}]
[{"$f":"IF(Cover_Sheet!A97=0,\"N\",\"Y\")","v":"N"},{"$f":"Cover_Sheet!B97","v":0},{"$f":"Cover_Sheet!C97","v":0},{"$f":"Cover_Sheet!D97","v":"00:00:00"},{"$f":"Cover_Sheet!E97","v":"00:00:00"},{"$f":"IF(Cover_Sheet!F97=\"\",\"\",Cover_Sheet!F97)","v":""},{"$f":"Cover_Sheet!G97","v":0},{"$f":"Cover_Sheet!H97","v":0}]
[{"$f":"IF(Cover_Sheet!A98=0,\"N\",\"Y\")","v":"N"},{"$f":"Cover_Sheet!B98","v":0},{"$f":"Cover_Sheet!C98","v":0},{"$f":"Cover_Sheet!D98","v":"00:00:00"},{"$f":"Cover_Sheet!E98","v":"00:00:00"},{"$f":"IF(Cover_Sheet!F98=\"\",\"\",Cover_Sheet!F98)","v":""},{"$f":"Cover_Sheet!G98","v":0},{"$f":"Cover_Sheet!H98","v":0}]
[{"$f":"IF(Cover_Sheet!A99=0,\"N\",\"Y\")","v":"N"},{"$f":"Cover_Sheet!B99","v":0},{"$f":"Cover_Sheet!C99","v":0},{"$f":"Cover_Sheet!D99","v":"00:00:00"},{"$f":"Cover_Sheet!E99","v":"00:00:00"},{"$f":"IF(Cover_Sheet!F99=\"\",\"\",Cover_Sheet!F99)","v":""},{"$f":"Cover_Sheet!G99","v":0},{"$f":"Cover_Sheet!H99","v":0}]
[{"$f":"IF(Cover_Sheet!A100=0,\"N\",\"Y\")","v":"N"},{"$f":"Cover_Sheet!B100","v":0},{"$f":"Cover_Sheet!C100","v":0},{"$f":"Cover_Sheet!D100","v":"00:00:00"},{"$f":"Cover_Sheet!E100","v":"00:00:00"},{"$f":"IF(Cover_Sheet!F100=\"\",\"\",Cover_Sheet!F100)","v":""},{"$f":"Cover_Sheet!G100","v":0},{"$f":"Cover_Sheet!H100","v":0}]
[{"$f":"IF(Cover_Sheet!A101=0,\"N\",\"Y\")","v":"N"},{"$f":"Cover_Sheet!B101","v":0},{"$f":"Cover_Sheet!C101","v":0},{"$f":"Cover_Sheet!D101","v":"00:00:00"},{"$f":"Cover_Sheet!E101","v":"00:00:00"},{"$f":"IF(Cover_Sheet!F101=\"\",\"\",Cover_Sheet!F101)","v":""},{"$f":"Cover_Sheet!G101","v":0},{"$f":"Cover_Sheet!H101","v":0}]
[{"$f":"IF(Cover_Sheet!A102=0,\"N\",\"Y\")","v":"N"},{"$f":"Cover_Sheet!B102","v":0},{"$f":"Cover_Sheet!C102","v":0},{"$f":"Cover_Sheet!D102","v":"00:00:00"},{"$f":"Cover_Sheet!E102","v":"00:00:00"},{"$f":"IF(Cover_Sheet!F102=\"\",\"\",Cover_Sheet!F102)","v":""},{"$f":"Cover_Sheet!G102","v":0},{"$f":"Cover_Sheet!H102","v":0}]
[{"$f":"IF(Cover_Sheet!A103=0,\"N\",\"Y\")","v":"N"},{"$f":"Cover_Sheet!B103","v":0},{"$f":"Cover_Sheet!C103","v":0},{"$f":"Cover_Sheet!D103","v":"00:00:00"},{"$f":"Cover_Sheet!E103","v":"00:00:00"},{"$f":"IF(Cover_Sheet!F103=\"\",\"\",Cover_Sheet!F103)","v":""},{"$f":"Cover_Sheet!G103","v":0},{"$f":"Cover_Sheet!H103","v":0}]
[{"$f":"IF(Cover_Sheet!A104=0,\"N\",\"Y\")","v":"N"},{"$f":"Cover_Sheet!B104","v":0},{"$f":"Cover_Sheet!C104","v":0},{"$f":"Cover_Sheet!D104","v":"00:00:00"},{"$f":"Cover_Sheet!E104","v":"00:00:00"},{"$f":"IF(Cover_Sheet!F104=\"\",\"\",Cover_Sheet!F104)","v":""},{"$f":"Cover_Sheet!G104","v":0},{"$f":"Cover_Sheet!H104","v":0}]
[{"$f":"IF(Cover_Sheet!A105=0,\"N\",\"Y\")","v":"N"},{"$f":"Cover_Sheet!B105","v":0},{"$f":"Cover_Sheet!C105","v":0},{"$f":"Cover_Sheet!D105","v":"00:00:00"},{"$f":"Cover_Sheet!E105","v":"00:00:00"},{"$f":"IF(Cover_Sheet!F105=\"\",\"\",Cover_Sheet!F105)","v":""},{"$f":"Cover_Sheet!G105","v":0},{"$f":"Cover_Sheet!H105","v":0}]
[{"$f":"IF(Cover_Sheet!A106=0,\"N\",\"Y\")","v":"N"},{"$f":"Cover_Sheet!B106","v":0},{"$f":"Cover_Sheet!C106","v":0},{"$f":"Cover_Sheet!D106","v":"00:00:00"},{"$f":"Cover_Sheet!E106","v":"00:00:00"},{"$f":"IF(Cover_Sheet!F106=\"\",\"\",Cover_Sheet!F106)","v":""},{"$f":"Cover_Sheet!G106","v":0},{"$f":"Cover_Sheet!H106","v":0}]
[{"$f":"IF(Cover_Sheet!A107=0,\"N\",\"Y\")","v":"N"},{"$f":"Cover_Sheet!B107","v":0},{"$f":"Cover_Sheet!C107","v":0},{"$f":"Cover_Sheet!D107","v":"00:00:00"},{"$f":"Cover_Sheet!E107","v":"00:00:00"},{"$f":"IF(Cover_Sheet!F107=\"\",\"\",Cover_Sheet!F107)","v":""},{"$f":"Cover_Sheet!G107","v":0},{"$f":"Cover_Sheet!H107","v":0}]
[{"$f":"IF(Cover_Sheet!A108=0,\"N\",\"Y\")","v":"N"},{"$f":"Cover_Sheet!B108","v":0},{"$f":"Cover_Sheet!C108","v":0},{"$f":"Cover_Sheet!D108","v":"00:00:00"},{"$f":"Cover_Sheet!E108","v":"00:00:00"},{"$f":"IF(Cover_Sheet!F108=\"\",\"\",Cover_Sheet!F108)","v":""},{"$f":"Cover_Sheet!G108","v":0},{"$f":"Cover_Sheet!H108","v":0}]
[{"$f":"IF(Cover_Sheet!A109=0,\"N\",\"Y\")","v":"N"},{"$f":"Cover_Sheet!B109","v":0},{"$f":"Cover_Sheet!C109","v":0},{"$f":"Cover_Sheet!D109","v":"00:00:00"},{"$f":"Cover_Sheet!E109","v":"00:00:00"},{"$f":"IF(Cover_Sheet!F109=\"\",\"\",Cover_Sheet!F109)","v":""},{"$f":"Cover_Sheet!G109","v":0},{"$f":"Cover_Sheet!H109","v":0}]
[{"$f":"IF(Cover_Sheet!A110=0,\"N\",\"Y\")","v":"N"},{"$f":"Cover_Sheet!B110","v":0},{"$f":"Cover_Sheet!C110","v":0},{"$f":"Cover_Sheet!D110","v":"00:00:00"},{"$f":"Cover_Sheet!E110","v":"00:00:00"},{"$f":"IF(Cover_Sheet!F110=\"\",\"\",Cover_Sheet!F110)","v":""},{"$f":"Cover_Sheet!G110","v":0},{"$f":"Cover_Sheet!H110","v":0}]
[{"$f":"IF(Cover_Sheet!A111=0,\"N\",\"Y\")","v":"N"},{"$f":"Cover_Sheet!B111","v":0},{"$f":"Cover_Sheet!C111","v":0},{"$f":"Cover_Sheet!D111","v":"00:00:00"},{"$f":"Cover_Sheet!E111","v":"00:00:00"},{"$f":"IF(Cover_Sheet!F111=\"\",\"\",Cover_Sheet!F111)","v":""},{"$f":"Cover_Sheet!G111","v":0},{"$f":"Cover_Sheet!H111","v":0}]
[{"$f":"IF(Cover_Sheet!A112=0,\"N\",\"Y\")","v":"N"},{"$f":"Cover_Sheet!B112","v":0},{"$f":"Cover_Sheet!C112","v":0},{"$f":"Cover_Sheet!D112","v":"00:00:00"},{"$f":"Cover_Sheet!E112","v":"00:00:00"},{"$f":"IF(Cover_Sheet!F112=\"\",\"\",Cover_Sheet!F112)","v":""},{"$f":"Cover_Sheet!G112","v":0},{"$f":"Cover_Sheet!H112","v":0}]
[{"$f":"IF(Cover_Sheet!A113=0,\"N\",\"Y\")","v":"N"},{"$f":"Cover_Sheet!B113","v":0},{"$f":"Cover_Sheet!C113","v":0},{"$f":"Cover_Sheet!D113","v":"00:00:00"},{"$f":"Cover_Sheet!E113","v":"00:00:00"},{"$f":"IF(Cover_Sheet!F113=\"\",\"\",Cover_Sheet!F113)","v":""},{"$f":"Cover_Sheet!G113","v":0},{"$f":"Cover_Sheet!H113","v":0}]
[{"$f":"IF(Cover_Sheet!A114=0,\"N\",\"Y\")","v":"N"},{"$f":"Cover_Sheet!B114","v":0},{"$f":"Cover_Sheet!C114","v":0},{"$f":"Cover_Sheet!D114","v":"00:00:00"},{"$f":"Cover_Sheet!E114","v":"00:00:00"},{"$f":"IF(Cover_Sheet!F114=\"\",\"\",Cover_Sheet!F114)","v":""},{"$f":"Cover_Sheet!G114","v":0},{"$f":"Cover_Sheet!H114","v":0}]
[{"$f":"IF(Cover_Sheet!A115=0,\"N\",\"Y\")","v":"N"},{"$f":"Cover_Sheet!B115","v":0},{"$f":"Cover_Sheet!C115","v":0},{"$f":"Cover_Sheet!D115","v":"00:00:00"},{"$f":"Cover_Sheet!E115","v":"00:00:00"},{"$f":"IF(Cover_Sheet!F115=\"\",\"\",Cover_Sheet!F115)","v":""},{"$f":"Cover_Sheet!G115","v":0},{"$f":"Cover_Sheet!H115","v":0}]
[{"$f":"IF(Cover_Sheet!A116=0,\"N\",\"Y\")","v":"N"},{"$f":"Cover_Sheet!B116","v":0},{"$f":"Cover_Sheet!C116","v":0},{"$f":"Cover_Sheet!D116","v":"00:00:00"},{"$f":"Cover_Sheet!E116","v":"00:00:00"},{"$f":"IF(Cover_Sheet!F116=\"\",\"\",Cover_Sheet!F116)","v":""},{"$f":"Cover_Sheet!G116","v":0},{"$f":"Cover_Sheet!H116","v":0}]
[{"$f":"IF(Cover_Sheet!A117=0,\"N\",\"Y\")","v":"N"},{"$f":"Cover_Sheet!B117","v":0},{"$f":"Cover_Sheet!C117","v":0},{"$f":"Cover_Sheet!D117","v":"00:00:00"},{"$f":"Cover_Sheet!E117","v":"00:00:00"},{"$f":"IF(Cover_Sheet!F117=\"\",\"\",Cover_Sheet!F117)","v":""},{"$f":"Cover_Sheet!G117","v":0},{"$f":"Cover_Sheet!H117","v":0}]
[{"$f":"IF(Cover_Sheet!A118=0,\"N\",\"Y\")","v":"N"},{"$f":"Cover_Sheet!B118","v":0},{"$f":"Cover_Sheet!C118","v":0},{"$f":"Cover_Sheet!D118","v":"00:00:00"},{"$f":"Cover_Sheet!E118","v":"00:00:00"},{"$f":"IF(Cover_Sheet!F118=\"\",\"\",Cover_Sheet!F118)","v":""},{"$f":"Cover_Sheet!G118","v":0},{"$f":"Cover_Sheet!H118","v":0}]
[{"$f":"IF(Cover_Sheet!A119=0,\"N\",\"Y\")","v":"N"},{"$f":"Cover_Sheet!B119","v":0},{"$f":"Cover_Sheet!C119","v":0},{"$f":"Cover_Sheet!D119","v":"00:00:00"},{"$f":"Cover_Sheet!E119","v":"00:00:00"},{"$f":"IF(Cover_Sheet!F119=\"\",\"\",Cover_Sheet!F119)","v":""},{"$f":"Cover_Sheet!G119","v":0},{"$f":"Cover_Sheet!H119","v":0}]
[{"$f":"IF(Cover_Sheet!A120=0,\"N\",\"Y\")","v":"N"},{"$f":"Cover_Sheet!B120","v":0},{"$f":"Cover_Sheet!C120","v":0},{"$f":"Cover_Sheet!D120","v":"00:00:00"},{"$f":"Cover_Sheet!E120","v":"00:00:00"},{"$f":"IF(Cover_Sheet!F120=\"\",\"\",Cover_Sheet!F120)","v":""},{"$f":"Cover_Sheet!G120","v":0},{"$f":"Cover_Sheet!H120","v":0}]
[{"$f":"IF(Cover_Sheet!A121=0,\"N\",\"Y\")","v":"N"},{"$f":"Cover_Sheet!B121","v":0},{"$f":"Cover_Sheet!C121","v":0},{"$f":"Cover_Sheet!D121","v":"00:00:00"},{"$f":"Cover_Sheet!E121","v":"00:00:00"},{"$f":"IF(Cover_Sheet!F121=\"\",\"\",Cover_Sheet!F121)","v":""},{"$f":"Cover_Sheet!G121","v":0},{"$f":"Cover_Sheet!H121","v":0}]
[{"$f":"IF(Cover_Sheet!A122=0,\"N\",\"Y\")","v":"N"},{"$f":"Cover_Sheet!B122","v":0},{"$f":"Cover_Sheet!C122","v":0},{"$f":"Cover_Sheet!D122","v":"00:00:00"},{"$f":"Cover_Sheet!E122","v":"00:00:00"},{"$f":"IF(Cover_Sheet!F122=\"\",\"\",Cover_Sheet!F122)","v":""},{"$f":"Cover_Sheet!G122","v":0},{"$f":"Cover_Sheet!H122","v":0}]
[{"$f":"IF(Cover_Sheet!A123=0,\"N\",\"Y\")","v":"N"},{"$f":"Cover_Sheet!B123","v":0},{"$f":"Cover_Sheet!C123","v":0},{"$f":"Cover_Sheet!D123","v":"00:00:00"},{"$f":"Cover_Sheet!E123","v":"00:00:00"},{"$f":"IF(Cover_Sheet!F123=\"\",\"\",Cover_Sheet!F123)","v":""},{"$f":"Cover_Sheet!G123","v":0},{"$f":"Cover_Sheet!H123","v":0}]
[{"$f":"IF(Cover_Sheet!A124=0,\"N\",\"Y\")","v":"N"},{"$f":"Cover_Sheet!B124","v":0},{"$f":"Cover_Sheet!C124","v":0},{"$f":"Cover_Sheet!D124","v":"00:00:00"},{"$f":"Cover_Sheet!E124","v":"00:00:00"},{"$f":"IF(Cover_Sheet!F124=\"\",\"\",Cover_Sheet!F124)","v":""},{"$f":"Cover_Sheet!G124","v":0},{"$f":"Cover_Sheet!H124","v":0}]
[{"$f":"IF(Cover_Sheet!A125=0,\"N\",\"Y\")","v":"N"},{"$f":"Cover_Sheet!B125","v":0},{"$f":"Cover_Sheet!C125","v":0},{"$f":"Cover_Sheet!D125","v":"00:00:00"},{"$f":"Cover_Sheet!E125","v":"00:00:00"},{"$f":"IF(Cover_Sheet!F125=\"\",\"\",Cover_Sheet!F125)","v":""},{"$f":"Cover_Sheet!G125","v":0},{"$f":"Cover_Sheet!H125","v":0}]
[{"$f":"IF(Cover_Sheet!A126=0,\"N\",\"Y\")","v":"N"},{"$f":"Cover_Sheet!B126","v":0},{"$f":"Cover_Sheet!C126","v":0},{"$f":"Cover_Sheet!D126","v":"00:00:00"},{"$f":"Cover_Sheet!E126","v":"00:00:00"},{"$f":"IF(Cover_Sheet!F126=\"\",\"\",Cover_Sheet!F126)","v":""},{"$f":"Cover_Sheet!G126","v":0},{"$f":"Cover_Sheet!H126","v":0}]
[{"$f":"IF(Cover_Sheet!A127=0,\"N\",\"Y\")","v":"N"},{"$f":"Cover_Sheet!B127","v":0},{"$f":"Cover_Sheet!C127","v":0},{"$f":"Cover_Sheet!D127","v":"00:00:00"},{"$f":"Cover_Sheet!E127","v":"00:00:00"},{"$f":"IF(Cover_Sheet!F127=\"\",\"\",Cover_Sheet!F127)","v":""},{"$f":"Cover_Sheet!G127","v":0},{"$f":"Cover_Sheet!H127","v":0}]
[{"$f":"IF(Cover_Sheet!A128=0,\"N\",\"Y\")","v":"N"},{"$f":"Cover_Sheet!B128","v":0},{"$f":"Cover_Sheet!C128","v":0},{"$f":"Cover_Sheet!D128","v":"00:00:00"},{"$f":"Cover_Sheet!E128","v":"00:00:00"},{"$f":"IF(Cover_Sheet!F128=\"\",\"\",Cover_Sheet!F128)","v":""},{"$f":"Cover_Sheet!G128","v":0},{"$f":"Cover_Sheet!H128","v":0}]
[{"$f":"IF(Cover_Sheet!A129=0,\"N\",\"Y\")","v":"N"},{"$f":"Cover_Sheet!B129","v":0},{"$f":"Cover_Sheet!C129","v":0},{"$f":"Cover_Sheet!D129","v":"00:00:00"},{"$f":"Cover_Sheet!E129","v":"00:00:00"},{"$f":"IF(Cover_Sheet!F129=\"\",\"\",Cover_Sheet!F129)","v":""},{"$f":"Cover_Sheet!G129","v":0},{"$f":"Cover_Sheet!H129","v":0}]
[{"$f":"IF(Cover_Sheet!A130=0,\"N\",\"Y\")","v":"N"},{"$f":"Cover_Sheet!B130","v":0},{"$f":"Cover_Sheet!C130","v":0},{"$f":"Cover_Sheet!D130","v":"00:00:00"},{"$f":"Cover_Sheet!E130","v":"00:00:00"},{"$f":"IF(Cover_Sheet!F130=\"\",\"\",Cover_Sheet!F130)","v":""},{"$f":"Cover_Sheet!G130","v":0},{"$f":"Cover_Sheet!H130","v":0}]
[{"$f":"IF(Cover_Sheet!A131=0,\"N\",\"Y\")","v":"N"},{"$f":"Cover_Sheet!B131","v":0},{"$f":"Cover_Sheet!C131","v":0},{"$f":"Cover_Sheet!D131","v":"00:00:00"},{"$f":"Cover_Sheet!E131","v":"00:00:00"},{"$f":"IF(Cover_Sheet!F131=\"\",\"\",Cover_Sheet!F131)","v":""},{"$f":"Cover_Sheet!G131","v":0},{"$f":"Cover_Sheet!H131","v":0}]
[{"$f":"IF(Cover_Sheet!A132=0,\"N\",\"Y\")","v":"N"},{"$f":"Cover_Sheet!B132","v":0},{"$f":"Cover_Sheet!C132","v":0},{"$f":"Cover_Sheet!D132","v":"00:00:00"},{"$f":"Cover_Sheet!E132","v":"00:00:00"},{"$f":"IF(Cover_Sheet!F132=\"\",\"\",Cover_Sheet!F132)","v":""},{"$f":"Cover_Sheet!G132","v":0},{"$f":"Cover_Sheet!H132","v":0}]
[{"$f":"IF(Cover_Sheet!A133=0,\"N\",\"Y\")","v":"N"},{"$f":"Cover_Sheet!B133","v":0},{"$f":"Cover_Sheet!C133","v":0},{"$f":"Cover_Sheet!D133","v":"00:00:00"},{"$f":"Cover_Sheet!E133","v":"00:00:00"},{"$f":"IF(Cover_Sheet!F133=\"\",\"\",Cover_Sheet!F133)","v":""},{"$f":"Cover_Sheet!G133","v":0},{"$f":"Cover_Sheet!H133","v":0}]
[{"$f":"IF(Cover_Sheet!A134=0,\"N\",\"Y\")","v":"N"},{"$f":"Cover_Sheet!B134","v":0},{"$f":"Cover_Sheet!C134","v":0},{"$f":"Cover_Sheet!D134","v":"00:00:00"},{"$f":"Cover_Sheet!E134","v":"00:00:00"},{"$f":"IF(Cover_Sheet!F134=\"\",\"\",Cover_Sheet!F134)","v":""},{"$f":"Cover_Sheet!G134","v":0},{"$f":"Cover_Sheet!H134","v":0}]
[{"$f":"IF(Cover_Sheet!A135=0,\"N\",\"Y\")","v":"N"},{"$f":"Cover_Sheet!B135","v":0},{"$f":"Cover_Sheet!C135","v":0},{"$f":"Cover_Sheet!D135","v":"00:00:00"},{"$f":"Cover_Sheet!E135","v":"00:00:00"},{"$f":"IF(Cover_Sheet!F135=\"\",\"\",Cover_Sheet!F135)","v":""},{"$f":"Cover_Sheet!G135","v":0},{"$f":"Cover_Sheet!H135","v":0}]
[{"$f":"IF(Cover_Sheet!A136=0,\"N\",\"Y\")","v":"N"},{"$f":"Cover_Sheet!B136","v":0},{"$f":"Cover_Sheet!C136","v":0},{"$f":"Cover_Sheet!D136","v":"00:00:00"},{"$f":"Cover_Sheet!E136","v":"00:00:00"},{"$f":"IF(Cover_Sheet!F136=\"\",\"\",Cover_Sheet!F136)","v":""},{"$f":"Cover_Sheet!G136","v":0},{"$f":"Cover_Sheet!H136","v":0}]
[{"$f":"IF(Cover_Sheet!A137=0,\"N\",\"Y\")","v":"N"},{"$f":"Cover_Sheet!B137","v":0},{"$f":"Cover_Sheet!C137","v":0},{"$f":"Cover_Sheet!D137","v":"00:00:00"},{"$f":"Cover_Sheet!E137","v":"00:00:00"},{"$f":"IF(Cover_Sheet!F137=\"\",\"\",Cover_Sheet!F137)","v":""},{"$f":"Cover_Sheet!G137","v":0},{"$f":"Cover_Sheet!H137","v":0}]
[{"$f":"IF(Cover_Sheet!A138=0,\"N\",\"Y\")","v":"N"},{"$f":"Cover_Sheet!B138","v":0},{"$f":"Cover_Sheet!C138","v":0},{"$f":"Cover_Sheet!D138","v":"00:00:00"},{"$f":"Cover_Sheet!E138","v":"00:00:00"},{"$f":"IF(Cover_Sheet!F138=\"\",\"\",Cover_Sheet!F138)","v":""},{"$f":"Cover_Sheet!G138","v":0},{"$f":"Cover_Sheet!H138","v":0}]
[{"$f":"IF(Cover_Sheet!A139=0,\"N\",\"Y\")","v":"N"},{"$f":"Cover_Sheet!B139","v":0},{"$f":"Cover_Sheet!C139","v":0},{"$f":"Cover_Sheet!D139","v":"00:00:00"},{"$f":"Cover_Sheet!E139","v":"00:00:00"},{"$f":"IF(Cover_Sheet!F139=\"\",\"\",Cover_Sheet!F139)","v":""},{"$f":"Cover_Sheet!G139","v":0},{"$f":"Cover_Sheet!H139","v":0}]
[{"$f":"IF(Cover_Sheet!A140=0,\"N\",\"Y\")","v":"N"},{"$f":"Cover_Sheet!B140","v":0},{"$f":"Cover_Sheet!C140","v":0},{"$f":"Cover_Sheet!D140","v":"00:00:00"},{"$f":"Cover_Sheet!E140","v":"00:00:00"},{"$f":"IF(Cover_Sheet!F140=\"\",\"\",Cover_Sheet!F140)","v":""},{"$f":"Cover_Sheet!G140","v":0},{"$f":"Cover_Sheet!H140","v":0}]
[{"$f":"IF(Cover_Sheet!A141=0,\"N\",\"Y\")","v":"N"},{"$f":"Cover_Sheet!B141","v":0},{"$f":"Cover_Sheet!C141","v":0},{"$f":"Cover_Sheet!D141","v":"00:00:00"},{"$f":"Cover_Sheet!E141","v":"00:00:00"},{"$f":"IF(Cover_Sheet!F141=\"\",\"\",Cover_Sheet!F141)","v":""},{"$f":"Cover_Sheet!G141","v":0},{"$f":"Cover_Sheet!H141","v":0}]
[{"$f":"IF(Cover_Sheet!A142=0,\"N\",\"Y\")","v":"N"},{"$f":"Cover_Sheet!B142","v":0},{"$f":"Cover_Sheet!C142","v":0},{"$f":"Cover_Sheet!D142","v":"00:00:00"},{"$f":"Cover_Sheet!E142","v":"00:00:00"},{"$f":"IF(Cover_Sheet!F142=\"\",\"\",Cover_Sheet!F142)","v":""},{"$f":"Cover_Sheet!G142","v":0},{"$f":"Cover_Sheet!H142","v":0}]
[{"$f":"IF(Cover_Sheet!A143=0,\"N\",\"Y\")","v":"N"},{"$f":"Cover_Sheet!B143","v":0},{"$f":"Cover_Sheet!C143","v":0},{"$f":"Cover_Sheet!D143","v":"00:00:00"},{"$f":"Cover_Sheet!E143","v":"00:00:00"},{"$f":"IF(Cover_Sheet!F143=\"\",\"\",Cover_Sheet!F143)","v":""},{"$f":"Cover_Sheet!G143","v":0},{"$f":"Cover_Sheet!H143","v":0}]
[{"$f":"IF(Cover_Sheet!A144=0,\"N\",\"Y\")","v":"N"},{"$f":"Cover_Sheet!B144","v":0},{"$f":"Cover_Sheet!C144","v":0},{"$f":"Cover_Sheet!D144","v":"00:00:00"},{"$f":"Cover_Sheet!E144","v":"00:00:00"},{"$f":"IF(Cover_Sheet!F144=\"\",\"\",Cover_Sheet!F144)","v":""},{"$f":"Cover_Sheet!G144","v":0},{"$f":"Cover_Sheet!H144","v":0}]
[{"$f":"IF(Cover_Sheet!A145=0,\"N\",\"Y\")","v":"N"},{"$f":"Cover_Sheet!B145","v":0},{"$f":"Cover_Sheet!C145","v":0},{"$f":"Cover_Sheet!D145","v":"00:00:00"},{"$f":"Cover_Sheet!E145","v":"00:00:00"},{"$f":"IF(Cover_Sheet!F145=\"\",\"\",Cover_Sheet!F145)","v":""},{"$f":"Cover_Sheet!G145","v":0},{"$f":"Cover_Sheet!H145","v":0}]
[{"$f":"IF(Cover_Sheet!A146=0,\"N\",\"Y\")","v":"N"},{"$f":"Cover_Sheet!B146","v":0},{"$f":"Cover_Sheet!C146","v":0},{"$f":"Cover_Sheet!D146","v":"00:00:00"},{"$f":"Cover_Sheet!E146","v":"00:00:00"},{"$f":"IF(Cover_Sheet!F146=\"\",\"\",Cover_Sheet!F146)","v":""},{"$f":"Cover_Sheet!G146","v":0},{"$f":"Cover_Sheet!H146","v":0}]
[{"$f":"IF(Cover_Sheet!A147=0,\"N\",\"Y\")","v":"N"},{"$f":"Cover_Sheet!B147","v":0},{"$f":"Cover_Sheet!C147","v":0},{"$f":"Cover_Sheet!D147","v":"00:00:00"},{"$f":"Cover_Sheet!E147","v":"00:00:00"},{"$f":"IF(Cover_Sheet!F147=\"\",\"\",Cover_Sheet!F147)","v":""},{"$f":"Cover_Sheet!G147","v":0},{"$f":"Cover_Sheet!H147","v":0}]
[{"$f":"IF(Cover_Sheet!A148=0,\"N\",\"Y\")","v":"N"},{"$f":"Cover_Sheet!B148","v":0},{"$f":"Cover_Sheet!C148","v":0},{"$f":"Cover_Sheet!D148","v":"00:00:00"},{"$f":"Cover_Sheet!E148","v":"00:00:00"},{"$f":"IF(Cover_Sheet!F148=\"\",\"\",Cover_Sheet!F148)","v":""},{"$f":"Cover_Sheet!G148","v":0},{"$f":"Cover_Sheet!H148","v":0}]
[{"$f":"IF(Cover_Sheet!A149=0,\"N\",\"Y\")","v":"N"},{"$f":"Cover_Sheet!B149","v":0},{"$f":"Cover_Sheet!C149","v":0},{"$f":"Cover_Sheet!D149","v":"00:00:00"},{"$f":"Cover_Sheet!E149","v":"00:00:00"},{"$f":"IF(Cover_Sheet!F149=\"\",\"\",Cover_Sheet!F149)","v":""},{"$f":"Cover_Sheet!G149","v":0},{"$f":"Cover_Sheet!H149","v":0}]
[{"$f":"IF(Cover_Sheet!A150=0,\"N\",\"Y\")","v":"N"},{"$f":"Cover_Sheet!B150","v":0},{"$f":"Cover_Sheet!C150","v":0},{"$f":"Cover_Sheet!D150","v":"00:00:00"},{"$f":"Cover_Sheet!E150","v":"00:00:00"},{"$f":"IF(Cover_Sheet!F150=\"\",\"\",Cover_Sheet!F150)","v":""},{"$f":"Cover_Sheet!G150","v":0},{"$f":"Cover_Sheet!H150","v":0}]
[{"$f":"IF(Cover_Sheet!A151=0,\"N\",\"Y\")","v":"N"},{"$f":"Cover_Sheet!B151","v":0},{"$f":"Cover_Sheet!C151","v":0},{"$f":"Cover_Sheet!D151","v":"00:00:00"},{"$f":"Cover_Sheet!E151","v":"00:00:00"},{"$f":"IF(Cover_Sheet!F151=\"\",\"\",Cover_Sheet!F151)","v":""},{"$f":"Cover_Sheet!G151","v":0},{"$f":"Cover_Sheet!H151","v":0}]
[{"$f":"IF(Cover_Sheet!A152=0,\"N\",\"Y\")","v":"N"},{"$f":"Cover_Sheet!B152","v":0},{"$f":"Cover_Sheet!C152","v":0},{"$f":"Cover_Sheet!D152","v":"00:00:00"},{"$f":"Cover_Sheet!E152","v":"00:00:00"},{"$f":"IF(Cover_Sheet!F152=\"\",\"\",Cover_Sheet!F152)","v":""},{"$f":"Cover_Sheet!G152","v":0},{"$f":"Cover_Sheet!H152","v":0}]
[{"$f":"IF(Cover_Sheet!A153=0,\"N\",\"Y\")","v":"N"},{"$f":"Cover_Sheet!B153","v":0},{"$f":"Cover_Sheet!C153","v":0},{"$f":"Cover_Sheet!D153","v":"00:00:00"},{"$f":"Cover_Sheet!E153","v":"00:00:00"},{"$f":"IF(Cover_Sheet!F153=\"\",\"\",Cover_Sheet!F153)","v":""},{"$f":"Cover_Sheet!G153","v":0},{"$f":"Cover_Sheet!H153","v":0}]
[{"$f":"IF(Cover_Sheet!A154=0,\"N\",\"Y\")","v":"N"},{"$f":"Cover_Sheet!B154","v":0},{"$f":"Cover_Sheet!C154","v":0},{"$f":"Cover_Sheet!D154","v":"00:00:00"},{"$f":"Cover_Sheet!E154","v":"00:00:00"},{"$f":"IF(Cover_Sheet!F154=\"\",\"\",Cover_Sheet!F154)","v":""},{"$f":"Cover_Sheet!G154","v":0},{"$f":"Cover_Sheet!H154","v":0}]
[{"$f":"IF(Cover_Sheet!A155=0,\"N\",\"Y\")","v":"N"},{"$f":"Cover_Sheet!B155","v":0},{"$f":"Cover_Sheet!C155","v":0},{"$f":"Cover_Sheet!D155","v":"00:00:00"},{"$f":"Cover_Sheet!E155","v":"00:00:00"},{"$f":"IF(Cover_Sheet!F155=\"\",\"\",Cover_Sheet!F155)","v":""},{"$f":"Cover_Sheet!G155","v":0},{"$f":"Cover_Sheet!H155","v":0}]
[{"$f":"IF(Cover_Sheet!A156=0,\"N\",\"Y\")","v":"N"},{"$f":"Cover_Sheet!B156","v":0},{"$f":"Cover_Sheet!C156","v":0},{"$f":"Cover_Sheet!D156","v":"00:00:00"},{"$f":"Cover_Sheet!E156","v":"00:00:00"},{"$f":"IF(Cover_Sheet!F156=\"\",\"\",Cover_Sheet!F156)","v":""},{"$f":"Cover_Sheet!G156","v":0},{"$f":"Cover_Sheet!H156","v":0}]
[{"$f":"IF(Cover_Sheet!A157=0,\"N\",\"Y\")","v":"N"},{"$f":"Cover_Sheet!B157","v":0},{"$f":"Cover_Sheet!C157","v":0},{"$f":"Cover_Sheet!D157","v":"00:00:00"},{"$f":"Cover_Sheet!E157","v":"00:00:00"},{"$f":"IF(Cover_Sheet!F157=\"\",\"\",Cover_Sheet!F157)","v":""},{"$f":"Cover_Sheet!G157","v":0},{"$f":"Cover_Sheet!H157","v":0}]
[{"$f":"IF(Cover_Sheet!A158=0,\"N\",\"Y\")","v":"N"},{"$f":"Cover_Sheet!B158","v":0},{"$f":"Cover_Sheet!C158","v":0},{"$f":"Cover_Sheet!D158","v":"00:00:00"},{"$f":"Cover_Sheet!E158","v":"00:00:00"},{"$f":"IF(Cover_Sheet!F158=\"\",\"\",Cover_Sheet!F158)","v":""},{"$f":"Cover_Sheet!G158","v":0},{"$f":"Cover_Sheet!H158","v":0}]
[{"$f":"IF(Cover_Sheet!A159=0,\"N\",\"Y\")","v":"N"},{"$f":"Cover_Sheet!B159","v":0},{"$f":"Cover_Sheet!C159","v":0},{"$f":"Cover_Sheet!D159","v":"00:00:00"},{"$f":"Cover_Sheet!E159","v":"00:00:00"},{"$f":"IF(Cover_Sheet!F159=\"\",\"\",Cover_Sheet!F159)","v":""},{"$f":"Cover_Sheet!G159","v":0},{"$f":"Cover_Sheet!H159","v":0}]
[{"$f":"IF(Cover_Sheet!A160=0,\"N\",\"Y\")","v":"N"},{"$f":"Cover_Sheet!B160","v":0},{"$f":"Cover_Sheet!C160","v":0},{"$f":"Cover_Sheet!D160","v":"00:00:00"},{"$f":"Cover_Sheet!E160","v":"00:00:00"},{"$f":"IF(Cover_Sheet!F160=\"\",\"\",Cover_Sheet!F160)","v":""},{"$f":"Cover_Sheet!G160","v":0},{"$f":"Cover_Sheet!H160","v":0}]
[{"$f":"IF(Cover_Sheet!A161=0,\"N\",\"Y\")","v":"N"},{"$f":"Cover_Sheet!B161","v":0},{"$f":"Cover_Sheet!C161","v":0},{"$f":"Cover_Sheet!D161","v":"00:00:00"},{"$f":"Cover_Sheet!E161","v":"00:00:00"},{"$f":"IF(Cover_Sheet!F161=\"\",\"\",Cover_Sheet!F161)","v":""},{"$f":"Cover_Sheet!G161","v":0},{"$f":"Cover_Sheet!H161","v":0}]
[{"$f":"IF(Cover_Sheet!A162=0,\"N\",\"Y\")","v":"N"},{"$f":"Cover_Sheet!B162","v":0},{"$f":"Cover_Sheet!C162","v":0},{"$f":"Cover_Sheet!D162","v":"00:00:00"},{"$f":"Cover_Sheet!E162","v":"00:00:00"},{"$f":"IF(Cover_Sheet!F162=\"\",\"\",Cover_Sheet!F162)","v":""},{"$f":"Cover_Sheet!G162","v":0},{"$f":"Cover_Sheet!H162","v":0}]
[{"$f":"IF(Cover_Sheet!A163=0,\"N\",\"Y\")","v":"N"},{"$f":"Cover_Sheet!B163","v":0},{"$f":"Cover_Sheet!C163","v":0},{"$f":"Cover_Sheet!D163","v":"00:00:00"},{"$f":"Cover_Sheet!E163","v":"00:00:00"},{"$f":"IF(Cover_Sheet!F163=\"\",\"\",Cover_Sheet!F163)","v":""},{"$f":"Cover_Sheet!G163","v":0},{"$f":"Cover_Sheet!H163","v":0}]
[{"$f":"IF(Cover_Sheet!A164=0,\"N\",\"Y\")","v":"N"},{"$f":"Cover_Sheet!B164","v":0},{"$f":"Cover_Sheet!C164","v":0},{"$f":"Cover_Sheet!D164","v":"00:00:00"},{"$f":"Cover_Sheet!E164","v":"00:00:00"},{"$f":"IF(Cover_Sheet!F164=\"\",\"\",Cover_Sheet!F164)","v":""},{"$f":"Cover_Sheet!G164","v":0},{"$f":"Cover_Sheet!H164","v":0}]
[{"$f":"IF(Cover_Sheet!A165=0,\"N\",\"Y\")","v":"N"},{"$f":"Cover_Sheet!B165","v":0},{"$f":"Cover_Sheet!C165","v":0},{"$f":"Cover_Sheet!D165","v":"00:00:00"},{"$f":"Cover_Sheet!E165","v":"00:00:00"},{"$f":"IF(Cover_Sheet!F165=\"\",\"\",Cover_Sheet!F165)","v":""},{"$f":"Cover_Sheet!G165","v":0},{"$f":"Cover_Sheet!H165","v":0}]
[{"$f":"IF(Cover_Sheet!A166=0,\"N\",\"Y\")","v":"N"},{"$f":"Cover_Sheet!B166","v":0},{"$f":"Cover_Sheet!C166","v":0},{"$f":"Cover_Sheet!D166","v":"00:00:00"},{"$f":"Cover_Sheet!E166","v":"00:00:00"},{"$f":"IF(Cover_Sheet!F166=\"\",\"\",Cover_Sheet!F166)","v":""},{"$f":"Cover_Sheet!G166","v":0},{"$f":"Cover_Sheet!H166","v":0}]
[{"$f":"IF(Cover_Sheet!A167=0,\"N\",\"Y\")","v":"N"},{"$f":"Cover_Sheet!B167","v":0},{"$f":"Cover_Sheet!C167","v":0},{"$f":"Cover_Sheet!D167","v":"00:00:00"},{"$f":"Cover_Sheet!E167","v":"00:00:00"},{"$f":"IF(Cover_Sheet!F167=\"\",\"\",Cover_Sheet!F167)","v":""},{"$f":"Cover_Sheet!G167","v":0},{"$f":"Cover_Sheet!H167","v":0}]
[{"$f":"IF(Cover_Sheet!A168=0,\"N\",\"Y\")","v":"N"},{"$f":"Cover_Sheet!B168","v":0},{"$f":"Cover_Sheet!C168","v":0},{"$f":"Cover_Sheet!D168","v":"00:00:00"},{"$f":"Cover_Sheet!E168","v":"00:00:00"},{"$f":"IF(Cover_Sheet!F168=\"\",\"\",Cover_Sheet!F168)","v":""},{"$f":"Cover_Sheet!G168","v":0},{"$f":"Cover_Sheet!H168","v":0}]
[{"$f":"IF(Cover_Sheet!A169=0,\"N\",\"Y\")","v":"N"},{"$f":"Cover_Sheet!B169","v":0},{"$f":"Cover_Sheet!C169","v":0},{"$f":"Cover_Sheet!D169","v":"00:00:00"},{"$f":"Cover_Sheet!E169","v":"00:00:00"},{"$f":"IF(Cover_Sheet!F169=\"\",\"\",Cover_Sheet!F169)","v":""},{"$f":"Cover_Sheet!G169","v":0},{"$f":"Cover_Sheet!H169","v":0}]
[{"$f":"IF(Cover_Sheet!A170=0,\"N\",\"Y\")","v":"N"},{"$f":"Cover_Sheet!B170","v":0},{"$f":"Cover_Sheet!C170","v":0},{"$f":"Cover_Sheet!D170","v":"00:00:00"},{"$f":"Cover_Sheet!E170","v":"00:00:00"},{"$f":"IF(Cover_Sheet!F170=\"\",\"\",Cover_Sheet!F170)","v":""},{"$f":"Cover_Sheet!G170","v":0},{"$f":"Cover_Sheet!H170","v":0}]
[{"$f":"IF(Cover_Sheet!A171=0,\"N\",\"Y\")","v":"N"},{"$f":"Cover_Sheet!B171","v":0},{"$f":"Cover_Sheet!C171","v":0},{"$f":"Cover_Sheet!D171","v":"00:00:00"},{"$f":"Cover_Sheet!E171","v":"00:00:00"},{"$f":"IF(Cover_Sheet!F171=\"\",\"\",Cover_Sheet!F171)","v":""},{"$f":"Cover_Sheet!G171","v":0},{"$f":"Cover_Sheet!H171","v":0}]
[{"$f":"IF(Cover_Sheet!A172=0,\"N\",\"Y\")","v":"N"},{"$f":"Cover_Sheet!B172","v":0},{"$f":"Cover_Sheet!C172","v":0},{"$f":"Cover_Sheet!D172","v":"00:00:00"},{"$f":"Cover_Sheet!E172","v":"00:00:00"},{"$f":"IF(Cover_Sheet!F172=\"\",\"\",Cover_Sheet!F172)","v":""},{"$f":"Cover_Sheet!G172","v":0},{"$f":"Cover_Sheet!H172","v":0}]
[{"$f":"IF(Cover_Sheet!A173=0,\"N\",\"Y\")","v":"N"},{"$f":"Cover_Sheet!B173","v":0},{"$f":"Cover_Sheet!C173","v":0},{"$f":"Cover_Sheet!D173","v":"00:00:00"},{"$f":"Cover_Sheet!E173","v":"00:00:00"},{"$f":"IF(Cover_Sheet!F173=\"\",\"\",Cover_Sheet!F173)","v":""},{"$f":"Cover_Sheet!G173","v":0},{"$f":"Cover_Sheet!H173","v":0}]
[{"$f":"IF(Cover_Sheet!A174=0,\"N\",\"Y\")","v":"N"},{"$f":"Cover_Sheet!B174","v":0},{"$f":"Cover_Sheet!C174","v":0},{"$f":"Cover_Sheet!D174","v":"00:00:00"},{"$f":"Cover_Sheet!E174","v":"00:00:00"},{"$f":"IF(Cover_Sheet!F174=\"\",\"\",Cover_Sheet!F174)","v":""},{"$f":"Cover_Sheet!G174","v":0},{"$f":"Cover_Sheet!H174","v":0}]
[{"$f":"IF(Cover_Sheet!A175=0,\"N\",\"Y\")","v":"N"},{"$f":"Cover_Sheet!B175","v":0},{"$f":"Cover_Sheet!C175","v":0},{"$f":"Cover_Sheet!D175","v":"00:00:00"},{"$f":"Cover_Sheet!E175","v":"00:00:00"},{"$f":"IF(Cover_Sheet!F175=\"\",\"\",Cover_Sheet!F175)","v":""},{"$f":"Cover_Sheet!G175","v":0},{"$f":"Cover_Sheet!H175","v":0}]
[{"$f":"IF(Cover_Sheet!A176=0,\"N\",\"Y\")","v":"N"},{"$f":"Cover_Sheet!B176","v":0},{"$f":"Cover_Sheet!C176","v":0},{"$f":"Cover_Sheet!D176","v":"00:00:00"},{"$f":"Cover_Sheet!E176","v":"00:00:00"},{"$f":"IF(Cover_Sheet!F176=\"\",\"\",Cover_Sheet!F176)","v":""},{"$f":"Cover_Sheet!G176","v":0},{"$f":"Cover_Sheet!H176","v":0}]
[{"$f":"IF(Cover_Sheet!A177=0,\"N\",\"Y\")","v":"N"},{"$f":"Cover_Sheet!B177","v":0},{"$f":"Cover_Sheet!C177","v":0},{"$f":"Cover_Sheet!D177","v":"00:00:00"},{"$f":"Cover_Sheet!E177","v":"00:00:00"},{"$f":"IF(Cover_Sheet!F177=\"\",\"\",Cover_Sheet!F177)","v":""},{"$f":"Cover_Sheet!G177","v":0},{"$f":"Cover_Sheet!H177","v":0}]
[{"$f":"IF(Cover_Sheet!A178=0,\"N\",\"Y\")","v":"N"},{"$f":"Cover_Sheet!B178","v":0},{"$f":"Cover_Sheet!C178","v":0},{"$f":"Cover_Sheet!D178","v":"00:00:00"},{"$f":"Cover_Sheet!E178","v":"00:00:00"},{"$f":"IF(Cover_Sheet!F178=\"\",\"\",Cover_Sheet!F178)","v":""},{"$f":"Cover_Sheet!G178","v":0},{"$f":"Cover_Sheet!H178","v":0}]
[{"$f":"IF(Cover_Sheet!A179=0,\"N\",\"Y\")","v":"N"},{"$f":"Cover_Sheet!B179","v":0},{"$f":"Cover_Sheet!C179","v":0},{"$f":"Cover_Sheet!D179","v":"00:00:00"},{"$f":"Cover_Sheet!E179","v":"00:00:00"},{"$f":"IF(Cover_Sheet!F179=\"\",\"\",Cover_Sheet!F179)","v":""},{"$f":"Cover_Sheet!G179","v":0},{"$f":"Cover_Sheet!H179","v":0}]
[{"$f":"IF(Cover_Sheet!A180=0,\"N\",\"Y\")","v":"N"},{"$f":"Cover_Sheet!B180","v":0},{"$f":"Cover_Sheet!C180","v":0},{"$f":"Cover_Sheet!D180","v":"00:00:00"},{"$f":"Cover_Sheet!E180","v":"00:00:00"},{"$f":"IF(Cover_Sheet!F180=\"\",\"\",Cover_Sheet!F180)","v":""},{"$f":"Cover_Sheet!G180","v":0},{"$f":"Cover_Sheet!H180","v":0}]
[{"$f":"IF(Cover_Sheet!A181=0,\"N\",\"Y\")","v":"N"},{"$f":"Cover_Sheet!B181","v":0},{"$f":"Cover_Sheet!C181","v":0},{"$f":"Cover_Sheet!D181","v":"00:00:00"},{"$f":"Cover_Sheet!E181","v":"00:00:00"},{"$f":"IF(Cover_Sheet!F181=\"\",\"\",Cover_Sheet!F181)","v":""},{"$f":"Cover_Sheet!G181","v":0},{"$f":"Cover_Sheet!H181","v":0}]
[{"$f":"IF(Cover_Sheet!A182=0,\"N\",\"Y\")","v":"N"},{"$f":"Cover_Sheet!B182","v":0},{"$f":"Cover_Sheet!C182","v":0},{"$f":"Cover_Sheet!D182","v":"00:00:00"},{"$f":"Cover_Sheet!E182","v":"00:00:00"},{"$f":"IF(Cover_Sheet!F182=\"\",\"\",Cover_Sheet!F182)","v":""},{"$f":"Cover_Sheet!G182","v":0},{"$f":"Cover_Sheet!H182","v":0}]
[{"$f":"IF(Cover_Sheet!A183=0,\"N\",\"Y\")","v":"N"},{"$f":"Cover_Sheet!B183","v":0},{"$f":"Cover_Sheet!C183","v":0},{"$f":"Cover_Sheet!D183","v":"00:00:00"},{"$f":"Cover_Sheet!E183","v":"00:00:00"},{"$f":"IF(Cover_Sheet!F183=\"\",\"\",Cover_Sheet!F183)","v":""},{"$f":"Cover_Sheet!G183","v":0},{"$f":"Cover_Sheet!H183","v":0}]
[{"$f":"IF(Cover_Sheet!A184=0,\"N\",\"Y\")","v":"N"},{"$f":"Cover_Sheet!B184","v":0},{"$f":"Cover_Sheet!C184","v":0},{"$f":"Cover_Sheet!D184","v":"00:00:00"},{"$f":"Cover_Sheet!E184","v":"00:00:00"},{"$f":"IF(Cover_Sheet!F184=\"\",\"\",Cover_Sheet!F184)","v":""},{"$f":"Cover_Sheet!G184","v":0},{"$f":"Cover_Sheet!H184","v":0}]
[{"$f":"IF(Cover_Sheet!A185=0,\"N\",\"Y\")","v":"N"},{"$f":"Cover_Sheet!B185","v":0},{"$f":"Cover_Sheet!C185","v":0},{"$f":"Cover_Sheet!D185","v":"00:00:00"},{"$f":"Cover_Sheet!E185","v":"00:00:00"},{"$f":"IF(Cover_Sheet!F185=\"\",\"\",Cover_Sheet!F185)","v":""},{"$f":"Cover_Sheet!G185","v":0},{"$f":"Cover_Sheet!H185","v":0}]
[{"$f":"IF(Cover_Sheet!A186=0,\"N\",\"Y\")","v":"N"},{"$f":"Cover_Sheet!B186","v":0},{"$f":"Cover_Sheet!C186","v":0},{"$f":"Cover_Sheet!D186","v":"00:00:00"},{"$f":"Cover_Sheet!E186","v":"00:00:00"},{"$f":"IF(Cover_Sheet!F186=\"\",\"\",Cover_Sheet!F186)","v":""},{"$f":"Cover_Sheet!G186","v":0},{"$f":"Cover_Sheet!H186","v":0}]
[{"$f":"IF(Cover_Sheet!A187=0,\"N\",\"Y\")","v":"N"},{"$f":"Cover_Sheet!B187","v":0},{"$f":"Cover_Sheet!C187","v":0},{"$f":"Cover_Sheet!D187","v":"00:00:00"},{"$f":"Cover_Sheet!E187","v":"00:00:00"},{"$f":"IF(Cover_Sheet!F187=\"\",\"\",Cover_Sheet!F187)","v":""},{"$f":"Cover_Sheet!G187","v":0},{"$f":"Cover_Sheet!H187","v":0}]
[{"$f":"IF(Cover_Sheet!A188=0,\"N\",\"Y\")","v":"N"},{"$f":"Cover_Sheet!B188","v":0},{"$f":"Cover_Sheet!C188","v":0},{"$f":"Cover_Sheet!D188","v":"00:00:00"},{"$f":"Cover_Sheet!E188","v":"00:00:00"},{"$f":"IF(Cover_Sheet!F188=\"\",\"\",Cover_Sheet!F188)","v":""},{"$f":"Cover_Sheet!G188","v":0},{"$f":"Cover_Sheet!H188","v":0}]
[{"$f":"IF(Cover_Sheet!A189=0,\"N\",\"Y\")","v":"N"},{"$f":"Cover_Sheet!B189","v":0},{"$f":"Cover_Sheet!C189","v":0},{"$f":"Cover_Sheet!D189","v":"00:00:00"},{"$f":"Cover_Sheet!E189","v":"00:00:00"},{"$f":"IF(Cover_Sheet!F189=\"\",\"\",Cover_Sheet!F189)","v":""},{"$f":"Cover_Sheet!G189","v":0},{"$f":"Cover_Sheet!H189","v":0}]
[{"$f":"IF(Cover_Sheet!A190=0,\"N\",\"Y\")","v":"N"},{"$f":"Cover_Sheet!B190","v":0},{"$f":"Cover_Sheet!C190","v":0},{"$f":"Cover_Sheet!D190","v":"00:00:00"},{"$f":"Cover_Sheet!E190","v":"00:00:00"},{"$f":"IF(Cover_Sheet!F190=\"\",\"\",Cover_Sheet!F190)","v":""},{"$f":"Cover_Sheet!G190","v":0},{"$f":"Cover_Sheet!H190","v":0}]
[{"$f":"IF(Cover_Sheet!A191=0,\"N\",\"Y\")","v":"N"},{"$f":"Cover_Sheet!B191","v":0},{"$f":"Cover_Sheet!C191","v":0},{"$f":"Cover_Sheet!D191","v":"00:00:00"},{"$f":"Cover_Sheet!E191","v":"00:00:00"},{"$f":"IF(Cover_Sheet!F191=\"\",\"\",Cover_Sheet!F191)","v":""},{"$f":"Cover_Sheet!G191","v":0},{"$f":"Cover_Sheet!H191","v":0}]
[{"$f":"IF(Cover_Sheet!A192=0,\"N\",\"Y\")","v":"N"},{"$f":"Cover_Sheet!B192","v":0},{"$f":"Cover_Sheet!C192","v":0},{"$f":"Cover_Sheet!D192","v":"00:00:00"},{"$f":"Cover_Sheet!E192","v":"00:00:00"},{"$f":"IF(Cover_Sheet!F192=\"\",\"\",Cover_Sheet!F192)","v":""},{"$f":"Cover_Sheet!G192","v":0},{"$f":"Cover_Sheet!H192","v":0}]
[{"$f":"IF(Cover_Sheet!A193=0,\"N\",\"Y\")","v":"N"},{"$f":"Cover_Sheet!B193","v":0},{"$f":"Cover_Sheet!C193","v":0},{"$f":"Cover_Sheet!D193","v":"00:00:00"},{"$f":"Cover_Sheet!E193","v":"00:00:00"},{"$f":"IF(Cover_Sheet!F193=\"\",\"\",Cover_Sheet!F193)","v":""},{"$f":"Cover_Sheet!G193","v":0},{"$f":"Cover_Sheet!H193","v":0}]
[{"$f":"IF(Cover_Sheet!A194=0,\"N\",\"Y\")","v":"N"},{"$f":"Cover_Sheet!B194","v":0},{"$f":"Cover_Sheet!C194","v":0},{"$f":"Cover_Sheet!D194","v":"00:00:00"},{"$f":"Cover_Sheet!E194","v":"00:00:00"},{"$f":"IF(Cover_Sheet!F194=\"\",\"\",Cover_Sheet!F194)","v":""},{"$f":"Cover_Sheet!G194","v":0},{"$f":"Cover_Sheet!H194","v":0}]
[{"$f":"IF(Cover_Sheet!A195=0,\"N\",\"Y\")","v":"N"},{"$f":"Cover_Sheet!B195","v":0},{"$f":"Cover_Sheet!C195","v":0},{"$f":"Cover_Sheet!D195","v":"00:00:00"},{"$f":"Cover_Sheet!E195","v":"00:00:00"},{"$f":"IF(Cover_Sheet!F195=\"\",\"\",Cover_Sheet!F195)","v":""},{"$f":"Cover_Sheet!G195","v":0},{"$f":"Cover_Sheet!H195","v":0}]
[{"$f":"IF(Cover_Sheet!A196=0,\"N\",\"Y\")","v":"N"},{"$f":"Cover_Sheet!B196","v":0},{"$f":"Cover_Sheet!C196","v":0},{"$f":"Cover_Sheet!D196","v":"00:00:00"},{"$f":"Cover_Sheet!E196","v":"00:00:00"},{"$f":"IF(Cover_Sheet!F196=\"\",\"\",Cover_Sheet!F196)","v":""},{"$f":"Cover_Sheet!G196","v":0},{"$f":"Cover_Sheet!H196","v":0}]
[{"$f":"IF(Cover_Sheet!A197=0,\"N\",\"Y\")","v":"N"},{"$f":"Cover_Sheet!B197","v":0},{"$f":"Cover_Sheet!C197","v":0},{"$f":"Cover_Sheet!D197","v":"00:00:00"},{"$f":"Cover_Sheet!E197","v":"00:00:00"},{"$f":"IF(Cover_Sheet!F197=\"\",\"\",Cover_Sheet!F197)","v":""},{"$f":"Cover_Sheet!G197","v":0},{"$f":"Cover_Sheet!H197","v":0}]
[{"$f":"IF(Cover_Sheet!A198=0,\"N\",\"Y\")","v":"N"},{"$f":"Cover_Sheet!B198","v":0},{"$f":"Cover_Sheet!C198","v":0},{"$f":"Cover_Sheet!D198","v":"00:00:00"},{"$f":"Cover_Sheet!E198","v":"00:00:00"},{"$f":"IF(Cover_Sheet!F198=\"\",\"\",Cover_Sheet!F198)","v":""},{"$f":"Cover_Sheet!G198","v":0},{"$f":"Cover_Sheet!H198","v":0}]
[{"$f":"IF(Cover_Sheet!A199=0,\"N\",\"Y\")","v":"N"},{"$f":"Cover_Sheet!B199","v":0},{"$f":"Cover_Sheet!C199","v":0},{"$f":"Cover_Sheet!D199","v":"00:00:00"},{"$f":"Cover_Sheet!E199","v":"00:00:00"},{"$f":"IF(Cover_Sheet!F199=\"\",\"\",Cover_Sheet!F199)","v":""},{"$f":"Cover_Sheet!G199","v":0},{"$f":"Cover_Sheet!H199","v":0}]
[{"$f":"IF(Cover_Sheet!A200=0,\"N\",\"Y\")","v":"N"},{"$f":"Cover_Sheet!B200","v":0},{"$f":"Cover_Sheet!C200","v":0},{"$f":"Cover_Sheet!D200","v":"00:00:00"},{"$f":"Cover_Sheet!E200","v":"00:00:00"},{"$f":"IF(Cover_Sheet!F200=\"\",\"\",Cover_Sheet!F200)","v":""},{"$f":"Cover_Sheet!G200","v":0},{"$f":"Cover_Sheet!H200","v":0}]
[{"$f":"IF(Cover_Sheet!A201=0,\"N\",\"Y\")","v":"N"},{"$f":"Cover_Sheet!B201","v":0},{"$f":"Cover_Sheet!C201","v":0},{"$f":"Cover_Sheet!D201","v":"00:00:00"},{"$f":"Cover_Sheet!E201","v":"00:00:00"},{"$f":"IF(Cover_Sheet!F201=\"\",\"\",Cover_Sheet!F201)","v":""},{"$f":"Cover_Sheet!G201","v":0},{"$f":"Cover_Sheet!H201","v":0}]
[{"$f":"IF(Cover_Sheet!A202=0,\"N\",\"Y\")","v":"N"},{"$f":"Cover_Sheet!B202","v":0},{"$f":"Cover_Sheet!C202","v":0},{"$f":"Cover_Sheet!D202","v":"00:00:00"},{"$f":"Cover_Sheet!E202","v":"00:00:00"},{"$f":"IF(Cover_Sheet!F202=\"\",\"\",Cover_Sheet!F202)","v":""},{"$f":"Cover_Sheet!G202","v":0},{"$f":"Cover_Sheet!H202","v":0}]
[{"$f":"IF(Cover_Sheet!A203=0,\"N\",\"Y\")","v":"N"},{"$f":"Cover_Sheet!B203","v":0},{"$f":"Cover_Sheet!C203","v":0},{"$f":"Cover_Sheet!D203","v":"00:00:00"},{"$f":"Cover_Sheet!E203","v":"00:00:00"},{"$f":"IF(Cover_Sheet!F203=\"\",\"\",Cover_Sheet!F203)","v":""},{"$f":"Cover_Sheet!G203","v":0},{"$f":"Cover_Sheet!H203","v":0}]
[{"$f":"IF(Cover_Sheet!A204=0,\"N\",\"Y\")","v":"N"},{"$f":"Cover_Sheet!B204","v":0},{"$f":"Cover_Sheet!C204","v":0},{"$f":"Cover_Sheet!D204","v":"00:00:00"},{"$f":"Cover_Sheet!E204","v":"00:00:00"},{"$f":"IF(Cover_Sheet!F204=\"\",\"\",Cover_Sheet!F204)","v":""},{"$f":"Cover_Sheet!G204","v":0},{"$f":"Cover_Sheet!H204","v":0}]
[{"$f":"IF(Cover_Sheet!A205=0,\"N\",\"Y\")","v":"N"},{"$f":"Cover_Sheet!B205","v":0},{"$f":"Cover_Sheet!C205","v":0},{"$f":"Cover_Sheet!D205","v":"00:00:00"},{"$f":"Cover_Sheet!E205","v":"00:00:00"},{"$f":"IF(Cover_Sheet!F205=\"\",\"\",Cover_Sheet!F205)","v":""},{"$f":"Cover_Sheet!G205","v":0},{"$f":"Cover_Sheet!H205","v":0}]
[{"$f":"IF(Cover_Sheet!A206=0,\"N\",\"Y\")","v":"N"},{"$f":"Cover_Sheet!B206","v":0},{"$f":"Cover_Sheet!C206","v":0},{"$f":"Cover_Sheet!D206","v":"00:00:00"},{"$f":"Cover_Sheet!E206","v":"00:00:00"},{"$f":"IF(Cover_Sheet!F206=\"\",\"\",Cover_Sheet!F206)","v":""},{"$f":"Cover_Sheet!G206","v":0},{"$f":"Cover_Sheet!H206","v":0}]
[{"$f":"IF(Cover_Sheet!A207=0,\"N\",\"Y\")","v":"N"},{"$f":"Cover_Sheet!B207","v":0},{"$f":"Cover_Sheet!C207","v":0},{"$f":"Cover_Sheet!D207","v":"00:00:00"},{"$f":"Cover_Sheet!E207","v":"00:00:00"},{"$f":"IF(Cover_Sheet!F207=\"\",\"\",Cover_Sheet!F207)","v":""},{"$f":"Cover_Sheet!G207","v":0},{"$f":"Cover_Sheet!H207","v":0}]
[{"$f":"IF(Cover_Sheet!A208=0,\"N\",\"Y\")","v":"N"},{"$f":"Cover_Sheet!B208","v":0},{"$f":"Cover_Sheet!C208","v":0},{"$f":"Cover_Sheet!D208","v":"00:00:00"},{"$f":"Cover_Sheet!E208","v":"00:00:00"},{"$f":"IF(Cover_Sheet!F208=\"\",\"\",Cover_Sheet!F208)","v":""},{"$f":"Cover_Sheet!G208","v":0},{"$f":"Cover_Sheet!H208","v":0}]
[{"$f":"IF(Cover_Sheet!A209=0,\"N\",\"Y\")","v":"N"},{"$f":"Cover_Sheet!B209","v":0},{"$f":"Cover_Sheet!C209","v":0},{"$f":"Cover_Sheet!D209","v":"00:00:00"},{"$f":"Cover_Sheet!E209","v":"00:00:00"},{"$f":"IF(Cover_Sheet!F209=\"\",\"\",Cover_Sheet!F209)","v":""},{"$f":"Cover_Sheet!G209","v":0},{"$f":"Cover_Sheet!H209","v":0}]
[{"$f":"IF(Cover_Sheet!A210=0,\"N\",\"Y\")","v":"N"},{"$f":"Cover_Sheet!B210","v":0},{"$f":"Cover_Sheet!C210","v":0},{"$f":"Cover_Sheet!D210","v":"00:00:00"},{"$f":"Cover_Sheet!E210","v":"00:00:00"},{"$f":"IF(Cover_Sheet!F210=\"\",\"\",Cover_Sheet!F210)","v":""},{"$f":"Cover_Sheet!G210","v":0},{"$f":"Cover_Sheet!H210","v":0}]
[{"$f":"IF(Cover_Sheet!A211=0,\"N\",\"Y\")","v":"N"},{"$f":"Cover_Sheet!B211","v":0},{"$f":"Cover_Sheet!C211","v":0},{"$f":"Cover_Sheet!D211","v":"00:00:00"},{"$f":"Cover_Sheet!E211","v":"00:00:00"},{"$f":"IF(Cover_Sheet!F211=\"\",\"\",Cover_Sheet!F211)","v":""},{"$f":"Cover_Sheet!G211","v":0},{"$f":"Cover_Sheet!H211","v":0}]
[{"$f":"IF(Cover_Sheet!A212=0,\"N\",\"Y\")","v":"N"},{"$f":"Cover_Sheet!B212","v":0},{"$f":"Cover_Sheet!C212","v":0},{"$f":"Cover_Sheet!D212","v":"00:00:00"},{"$f":"Cover_Sheet!E212","v":"00:00:00"},{"$f":"IF(Cover_Sheet!F212=\"\",\"\",Cover_Sheet!F212)","v":""},{"$f":"Cover_Sheet!G212","v":0},{"$f":"Cover_Sheet!H212","v":0}]
[{"$f":"IF(Cover_Sheet!A213=0,\"N\",\"Y\")","v":"N"},{"$f":"Cover_Sheet!B213","v":0},{"$f":"Cover_Sheet!C213","v":0},{"$f":"Cover_Sheet!D213","v":"00:00:00"},{"$f":"Cover_Sheet!E213","v":"00:00:00"},{"$f":"IF(Cover_Sheet!F213=\"\",\"\",Cover_Sheet!F213)","v":""},{"$f":"Cover_Sheet!G213","v":0},{"$f":"Cover_Sheet!H213","v":0}]
[{"$f":"IF(Cover_Sheet!A214=0,\"N\",\"Y\")","v":"N"},{"$f":"Cover_Sheet!B214","v":0},{"$f":"Cover_Sheet!C214","v":0},{"$f":"Cover_Sheet!D214","v":"00:00:00"},{"$f":"Cover_Sheet!E214","v":"00:00:00"},{"$f":"IF(Cover_Sheet!F214=\"\",\"\",Cover_Sheet!F214)","v":""},{"$f":"Cover_Sheet!G214","v":0},{"$f":"Cover_Sheet!H214","v":0}]
[{"$f":"IF(Cover_Sheet!A215=0,\"N\",\"Y\")","v":"N"},{"$f":"Cover_Sheet!B215","v":0},{"$f":"Cover_Sheet!C215","v":0},{"$f":"Cover_Sheet!D215","v":"00:00:00"},{"$f":"Cover_Sheet!E215","v":"00:00:00"},{"$f":"IF(Cover_Sheet!F215=\"\",\"\",Cover_Sheet!F215)","v":""},{"$f":"Cover_Sheet!G215","v":0},{"$f":"Cover_Sheet!H215","v":0}]
[{"$f":"IF(Cover_Sheet!A216=0,\"N\",\"Y\")","v":"N"},{"$f":"Cover_Sheet!B216","v":0},{"$f":"Cover_Sheet!C216","v":0},{"$f":"Cover_Sheet!D216","v":"00:00:00"},{"$f":"Cover_Sheet!E216","v":"00:00:00"},{"$f":"IF(Cover_Sheet!F216=\"\",\"\",Cover_Sheet!F216)","v":""},{"$f":"Cover_Sheet!G216","v":0},{"$f":"Cover_Sheet!H216","v":0}]
[{"$f":"IF(Cover_Sheet!A217=0,\"N\",\"Y\")","v":"N"},{"$f":"Cover_Sheet!B217","v":0},{"$f":"Cover_Sheet!C217","v":0},{"$f":"Cover_Sheet!D217","v":"00:00:00"},{"$f":"Cover_Sheet!E217","v":"00:00:00"},{"$f":"IF(Cover_Sheet!F217=\"\",\"\",Cover_Sheet!F217)","v":""},{"$f":"Cover_Sheet!G217","v":0},{"$f":"Cover_Sheet!H217","v":0}]
[{"$f":"IF(Cover_Sheet!A218=0,\"N\",\"Y\")","v":"N"},{"$f":"Cover_Sheet!B218","v":0},{"$f":"Cover_Sheet!C218","v":0},{"$f":"Cover_Sheet!D218","v":"00:00:00"},{"$f":"Cover_Sheet!E218","v":"00:00:00"},{"$f":"IF(Cover_Sheet!F218=\"\",\"\",Cover_Sheet!F218)","v":""},{"$f":"Cover_Sheet!G218","v":0},{"$f":"Cover_Sheet!H218","v":0}]
[{"$f":"IF(Cover_Sheet!A219=0,\"N\",\"Y\")","v":"N"},{"$f":"Cover_Sheet!B219","v":0},{"$f":"Cover_Sheet!C219","v":0},{"$f":"Cover_Sheet!D219","v":"00:00:00"},{"$f":"Cover_Sheet!E219","v":"00:00:00"},{"$f":"IF(Cover_Sheet!F219=\"\",\"\",Cover_Sheet!F219)","v":""},{"$f":"Cover_Sheet!G219","v":0},{"$f":"Cover_Sheet!H219","v":0}]
[{"$f":"IF(Cover_Sheet!A220=0,\"N\",\"Y\")","v":"N"},{"$f":"Cover_Sheet!B220","v":0},{"$f":"Cover_Sheet!C220","v":0},{"$f":"Cover_Sheet!D220","v":"00:00:00"},{"$f":"Cover_Sheet!E220","v":"00:00:00"},{"$f":"IF(Cover_Sheet!F220=\"\",\"\",Cover_Sheet!F220)","v":""},{"$f":"Cover_Sheet!G220","v":0},{"$f":"Cover_Sheet!H220","v":0}]
[{"$f":"IF(Cover_Sheet!A221=0,\"N\",\"Y\")","v":"N"},{"$f":"Cover_Sheet!B221","v":0},{"$f":"Cover_Sheet!C221","v":0},{"$f":"Cover_Sheet!D221","v":"00:00:00"},{"$f":"Cover_Sheet!E221","v":"00:00:00"},{"$f":"IF(Cover_Sheet!F221=\"\",\"\",Cover_Sheet!F221)","v":""},{"$f":"Cover_Sheet!G221","v":0},{"$f":"Cover_Sheet!H221","v":0}]
[{"$f":"IF(Cover_Sheet!A222=0,\"N\",\"Y\")","v":"N"},{"$f":"Cover_Sheet!B222","v":0},{"$f":"Cover_Sheet!C222","v":0},{"$f":"Cover_Sheet!D222","v":"00:00:00"},{"$f":"Cover_Sheet!E222","v":"00:00:00"},{"$f":"IF(Cover_Sheet!F222=\"\",\"\",Cover_Sheet!F222)","v":""},{"$f":"Cover_Sheet!G222","v":0},{"$f":"Cover_Sheet!H222","v":0}]
[{"$f":"IF(Cover_Sheet!A223=0,\"N\",\"Y\")","v":"N"},{"$f":"Cover_Sheet!B223","v":0},{"$f":"Cover_Sheet!C223","v":0},{"$f":"Cover_Sheet!D223","v":"00:00:00"},{"$f":"Cover_Sheet!E223","v":"00:00:00"},{"$f":"IF(Cover_Sheet!F223=\"\",\"\",Cover_Sheet!F223)","v":""},{"$f":"Cover_Sheet!G223","v":0},{"$f":"Cover_Sheet!H223","v":0}]
[{"$f":"IF(Cover_Sheet!A224=0,\"N\",\"Y\")","v":"N"},{"$f":"Cover_Sheet!B224","v":0},{"$f":"Cover_Sheet!C224","v":0},{"$f":"Cover_Sheet!D224","v":"00:00:00"},{"$f":"Cover_Sheet!E224","v":"00:00:00"},{"$f":"IF(Cover_Sheet!F224=\"\",\"\",Cover_Sheet!F224)","v":""},{"$f":"Cover_Sheet!G224","v":0},{"$f":"Cover_Sheet!H224","v":0}]
[{"$f":"IF(Cover_Sheet!A225=0,\"N\",\"Y\")","v":"N"},{"$f":"Cover_Sheet!B225","v":0},{"$f":"Cover_Sheet!C225","v":0},{"$f":"Cover_Sheet!D225","v":"00:00:00"},{"$f":"Cover_Sheet!E225","v":"00:00:00"},{"$f":"IF(Cover_Sheet!F225=\"\",\"\",Cover_Sheet!F225)","v":""},{"$f":"Cover_Sheet!G225","v":0},{"$f":"Cover_Sheet!H225","v":0}]
[{"$f":"IF(Cover_Sheet!A226=0,\"N\",\"Y\")","v":"N"},{"$f":"Cover_Sheet!B226","v":0},{"$f":"Cover_Sheet!C226","v":0},{"$f":"Cover_Sheet!D226","v":"00:00:00"},{"$f":"Cover_Sheet!E226","v":"00:00:00"},{"$f":"IF(Cover_Sheet!F226=\"\",\"\",Cover_Sheet!F226)","v":""},{"$f":"Cover_Sheet!G226","v":0},{"$f":"Cover_Sheet!H226","v":0}]
[{"$f":"IF(Cover_Sheet!A227=0,\"N\",\"Y\")","v":"N"},{"$f":"Cover_Sheet!B227","v":0},{"$f":"Cover_Sheet!C227","v":0},{"$f":"Cover_Sheet!D227","v":"00:00:00"},{"$f":"Cover_Sheet!E227","v":"00:00:00"},{"$f":"IF(Cover_Sheet!F227=\"\",\"\",Cover_Sheet!F227)","v":""},{"$f":"Cover_Sheet!G227","v":0},{"$f":"Cover_Sheet!H227","v":0}]
[{"$f":"IF(Cover_Sheet!A228=0,\"N\",\"Y\")","v":"N"},{"$f":"Cover_Sheet!B228","v":0},{"$f":"Cover_Sheet!C228","v":0},{"$f":"Cover_Sheet!D228","v":"00:00:00"},{"$f":"Cover_Sheet!E228","v":"00:00:00"},{"$f":"IF(Cover_Sheet!F228=\"\",\"\",Cover_Sheet!F228)","v":""},{"$f":"Cover_Sheet!G228","v":0},{"$f":"Cover_Sheet!H228","v":0}]
[{"$f":"IF(Cover_Sheet!A229=0,\"N\",\"Y\")","v":"N"},{"$f":"Cover_Sheet!B229","v":0},{"$f":"Cover_Sheet!C229","v":0},{"$f":"Cover_Sheet!D229","v":"00:00:00"},{"$f":"Cover_Sheet!E229","v":"00:00:00"},{"$f":"IF(Cover_Sheet!F229=\"\",\"\",Cover_Sheet!F229)","v":""},{"$f":"Cover_Sheet!G229","v":0},{"$f":"Cover_Sheet!H229","v":0}]
[{"$f":"IF(Cover_Sheet!A230=0,\"N\",\"Y\")","v":"N"},{"$f":"Cover_Sheet!B230","v":0},{"$f":"Cover_Sheet!C230","v":0},{"$f":"Cover_Sheet!D230","v":"00:00:00"},{"$f":"Cover_Sheet!E230","v":"00:00:00"},{"$f":"IF(Cover_Sheet!F230=\"\",\"\",Cover_Sheet!F230)","v":""},{"$f":"Cover_Sheet!G230","v":0},{"$f":"Cover_Sheet!H230","v":0}]
[{"$f":"IF(Cover_Sheet!A231=0,\"N\",\"Y\")","v":"N"},{"$f":"Cover_Sheet!B231","v":0},{"$f":"Cover_Sheet!C231","v":0},{"$f":"Cover_Sheet!D231","v":"00:00:00"},{"$f":"Cover_Sheet!E231","v":"00:00:00"},{"$f":"IF(Cover_Sheet!F231=\"\",\"\",Cover_Sheet!F231)","v":""},{"$f":"Cover_Sheet!G231","v":0},{"$f":"Cover_Sheet!H231","v":0}]
[{"$f":"IF(Cover_Sheet!A232=0,\"N\",\"Y\")","v":"N"},{"$f":"Cover_Sheet!B232","v":0},{"$f":"Cover_Sheet!C232","v":0},{"$f":"Cover_Sheet!D232","v":"00:00:00"},{"$f":"Cover_Sheet!E232","v":"00:00:00"},{"$f":"IF(Cover_Sheet!F232=\"\",\"\",Cover_Sheet!F232)","v":""},{"$f":"Cover_Sheet!G232","v":0},{"$f":"Cover_Sheet!H232","v":0}]
[{"$f":"IF(Cover_Sheet!A233=0,\"N\",\"Y\")","v":"N"},{"$f":"Cover_Sheet!B233","v":0},{"$f":"Cover_Sheet!C233","v":0},{"$f":"Cover_Sheet!D233","v":"00:00:00"},{"$f":"Cover_Sheet!E233","v":"00:00:00"},{"$f":"IF(Cover_Sheet!F233=\"\",\"\",Cover_Sheet!F233)","v":""},{"$f":"Cover_Sheet!G233","v":0},{"$f":"Cover_Sheet!H233","v":0}]
[{"$f":"IF(Cover_Sheet!A234=0,\"N\",\"Y\")","v":"N"},{"$f":"Cover_Sheet!B234","v":0},{"$f":"Cover_Sheet!C234","v":0},{"$f":"Cover_Sheet!D234","v":"00:00:00"},{"$f":"Cover_Sheet!E234","v":"00:00:00"},{"$f":"IF(Cover_Sheet!F234=\"\",\"\",Cover_Sheet!F234)","v":""},{"$f":"Cover_Sheet!G234","v":0},{"$f":"Cover_Sheet!H234","v":0}]
[{"$f":"IF(Cover_Sheet!A235=0,\"N\",\"Y\")","v":"N"},{"$f":"Cover_Sheet!B235","v":0},{"$f":"Cover_Sheet!C235","v":0},{"$f":"Cover_Sheet!D235","v":"00:00:00"},{"$f":"Cover_Sheet!E235","v":"00:00:00"},{"$f":"IF(Cover_Sheet!F235=\"\",\"\",Cover_Sheet!F235)","v":""},{"$f":"Cover_Sheet!G235","v":0},{"$f":"Cover_Sheet!H235","v":0}]
[{"$f":"IF(Cover_Sheet!A236=0,\"N\",\"Y\")","v":"N"},{"$f":"Cover_Sheet!B236","v":0},{"$f":"Cover_Sheet!C236","v":0},{"$f":"Cover_Sheet!D236","v":"00:00:00"},{"$f":"Cover_Sheet!E236","v":"00:00:00"},{"$f":"IF(Cover_Sheet!F236=\"\",\"\",Cover_Sheet!F236)","v":""},{"$f":"Cover_Sheet!G236","v":0},{"$f":"Cover_Sheet!H236","v":0}]
[{"$f":"IF(Cover_Sheet!A237=0,\"N\",\"Y\")","v":"N"},{"$f":"Cover_Sheet!B237","v":0},{"$f":"Cover_Sheet!C237","v":0},{"$f":"Cover_Sheet!D237","v":"00:00:00"},{"$f":"Cover_Sheet!E237","v":"00:00:00"},{"$f":"IF(Cover_Sheet!F237=\"\",\"\",Cover_Sheet!F237)","v":""},{"$f":"Cover_Sheet!G237","v":0},{"$f":"Cover_Sheet!H237","v":0}]
[{"$f":"IF(Cover_Sheet!A238=0,\"N\",\"Y\")","v":"N"},{"$f":"Cover_Sheet!B238","v":0},{"$f":"Cover_Sheet!C238","v":0},{"$f":"Cover_Sheet!D238","v":"00:00:00"},{"$f":"Cover_Sheet!E238","v":"00:00:00"},{"$f":"IF(Cover_Sheet!F238=\"\",\"\",Cover_Sheet!F238)","v":""},{"$f":"Cover_Sheet!G238","v":0},{"$f":"Cover_Sheet!H238","v":0}]
[{"$f":"IF(Cover_Sheet!A239=0,\"N\",\"Y\")","v":"N"},{"$f":"Cover_Sheet!B239","v":0},{"$f":"Cover_Sheet!C239","v":0},{"$f":"Cover_Sheet!D239","v":"00:00:00"},{"$f":"Cover_Sheet!E239","v":"00:00:00"},{"$f":"IF(Cover_Sheet!F239=\"\",\"\",Cover_Sheet!F239)","v":""},{"$f":"Cover_Sheet!G239","v":0},{"$f":"Cover_Sheet!H239","v":0}]
[{"$f":"IF(Cover_Sheet!A240=0,\"N\",\"Y\")","v":"N"},{"$f":"Cover_Sheet!B240","v":0},{"$f":"Cover_Sheet!C240","v":0},{"$f":"Cover_Sheet!D240","v":"00:00:00"},{"$f":"Cover_Sheet!E240","v":"00:00:00"},{"$f":"IF(Cover_Sheet!F240=\"\",\"\",Cover_Sheet!F240)","v":""},{"$f":"Cover_Sheet!G240","v":0},{"$f":"Cover_Sheet!H240","v":0}]
[{"$f":"IF(Cover_Sheet!A241=0,\"N\",\"Y\")","v":"N"},{"$f":"Cover_Sheet!B241","v":0},{"$f":"Cover_Sheet!C241","v":0},{"$f":"Cover_Sheet!D241","v":"00:00:00"},{"$f":"Cover_Sheet!E241","v":"00:00:00"},{"$f":"IF(Cover_Sheet!F241=\"\",\"\",Cover_Sheet!F241)","v":""},{"$f":"Cover_Sheet!G241","v":0},{"$f":"Cover_Sheet!H241","v":0}]
[{"$f":"IF(Cover_Sheet!A242=0,\"N\",\"Y\")","v":"N"},{"$f":"Cover_Sheet!B242","v":0},{"$f":"Cover_Sheet!C242","v":0},{"$f":"Cover_Sheet!D242","v":"00:00:00"},{"$f":"Cover_Sheet!E242","v":"00:00:00"},{"$f":"IF(Cover_Sheet!F242=\"\",\"\",Cover_Sheet!F242)","v":""},{"$f":"Cover_Sheet!G242","v":0},{"$f":"Cover_Sheet!H242","v":0}]
[{"$f":"IF(Cover_Sheet!A243=0,\"N\",\"Y\")","v":"N"},{"$f":"Cover_Sheet!B243","v":0},{"$f":"Cover_Sheet!C243","v":0},{"$f":"Cover_Sheet!D243","v":"00:00:00"},{"$f":"Cover_Sheet!E243","v":"00:00:00"},{"$f":"IF(Cover_Sheet!F243=\"\",\"\",Cover_Sheet!F243)","v":""},{"$f":"Cover_Sheet!G243","v":0},{"$f":"Cover_Sheet!H243","v":0}]
[{"$f":"IF(Cover_Sheet!A244=0,\"N\",\"Y\")","v":"N"},{"$f":"Cover_Sheet!B244","v":0},{"$f":"Cover_Sheet!C244","v":0},{"$f":"Cover_Sheet!D244","v":"00:00:00"},{"$f":"Cover_Sheet!E244","v":"00:00:00"},{"$f":"IF(Cover_Sheet!F244=\"\",\"\",Cover_Sheet!F244)","v":""},{"$f":"Cover_Sheet!G244","v":0},{"$f":"Cover_Sheet!H244","v":0}]
[{"$f":"IF(Cover_Sheet!A245=0,\"N\",\"Y\")","v":"N"},{"$f":"Cover_Sheet!B245","v":0},{"$f":"Cover_Sheet!C245","v":0},{"$f":"Cover_Sheet!D245","v":"00:00:00"},{"$f":"Cover_Sheet!E245","v":"00:00:00"},{"$f":"IF(Cover_Sheet!F245=\"\",\"\",Cover_Sheet!F245)","v":""},{"$f":"Cover_Sheet!G245","v":0},{"$f":"Cover_Sheet!H245","v":0}]
[{"$f":"IF(Cover_Sheet!A246=0,\"N\",\"Y\")","v":"N"},{"$f":"Cover_Sheet!B246","v":0},{"$f":"Cover_Sheet!C246","v":0},{"$f":"Cover_Sheet!D246","v":"00:00:00"},{"$f":"Cover_Sheet!E246","v":"00:00:00"},{"$f":"IF(Cover_Sheet!F246=\"\",\"\",Cover_Sheet!F246)","v":""},{"$f":"Cover_Sheet!G246","v":0},{"$f":"Cover_Sheet!H246","v":0}]
[{"$f":"IF(Cover_Sheet!A247=0,\"N\",\"Y\")","v":"N"},{"$f":"Cover_Sheet!B247","v":0},{"$f":"Cover_Sheet!C247","v":0},{"$f":"Cover_Sheet!D247","v":"00:00:00"},{"$f":"Cover_Sheet!E247","v":"00:00:00"},{"$f":"IF(Cover_Sheet!F247=\"\",\"\",Cover_Sheet!F247)","v":""},{"$f":"Cover_Sheet!G247","v":0},{"$f":"Cover_Sheet!H247","v":0}]
[{"$f":"IF(Cover_Sheet!A248=0,\"N\",\"Y\")","v":"N"},{"$f":"Cover_Sheet!B248","v":0},{"$f":"Cover_Sheet!C248","v":0},{"$f":"Cover_Sheet!D248","v":"00:00:00"},{"$f":"Cover_Sheet!E248","v":"00:00:00"},{"$f":"IF(Cover_Sheet!F248=\"\",\"\",Cover_Sheet!F248)","v":""},{"$f":"Cover_Sheet!G248","v":0},{"$f":"Cover_Sheet!H248","v":0}]
[{"$f":"IF(Cover_Sheet!A249=0,\"N\",\"Y\")","v":"N"},{"$f":"Cover_Sheet!B249","v":0},{"$f":"Cover_Sheet!C249","v":0},{"$f":"Cover_Sheet!D249","v":"00:00:00"},{"$f":"Cover_Sheet!E249","v":"00:00:00"},{"$f":"IF(Cover_Sheet!F249=\"\",\"\",Cover_Sheet!F249)","v":""},{"$f":"Cover_Sheet!G249","v":0},{"$f":"Cover_Sheet!H249","v":0}]
[{"$f":"IF(Cover_Sheet!A250=0,\"N\",\"Y\")","v":"N"},{"$f":"Cover_Sheet!B250","v":0},{"$f":"Cover_Sheet!C250","v":0},{"$f":"Cover_Sheet!D250","v":"00:00:00"},{"$f":"Cover_Sheet!E250","v":"00:00:00"},{"$f":"IF(Cover_Sheet!F250=\"\",\"\",Cover_Sheet!F250)","v":""},{"$f":"Cover_Sheet!G250","v":0},{"$f":"Cover_Sheet!H250","v":0}]
[{"$f":"IF(Cover_Sheet!A251=0,\"N\",\"Y\")","v":"N"},{"$f":"Cover_Sheet!B251","v":0},{"$f":"Cover_Sheet!C251","v":0},{"$f":"Cover_Sheet!D251","v":"00:00:00"},{"$f":"Cover_Sheet!E251","v":"00:00:00"},{"$f":"IF(Cover_Sheet!F251=\"\",\"\",Cover_Sheet!F251)","v":""},{"$f":"Cover_Sheet!G251","v":0},{"$f":"Cover_Sheet!H251","v":0}]
[{"$f":"IF(Cover_Sheet!A252=0,\"N\",\"Y\")","v":"N"},{"$f":"Cover_Sheet!B252","v":0},{"$f":"Cover_Sheet!C252","v":0},{"$f":"Cover_Sheet!D252","v":"00:00:00"},{"$f":"Cover_Sheet!E252","v":"00:00:00"},{"$f":"IF(Cover_Sheet!F252=\"\",\"\",Cover_Sheet!F252)","v":""},{"$f":"Cover_Sheet!G252","v":0},{"$f":"Cover_Sheet!H252","v":0}]
[{"$f":"IF(Cover_Sheet!A253=0,\"N\",\"Y\")","v":"N"},{"$f":"Cover_Sheet!B253","v":0},{"$f":"Cover_Sheet!C253","v":0},{"$f":"Cover_Sheet!D253","v":"00:00:00"},{"$f":"Cover_Sheet!E253","v":"00:00:00"},{"$f":"IF(Cover_Sheet!F253=\"\",\"\",Cover_Sheet!F253)","v":""},{"$f":"Cover_Sheet!G253","v":0},{"$f":"Cover_Sheet!H253","v":0}]
[{"$f":"IF(Cover_Sheet!A254=0,\"N\",\"Y\")","v":"N"},{"$f":"Cover_Sheet!B254","v":0},{"$f":"Cover_Sheet!C254","v":0},{"$f":"Cover_Sheet!D254","v":"00:00:00"},{"$f":"Cover_Sheet!E254","v":"00:00:00"},{"$f":"IF(Cover_Sheet!F254=\"\",\"\",Cover_Sheet!F254)","v":""},{"$f":"Cover_Sheet!G254","v":0},{"$f":"Cover_Sheet!H254","v":0}]
[{"$f":"IF(Cover_Sheet!A255=0,\"N\",\"Y\")","v":"N"},{"$f":"Cover_Sheet!B255","v":0},{"$f":"Cover_Sheet!C255","v":0},{"$f":"Cover_Sheet!D255","v":"00:00:00"},{"$f":"Cover_Sheet!E255","v":"00:00:00"},{"$f":"IF(Cover_Sheet!F255=\"\",\"\",Cover_Sheet!F255)","v":""},{"$f":"Cover_Sheet!G255","v":0},{"$f":"Cover_Sheet!H255","v":0}]
[{"$f":"IF(Cover_Sheet!A256=0,\"N\",\"Y\")","v":"N"},{"$f":"Cover_Sheet!B256","v":0},{"$f":"Cover_Sheet!C256","v":0},{"$f":"Cover_Sheet!D256","v":"00:00:00"},{"$f":"Cover_Sheet!E256","v":"00:00:00"},{"$f":"IF(Cover_Sheet!F256=\"\",\"\",Cover_Sheet!F256)","v":""},{"$f":"Cover_Sheet!G256","v":0},{"$f":"Cover_Sheet!H256","v":0}]
[{"$f":"IF(Cover_Sheet!A257=0,\"N\",\"Y\")","v":"N"},{"$f":"Cover_Sheet!B257","v":0},{"$f":"Cover_Sheet!C257","v":0},{"$f":"Cover_Sheet!D257","v":"00:00:00"},{"$f":"Cover_Sheet!E257","v":"00:00:00"},{"$f":"IF(Cover_Sheet!F257=\"\",\"\",Cover_Sheet!F257)","v":""},{"$f":"Cover_Sheet!G257","v":0},{"$f":"Cover_Sheet!H257","v":0}]
[{"$f":"IF(Cover_Sheet!A258=0,\"N\",\"Y\")","v":"N"},{"$f":"Cover_Sheet!B258","v":0},{"$f":"Cover_Sheet!C258","v":0},{"$f":"Cover_Sheet!D258","v":"00:00:00"},{"$f":"Cover_Sheet!E258","v":"00:00:00"},{"$f":"IF(Cover_Sheet!F258=\"\",\"\",Cover_Sheet!F258)","v":""},{"$f":"Cover_Sheet!G258","v":0},{"$f":"Cover_Sheet!H258","v":0}]
[{"$f":"IF(Cover_Sheet!A259=0,\"N\",\"Y\")","v":"N"},{"$f":"Cover_Sheet!B259","v":0},{"$f":"Cover_Sheet!C259","v":0},{"$f":"Cover_Sheet!D259","v":"00:00:00"},{"$f":"Cover_Sheet!E259","v":"00:00:00"},{"$f":"IF(Cover_Sheet!F259=\"\",\"\",Cover_Sheet!F259)","v":""},{"$f":"Cover_Sheet!G259","v":0},{"$f":"Cover_Sheet!H259","v":0}]
[{"$f":"IF(Cover_Sheet!A260=0,\"N\",\"Y\")","v":"N"},{"$f":"Cover_Sheet!B260","v":0},{"$f":"Cover_Sheet!C260","v":0},{"$f":"Cover_Sheet!D260","v":"00:00:00"},{"$f":"Cover_Sheet!E260","v":"00:00:00"},{"$f":"IF(Cover_Sheet!F260=\"\",\"\",Cover_Sheet!F260)","v":""},{"$f":"Cover_Sheet!G260","v":0},{"$f":"Cover_Sheet!H260","v":0}]
[{"$f":"IF(Cover_Sheet!A261=0,\"N\",\"Y\")","v":"N"},{"$f":"Cover_Sheet!B261","v":0},{"$f":"Cover_Sheet!C261","v":0},{"$f":"Cover_Sheet!D261","v":"00:00:00"},{"$f":"Cover_Sheet!E261","v":"00:00:00"},{"$f":"IF(Cover_Sheet!F261=\"\",\"\",Cover_Sheet!F261)","v":""},{"$f":"Cover_Sheet!G261","v":0},{"$f":"Cover_Sheet!H261","v":0}]
[{"$f":"IF(Cover_Sheet!A262=0,\"N\",\"Y\")","v":"N"},{"$f":"Cover_Sheet!B262","v":0},{"$f":"Cover_Sheet!C262","v":0},{"$f":"Cover_Sheet!D262","v":"00:00:00"},{"$f":"Cover_Sheet!E262","v":"00:00:00"},{"$f":"IF(Cover_Sheet!F262=\"\",\"\",Cover_Sheet!F262)","v":""},{"$f":"Cover_Sheet!G262","v":0},{"$f":"Cover_Sheet!H262","v":0}]
[{"$f":"IF(Cover_Sheet!A263=0,\"N\",\"Y\")","v":"N"},{"$f":"Cover_Sheet!B263","v":0},{"$f":"Cover_Sheet!C263","v":0},{"$f":"Cover_Sheet!D263","v":"00:00:00"},{"$f":"Cover_Sheet!E263","v":"00:00:00"},{"$f":"IF(Cover_Sheet!F263=\"\",\"\",Cover_Sheet!F263)","v":""},{"$f":"Cover_Sheet!G263","v":0},{"$f":"Cover_Sheet!H263","v":0}]
[{"$f":"IF(Cover_Sheet!A264=0,\"N\",\"Y\")","v":"N"},{"$f":"Cover_Sheet!B264","v":0},{"$f":"Cover_Sheet!C264","v":0},{"$f":"Cover_Sheet!D264","v":"00:00:00"},{"$f":"Cover_Sheet!E264","v":"00:00:00"},{"$f":"IF(Cover_Sheet!F264=\"\",\"\",Cover_Sheet!F264)","v":""},{"$f":"Cover_Sheet!G264","v":0},{"$f":"Cover_Sheet!H264","v":0}]
[{"$f":"IF(Cover_Sheet!A265=0,\"N\",\"Y\")","v":"N"},{"$f":"Cover_Sheet!B265","v":0},{"$f":"Cover_Sheet!C265","v":0},{"$f":"Cover_Sheet!D265","v":"00:00:00"},{"$f":"Cover_Sheet!E265","v":"00:00:00"},{"$f":"IF(Cover_Sheet!F265=\"\",\"\",Cover_Sheet!F265)","v":""},{"$f":"Cover_Sheet!G265","v":0},{"$f":"Cover_Sheet!H265","v":0}]
[{"$f":"IF(Cover_Sheet!A266=0,\"N\",\"Y\")","v":"N"},{"$f":"Cover_Sheet!B266","v":0},{"$f":"Cover_Sheet!C266","v":0},{"$f":"Cover_Sheet!D266","v":"00:00:00"},{"$f":"Cover_Sheet!E266","v":"00:00:00"},{"$f":"IF(Cover_Sheet!F266=\"\",\"\",Cover_Sheet!F266)","v":""},{"$f":"Cover_Sheet!G266","v":0},{"$f":"Cover_Sheet!H266","v":0}]
[{"$f":"IF(Cover_Sheet!A267=0,\"N\",\"Y\")","v":"N"},{"$f":"Cover_Sheet!B267","v":0},{"$f":"Cover_Sheet!C267","v":0},{"$f":"Cover_Sheet!D267","v":"00:00:00"},{"$f":"Cover_Sheet!E267","v":"00:00:00"},{"$f":"IF(Cover_Sheet!F267=\"\",\"\",Cover_Sheet!F267)","v":""},{"$f":"Cover_Sheet!G267","v":0},{"$f":"Cover_Sheet!H267","v":0}]
[{"$f":"IF(Cover_Sheet!A268=0,\"N\",\"Y\")","v":"N"},{"$f":"Cover_Sheet!B268","v":0},{"$f":"Cover_Sheet!C268","v":0},{"$f":"Cover_Sheet!D268","v":"00:00:00"},{"$f":"Cover_Sheet!E268","v":"00:00:00"},{"$f":"IF(Cover_Sheet!F268=\"\",\"\",Cover_Sheet!F268)","v":""},{"$f":"Cover_Sheet!G268","v":0},{"$f":"Cover_Sheet!H268","v":0}]
[{"$f":"IF(Cover_Sheet!A269=0,\"N\",\"Y\")","v":"N"},{"$f":"Cover_Sheet!B269","v":0},{"$f":"Cover_Sheet!C269","v":0},{"$f":"Cover_Sheet!D269","v":"00:00:00"},{"$f":"Cover_Sheet!E269","v":"00:00:00"},{"$f":"IF(Cover_Sheet!F269=\"\",\"\",Cover_Sheet!F269)","v":""},{"$f":"Cover_Sheet!G269","v":0},{"$f":"Cover_Sheet!H269","v":0}]
[{"$f":"IF(Cover_Sheet!A270=0,\"N\",\"Y\")","v":"N"},{"$f":"Cover_Sheet!B270","v":0},{"$f":"Cover_Sheet!C270","v":0},{"$f":"Cover_Sheet!D270","v":"00:00:00"},{"$f":"Cover_Sheet!E270","v":"00:00:00"},{"$f":"IF(Cover_Sheet!F270=\"\",\"\",Cover_Sheet!F270)","v":""},{"$f":"Cover_Sheet!G270","v":0},{"$f":"Cover_Sheet!H270","v":0}]
[{"$f":"IF(Cover_Sheet!A271=0,\"N\",\"Y\")","v":"N"},{"$f":"Cover_Sheet!B271","v":0},{"$f":"Cover_Sheet!C271","v":0},{"$f":"Cover_Sheet!D271","v":"00:00:00"},{"$f":"Cover_Sheet!E271","v":"00:00:00"},{"$f":"IF(Cover_Sheet!F271=\"\",\"\",Cover_Sheet!F271)","v":""},{"$f":"Cover_Sheet!G271","v":0},{"$f":"Cover_Sheet!H271","v":0}]
[{"$f":"IF(Cover_Sheet!A272=0,\"N\",\"Y\")","v":"N"},{"$f":"Cover_Sheet!B272","v":0},{"$f":"Cover_Sheet!C272","v":0},{"$f":"Cover_Sheet!D272","v":"00:00:00"},{"$f":"Cover_Sheet!E272","v":"00:00:00"},{"$f":"IF(Cover_Sheet!F272=\"\",\"\",Cover_Sheet!F272)","v":""},{"$f":"Cover_Sheet!G272","v":0},{"$f":"Cover_Sheet!H272","v":0}]
[{"$f":"IF(Cover_Sheet!A273=0,\"N\",\"Y\")","v":"N"},{"$f":"Cover_Sheet!B273","v":0},{"$f":"Cover_Sheet!C273","v":0},{"$f":"Cover_Sheet!D273","v":"00:00:00"},{"$f":"Cover_Sheet!E273","v":"00:00:00"},{"$f":"IF(Cover_Sheet!F273=\"\",\"\",Cover_Sheet!F273)","v":""},{"$f":"Cover_Sheet!G273","v":0},{"$f":"Cover_Sheet!H273","v":0}]
[{"$f":"IF(Cover_Sheet!A274=0,\"N\",\"Y\")","v":"N"},{"$f":"Cover_Sheet!B274","v":0},{"$f":"Cover_Sheet!C274","v":0},{"$f":"Cover_Sheet!D274","v":"00:00:00"},{"$f":"Cover_Sheet!E274","v":"00:00:00"},{"$f":"IF(Cover_Sheet!F274=\"\",\"\",Cover_Sheet!F274)","v":""},{"$f":"Cover_Sheet!G274","v":0},{"$f":"Cover_Sheet!H274","v":0}]
[{"$f":"IF(Cover_Sheet!A275=0,\"N\",\"Y\")","v":"N"},{"$f":"Cover_Sheet!B275","v":0},{"$f":"Cover_Sheet!C275","v":0},{"$f":"Cover_Sheet!D275","v":"00:00:00"},{"$f":"Cover_Sheet!E275","v":"00:00:00"},{"$f":"IF(Cover_Sheet!F275=\"\",\"\",Cover_Sheet!F275)","v":""},{"$f":"Cover_Sheet!G275","v":0},{"$f":"Cover_Sheet!H275","v":0}]
[{"$f":"IF(Cover_Sheet!A276=0,\"N\",\"Y\")","v":"N"},{"$f":"Cover_Sheet!B276","v":0},{"$f":"Cover_Sheet!C276","v":0},{"$f":"Cover_Sheet!D276","v":"00:00:00"},{"$f":"Cover_Sheet!E276","v":"00:00:00"},{"$f":"IF(Cover_Sheet!F276=\"\",\"\",Cover_Sheet!F276)","v":""},{"$f":"Cover_Sheet!G276","v":0},{"$f":"Cover_Sheet!H276","v":0}]
[{"$f":"IF(Cover_Sheet!A277=0,\"N\",\"Y\")","v":"N"},{"$f":"Cover_Sheet!B277","v":0},{"$f":"Cover_Sheet!C277","v":0},{"$f":"Cover_Sheet!D277","v":"00:00:00"},{"$f":"Cover_Sheet!E277","v":"00:00:00"},{"$f":"IF(Cover_Sheet!F277=\"\",\"\",Cover_Sheet!F277)","v":""},{"$f":"Cover_Sheet!G277","v":0},{"$f":"Cover_Sheet!H277","v":0}]
[{"$f":"IF(Cover_Sheet!A278=0,\"N\",\"Y\")","v":"N"},{"$f":"Cover_Sheet!B278","v":0},{"$f":"Cover_Sheet!C278","v":0},{"$f":"Cover_Sheet!D278","v":"00:00:00"},{"$f":"Cover_Sheet!E278","v":"00:00:00"},{"$f":"IF(Cover_Sheet!F278=\"\",\"\",Cover_Sheet!F278)","v":""},{"$f":"Cover_Sheet!G278","v":0},{"$f":"Cover_Sheet!H278","v":0}]
[{"$f":"IF(Cover_Sheet!A279=0,\"N\",\"Y\")","v":"N"},{"$f":"Cover_Sheet!B279","v":0},{"$f":"Cover_Sheet!C279","v":0},{"$f":"Cover_Sheet!D279","v":"00:00:00"},{"$f":"Cover_Sheet!E279","v":"00:00:00"},{"$f":"IF(Cover_Sheet!F279=\"\",\"\",Cover_Sheet!F279)","v":""},{"$f":"Cover_Sheet!G279","v":0},{"$f":"Cover_Sheet!H279","v":0}]
[{"$f":"IF(Cover_Sheet!A280=0,\"N\",\"Y\")","v":"N"},{"$f":"Cover_Sheet!B280","v":0},{"$f":"Cover_Sheet!C280","v":0},{"$f":"Cover_Sheet!D280","v":"00:00:00"},{"$f":"Cover_Sheet!E280","v":"00:00:00"},{"$f":"IF(Cover_Sheet!F280=\"\",\"\",Cover_Sheet!F280)","v":""},{"$f":"Cover_Sheet!G280","v":0},{"$f":"Cover_Sheet!H280","v":0}]
[{"$f":"IF(Cover_Sheet!A281=0,\"N\",\"Y\")","v":"N"},{"$f":"Cover_Sheet!B281","v":0},{"$f":"Cover_Sheet!C281","v":0},{"$f":"Cover_Sheet!D281","v":"00:00:00"},{"$f":"Cover_Sheet!E281","v":"00:00:00"},{"$f":"IF(Cover_Sheet!F281=\"\",\"\",Cover_Sheet!F281)","v":""},{"$f":"Cover_Sheet!G281","v":0},{"$f":"Cover_Sheet!H281","v":0}]
[{"$f":"IF(Cover_Sheet!A282=0,\"N\",\"Y\")","v":"N"},{"$f":"Cover_Sheet!B282","v":0},{"$f":"Cover_Sheet!C282","v":0},{"$f":"Cover_Sheet!D282","v":"00:00:00"},{"$f":"Cover_Sheet!E282","v":"00:00:00"},{"$f":"IF(Cover_Sheet!F282=\"\",\"\",Cover_Sheet!F282)","v":""},{"$f":"Cover_Sheet!G282","v":0},{"$f":"Cover_Sheet!H282","v":0}]
[{"$f":"IF(Cover_Sheet!A283=0,\"N\",\"Y\")","v":"N"},{"$f":"Cover_Sheet!B283","v":0},{"$f":"Cover_Sheet!C283","v":0},{"$f":"Cover_Sheet!D283","v":"00:00:00"},{"$f":"Cover_Sheet!E283","v":"00:00:00"},{"$f":"IF(Cover_Sheet!F283=\"\",\"\",Cover_Sheet!F283)","v":""},{"$f":"Cover_Sheet!G283","v":0},{"$f":"Cover_Sheet!H283","v":0}]
[{"$f":"IF(Cover_Sheet!A284=0,\"N\",\"Y\")","v":"N"},{"$f":"Cover_Sheet!B284","v":0},{"$f":"Cover_Sheet!C284","v":0},{"$f":"Cover_Sheet!D284","v":"00:00:00"},{"$f":"Cover_Sheet!E284","v":"00:00:00"},{"$f":"IF(Cover_Sheet!F284=\"\",\"\",Cover_Sheet!F284)","v":""},{"$f":"Cover_Sheet!G284","v":0},{"$f":"Cover_Sheet!H284","v":0}]
[{"$f":"IF(Cover_Sheet!A285=0,\"N\",\"Y\")","v":"N"},{"$f":"Cover_Sheet!B285","v":0},{"$f":"Cover_Sheet!C285","v":0},{"$f":"Cover_Sheet!D285","v":"00:00:00"},{"$f":"Cover_Sheet!E285","v":"00:00:00"},{"$f":"IF(Cover_Sheet!F285=\"\",\"\",Cover_Sheet!F285)","v":""},{"$f":"Cover_Sheet!G285","v":0},{"$f":"Cover_Sheet!H285","v":0}]
[{"$f":"IF(Cover_Sheet!A286=0,\"N\",\"Y\")","v":"N"},{"$f":"Cover_Sheet!B286","v":0},{"$f":"Cover_Sheet!C286","v":0},{"$f":"Cover_Sheet!D286","v":"00:00:00"},{"$f":"Cover_Sheet!E286","v":"00:00:00"},{"$f":"IF(Cover_Sheet!F286=\"\",\"\",Cover_Sheet!F286)","v":""},{"$f":"Cover_Sheet!G286","v":0},{"$f":"Cover_Sheet!H286","v":0}]
[{"$f":"IF(Cover_Sheet!A287=0,\"N\",\"Y\")","v":"N"},{"$f":"Cover_Sheet!B287","v":0},{"$f":"Cover_Sheet!C287","v":0},{"$f":"Cover_Sheet!D287","v":"00:00:00"},{"$f":"Cover_Sheet!E287","v":"00:00:00"},{"$f":"IF(Cover_Sheet!F287=\"\",\"\",Cover_Sheet!F287)","v":""},{"$f":"Cover_Sheet!G287","v":0},{"$f":"Cover_Sheet!H287","v":0}]
[{"$f":"IF(Cover_Sheet!A288=0,\"N\",\"Y\")","v":"N"},{"$f":"Cover_Sheet!B288","v":0},{"$f":"Cover_Sheet!C288","v":0},{"$f":"Cover_Sheet!D288","v":"00:00:00"},{"$f":"Cover_Sheet!E288","v":"00:00:00"},{"$f":"IF(Cover_Sheet!F288=\"\",\"\",Cover_Sheet!F288)","v":""},{"$f":"Cover_Sheet!G288","v":0},{"$f":"Cover_Sheet!H288","v":0}]
[{"$f":"IF(Cover_Sheet!A289=0,\"N\",\"Y\")","v":"N"},{"$f":"Cover_Sheet!B289","v":0},{"$f":"Cover_Sheet!C289","v":0},{"$f":"Cover_Sheet!D289","v":"00:00:00"},{"$f":"Cover_Sheet!E289","v":"00:00:00"},{"$f":"IF(Cover_Sheet!F289=\"\",\"\",Cover_Sheet!F289)","v":""},{"$f":"Cover_Sheet!G289","v":0},{"$f":"Cover_Sheet!H289","v":0}]
[{"$f":"IF(Cover_Sheet!A290=0,\"N\",\"Y\")","v":"N"},{"$f":"Cover_Sheet!B290","v":0},{"$f":"Cover_Sheet!C290","v":0},{"$f":"Cover_Sheet!D290","v":"00:00:00"},{"$f":"Cover_Sheet!E290","v":"00:00:00"},{"$f":"IF(Cover_Sheet!F290=\"\",\"\",Cover_Sheet!F290)","v":""},{"$f":"Cover_Sheet!G290","v":0},{"$f":"Cover_Sheet!H290","v":0}]
[{"$f":"IF(Cover_Sheet!A291=0,\"N\",\"Y\")","v":"N"},{"$f":"Cover_Sheet!B291","v":0},{"$f":"Cover_Sheet!C291","v":0},{"$f":"Cover_Sheet!D291","v":"00:00:00"},{"$f":"Cover_Sheet!E291","v":"00:00:00"},{"$f":"IF(Cover_Sheet!F291=\"\",\"\",Cover_Sheet!F291)","v":""},{"$f":"Cover_Sheet!G291","v":0},{"$f":"Cover_Sheet!H291","v":0}]
[{"$f":"IF(Cover_Sheet!A292=0,\"N\",\"Y\")","v":"N"},{"$f":"Cover_Sheet!B292","v":0},{"$f":"Cover_Sheet!C292","v":0},{"$f":"Cover_Sheet!D292","v":"00:00:00"},{"$f":"Cover_Sheet!E292","v":"00:00:00"},{"$f":"IF(Cover_Sheet!F292=\"\",\"\",Cover_Sheet!F292)","v":""},{"$f":"Cover_Sheet!G292","v":0},{"$f":"Cover_Sheet!H292","v":0}]
[{"$f":"IF(Cover_Sheet!A293=0,\"N\",\"Y\")","v":"N"},{"$f":"Cover_Sheet!B293","v":0},{"$f":"Cover_Sheet!C293","v":0},{"$f":"Cover_Sheet!D293","v":"00:00:00"},{"$f":"Cover_Sheet!E293","v":"00:00:00"},{"$f":"IF(Cover_Sheet!F293=\"\",\"\",Cover_Sheet!F293)","v":""},{"$f":"Cover_Sheet!G293","v":0},{"$f":"Cover_Sheet!H293","v":0}]
[{"$f":"IF(Cover_Sheet!A294=0,\"N\",\"Y\")","v":"N"},{"$f":"Cover_Sheet!B294","v":0},{"$f":"Cover_Sheet!C294","v":0},{"$f":"Cover_Sheet!D294","v":"00:00:00"},{"$f":"Cover_Sheet!E294","v":"00:00:00"},{"$f":"IF(Cover_Sheet!F294=\"\",\"\",Cover_Sheet!F294)","v":""},{"$f":"Cover_Sheet!G294","v":0},{"$f":"Cover_Sheet!H294","v":0}]
[{"$f":"IF(Cover_Sheet!A295=0,\"N\",\"Y\")","v":"N"},{"$f":"Cover_Sheet!B295","v":0},{"$f":"Cover_Sheet!C295","v":0},{"$f":"Cover_Sheet!D295","v":"00:00:00"},{"$f":"Cover_Sheet!E295","v":"00:00:00"},{"$f":"IF(Cover_Sheet!F295=\"\",\"\",Cover_Sheet!F295)","v":""},{"$f":"Cover_Sheet!G295","v":0},{"$f":"Cover_Sheet!H295","v":0}]
[{"$f":"IF(Cover_Sheet!A296=0,\"N\",\"Y\")","v":"N"},{"$f":"Cover_Sheet!B296","v":0},{"$f":"Cover_Sheet!C296","v":0},{"$f":"Cover_Sheet!D296","v":"00:00:00"},{"$f":"Cover_Sheet!E296","v":"00:00:00"},{"$f":"IF(Cover_Sheet!F296=\"\",\"\",Cover_Sheet!F296)","v":""},{"$f":"Cover_Sheet!G296","v":0},{"$f":"Cover_Sheet!H296","v":0}]
[{"$f":"IF(Cover_Sheet!A297=0,\"N\",\"Y\")","v":"N"},{"$f":"Cover_Sheet!B297","v":0},{"$f":"Cover_Sheet!C297","v":0},{"$f":"Cover_Sheet!D297","v":"00:00:00"},{"$f":"Cover_Sheet!E297","v":"00:00:00"},{"$f":"IF(Cover_Sheet!F297=\"\",\"\",Cover_Sheet!F297)","v":""},{"$f":"Cover_Sheet!G297","v":0},{"$f":"Cover_Sheet!H297","v":0}]
[{"$f":"IF(Cover_Sheet!A298=0,\"N\",\"Y\")","v":"N"},{"$f":"Cover_Sheet!B298","v":0},{"$f":"Cover_Sheet!C298","v":0},{"$f":"Cover_Sheet!D298","v":"00:00:00"},{"$f":"Cover_Sheet!E298","v":"00:00:00"},{"$f":"IF(Cover_Sheet!F298=\"\",\"\",Cover_Sheet!F298)","v":""},{"$f":"Cover_Sheet!G298","v":0},{"$f":"Cover_Sheet!H298","v":0}]
[{"$f":"IF(Cover_Sheet!A299=0,\"N\",\"Y\")","v":"N"},{"$f":"Cover_Sheet!B299","v":0},{"$f":"Cover_Sheet!C299","v":0},{"$f":"Cover_Sheet!D299","v":"00:00:00"},{"$f":"Cover_Sheet!E299","v":"00:00:00"},{"$f":"IF(Cover_Sheet!F299=\"\",\"\",Cover_Sheet!F299)","v":""},{"$f":"Cover_Sheet!G299","v":0},{"$f":"Cover_Sheet!H299","v":0}]
[{"$f":"IF(Cover_Sheet!A300=0,\"N\",\"Y\")","v":"N"},{"$f":"Cover_Sheet!B300","v":0},{"$f":"Cover_Sheet!C300","v":0},{"$f":"Cover_Sheet!D300","v":"00:00:00"},{"$f":"Cover_Sheet!E300","v":"00:00:00"},{"$f":"IF(Cover_Sheet!F300=\"\",\"\",Cover_Sheet!F300)","v":""},{"$f":"Cover_Sheet!G300","v":0},{"$f":"Cover_Sheet!H300","v":0}]
[{"$f":"IF(Cover_Sheet!A301=0,\"N\",\"Y\")","v":"N"},{"$f":"Cover_Sheet!B301","v":0},{"$f":"Cover_Sheet!C301","v":0},{"$f":"Cover_Sheet!D301","v":"00:00:00"},{"$f":"Cover_Sheet!E301","v":"00:00:00"},{"$f":"IF(Cover_Sheet!F301=\"\",\"\",Cover_Sheet!F301)","v":""},{"$f":"Cover_Sheet!G301","v":0},{"$f":"Cover_Sheet!H301","v":0}]
[{"$f":"IF(Cover_Sheet!A302=0,\"N\",\"Y\")","v":"N"},{"$f":"Cover_Sheet!B302","v":0},{"$f":"Cover_Sheet!C302","v":0},{"$f":"Cover_Sheet!D302","v":"00:00:00"},{"$f":"Cover_Sheet!E302","v":"00:00:00"},{"$f":"IF(Cover_Sheet!F302=\"\",\"\",Cover_Sheet!F302)","v":""},{"$f":"Cover_Sheet!G302","v":0},{"$f":"Cover_Sheet!H302","v":0}]
[{"$f":"IF(Cover_Sheet!A303=0,\"N\",\"Y\")","v":"N"},{"$f":"Cover_Sheet!B303","v":0},{"$f":"Cover_Sheet!C303","v":0},{"$f":"Cover_Sheet!D303","v":"00:00:00"},{"$f":"Cover_Sheet!E303","v":"00:00:00"},{"$f":"IF(Cover_Sheet!F303=\"\",\"\",Cover_Sheet!F303)","v":""},{"$f":"Cover_Sheet!G303","v":0},{"$f":"Cover_Sheet!H303","v":0}]
[{"$f":"IF(Cover_Sheet!A304=0,\"N\",\"Y\")","v":"N"},{"$f":"Cover_Sheet!B304","v":0},{"$f":"Cover_Sheet!C304","v":0},{"$f":"Cover_Sheet!D304","v":"00:00:00"},{"$f":"Cover_Sheet!E304","v":"00:00:00"},{"$f":"IF(Cover_Sheet!F304=\"\",\"\",Cover_Sheet!F304)","v":""},{"$f":"Cover_Sheet!G304","v":0},{"$f":"Cover_Sheet!H304","v":0}]
[{"$f":"IF(Cover_Sheet!A305=0,\"N\",\"Y\")","v":"N"},{"$f":"Cover_Sheet!B305","v":0},{"$f":"Cover_Sheet!C305","v":0},{"$f":"Cover_Sheet!D305","v":"00:00:00"},{"$f":"Cover_Sheet!E305","v":"00:00:00"},{"$f":"IF(Cover_Sheet!F305=\"\",\"\",Cover_Sheet!F305)","v":""},{"$f":"Cover_Sheet!G305","v":0},{"$f":"Cover_Sheet!H305","v":0}]
[{"$f":"IF(Cover_Sheet!A306=0,\"N\",\"Y\")","v":"N"},{"$f":"Cover_Sheet!B306","v":0},{"$f":"Cover_Sheet!C306","v":0},{"$f":"Cover_Sheet!D306","v":"00:00:00"},{"$f":"Cover_Sheet!E306","v":"00:00:00"},{"$f":"IF(Cover_Sheet!F306=\"\",\"\",Cover_Sheet!F306)","v":""},{"$f":"Cover_Sheet!G306","v":0},{"$f":"Cover_Sheet!H306","v":0}]
[{"$f":"IF(Cover_Sheet!A307=0,\"N\",\"Y\")","v":"N"},{"$f":"Cover_Sheet!B307","v":0},{"$f":"Cover_Sheet!C307","v":0},{"$f":"Cover_Sheet!D307","v":"00:00:00"},{"$f":"Cover_Sheet!E307","v":"00:00:00"},{"$f":"IF(Cover_Sheet!F307=\"\",\"\",Cover_Sheet!F307)","v":""},{"$f":"Cover_Sheet!G307","v":0},{"$f":"Cover_Sheet!H307","v":0}]
[{"$f":"IF(Cover_Sheet!A308=0,\"N\",\"Y\")","v":"N"},{"$f":"Cover_Sheet!B308","v":0},{"$f":"Cover_Sheet!C308","v":0},{"$f":"Cover_Sheet!D308","v":"00:00:00"},{"$f":"Cover_Sheet!E308","v":"00:00:00"},{"$f":"IF(Cover_Sheet!F308=\"\",\"\",Cover_Sheet!F308)","v":""},{"$f":"Cover_Sheet!G308","v":0},{"$f":"Cover_Sheet!H308","v":0}]
[{"$f":"IF(Cover_Sheet!A309=0,\"N\",\"Y\")","v":"N"},{"$f":"Cover_Sheet!B309","v":0},{"$f":"Cover_Sheet!C309","v":0},{"$f":"Cover_Sheet!D309","v":"00:00:00"},{"$f":"Cover_Sheet!E309","v":"00:00:00"},{"$f":"IF(Cover_Sheet!F309=\"\",\"\",Cover_Sheet!F309)","v":""},{"$f":"Cover_Sheet!G309","v":0},{"$f":"Cover_Sheet!H309","v":0}]
[{"$f":"IF(Cover_Sheet!A310=0,\"N\",\"Y\")","v":"N"},{"$f":"Cover_Sheet!B310","v":0},{"$f":"Cover_Sheet!C310","v":0},{"$f":"Cover_Sheet!D310","v":"00:00:00"},{"$f":"Cover_Sheet!E310","v":"00:00:00"},{"$f":"IF(Cover_Sheet!F310=\"\",\"\",Cover_Sheet!F310)","v":""},{"$f":"Cover_Sheet!G310","v":0},{"$f":"Cover_Sheet!H310","v":0}]
[{"$f":"IF(Cover_Sheet!A311=0,\"N\",\"Y\")","v":"N"},{"$f":"Cover_Sheet!B311","v":0},{"$f":"Cover_Sheet!C311","v":0},{"$f":"Cover_Sheet!D311","v":"00:00:00"},{"$f":"Cover_Sheet!E311","v":"00:00:00"},{"$f":"IF(Cover_Sheet!F311=\"\",\"\",Cover_Sheet!F311)","v":""},{"$f":"Cover_Sheet!G311","v":0},{"$f":"Cover_Sheet!H311","v":0}]
[{"$f":"IF(Cover_Sheet!A312=0,\"N\",\"Y\")","v":"N"},{"$f":"Cover_Sheet!B312","v":0},{"$f":"Cover_Sheet!C312","v":0},{"$f":"Cover_Sheet!D312","v":"00:00:00"},{"$f":"Cover_Sheet!E312","v":"00:00:00"},{"$f":"IF(Cover_Sheet!F312=\"\",\"\",Cover_Sheet!F312)","v":""},{"$f":"Cover_Sheet!G312","v":0},{"$f":"Cover_Sheet!H312","v":0}]
[{"$f":"IF(Cover_Sheet!A313=0,\"N\",\"Y\")","v":"N"},{"$f":"Cover_Sheet!B313","v":0},{"$f":"Cover_Sheet!C313","v":0},{"$f":"Cover_Sheet!D313","v":"00:00:00"},{"$f":"Cover_Sheet!E313","v":"00:00:00"},{"$f":"IF(Cover_Sheet!F313=\"\",\"\",Cover_Sheet!F313)","v":""},{"$f":"Cover_Sheet!G313","v":0},{"$f":"Cover_Sheet!H313","v":0}]
[{"$f":"IF(Cover_Sheet!A314=0,\"N\",\"Y\")","v":"N"},{"$f":"Cover_Sheet!B314","v":0},{"$f":"Cover_Sheet!C314","v":0},{"$f":"Cover_Sheet!D314","v":"00:00:00"},{"$f":"Cover_Sheet!E314","v":"00:00:00"},{"$f":"IF(Cover_Sheet!F314=\"\",\"\",Cover_Sheet!F314)","v":""},{"$f":"Cover_Sheet!G314","v":0},{"$f":"Cover_Sheet!H314","v":0}]
[{"$f":"IF(Cover_Sheet!A315=0,\"N\",\"Y\")","v":"N"},{"$f":"Cover_Sheet!B315","v":0},{"$f":"Cover_Sheet!C315","v":0},{"$f":"Cover_Sheet!D315","v":"00:00:00"},{"$f":"Cover_Sheet!E315","v":"00:00:00"},{"$f":"IF(Cover_Sheet!F315=\"\",\"\",Cover_Sheet!F315)","v":""},{"$f":"Cover_Sheet!G315","v":0},{"$f":"Cover_Sheet!H315","v":0}]
[{"$f":"IF(Cover_Sheet!A316=0,\"N\",\"Y\")","v":"N"},{"$f":"Cover_Sheet!B316","v":0},{"$f":"Cover_Sheet!C316","v":0},{"$f":"Cover_Sheet!D316","v":"00:00:00"},{"$f":"Cover_Sheet!E316","v":"00:00:00"},{"$f":"IF(Cover_Sheet!F316=\"\",\"\",Cover_Sheet!F316)","v":""},{"$f":"Cover_Sheet!G316","v":0},{"$f":"Cover_Sheet!H316","v":0}]
[{"$f":"IF(Cover_Sheet!A317=0,\"N\",\"Y\")","v":"N"},{"$f":"Cover_Sheet!B317","v":0},{"$f":"Cover_Sheet!C317","v":0},{"$f":"Cover_Sheet!D317","v":"00:00:00"},{"$f":"Cover_Sheet!E317","v":"00:00:00"},{"$f":"IF(Cover_Sheet!F317=\"\",\"\",Cover_Sheet!F317)","v":""},{"$f":"Cover_Sheet!G317","v":0},{"$f":"Cover_Sheet!H317","v":0}]
[{"$f":"IF(Cover_Sheet!A318=0,\"N\",\"Y\")","v":"N"},{"$f":"Cover_Sheet!B318","v":0},{"$f":"Cover_Sheet!C318","v":0},{"$f":"Cover_Sheet!D318","v":"00:00:00"},{"$f":"Cover_Sheet!E318","v":"00:00:00"},{"$f":"IF(Cover_Sheet!F318=\"\",\"\",Cover_Sheet!F318)","v":""},{"$f":"Cover_Sheet!G318","v":0},{"$f":"Cover_Sheet!H318","v":0}]
[{"$f":"IF(Cover_Sheet!A319=0,\"N\",\"Y\")","v":"N"},{"$f":"Cover_Sheet!B319","v":0},{"$f":"Cover_Sheet!C319","v":0},{"$f":"Cover_Sheet!D319","v":"00:00:00"},{"$f":"Cover_Sheet!E319","v":"00:00:00"},{"$f":"IF(Cover_Sheet!F319=\"\",\"\",Cover_Sheet!F319)","v":""},{"$f":"Cover_Sheet!G319","v":0},{"$f":"Cover_Sheet!H319","v":0}]
[{"$f":"IF(Cover_Sheet!A320=0,\"N\",\"Y\")","v":"N"},{"$f":"Cover_Sheet!B320","v":0},{"$f":"Cover_Sheet!C320","v":0},{"$f":"Cover_Sheet!D320","v":"00:00:00"},{"$f":"Cover_Sheet!E320","v":"00:00:00"},{"$f":"IF(Cover_Sheet!F320=\"\",\"\",Cover_Sheet!F320)","v":""},{"$f":"Cover_Sheet!G320","v":0},{"$f":"Cover_Sheet!H320","v":0}]
[{"$f":"IF(Cover_Sheet!A321=0,\"N\",\"Y\")","v":"N"},{"$f":"Cover_Sheet!B321","v":0},{"$f":"Cover_Sheet!C321","v":0},{"$f":"Cover_Sheet!D321","v":"00:00:00"},{"$f":"Cover_Sheet!E321","v":"00:00:00"},{"$f":"IF(Cover_Sheet!F321=\"\",\"\",Cover_Sheet!F321)","v":""},{"$f":"Cover_Sheet!G321","v":0},{"$f":"Cover_Sheet!H321","v":0}]
[{"$f":"IF(Cover_Sheet!A322=0,\"N\",\"Y\")","v":"N"},{"$f":"Cover_Sheet!B322","v":0},{"$f":"Cover_Sheet!C322","v":0},{"$f":"Cover_Sheet!D322","v":"00:00:00"},{"$f":"Cover_Sheet!E322","v":"00:00:00"},{"$f":"IF(Cover_Sheet!F322=\"\",\"\",Cover_Sheet!F322)","v":""},{"$f":"Cover_Sheet!G322","v":0},{"$f":"Cover_Sheet!H322","v":0}]
[{"$f":"IF(Cover_Sheet!A323=0,\"N\",\"Y\")","v":"N"},{"$f":"Cover_Sheet!B323","v":0},{"$f":"Cover_Sheet!C323","v":0},{"$f":"Cover_Sheet!D323","v":"00:00:00"},{"$f":"Cover_Sheet!E323","v":"00:00:00"},{"$f":"IF(Cover_Sheet!F323=\"\",\"\",Cover_Sheet!F323)","v":""},{"$f":"Cover_Sheet!G323","v":0},{"$f":"Cover_Sheet!H323","v":0}]
[{"$f":"IF(Cover_Sheet!A324=0,\"N\",\"Y\")","v":"N"},{"$f":"Cover_Sheet!B324","v":0},{"$f":"Cover_Sheet!C324","v":0},{"$f":"Cover_Sheet!D324","v":"00:00:00"},{"$f":"Cover_Sheet!E324","v":"00:00:00"},{"$f":"IF(Cover_Sheet!F324=\"\",\"\",Cover_Sheet!F324)","v":""},{"$f":"Cover_Sheet!G324","v":0},{"$f":"Cover_Sheet!H324","v":0}]
[{"$f":"IF(Cover_Sheet!A325=0,\"N\",\"Y\")","v":"N"},{"$f":"Cover_Sheet!B325","v":0},{"$f":"Cover_Sheet!C325","v":0},{"$f":"Cover_Sheet!D325","v":"00:00:00"},{"$f":"Cover_Sheet!E325","v":"00:00:00"},{"$f":"IF(Cover_Sheet!F325=\"\",\"\",Cover_Sheet!F325)","v":""},{"$f":"Cover_Sheet!G325","v":0},{"$f":"Cover_Sheet!H325","v":0}]
[{"$f":"IF(Cover_Sheet!A326=0,\"N\",\"Y\")","v":"N"},{"$f":"Cover_Sheet!B326","v":0},{"$f":"Cover_Sheet!C326","v":0},{"$f":"Cover_Sheet!D326","v":"00:00:00"},{"$f":"Cover_Sheet!E326","v":"00:00:00"},{"$f":"IF(Cover_Sheet!F326=\"\",\"\",Cover_Sheet!F326)","v":""},{"$f":"Cover_Sheet!G326","v":0},{"$f":"Cover_Sheet!H326","v":0}]
[{"$f":"IF(Cover_Sheet!A327=0,\"N\",\"Y\")","v":"N"},{"$f":"Cover_Sheet!B327","v":0},{"$f":"Cover_Sheet!C327","v":0},{"$f":"Cover_Sheet!D327","v":"00:00:00"},{"$f":"Cover_Sheet!E327","v":"00:00:00"},{"$f":"IF(Cover_Sheet!F327=\"\",\"\",Cover_Sheet!F327)","v":""},{"$f":"Cover_Sheet!G327","v":0},{"$f":"Cover_Sheet!H327","v":0}]
[{"$f":"IF(Cover_Sheet!A328=0,\"N\",\"Y\")","v":"N"},{"$f":"Cover_Sheet!B328","v":0},{"$f":"Cover_Sheet!C328","v":0},{"$f":"Cover_Sheet!D328","v":"00:00:00"},{"$f":"Cover_Sheet!E328","v":"00:00:00"},{"$f":"IF(Cover_Sheet!F328=\"\",\"\",Cover_Sheet!F328)","v":""},{"$f":"Cover_Sheet!G328","v":0},{"$f":"Cover_Sheet!H328","v":0}]
[{"$f":"IF(Cover_Sheet!A329=0,\"N\",\"Y\")","v":"N"},{"$f":"Cover_Sheet!B329","v":0},{"$f":"Cover_Sheet!C329","v":0},{"$f":"Cover_Sheet!D329","v":"00:00:00"},{"$f":"Cover_Sheet!E329","v":"00:00:00"},{"$f":"IF(Cover_Sheet!F329=\"\",\"\",Cover_Sheet!F329)","v":""},{"$f":"Cover_Sheet!G329","v":0},{"$f":"Cover_Sheet!H329","v":0}]
[{"$f":"IF(Cover_Sheet!A330=0,\"N\",\"Y\")","v":"N"},{"$f":"Cover_Sheet!B330","v":0},{"$f":"Cover_Sheet!C330","v":0},{"$f":"Cover_Sheet!D330","v":"00:00:00"},{"$f":"Cover_Sheet!E330","v":"00:00:00"},{"$f":"IF(Cover_Sheet!F330=\"\",\"\",Cover_Sheet!F330)","v":""},{"$f":"Cover_Sheet!G330","v":0},{"$f":"Cover_Sheet!H330","v":0}]
[{"$f":"IF(Cover_Sheet!A331=0,\"N\",\"Y\")","v":"N"},{"$f":"Cover_Sheet!B331","v":0},{"$f":"Cover_Sheet!C331","v":0},{"$f":"Cover_Sheet!D331","v":"00:00:00"},{"$f":"Cover_Sheet!E331","v":"00:00:00"},{"$f":"IF(Cover_Sheet!F331=\"\",\"\",Cover_Sheet!F331)","v":""},{"$f":"Cover_Sheet!G331","v":0},{"$f":"Cover_Sheet!H331","v":0}]
[{"$f":"IF(Cover_Sheet!A332=0,\"N\",\"Y\")","v":"N"},{"$f":"Cover_Sheet!B332","v":0},{"$f":"Cover_Sheet!C332","v":0},{"$f":"Cover_Sheet!D332","v":"00:00:00"},{"$f":"Cover_Sheet!E332","v":"00:00:00"},{"$f":"IF(Cover_Sheet!F332=\"\",\"\",Cover_Sheet!F332)","v":""},{"$f":"Cover_Sheet!G332","v":0},{"$f":"Cover_Sheet!H332","v":0}]
[{"$f":"IF(Cover_Sheet!A333=0,\"N\",\"Y\")","v":"N"},{"$f":"Cover_Sheet!B333","v":0},{"$f":"Cover_Sheet!C333","v":0},{"$f":"Cover_Sheet!D333","v":"00:00:00"},{"$f":"Cover_Sheet!E333","v":"00:00:00"},{"$f":"IF(Cover_Sheet!F333=\"\",\"\",Cover_Sheet!F333)","v":""},{"$f":"Cover_Sheet!G333","v":0},{"$f":"Cover_Sheet!H333","v":0}]
[{"$f":"IF(Cover_Sheet!A334=0,\"N\",\"Y\")","v":"N"},{"$f":"Cover_Sheet!B334","v":0},{"$f":"Cover_Sheet!C334","v":0},{"$f":"Cover_Sheet!D334","v":"00:00:00"},{"$f":"Cover_Sheet!E334","v":"00:00:00"},{"$f":"IF(Cover_Sheet!F334=\"\",\"\",Cover_Sheet!F334)","v":""},{"$f":"Cover_Sheet!G334","v":0},{"$f":"Cover_Sheet!H334","v":0}]
[{"$f":"IF(Cover_Sheet!A335=0,\"N\",\"Y\")","v":"N"},{"$f":"Cover_Sheet!B335","v":0},{"$f":"Cover_Sheet!C335","v":0},{"$f":"Cover_Sheet!D335","v":"00:00:00"},{"$f":"Cover_Sheet!E335","v":"00:00:00"},{"$f":"IF(Cover_Sheet!F335=\"\",\"\",Cover_Sheet!F335)","v":""},{"$f":"Cover_Sheet!G335","v":0},{"$f":"Cover_Sheet!H335","v":0}]
[{"$f":"IF(Cover_Sheet!A336=0,\"N\",\"Y\")","v":"N"},{"$f":"Cover_Sheet!B336","v":0},{"$f":"Cover_Sheet!C336","v":0},{"$f":"Cover_Sheet!D336","v":"00:00:00"},{"$f":"Cover_Sheet!E336","v":"00:00:00"},{"$f":"IF(Cover_Sheet!F336=\"\",\"\",Cover_Sheet!F336)","v":""},{"$f":"Cover_Sheet!G336","v":0},{"$f":"Cover_Sheet!H336","v":0}]
[{"$f":"IF(Cover_Sheet!A337=0,\"N\",\"Y\")","v":"N"},{"$f":"Cover_Sheet!B337","v":0},{"$f":"Cover_Sheet!C337","v":0},{"$f":"Cover_Sheet!D337","v":"00:00:00"},{"$f":"Cover_Sheet!E337","v":"00:00:00"},{"$f":"IF(Cover_Sheet!F337=\"\",\"\",Cover_Sheet!F337)","v":""},{"$f":"Cover_Sheet!G337","v":0},{"$f":"Cover_Sheet!H337","v":0}]
[{"$f":"IF(Cover_Sheet!A338=0,\"N\",\"Y\")","v":"N"},{"$f":"Cover_Sheet!B338","v":0},{"$f":"Cover_Sheet!C338","v":0},{"$f":"Cover_Sheet!D338","v":"00:00:00"},{"$f":"Cover_Sheet!E338","v":"00:00:00"},{"$f":"IF(Cover_Sheet!F338=\"\",\"\",Cover_Sheet!F338)","v":""},{"$f":"Cover_Sheet!G338","v":0},{"$f":"Cover_Sheet!H338","v":0}]
[{"$f":"IF(Cover_Sheet!A339=0,\"N\",\"Y\")","v":"N"},{"$f":"Cover_Sheet!B339","v":0},{"$f":"Cover_Sheet!C339","v":0},{"$f":"Cover_Sheet!D339","v":"00:00:00"},{"$f":"Cover_Sheet!E339","v":"00:00:00"},{"$f":"IF(Cover_Sheet!F339=\"\",\"\",Cover_Sheet!F339)","v":""},{"$f":"Cover_Sheet!G339","v":0},{"$f":"Cover_Sheet!H339","v":0}]
[{"$f":"IF(Cover_Sheet!A340=0,\"N\",\"Y\")","v":"N"},{"$f":"Cover_Sheet!B340","v":0},{"$f":"Cover_Sheet!C340","v":0},{"$f":"Cover_Sheet!D340","v":"00:00:00"},{"$f":"Cover_Sheet!E340","v":"00:00:00"},{"$f":"IF(Cover_Sheet!F340=\"\",\"\",Cover_Sheet!F340)","v":""},{"$f":"Cover_Sheet!G340","v":0},{"$f":"Cover_Sheet!H340","v":0}]
[{"$f":"IF(Cover_Sheet!A341=0,\"N\",\"Y\")","v":"N"},{"$f":"Cover_Sheet!B341","v":0},{"$f":"Cover_Sheet!C341","v":0},{"$f":"Cover_Sheet!D341","v":"00:00:00"},{"$f":"Cover_Sheet!E341","v":"00:00:00"},{"$f":"IF(Cover_Sheet!F341=\"\",\"\",Cover_Sheet!F341)","v":""},{"$f":"Cover_Sheet!G341","v":0},{"$f":"Cover_Sheet!H341","v":0}]
[{"$f":"IF(Cover_Sheet!A342=0,\"N\",\"Y\")","v":"N"},{"$f":"Cover_Sheet!B342","v":0},{"$f":"Cover_Sheet!C342","v":0},{"$f":"Cover_Sheet!D342","v":"00:00:00"},{"$f":"Cover_Sheet!E342","v":"00:00:00"},{"$f":"IF(Cover_Sheet!F342=\"\",\"\",Cover_Sheet!F342)","v":""},{"$f":"Cover_Sheet!G342","v":0},{"$f":"Cover_Sheet!H342","v":0}]
[{"$f":"IF(Cover_Sheet!A343=0,\"N\",\"Y\")","v":"N"},{"$f":"Cover_Sheet!B343","v":0},{"$f":"Cover_Sheet!C343","v":0},{"$f":"Cover_Sheet!D343","v":"00:00:00"},{"$f":"Cover_Sheet!E343","v":"00:00:00"},{"$f":"IF(Cover_Sheet!F343=\"\",\"\",Cover_Sheet!F343)","v":""},{"$f":"Cover_Sheet!G343","v":0},{"$f":"Cover_Sheet!H343","v":0}]
[{"$f":"IF(Cover_Sheet!A344=0,\"N\",\"Y\")","v":"N"},{"$f":"Cover_Sheet!B344","v":0},{"$f":"Cover_Sheet!C344","v":0},{"$f":"Cover_Sheet!D344","v":"00:00:00"},{"$f":"Cover_Sheet!E344","v":"00:00:00"},{"$f":"IF(Cover_Sheet!F344=\"\",\"\",Cover_Sheet!F344)","v":""},{"$f":"Cover_Sheet!G344","v":0},{"$f":"Cover_Sheet!H344","v":0}]
[{"$f":"IF(Cover_Sheet!A345=0,\"N\",\"Y\")","v":"N"},{"$f":"Cover_Sheet!B345","v":0},{"$f":"Cover_Sheet!C345","v":0},{"$f":"Cover_Sheet!D345","v":"00:00:00"},{"$f":"Cover_Sheet!E345","v":"00:00:00"},{"$f":"IF(Cover_Sheet!F345=\"\",\"\",Cover_Sheet!F345)","v":""},{"$f":"Cover_Sheet!G345","v":0},{"$f":"Cover_Sheet!H345","v":0}]
[{"$f":"IF(Cover_Sheet!A346=0,\"N\",\"Y\")","v":"N"},{"$f":"Cover_Sheet!B346","v":0},{"$f":"Cover_Sheet!C346","v":0},{"$f":"Cover_Sheet!D346","v":"00:00:00"},{"$f":"Cover_Sheet!E346","v":"00:00:00"},{"$f":"IF(Cover_Sheet!F346=\"\",\"\",Cover_Sheet!F346)","v":""},{"$f":"Cover_Sheet!G346","v":0},{"$f":"Cover_Sheet!H346","v":0}]
[{"$f":"IF(Cover_Sheet!A347=0,\"N\",\"Y\")","v":"N"},{"$f":"Cover_Sheet!B347","v":0},{"$f":"Cover_Sheet!C347","v":0},{"$f":"Cover_Sheet!D347","v":"00:00:00"},{"$f":"Cover_Sheet!E347","v":"00:00:00"},{"$f":"IF(Cover_Sheet!F347=\"\",\"\",Cover_Sheet!F347)","v":""},{"$f":"Cover_Sheet!G347","v":0},{"$f":"Cover_Sheet!H347","v":0}]
[{"$f":"IF(Cover_Sheet!A348=0,\"N\",\"Y\")","v":"N"},{"$f":"Cover_Sheet!B348","v":0},{"$f":"Cover_Sheet!C348","v":0},{"$f":"Cover_Sheet!D348","v":"00:00:00"},{"$f":"Cover_Sheet!E348","v":"00:00:00"},{"$f":"IF(Cover_Sheet!F348=\"\",\"\",Cover_Sheet!F348)","v":""},{"$f":"Cover_Sheet!G348","v":0},{"$f":"Cover_Sheet!H348","v":0}]
[{"$f":"IF(Cover_Sheet!A349=0,\"N\",\"Y\")","v":"N"},{"$f":"Cover_Sheet!B349","v":0},{"$f":"Cover_Sheet!C349","v":0},{"$f":"Cover_Sheet!D349","v":"00:00:00"},{"$f":"Cover_Sheet!E349","v":"00:00:00"},{"$f":"IF(Cover_Sheet!F349=\"\",\"\",Cover_Sheet!F349)","v":""},{"$f":"Cover_Sheet!G349","v":0},{"$f":"Cover_Sheet!H349","v":0}]
[{"$f":"IF(Cover_Sheet!A350=0,\"N\",\"Y\")","v":"N"},{"$f":"Cover_Sheet!B350","v":0},{"$f":"Cover_Sheet!C350","v":0},{"$f":"Cover_Sheet!D350","v":"00:00:00"},{"$f":"Cover_Sheet!E350","v":"00:00:00"},{"$f":"IF(Cover_Sheet!F350=\"\",\"\",Cover_Sheet!F350)","v":""},{"$f":"Cover_Sheet!G350","v":0},{"$f":"Cover_Sheet!H350","v":0}]
[{"$f":"IF(Cover_Sheet!A351=0,\"N\",\"Y\")","v":"N"},{"$f":"Cover_Sheet!B351","v":0},{"$f":"Cover_Sheet!C351","v":0},{"$f":"Cover_Sheet!D351","v":"00:00:00"},{"$f":"Cover_Sheet!E351","v":"00:00:00"},{"$f":"IF(Cover_Sheet!F351=\"\",\"\",Cover_Sheet!F351)","v":""},{"$f":"Cover_Sheet!G351","v":0},{"$f":"Cover_Sheet!H351","v":0}]
[{"$f":"IF(Cover_Sheet!A352=0,\"N\",\"Y\")","v":"N"},{"$f":"Cover_Sheet!B352","v":0},{"$f":"Cover_Sheet!C352","v":0},{"$f":"Cover_Sheet!D352","v":"00:00:00"},{"$f":"Cover_Sheet!E352","v":"00:00:00"},{"$f":"IF(Cover_Sheet!F352=\"\",\"\",Cover_Sheet!F352)","v":""},{"$f":"Cover_Sheet!G352","v":0},{"$f":"Cover_Sheet!H352","v":0}]
[{"$f":"IF(Cover_Sheet!A353=0,\"N\",\"Y\")","v":"N"},{"$f":"Cover_Sheet!B353","v":0},{"$f":"Cover_Sheet!C353","v":0},{"$f":"Cover_Sheet!D353","v":"00:00:00"},{"$f":"Cover_Sheet!E353","v":"00:00:00"},{"$f":"IF(Cover_Sheet!F353=\"\",\"\",Cover_Sheet!F353)","v":""},{"$f":"Cover_Sheet!G353","v":0},{"$f":"Cover_Sheet!H353","v":0}]
[{"$f":"IF(Cover_Sheet!A354=0,\"N\",\"Y\")","v":"N"},{"$f":"Cover_Sheet!B354","v":0},{"$f":"Cover_Sheet!C354","v":0},{"$f":"Cover_Sheet!D354","v":"00:00:00"},{"$f":"Cover_Sheet!E354","v":"00:00:00"},{"$f":"IF(Cover_Sheet!F354=\"\",\"\",Cover_Sheet!F354)","v":""},{"$f":"Cover_Sheet!G354","v":0},{"$f":"Cover_Sheet!H354","v":0}]
[{"$f":"IF(Cover_Sheet!A355=0,\"N\",\"Y\")","v":"N"},{"$f":"Cover_Sheet!B355","v":0},{"$f":"Cover_Sheet!C355","v":0},{"$f":"Cover_Sheet!D355","v":"00:00:00"},{"$f":"Cover_Sheet!E355","v":"00:00:00"},{"$f":"IF(Cover_Sheet!F355=\"\",\"\",Cover_Sheet!F355)","v":""},{"$f":"Cover_Sheet!G355","v":0},{"$f":"Cover_Sheet!H355","v":0}]
[{"$f":"IF(Cover_Sheet!A356=0,\"N\",\"Y\")","v":"N"},{"$f":"Cover_Sheet!B356","v":0},{"$f":"Cover_Sheet!C356","v":0},{"$f":"Cover_Sheet!D356","v":"00:00:00"},{"$f":"Cover_Sheet!E356","v":"00:00:00"},{"$f":"IF(Cover_Sheet!F356=\"\",\"\",Cover_Sheet!F356)","v":""},{"$f":"Cover_Sheet!G356","v":0},{"$f":"Cover_Sheet!H356","v":0}]
[{"$f":"IF(Cover_Sheet!A357=0,\"N\",\"Y\")","v":"N"},{"$f":"Cover_Sheet!B357","v":0},{"$f":"Cover_Sheet!C357","v":0},{"$f":"Cover_Sheet!D357","v":"00:00:00"},{"$f":"Cover_Sheet!E357","v":"00:00:00"},{"$f":"IF(Cover_Sheet!F357=\"\",\"\",Cover_Sheet!F357)","v":""},{"$f":"Cover_Sheet!G357","v":0},{"$f":"Cover_Sheet!H357","v":0}]
[{"$f":"IF(Cover_Sheet!A358=0,\"N\",\"Y\")","v":"N"},{"$f":"Cover_Sheet!B358","v":0},{"$f":"Cover_Sheet!C358","v":0},{"$f":"Cover_Sheet!D358","v":"00:00:00"},{"$f":"Cover_Sheet!E358","v":"00:00:00"},{"$f":"IF(Cover_Sheet!F358=\"\",\"\",Cover_Sheet!F358)","v":""},{"$f":"Cover_Sheet!G358","v":0},{"$f":"Cover_Sheet!H358","v":0}]
[{"$f":"IF(Cover_Sheet!A359=0,\"N\",\"Y\")","v":"N"},{"$f":"Cover_Sheet!B359","v":0},{"$f":"Cover_Sheet!C359","v":0},{"$f":"Cover_Sheet!D359","v":"00:00:00"},{"$f":"Cover_Sheet!E359","v":"00:00:00"},{"$f":"IF(Cover_Sheet!F359=\"\",\"\",Cover_Sheet!F359)","v":""},{"$f":"Cover_Sheet!G359","v":0},{"$f":"Cover_Sheet!H359","v":0}]
[{"$f":"IF(Cover_Sheet!A360=0,\"N\",\"Y\")","v":"N"},{"$f":"Cover_Sheet!B360","v":0},{"$f":"Cover_Sheet!C360","v":0},{"$f":"Cover_Sheet!D360","v":"00:00:00"},{"$f":"Cover_Sheet!E360","v":"00:00:00"},{"$f":"IF(Cover_Sheet!F360=\"\",\"\",Cover_Sheet!F360)","v":""},{"$f":"Cover_Sheet!G360","v":0},{"$f":"Cover_Sheet!H360","v":0}]
[{"$f":"IF(Cover_Sheet!A361=0,\"N\",\"Y\")","v":"N"},{"$f":"Cover_Sheet!B361","v":0},{"$f":"Cover_Sheet!C361","v":0},{"$f":"Cover_Sheet!D361","v":"00:00:00"},{"$f":"Cover_Sheet!E361","v":"00:00:00"},{"$f":"IF(Cover_Sheet!F361=\"\",\"\",Cover_Sheet!F361)","v":""},{"$f":"Cover_Sheet!G361","v":0},{"$f":"Cover_Sheet!H361","v":0}]
[{"$f":"IF(Cover_Sheet!A362=0,\"N\",\"Y\")","v":"N"},{"$f":"Cover_Sheet!B362","v":0},{"$f":"Cover_Sheet!C362","v":0},{"$f":"Cover_Sheet!D362","v":"00:00:00"},{"$f":"Cover_Sheet!E362","v":"00:00:00"},{"$f":"IF(Cover_Sheet!F362=\"\",\"\",Cover_Sheet!F362)","v":""},{"$f":"Cover_Sheet!G362","v":0},{"$f":"Cover_Sheet!H362","v":0}]
[{"$f":"IF(Cover_Sheet!A363=0,\"N\",\"Y\")","v":"N"},{"$f":"Cover_Sheet!B363","v":0},{"$f":"Cover_Sheet!C363","v":0},{"$f":"Cover_Sheet!D363","v":"00:00:00"},{"$f":"Cover_Sheet!E363","v":"00:00:00"},{"$f":"IF(Cover_Sheet!F363=\"\",\"\",Cover_Sheet!F363)","v":""},{"$f":"Cover_Sheet!G363","v":0},{"$f":"Cover_Sheet!H363","v":0}]
[{"$f":"IF(Cover_Sheet!A364=0,\"N\",\"Y\")","v":"N"},{"$f":"Cover_Sheet!B364","v":0},{"$f":"Cover_Sheet!C364","v":0},{"$f":"Cover_Sheet!D364","v":"00:00:00"},{"$f":"Cover_Sheet!E364","v":"00:00:00"},{"$f":"IF(Cover_Sheet!F364=\"\",\"\",Cover_Sheet!F364)","v":""},{"$f":"Cover_Sheet!G364","v":0},{"$f":"Cover_Sheet!H364","v":0}]
[{"$f":"IF(Cover_Sheet!A365=0,\"N\",\"Y\")","v":"N"},{"$f":"Cover_Sheet!B365","v":0},{"$f":"Cover_Sheet!C365","v":0},{"$f":"Cover_Sheet!D365","v":"00:00:00"},{"$f":"Cover_Sheet!E365","v":"00:00:00"},{"$f":"IF(Cover_Sheet!F365=\"\",\"\",Cover_Sheet!F365)","v":""},{"$f":"Cover_Sheet!G365","v":0},{"$f":"Cover_Sheet!H365","v":0}]
[{"$f":"IF(Cover_Sheet!A366=0,\"N\",\"Y\")","v":"N"},{"$f":"Cover_Sheet!B366","v":0},{"$f":"Cover_Sheet!C366","v":0},{"$f":"Cover_Sheet!D366","v":"00:00:00"},{"$f":"Cover_Sheet!E366","v":"00:00:00"},{"$f":"IF(Cover_Sheet!F366=\"\",\"\",Cover_Sheet!F366)","v":""},{"$f":"Cover_Sheet!G366","v":0},{"$f":"Cover_Sheet!H366","v":0}]
[{"$f":"IF(Cover_Sheet!A367=0,\"N\",\"Y\")","v":"N"},{"$f":"Cover_Sheet!B367","v":0},{"$f":"Cover_Sheet!C367","v":0},{"$f":"Cover_Sheet!D367","v":"00:00:00"},{"$f":"Cover_Sheet!E367","v":"00:00:00"},{"$f":"IF(Cover_Sheet!F367=\"\",\"\",Cover_Sheet!F367)","v":""},{"$f":"Cover_Sheet!G367","v":0},{"$f":"Cover_Sheet!H367","v":0}]
[{"$f":"IF(Cover_Sheet!A368=0,\"N\",\"Y\")","v":"N"},{"$f":"Cover_Sheet!B368","v":0},{"$f":"Cover_Sheet!C368","v":0},{"$f":"Cover_Sheet!D368","v":"00:00:00"},{"$f":"Cover_Sheet!E368","v":"00:00:00"},{"$f":"IF(Cover_Sheet!F368=\"\",\"\",Cover_Sheet!F368)","v":""},{"$f":"Cover_Sheet!G368","v":0},{"$f":"Cover_Sheet!H368","v":0}]
[{"$f":"IF(Cover_Sheet!A369=0,\"N\",\"Y\")","v":"N"},{"$f":"Cover_Sheet!B369","v":0},{"$f":"Cover_Sheet!C369","v":0},{"$f":"Cover_Sheet!D369","v":"00:00:00"},{"$f":"Cover_Sheet!E369","v":"00:00:00"},{"$f":"IF(Cover_Sheet!F369=\"\",\"\",Cover_Sheet!F369)","v":""},{"$f":"Cover_Sheet!G369","v":0},{"$f":"Cover_Sheet!H369","v":0}]
[{"$f":"IF(Cover_Sheet!A370=0,\"N\",\"Y\")","v":"N"},{"$f":"Cover_Sheet!B370","v":0},{"$f":"Cover_Sheet!C370","v":0},{"$f":"Cover_Sheet!D370","v":"00:00:00"},{"$f":"Cover_Sheet!E370","v":"00:00:00"},{"$f":"IF(Cover_Sheet!F370=\"\",\"\",Cover_Sheet!F370)","v":""},{"$f":"Cover_Sheet!G370","v":0},{"$f":"Cover_Sheet!H370","v":0}]
[{"$f":"IF(Cover_Sheet!A371=0,\"N\",\"Y\")","v":"N"},{"$f":"Cover_Sheet!B371","v":0},{"$f":"Cover_Sheet!C371","v":0},{"$f":"Cover_Sheet!D371","v":"00:00:00"},{"$f":"Cover_Sheet!E371","v":"00:00:00"},{"$f":"IF(Cover_Sheet!F371=\"\",\"\",Cover_Sheet!F371)","v":""},{"$f":"Cover_Sheet!G371","v":0},{"$f":"Cover_Sheet!H371","v":0}]
[{"$f":"IF(Cover_Sheet!A372=0,\"N\",\"Y\")","v":"N"},{"$f":"Cover_Sheet!B372","v":0},{"$f":"Cover_Sheet!C372","v":0},{"$f":"Cover_Sheet!D372","v":"00:00:00"},{"$f":"Cover_Sheet!E372","v":"00:00:00"},{"$f":"IF(Cover_Sheet!F372=\"\",\"\",Cover_Sheet!F372)","v":""},{"$f":"Cover_Sheet!G372","v":0},{"$f":"Cover_Sheet!H372","v":0}]
[{"$f":"IF(Cover_Sheet!A373=0,\"N\",\"Y\")","v":"N"},{"$f":"Cover_Sheet!B373","v":0},{"$f":"Cover_Sheet!C373","v":0},{"$f":"Cover_Sheet!D373","v":"00:00:00"},{"$f":"Cover_Sheet!E373","v":"00:00:00"},{"$f":"IF(Cover_Sheet!F373=\"\",\"\",Cover_Sheet!F373)","v":""},{"$f":"Cover_Sheet!G373","v":0},{"$f":"Cover_Sheet!H373","v":0}]
[{"$f":"IF(Cover_Sheet!A374=0,\"N\",\"Y\")","v":"N"},{"$f":"Cover_Sheet!B374","v":0},{"$f":"Cover_Sheet!C374","v":0},{"$f":"Cover_Sheet!D374","v":"00:00:00"},{"$f":"Cover_Sheet!E374","v":"00:00:00"},{"$f":"IF(Cover_Sheet!F374=\"\",\"\",Cover_Sheet!F374)","v":""},{"$f":"Cover_Sheet!G374","v":0},{"$f":"Cover_Sheet!H374","v":0}]
[{"$f":"IF(Cover_Sheet!A375=0,\"N\",\"Y\")","v":"N"},{"$f":"Cover_Sheet!B375","v":0},{"$f":"Cover_Sheet!C375","v":0},{"$f":"Cover_Sheet!D375","v":"00:00:00"},{"$f":"Cover_Sheet!E375","v":"00:00:00"},{"$f":"IF(Cover_Sheet!F375=\"\",\"\",Cover_Sheet!F375)","v":""},{"$f":"Cover_Sheet!G375","v":0},{"$f":"Cover_Sheet!H375","v":0}]
[{"$f":"IF(Cover_Sheet!A376=0,\"N\",\"Y\")","v":"N"},{"$f":"Cover_Sheet!B376","v":0},{"$f":"Cover_Sheet!C376","v":0},{"$f":"Cover_Sheet!D376","v":"00:00:00"},{"$f":"Cover_Sheet!E376","v":"00:00:00"},{"$f":"IF(Cover_Sheet!F376=\"\",\"\",Cover_Sheet!F376)","v":""},{"$f":"Cover_Sheet!G376","v":0},{"$f":"Cover_Sheet!H376","v":0}]
[{"$f":"IF(Cover_Sheet!A377=0,\"N\",\"Y\")","v":"N"},{"$f":"Cover_Sheet!B377","v":0},{"$f":"Cover_Sheet!C377","v":0},{"$f":"Cover_Sheet!D377","v":"00:00:00"},{"$f":"Cover_Sheet!E377","v":"00:00:00"},{"$f":"IF(Cover_Sheet!F377=\"\",\"\",Cover_Sheet!F377)","v":""},{"$f":"Cover_Sheet!G377","v":0},{"$f":"Cover_Sheet!H377","v":0}]
[{"$f":"IF(Cover_Sheet!A378=0,\"N\",\"Y\")","v":"N"},{"$f":"Cover_Sheet!B378","v":0},{"$f":"Cover_Sheet!C378","v":0},{"$f":"Cover_Sheet!D378","v":"00:00:00"},{"$f":"Cover_Sheet!E378","v":"00:00:00"},{"$f":"IF(Cover_Sheet!F378=\"\",\"\",Cover_Sheet!F378)","v":""},{"$f":"Cover_Sheet!G378","v":0},{"$f":"Cover_Sheet!H378","v":0}]
[{"$f":"IF(Cover_Sheet!A379=0,\"N\",\"Y\")","v":"N"},{"$f":"Cover_Sheet!B379","v":0},{"$f":"Cover_Sheet!C379","v":0},{"$f":"Cover_Sheet!D379","v":"00:00:00"},{"$f":"Cover_Sheet!E379","v":"00:00:00"},{"$f":"IF(Cover_Sheet!F379=\"\",\"\",Cover_Sheet!F379)","v":""},{"$f":"Cover_Sheet!G379","v":0},{"$f":"Cover_Sheet!H379","v":0}]
[{"$f":"IF(Cover_Sheet!A380=0,\"N\",\"Y\")","v":"N"},{"$f":"Cover_Sheet!B380","v":0},{"$f":"Cover_Sheet!C380","v":0},{"$f":"Cover_Sheet!D380","v":"00:00:00"},{"$f":"Cover_Sheet!E380","v":"00:00:00"},{"$f":"IF(Cover_Sheet!F380=\"\",\"\",Cover_Sheet!F380)","v":""},{"$f":"Cover_Sheet!G380","v":0},{"$f":"Cover_Sheet!H380","v":0}]
[{"$f":"IF(Cover_Sheet!A381=0,\"N\",\"Y\")","v":"N"},{"$f":"Cover_Sheet!B381","v":0},{"$f":"Cover_Sheet!C381","v":0},{"$f":"Cover_Sheet!D381","v":"00:00:00"},{"$f":"Cover_Sheet!E381","v":"00:00:00"},{"$f":"IF(Cover_Sheet!F381=\"\",\"\",Cover_Sheet!F381)","v":""},{"$f":"Cover_Sheet!G381","v":0},{"$f":"Cover_Sheet!H381","v":0}]
[{"$f":"IF(Cover_Sheet!A382=0,\"N\",\"Y\")","v":"N"},{"$f":"Cover_Sheet!B382","v":0},{"$f":"Cover_Sheet!C382","v":0},{"$f":"Cover_Sheet!D382","v":"00:00:00"},{"$f":"Cover_Sheet!E382","v":"00:00:00"},{"$f":"IF(Cover_Sheet!F382=\"\",\"\",Cover_Sheet!F382)","v":""},{"$f":"Cover_Sheet!G382","v":0},{"$f":"Cover_Sheet!H382","v":0}]
[{"$f":"IF(Cover_Sheet!A383=0,\"N\",\"Y\")","v":"N"},{"$f":"Cover_Sheet!B383","v":0},{"$f":"Cover_Sheet!C383","v":0},{"$f":"Cover_Sheet!D383","v":"00:00:00"},{"$f":"Cover_Sheet!E383","v":"00:00:00"},{"$f":"IF(Cover_Sheet!F383=\"\",\"\",Cover_Sheet!F383)","v":""},{"$f":"Cover_Sheet!G383","v":0},{"$f":"Cover_Sheet!H383","v":0}]
[{"$f":"IF(Cover_Sheet!A384=0,\"N\",\"Y\")","v":"N"},{"$f":"Cover_Sheet!B384","v":0},{"$f":"Cover_Sheet!C384","v":0},{"$f":"Cover_Sheet!D384","v":"00:00:00"},{"$f":"Cover_Sheet!E384","v":"00:00:00"},{"$f":"IF(Cover_Sheet!F384=\"\",\"\",Cover_Sheet!F384)","v":""},{"$f":"Cover_Sheet!G384","v":0},{"$f":"Cover_Sheet!H384","v":0}]
[{"$f":"IF(Cover_Sheet!A385=0,\"N\",\"Y\")","v":"N"},{"$f":"Cover_Sheet!B385","v":0},{"$f":"Cover_Sheet!C385","v":0},{"$f":"Cover_Sheet!D385","v":"00:00:00"},{"$f":"Cover_Sheet!E385","v":"00:00:00"},{"$f":"IF(Cover_Sheet!F385=\"\",\"\",Cover_Sheet!F385)","v":""},{"$f":"Cover_Sheet!G385","v":0},{"$f":"Cover_Sheet!H385","v":0}]
[{"$f":"IF(Cover_Sheet!A386=0,\"N\",\"Y\")","v":"N"},{"$f":"Cover_Sheet!B386","v":0},{"$f":"Cover_Sheet!C386","v":0},{"$f":"Cover_Sheet!D386","v":"00:00:00"},{"$f":"Cover_Sheet!E386","v":"00:00:00"},{"$f":"IF(Cover_Sheet!F386=\"\",\"\",Cover_Sheet!F386)","v":""},{"$f":"Cover_Sheet!G386","v":0},{"$f":"Cover_Sheet!H386","v":0}]
[{"$f":"IF(Cover_Sheet!A387=0,\"N\",\"Y\")","v":"N"},{"$f":"Cover_Sheet!B387","v":0},{"$f":"Cover_Sheet!C387","v":0},{"$f":"Cover_Sheet!D387","v":"00:00:00"},{"$f":"Cover_Sheet!E387","v":"00:00:00"},{"$f":"IF(Cover_Sheet!F387=\"\",\"\",Cover_Sheet!F387)","v":""},{"$f":"Cover_Sheet!G387","v":0},{"$f":"Cover_Sheet!H387","v":0}]
[{"$f":"IF(Cover_Sheet!A388=0,\"N\",\"Y\")","v":"N"},{"$f":"Cover_Sheet!B388","v":0},{"$f":"Cover_Sheet!C388","v":0},{"$f":"Cover_Sheet!D388","v":"00:00:00"},{"$f":"Cover_Sheet!E388","v":"00:00:00"},{"$f":"IF(Cover_Sheet!F388=\"\",\"\",Cover_Sheet!F388)","v":""},{"$f":"Cover_Sheet!G388","v":0},{"$f":"Cover_Sheet!H388","v":0}]
[{"$f":"IF(Cover_Sheet!A389=0,\"N\",\"Y\")","v":"N"},{"$f":"Cover_Sheet!B389","v":0},{"$f":"Cover_Sheet!C389","v":0},{"$f":"Cover_Sheet!D389","v":"00:00:00"},{"$f":"Cover_Sheet!E389","v":"00:00:00"},{"$f":"IF(Cover_Sheet!F389=\"\",\"\",Cover_Sheet!F389)","v":""},{"$f":"Cover_Sheet!G389","v":0},{"$f":"Cover_Sheet!H389","v":0}]
[{"$f":"IF(Cover_Sheet!A390=0,\"N\",\"Y\")","v":"N"},{"$f":"Cover_Sheet!B390","v":0},{"$f":"Cover_Sheet!C390","v":0},{"$f":"Cover_Sheet!D390","v":"00:00:00"},{"$f":"Cover_Sheet!E390","v":"00:00:00"},{"$f":"IF(Cover_Sheet!F390=\"\",\"\",Cover_Sheet!F390)","v":""},{"$f":"Cover_Sheet!G390","v":0},{"$f":"Cover_Sheet!H390","v":0}]
[{"$f":"IF(Cover_Sheet!A391=0,\"N\",\"Y\")","v":"N"},{"$f":"Cover_Sheet!B391","v":0},{"$f":"Cover_Sheet!C391","v":0},{"$f":"Cover_Sheet!D391","v":"00:00:00"},{"$f":"Cover_Sheet!E391","v":"00:00:00"},{"$f":"IF(Cover_Sheet!F391=\"\",\"\",Cover_Sheet!F391)","v":""},{"$f":"Cover_Sheet!G391","v":0},{"$f":"Cover_Sheet!H391","v":0}]
[{"$f":"IF(Cover_Sheet!A392=0,\"N\",\"Y\")","v":"N"},{"$f":"Cover_Sheet!B392","v":0},{"$f":"Cover_Sheet!C392","v":0},{"$f":"Cover_Sheet!D392","v":"00:00:00"},{"$f":"Cover_Sheet!E392","v":"00:00:00"},{"$f":"IF(Cover_Sheet!F392=\"\",\"\",Cover_Sheet!F392)","v":""},{"$f":"Cover_Sheet!G392","v":0},{"$f":"Cover_Sheet!H392","v":0}]
[{"$f":"IF(Cover_Sheet!A393=0,\"N\",\"Y\")","v":"N"},{"$f":"Cover_Sheet!B393","v":0},{"$f":"Cover_Sheet!C393","v":0},{"$f":"Cover_Sheet!D393","v":"00:00:00"},{"$f":"Cover_Sheet!E393","v":"00:00:00"},{"$f":"IF(Cover_Sheet!F393=\"\",\"\",Cover_Sheet!F393)","v":""},{"$f":"Cover_Sheet!G393","v":0},{"$f":"Cover_Sheet!H393","v":0}]
[{"$f":"IF(Cover_Sheet!A394=0,\"N\",\"Y\")","v":"N"},{"$f":"Cover_Sheet!B394","v":0},{"$f":"Cover_Sheet!C394","v":0},{"$f":"Cover_Sheet!D394","v":"00:00:00"},{"$f":"Cover_Sheet!E394","v":"00:00:00"},{"$f":"IF(Cover_Sheet!F394=\"\",\"\",Cover_Sheet!F394)","v":""},{"$f":"Cover_Sheet!G394","v":0},{"$f":"Cover_Sheet!H394","v":0}]
[{"$f":"IF(Cover_Sheet!A395=0,\"N\",\"Y\")","v":"N"},{"$f":"Cover_Sheet!B395","v":0},{"$f":"Cover_Sheet!C395","v":0},{"$f":"Cover_Sheet!D395","v":"00:00:00"},{"$f":"Cover_Sheet!E395","v":"00:00:00"},{"$f":"IF(Cover_Sheet!F395=\"\",\"\",Cover_Sheet!F395)","v":""},{"$f":"Cover_Sheet!G395","v":0},{"$f":"Cover_Sheet!H395","v":0}]
[{"$f":"IF(Cover_Sheet!A396=0,\"N\",\"Y\")","v":"N"},{"$f":"Cover_Sheet!B396","v":0},{"$f":"Cover_Sheet!C396","v":0},{"$f":"Cover_Sheet!D396","v":"00:00:00"},{"$f":"Cover_Sheet!E396","v":"00:00:00"},{"$f":"IF(Cover_Sheet!F396=\"\",\"\",Cover_Sheet!F396)","v":""},{"$f":"Cover_Sheet!G396","v":0},{"$f":"Cover_Sheet!H396","v":0}]
[{"$f":"IF(Cover_Sheet!A397=0,\"N\",\"Y\")","v":"N"},{"$f":"Cover_Sheet!B397","v":0},{"$f":"Cover_Sheet!C397","v":0},{"$f":"Cover_Sheet!D397","v":"00:00:00"},{"$f":"Cover_Sheet!E397","v":"00:00:00"},{"$f":"IF(Cover_Sheet!F397=\"\",\"\",Cover_Sheet!F397)","v":""},{"$f":"Cover_Sheet!G397","v":0},{"$f":"Cover_Sheet!H397","v":0}]
[{"$f":"IF(Cover_Sheet!A398=0,\"N\",\"Y\")","v":"N"},{"$f":"Cover_Sheet!B398","v":0},{"$f":"Cover_Sheet!C398","v":0},{"$f":"Cover_Sheet!D398","v":"00:00:00"},{"$f":"Cover_Sheet!E398","v":"00:00:00"},{"$f":"IF(Cover_Sheet!F398=\"\",\"\",Cover_Sheet!F398)","v":""},{"$f":"Cover_Sheet!G398","v":0},{"$f":"Cover_Sheet!H398","v":0}]
[{"$f":"IF(Cover_Sheet!A399=0,\"N\",\"Y\")","v":"N"},{"$f":"Cover_Sheet!B399","v":0},{"$f":"Cover_Sheet!C399","v":0},{"$f":"Cover_Sheet!D399","v":"00:00:00"},{"$f":"Cover_Sheet!E399","v":"00:00:00"},{"$f":"IF(Cover_Sheet!F399=\"\",\"\",Cover_Sheet!F399)","v":""},{"$f":"Cover_Sheet!G399","v":0},{"$f":"Cover_Sheet!H399","v":0}]
[{"$f":"IF(Cover_Sheet!A400=0,\"N\",\"Y\")","v":"N"},{"$f":"Cover_Sheet!B400","v":0},{"$f":"Cover_Sheet!C400","v":0},{"$f":"Cover_Sheet!D400","v":"00:00:00"},{"$f":"Cover_Sheet!E400","v":"00:00:00"},{"$f":"IF(Cover_Sheet!F400=\"\",\"\",Cover_Sheet!F400)","v":""},{"$f":"Cover_Sheet!G400","v":0},{"$f":"Cover_Sheet!H400","v":0}]
[{"$f":"IF(Cover_Sheet!A401=0,\"N\",\"Y\")","v":"N"},{"$f":"Cover_Sheet!B401","v":0},{"$f":"Cover_Sheet!C401","v":0},{"$f":"Cover_Sheet!D401","v":"00:00:00"},{"$f":"Cover_Sheet!E401","v":"00:00:00"},{"$f":"IF(Cover_Sheet!F401=\"\",\"\",Cover_Sheet!F401)","v":""},{"$f":"Cover_Sheet!G401","v":0},{"$f":"Cover_Sheet!H401","v":0}]
[{"$f":"IF(Cover_Sheet!A402=0,\"N\",\"Y\")","v":"N"},{"$f":"Cover_Sheet!B402","v":0},{"$f":"Cover_Sheet!C402","v":0},{"$f":"Cover_Sheet!D402","v":"00:00:00"},{"$f":"Cover_Sheet!E402","v":"00:00:00"},{"$f":"IF(Cover_Sheet!F402=\"\",\"\",Cover_Sheet!F402)","v":""},{"$f":"Cover_Sheet!G402","v":0},{"$f":"Cover_Sheet!H402","v":0}]
[{"$f":"IF(Cover_Sheet!A403=0,\"N\",\"Y\")","v":"N"},{"$f":"Cover_Sheet!B403","v":0},{"$f":"Cover_Sheet!C403","v":0},{"$f":"Cover_Sheet!D403","v":"00:00:00"},{"$f":"Cover_Sheet!E403","v":"00:00:00"},{"$f":"IF(Cover_Sheet!F403=\"\",\"\",Cover_Sheet!F403)","v":""},{"$f":"Cover_Sheet!G403","v":0},{"$f":"Cover_Sheet!H403","v":0}]
[{"$f":"IF(Cover_Sheet!A404=0,\"N\",\"Y\")","v":"N"},{"$f":"Cover_Sheet!B404","v":0},{"$f":"Cover_Sheet!C404","v":0},{"$f":"Cover_Sheet!D404","v":"00:00:00"},{"$f":"Cover_Sheet!E404","v":"00:00:00"},{"$f":"IF(Cover_Sheet!F404=\"\",\"\",Cover_Sheet!F404)","v":""},{"$f":"Cover_Sheet!G404","v":0},{"$f":"Cover_Sheet!H404","v":0}]
[{"$f":"IF(Cover_Sheet!A405=0,\"N\",\"Y\")","v":"N"},{"$f":"Cover_Sheet!B405","v":0},{"$f":"Cover_Sheet!C405","v":0},{"$f":"Cover_Sheet!D405","v":"00:00:00"},{"$f":"Cover_Sheet!E405","v":"00:00:00"},{"$f":"IF(Cover_Sheet!F405=\"\",\"\",Cover_Sheet!F405)","v":""},{"$f":"Cover_Sheet!G405","v":0},{"$f":"Cover_Sheet!H405","v":0}]
[{"$f":"IF(Cover_Sheet!A406=0,\"N\",\"Y\")","v":"N"},{"$f":"Cover_Sheet!B406","v":0},{"$f":"Cover_Sheet!C406","v":0},{"$f":"Cover_Sheet!D406","v":"00:00:00"},{"$f":"Cover_Sheet!E406","v":"00:00:00"},{"$f":"IF(Cover_Sheet!F406=\"\",\"\",Cover_Sheet!F406)","v":""},{"$f":"Cover_Sheet!G406","v":0},{"$f":"Cover_Sheet!H406","v":0}]
[{"$f":"IF(Cover_Sheet!A407=0,\"N\",\"Y\")","v":"N"},{"$f":"Cover_Sheet!B407","v":0},{"$f":"Cover_Sheet!C407","v":0},{"$f":"Cover_Sheet!D407","v":"00:00:00"},{"$f":"Cover_Sheet!E407","v":"00:00:00"},{"$f":"IF(Cover_Sheet!F407=\"\",\"\",Cover_Sheet!F407)","v":""},{"$f":"Cover_Sheet!G407","v":0},{"$f":"Cover_Sheet!H407","v":0}]
[{"$f":"IF(Cover_Sheet!A408=0,\"N\",\"Y\")","v":"N"},{"$f":"Cover_Sheet!B408","v":0},{"$f":"Cover_Sheet!C408","v":0},{"$f":"Cover_Sheet!D408","v":"00:00:00"},{"$f":"Cover_Sheet!E408","v":"00:00:00"},{"$f":"IF(Cover_Sheet!F408=\"\",\"\",Cover_Sheet!F408)","v":""},{"$f":"Cover_Sheet!G408","v":0},{"$f":"Cover_Sheet!H408","v":0}]
[{"$f":"IF(Cover_Sheet!A409=0,\"N\",\"Y\")","v":"N"},{"$f":"Cover_Sheet!B409","v":0},{"$f":"Cover_Sheet!C409","v":0},{"$f":"Cover_Sheet!D409","v":"00:00:00"},{"$f":"Cover_Sheet!E409","v":"00:00:00"},{"$f":"IF(Cover_Sheet!F409=\"\",\"\",Cover_Sheet!F409)","v":""},{"$f":"Cover_Sheet!G409","v":0},{"$f":"Cover_Sheet!H409","v":0}]
[{"$f":"IF(Cover_Sheet!A410=0,\"N\",\"Y\")","v":"N"},{"$f":"Cover_Sheet!B410","v":0},{"$f":"Cover_Sheet!C410","v":0},{"$f":"Cover_Sheet!D410","v":"00:00:00"},{"$f":"Cover_Sheet!E410","v":"00:00:00"},{"$f":"IF(Cover_Sheet!F410=\"\",\"\",Cover_Sheet!F410)","v":""},{"$f":"Cover_Sheet!G410","v":0},{"$f":"Cover_Sheet!H410","v":0}]
[{"$f":"IF(Cover_Sheet!A411=0,\"N\",\"Y\")","v":"N"},{"$f":"Cover_Sheet!B411","v":0},{"$f":"Cover_Sheet!C411","v":0},{"$f":"Cover_Sheet!D411","v":"00:00:00"},{"$f":"Cover_Sheet!E411","v":"00:00:00"},{"$f":"IF(Cover_Sheet!F411=\"\",\"\",Cover_Sheet!F411)","v":""},{"$f":"Cover_Sheet!G411","v":0},{"$f":"Cover_Sheet!H411","v":0}]
[{"$f":"IF(Cover_Sheet!A412=0,\"N\",\"Y\")","v":"N"},{"$f":"Cover_Sheet!B412","v":0},{"$f":"Cover_Sheet!C412","v":0},{"$f":"Cover_Sheet!D412","v":"00:00:00"},{"$f":"Cover_Sheet!E412","v":"00:00:00"},{"$f":"IF(Cover_Sheet!F412=\"\",\"\",Cover_Sheet!F412)","v":""},{"$f":"Cover_Sheet!G412","v":0},{"$f":"Cover_Sheet!H412","v":0}]
[{"$f":"IF(Cover_Sheet!A413=0,\"N\",\"Y\")","v":"N"},{"$f":"Cover_Sheet!B413","v":0},{"$f":"Cover_Sheet!C413","v":0},{"$f":"Cover_Sheet!D413","v":"00:00:00"},{"$f":"Cover_Sheet!E413","v":"00:00:00"},{"$f":"IF(Cover_Sheet!F413=\"\",\"\",Cover_Sheet!F413)","v":""},{"$f":"Cover_Sheet!G413","v":0},{"$f":"Cover_Sheet!H413","v":0}]
[{"$f":"IF(Cover_Sheet!A414=0,\"N\",\"Y\")","v":"N"},{"$f":"Cover_Sheet!B414","v":0},{"$f":"Cover_Sheet!C414","v":0},{"$f":"Cover_Sheet!D414","v":"00:00:00"},{"$f":"Cover_Sheet!E414","v":"00:00:00"},{"$f":"IF(Cover_Sheet!F414=\"\",\"\",Cover_Sheet!F414)","v":""},{"$f":"Cover_Sheet!G414","v":0},{"$f":"Cover_Sheet!H414","v":0}]
[{"$f":"IF(Cover_Sheet!A415=0,\"N\",\"Y\")","v":"N"},{"$f":"Cover_Sheet!B415","v":0},{"$f":"Cover_Sheet!C415","v":0},{"$f":"Cover_Sheet!D415","v":"00:00:00"},{"$f":"Cover_Sheet!E415","v":"00:00:00"},{"$f":"IF(Cover_Sheet!F415=\"\",\"\",Cover_Sheet!F415)","v":""},{"$f":"Cover_Sheet!G415","v":0},{"$f":"Cover_Sheet!H415","v":0}]
[{"$f":"IF(Cover_Sheet!A416=0,\"N\",\"Y\")","v":"N"},{"$f":"Cover_Sheet!B416","v":0},{"$f":"Cover_Sheet!C416","v":0},{"$f":"Cover_Sheet!D416","v":"00:00:00"},{"$f":"Cover_Sheet!E416","v":"00:00:00"},{"$f":"IF(Cover_Sheet!F416=\"\",\"\",Cover_Sheet!F416)","v":""},{"$f":"Cover_Sheet!G416","v":0},{"$f":"Cover_Sheet!H416","v":0}]
[{"$f":"IF(Cover_Sheet!A417=0,\"N\",\"Y\")","v":"N"},{"$f":"Cover_Sheet!B417","v":0},{"$f":"Cover_Sheet!C417","v":0},{"$f":"Cover_Sheet!D417","v":"00:00:00"},{"$f":"Cover_Sheet!E417","v":"00:00:00"},{"$f":"IF(Cover_Sheet!F417=\"\",\"\",Cover_Sheet!F417)","v":""},{"$f":"Cover_Sheet!G417","v":0},{"$f":"Cover_Sheet!H417","v":0}]
[{"$f":"IF(Cover_Sheet!A418=0,\"N\",\"Y\")","v":"N"},{"$f":"Cover_Sheet!B418","v":0},{"$f":"Cover_Sheet!C418","v":0},{"$f":"Cover_Sheet!D418","v":"00:00:00"},{"$f":"Cover_Sheet!E418","v":"00:00:00"},{"$f":"IF(Cover_Sheet!F418=\"\",\"\",Cover_Sheet!F418)","v":""},{"$f":"Cover_Sheet!G418","v":0},{"$f":"Cover_Sheet!H418","v":0}]
[{"$f":"IF(Cover_Sheet!A419=0,\"N\",\"Y\")","v":"N"},{"$f":"Cover_Sheet!B419","v":0},{"$f":"Cover_Sheet!C419","v":0},{"$f":"Cover_Sheet!D419","v":"00:00:00"},{"$f":"Cover_Sheet!E419","v":"00:00:00"},{"$f":"IF(Cover_Sheet!F419=\"\",\"\",Cover_Sheet!F419)","v":""},{"$f":"Cover_Sheet!G419","v":0},{"$f":"Cover_Sheet!H419","v":0}]
[{"$f":"IF(Cover_Sheet!A420=0,\"N\",\"Y\")","v":"N"},{"$f":"Cover_Sheet!B420","v":0},{"$f":"Cover_Sheet!C420","v":0},{"$f":"Cover_Sheet!D420","v":"00:00:00"},{"$f":"Cover_Sheet!E420","v":"00:00:00"},{"$f":"IF(Cover_Sheet!F420=\"\",\"\",Cover_Sheet!F420)","v":""},{"$f":"Cover_Sheet!G420","v":0},{"$f":"Cover_Sheet!H420","v":0}]
[{"$f":"IF(Cover_Sheet!A421=0,\"N\",\"Y\")","v":"N"},{"$f":"Cover_Sheet!B421","v":0},{"$f":"Cover_Sheet!C421","v":0},{"$f":"Cover_Sheet!D421","v":"00:00:00"},{"$f":"Cover_Sheet!E421","v":"00:00:00"},{"$f":"IF(Cover_Sheet!F421=\"\",\"\",Cover_Sheet!F421)","v":""},{"$f":"Cover_Sheet!G421","v":0},{"$f":"Cover_Sheet!H421","v":0}]
[{"$f":"IF(Cover_Sheet!A422=0,\"N\",\"Y\")","v":"N"},{"$f":"Cover_Sheet!B422","v":0},{"$f":"Cover_Sheet!C422","v":0},{"$f":"Cover_Sheet!D422","v":"00:00:00"},{"$f":"Cover_Sheet!E422","v":"00:00:00"},{"$f":"IF(Cover_Sheet!F422=\"\",\"\",Cover_Sheet!F422)","v":""},{"$f":"Cover_Sheet!G422","v":0},{"$f":"Cover_Sheet!H422","v":0}]
[{"$f":"IF(Cover_Sheet!A423=0,\"N\",\"Y\")","v":"N"},{"$f":"Cover_Sheet!B423","v":0},{"$f":"Cover_Sheet!C423","v":0},{"$f":"Cover_Sheet!D423","v":"00:00:00"},{"$f":"Cover_Sheet!E423","v":"00:00:00"},{"$f":"IF(Cover_Sheet!F423=\"\",\"\",Cover_Sheet!F423)","v":""},{"$f":"Cover_Sheet!G423","v":0},{"$f":"Cover_Sheet!H423","v":0}]
[{"$f":"IF(Cover_Sheet!A424=0,\"N\",\"Y\")","v":"N"},{"$f":"Cover_Sheet!B424","v":0},{"$f":"Cover_Sheet!C424","v":0},{"$f":"Cover_Sheet!D424","v":"00:00:00"},{"$f":"Cover_Sheet!E424","v":"00:00:00"},{"$f":"IF(Cover_Sheet!F424=\"\",\"\",Cover_Sheet!F424)","v":""},{"$f":"Cover_Sheet!G424","v":0},{"$f":"Cover_Sheet!H424","v":0}]
[{"$f":"IF(Cover_Sheet!A425=0,\"N\",\"Y\")","v":"N"},{"$f":"Cover_Sheet!B425","v":0},{"$f":"Cover_Sheet!C425","v":0},{"$f":"Cover_Sheet!D425","v":"00:00:00"},{"$f":"Cover_Sheet!E425","v":"00:00:00"},{"$f":"IF(Cover_Sheet!F425=\"\",\"\",Cover_Sheet!F425)","v":""},{"$f":"Cover_Sheet!G425","v":0},{"$f":"Cover_Sheet!H425","v":0}]
[{"$f":"IF(Cover_Sheet!A426=0,\"N\",\"Y\")","v":"N"},{"$f":"Cover_Sheet!B426","v":0},{"$f":"Cover_Sheet!C426","v":0},{"$f":"Cover_Sheet!D426","v":"00:00:00"},{"$f":"Cover_Sheet!E426","v":"00:00:00"},{"$f":"IF(Cover_Sheet!F426=\"\",\"\",Cover_Sheet!F426)","v":""},{"$f":"Cover_Sheet!G426","v":0},{"$f":"Cover_Sheet!H426","v":0}]
[{"$f":"IF(Cover_Sheet!A427=0,\"N\",\"Y\")","v":"N"},{"$f":"Cover_Sheet!B427","v":0},{"$f":"Cover_Sheet!C427","v":0},{"$f":"Cover_Sheet!D427","v":"00:00:00"},{"$f":"Cover_Sheet!E427","v":"00:00:00"},{"$f":"IF(Cover_Sheet!F427=\"\",\"\",Cover_Sheet!F427)","v":""},{"$f":"Cover_Sheet!G427","v":0},{"$f":"Cover_Sheet!H427","v":0}]
[{"$f":"IF(Cover_Sheet!A428=0,\"N\",\"Y\")","v":"N"},{"$f":"Cover_Sheet!B428","v":0},{"$f":"Cover_Sheet!C428","v":0},{"$f":"Cover_Sheet!D428","v":"00:00:00"},{"$f":"Cover_Sheet!E428","v":"00:00:00"},{"$f":"IF(Cover_Sheet!F428=\"\",\"\",Cover_Sheet!F428)","v":""},{"$f":"Cover_Sheet!G428","v":0},{"$f":"Cover_Sheet!H428","v":0}]
[{"$f":"IF(Cover_Sheet!A429=0,\"N\",\"Y\")","v":"N"},{"$f":"Cover_Sheet!B429","v":0},{"$f":"Cover_Sheet!C429","v":0},{"$f":"Cover_Sheet!D429","v":"00:00:00"},{"$f":"Cover_Sheet!E429","v":"00:00:00"},{"$f":"IF(Cover_Sheet!F429=\"\",\"\",Cover_Sheet!F429)","v":""},{"$f":"Cover_Sheet!G429","v":0},{"$f":"Cover_Sheet!H429","v":0}]
[{"$f":"IF(Cover_Sheet!A430=0,\"N\",\"Y\")","v":"N"},{"$f":"Cover_Sheet!B430","v":0},{"$f":"Cover_Sheet!C430","v":0},{"$f":"Cover_Sheet!D430","v":"00:00:00"},{"$f":"Cover_Sheet!E430","v":"00:00:00"},{"$f":"IF(Cover_Sheet!F430=\"\",\"\",Cover_Sheet!F430)","v":""},{"$f":"Cover_Sheet!G430","v":0},{"$f":"Cover_Sheet!H430","v":0}]
[{"$f":"IF(Cover_Sheet!A431=0,\"N\",\"Y\")","v":"N"},{"$f":"Cover_Sheet!B431","v":0},{"$f":"Cover_Sheet!C431","v":0},{"$f":"Cover_Sheet!D431","v":"00:00:00"},{"$f":"Cover_Sheet!E431","v":"00:00:00"},{"$f":"IF(Cover_Sheet!F431=\"\",\"\",Cover_Sheet!F431)","v":""},{"$f":"Cover_Sheet!G431","v":0},{"$f":"Cover_Sheet!H431","v":0}]
[{"$f":"IF(Cover_Sheet!A432=0,\"N\",\"Y\")","v":"N"},{"$f":"Cover_Sheet!B432","v":0},{"$f":"Cover_Sheet!C432","v":0},{"$f":"Cover_Sheet!D432","v":"00:00:00"},{"$f":"Cover_Sheet!E432","v":"00:00:00"},{"$f":"IF(Cover_Sheet!F432=\"\",\"\",Cover_Sheet!F432)","v":""},{"$f":"Cover_Sheet!G432","v":0},{"$f":"Cover_Sheet!H432","v":0}]
[{"$f":"IF(Cover_Sheet!A433=0,\"N\",\"Y\")","v":"N"},{"$f":"Cover_Sheet!B433","v":0},{"$f":"Cover_Sheet!C433","v":0},{"$f":"Cover_Sheet!D433","v":"00:00:00"},{"$f":"Cover_Sheet!E433","v":"00:00:00"},{"$f":"IF(Cover_Sheet!F433=\"\",\"\",Cover_Sheet!F433)","v":""},{"$f":"Cover_Sheet!G433","v":0},{"$f":"Cover_Sheet!H433","v":0}]
[{"$f":"IF(Cover_Sheet!A434=0,\"N\",\"Y\")","v":"N"},{"$f":"Cover_Sheet!B434","v":0},{"$f":"Cover_Sheet!C434","v":0},{"$f":"Cover_Sheet!D434","v":"00:00:00"},{"$f":"Cover_Sheet!E434","v":"00:00:00"},{"$f":"IF(Cover_Sheet!F434=\"\",\"\",Cover_Sheet!F434)","v":""},{"$f":"Cover_Sheet!G434","v":0},{"$f":"Cover_Sheet!H434","v":0}]
[{"$f":"IF(Cover_Sheet!A435=0,\"N\",\"Y\")","v":"N"},{"$f":"Cover_Sheet!B435","v":0},{"$f":"Cover_Sheet!C435","v":0},{"$f":"Cover_Sheet!D435","v":"00:00:00"},{"$f":"Cover_Sheet!E435","v":"00:00:00"},{"$f":"IF(Cover_Sheet!F435=\"\",\"\",Cover_Sheet!F435)","v":""},{"$f":"Cover_Sheet!G435","v":0},{"$f":"Cover_Sheet!H435","v":0}]
[{"$f":"IF(Cover_Sheet!A436=0,\"N\",\"Y\")","v":"N"},{"$f":"Cover_Sheet!B436","v":0},{"$f":"Cover_Sheet!C436","v":0},{"$f":"Cover_Sheet!D436","v":"00:00:00"},{"$f":"Cover_Sheet!E436","v":"00:00:00"},{"$f":"IF(Cover_Sheet!F436=\"\",\"\",Cover_Sheet!F436)","v":""},{"$f":"Cover_Sheet!G436","v":0},{"$f":"Cover_Sheet!H436","v":0}]
[{"$f":"IF(Cover_Sheet!A437=0,\"N\",\"Y\")","v":"N"},{"$f":"Cover_Sheet!B437","v":0},{"$f":"Cover_Sheet!C437","v":0},{"$f":"Cover_Sheet!D437","v":"00:00:00"},{"$f":"Cover_Sheet!E437","v":"00:00:00"},{"$f":"IF(Cover_Sheet!F437=\"\",\"\",Cover_Sheet!F437)","v":""},{"$f":"Cover_Sheet!G437","v":0},{"$f":"Cover_Sheet!H437","v":0}]
[{"$f":"IF(Cover_Sheet!A438=0,\"N\",\"Y\")","v":"N"},{"$f":"Cover_Sheet!B438","v":0},{"$f":"Cover_Sheet!C438","v":0},{"$f":"Cover_Sheet!D438","v":"00:00:00"},{"$f":"Cover_Sheet!E438","v":"00:00:00"},{"$f":"IF(Cover_Sheet!F438=\"\",\"\",Cover_Sheet!F438)","v":""},{"$f":"Cover_Sheet!G438","v":0},{"$f":"Cover_Sheet!H438","v":0}]
[{"$f":"IF(Cover_Sheet!A439=0,\"N\",\"Y\")","v":"N"},{"$f":"Cover_Sheet!B439","v":0},{"$f":"Cover_Sheet!C439","v":0},{"$f":"Cover_Sheet!D439","v":"00:00:00"},{"$f":"Cover_Sheet!E439","v":"00:00:00"},{"$f":"IF(Cover_Sheet!F439=\"\",\"\",Cover_Sheet!F439)","v":""},{"$f":"Cover_Sheet!G439","v":0},{"$f":"Cover_Sheet!H439","v":0}]
[{"$f":"IF(Cover_Sheet!A440=0,\"N\",\"Y\")","v":"N"},{"$f":"Cover_Sheet!B440","v":0},{"$f":"Cover_Sheet!C440","v":0},{"$f":"Cover_Sheet!D440","v":"00:00:00"},{"$f":"Cover_Sheet!E440","v":"00:00:00"},{"$f":"IF(Cover_Sheet!F440=\"\",\"\",Cover_Sheet!F440)","v":""},{"$f":"Cover_Sheet!G440","v":0},{"$f":"Cover_Sheet!H440","v":0}]
[{"$f":"IF(Cover_Sheet!A441=0,\"N\",\"Y\")","v":"N"},{"$f":"Cover_Sheet!B441","v":0},{"$f":"Cover_Sheet!C441","v":0},{"$f":"Cover_Sheet!D441","v":"00:00:00"},{"$f":"Cover_Sheet!E441","v":"00:00:00"},{"$f":"IF(Cover_Sheet!F441=\"\",\"\",Cover_Sheet!F441)","v":""},{"$f":"Cover_Sheet!G441","v":0},{"$f":"Cover_Sheet!H441","v":0}]
[{"$f":"IF(Cover_Sheet!A442=0,\"N\",\"Y\")","v":"N"},{"$f":"Cover_Sheet!B442","v":0},{"$f":"Cover_Sheet!C442","v":0},{"$f":"Cover_Sheet!D442","v":"00:00:00"},{"$f":"Cover_Sheet!E442","v":"00:00:00"},{"$f":"IF(Cover_Sheet!F442=\"\",\"\",Cover_Sheet!F442)","v":""},{"$f":"Cover_Sheet!G442","v":0},{"$f":"Cover_Sheet!H442","v":0}]
[{"$f":"IF(Cover_Sheet!A443=0,\"N\",\"Y\")","v":"N"},{"$f":"Cover_Sheet!B443","v":0},{"$f":"Cover_Sheet!C443","v":0},{"$f":"Cover_Sheet!D443","v":"00:00:00"},{"$f":"Cover_Sheet!E443","v":"00:00:00"},{"$f":"IF(Cover_Sheet!F443=\"\",\"\",Cover_Sheet!F443)","v":""},{"$f":"Cover_Sheet!G443","v":0},{"$f":"Cover_Sheet!H443","v":0}]
[{"$f":"IF(Cover_Sheet!A444=0,\"N\",\"Y\")","v":"N"},{"$f":"Cover_Sheet!B444","v":0},{"$f":"Cover_Sheet!C444","v":0},{"$f":"Cover_Sheet!D444","v":"00:00:00"},{"$f":"Cover_Sheet!E444","v":"00:00:00"},{"$f":"IF(Cover_Sheet!F444=\"\",\"\",Cover_Sheet!F444)","v":""},{"$f":"Cover_Sheet!G444","v":0},{"$f":"Cover_Sheet!H444","v":0}]
[{"$f":"IF(Cover_Sheet!A445=0,\"N\",\"Y\")","v":"N"},{"$f":"Cover_Sheet!B445","v":0},{"$f":"Cover_Sheet!C445","v":0},{"$f":"Cover_Sheet!D445","v":"00:00:00"},{"$f":"Cover_Sheet!E445","v":"00:00:00"},{"$f":"IF(Cover_Sheet!F445=\"\",\"\",Cover_Sheet!F445)","v":""},{"$f":"Cover_Sheet!G445","v":0},{"$f":"Cover_Sheet!H445","v":0}]
[{"$f":"IF(Cover_Sheet!A446=0,\"N\",\"Y\")","v":"N"},{"$f":"Cover_Sheet!B446","v":0},{"$f":"Cover_Sheet!C446","v":0},{"$f":"Cover_Sheet!D446","v":"00:00:00"},{"$f":"Cover_Sheet!E446","v":"00:00:00"},{"$f":"IF(Cover_Sheet!F446=\"\",\"\",Cover_Sheet!F446)","v":""},{"$f":"Cover_Sheet!G446","v":0},{"$f":"Cover_Sheet!H446","v":0}]
[{"$f":"IF(Cover_Sheet!A447=0,\"N\",\"Y\")","v":"N"},{"$f":"Cover_Sheet!B447","v":0},{"$f":"Cover_Sheet!C447","v":0},{"$f":"Cover_Sheet!D447","v":"00:00:00"},{"$f":"Cover_Sheet!E447","v":"00:00:00"},{"$f":"IF(Cover_Sheet!F447=\"\",\"\",Cover_Sheet!F447)","v":""},{"$f":"Cover_Sheet!G447","v":0},{"$f":"Cover_Sheet!H447","v":0}]
[{"$f":"IF(Cover_Sheet!A448=0,\"N\",\"Y\")","v":"N"},{"$f":"Cover_Sheet!B448","v":0},{"$f":"Cover_Sheet!C448","v":0},{"$f":"Cover_Sheet!D448","v":"00:00:00"},{"$f":"Cover_Sheet!E448","v":"00:00:00"},{"$f":"IF(Cover_Sheet!F448=\"\",\"\",Cover_Sheet!F448)","v":""},{"$f":"Cover_Sheet!G448","v":0},{"$f":"Cover_Sheet!H448","v":0}]
[{"$f":"IF(Cover_Sheet!A449=0,\"N\",\"Y\")","v":"N"},{"$f":"Cover_Sheet!B449","v":0},{"$f":"Cover_Sheet!C449","v":0},{"$f":"Cover_Sheet!D449","v":"00:00:00"},{"$f":"Cover_Sheet!E449","v":"00:00:00"},{"$f":"IF(Cover_Sheet!F449=\"\",\"\",Cover_Sheet!F449)","v":""},{"$f":"Cover_Sheet!G449","v":0},{"$f":"Cover_Sheet!H449","v":0}]
[{"$f":"IF(Cover_Sheet!A450=0,\"N\",\"Y\")","v":"N"},{"$f":"Cover_Sheet!B450","v":0},{"$f":"Cover_Sheet!C450","v":0},{"$f":"Cover_Sheet!D450","v":"00:00:00"},{"$f":"Cover_Sheet!E450","v":"00:00:00"},{"$f":"IF(Cover_Sheet!F450=\"\",\"\",Cover_Sheet!F450)","v":""},{"$f":"Cover_Sheet!G450","v":0},{"$f":"Cover_Sheet!H450","v":0}]
[{"$f":"IF(Cover_Sheet!A451=0,\"N\",\"Y\")","v":"N"},{"$f":"Cover_Sheet!B451","v":0},{"$f":"Cover_Sheet!C451","v":0},{"$f":"Cover_Sheet!D451","v":"00:00:00"},{"$f":"Cover_Sheet!E451","v":"00:00:00"},{"$f":"IF(Cover_Sheet!F451=\"\",\"\",Cover_Sheet!F451)","v":""},{"$f":"Cover_Sheet!G451","v":0},{"$f":"Cover_Sheet!H451","v":0}]
[{"$f":"IF(Cover_Sheet!A452=0,\"N\",\"Y\")","v":"N"},{"$f":"Cover_Sheet!B452","v":0},{"$f":"Cover_Sheet!C452","v":0},{"$f":"Cover_Sheet!D452","v":"00:00:00"},{"$f":"Cover_Sheet!E452","v":"00:00:00"},{"$f":"IF(Cover_Sheet!F452=\"\",\"\",Cover_Sheet!F452)","v":""},{"$f":"Cover_Sheet!G452","v":0},{"$f":"Cover_Sheet!H452","v":0}]
[{"$f":"IF(Cover_Sheet!A453=0,\"N\",\"Y\")","v":"N"},{"$f":"Cover_Sheet!B453","v":0},{"$f":"Cover_Sheet!C453","v":0},{"$f":"Cover_Sheet!D453","v":"00:00:00"},{"$f":"Cover_Sheet!E453","v":"00:00:00"},{"$f":"IF(Cover_Sheet!F453=\"\",\"\",Cover_Sheet!F453)","v":""},{"$f":"Cover_Sheet!G453","v":0},{"$f":"Cover_Sheet!H453","v":0}]
[{"$f":"IF(Cover_Sheet!A454=0,\"N\",\"Y\")","v":"N"},{"$f":"Cover_Sheet!B454","v":0},{"$f":"Cover_Sheet!C454","v":0},{"$f":"Cover_Sheet!D454","v":"00:00:00"},{"$f":"Cover_Sheet!E454","v":"00:00:00"},{"$f":"IF(Cover_Sheet!F454=\"\",\"\",Cover_Sheet!F454)","v":""},{"$f":"Cover_Sheet!G454","v":0},{"$f":"Cover_Sheet!H454","v":0}]
[{"$f":"IF(Cover_Sheet!A455=0,\"N\",\"Y\")","v":"N"},{"$f":"Cover_Sheet!B455","v":0},{"$f":"Cover_Sheet!C455","v":0},{"$f":"Cover_Sheet!D455","v":"00:00:00"},{"$f":"Cover_Sheet!E455","v":"00:00:00"},{"$f":"IF(Cover_Sheet!F455=\"\",\"\",Cover_Sheet!F455)","v":""},{"$f":"Cover_Sheet!G455","v":0},{"$f":"Cover_Sheet!H455","v":0}]
[{"$f":"IF(Cover_Sheet!A456=0,\"N\",\"Y\")","v":"N"},{"$f":"Cover_Sheet!B456","v":0},{"$f":"Cover_Sheet!C456","v":0},{"$f":"Cover_Sheet!D456","v":"00:00:00"},{"$f":"Cover_Sheet!E456","v":"00:00:00"},{"$f":"IF(Cover_Sheet!F456=\"\",\"\",Cover_Sheet!F456)","v":""},{"$f":"Cover_Sheet!G456","v":0},{"$f":"Cover_Sheet!H456","v":0}]
[{"$f":"IF(Cover_Sheet!A457=0,\"N\",\"Y\")","v":"N"},{"$f":"Cover_Sheet!B457","v":0},{"$f":"Cover_Sheet!C457","v":0},{"$f":"Cover_Sheet!D457","v":"00:00:00"},{"$f":"Cover_Sheet!E457","v":"00:00:00"},{"$f":"IF(Cover_Sheet!F457=\"\",\"\",Cover_Sheet!F457)","v":""},{"$f":"Cover_Sheet!G457","v":0},{"$f":"Cover_Sheet!H457","v":0}]
[{"$f":"IF(Cover_Sheet!A458=0,\"N\",\"Y\")","v":"N"},{"$f":"Cover_Sheet!B458","v":0},{"$f":"Cover_Sheet!C458","v":0},{"$f":"Cover_Sheet!D458","v":"00:00:00"},{"$f":"Cover_Sheet!E458","v":"00:00:00"},{"$f":"IF(Cover_Sheet!F458=\"\",\"\",Cover_Sheet!F458)","v":""},{"$f":"Cover_Sheet!G458","v":0},{"$f":"Cover_Sheet!H458","v":0}]
[{"$f":"IF(Cover_Sheet!A459=0,\"N\",\"Y\")","v":"N"},{"$f":"Cover_Sheet!B459","v":0},{"$f":"Cover_Sheet!C459","v":0},{"$f":"Cover_Sheet!D459","v":"00:00:00"},{"$f":"Cover_Sheet!E459","v":"00:00:00"},{"$f":"IF(Cover_Sheet!F459=\"\",\"\",Cover_Sheet!F459)","v":""},{"$f":"Cover_Sheet!G459","v":0},{"$f":"Cover_Sheet!H459","v":0}]
[{"$f":"IF(Cover_Sheet!A460=0,\"N\",\"Y\")","v":"N"},{"$f":"Cover_Sheet!B460","v":0},{"$f":"Cover_Sheet!C460","v":0},{"$f":"Cover_Sheet!D460","v":"00:00:00"},{"$f":"Cover_Sheet!E460","v":"00:00:00"},{"$f":"IF(Cover_Sheet!F460=\"\",\"\",Cover_Sheet!F460)","v":""},{"$f":"Cover_Sheet!G460","v":0},{"$f":"Cover_Sheet!H460","v":0}]
[{"$f":"IF(Cover_Sheet!A461=0,\"N\",\"Y\")","v":"N"},{"$f":"Cover_Sheet!B461","v":0},{"$f":"Cover_Sheet!C461","v":0},{"$f":"Cover_Sheet!D461","v":"00:00:00"},{"$f":"Cover_Sheet!E461","v":"00:00:00"},{"$f":"IF(Cover_Sheet!F461=\"\",\"\",Cover_Sheet!F461)","v":""},{"$f":"Cover_Sheet!G461","v":0},{"$f":"Cover_Sheet!H461","v":0}]
[{"$f":"IF(Cover_Sheet!A462=0,\"N\",\"Y\")","v":"N"},{"$f":"Cover_Sheet!B462","v":0},{"$f":"Cover_Sheet!C462","v":0},{"$f":"Cover_Sheet!D462","v":"00:00:00"},{"$f":"Cover_Sheet!E462","v":"00:00:00"},{"$f":"IF(Cover_Sheet!F462=\"\",\"\",Cover_Sheet!F462)","v":""},{"$f":"Cover_Sheet!G462","v":0},{"$f":"Cover_Sheet!H462","v":0}]
[{"$f":"IF(Cover_Sheet!A463=0,\"N\",\"Y\")","v":"N"},{"$f":"Cover_Sheet!B463","v":0},{"$f":"Cover_Sheet!C463","v":0},{"$f":"Cover_Sheet!D463","v":"00:00:00"},{"$f":"Cover_Sheet!E463","v":"00:00:00"},{"$f":"IF(Cover_Sheet!F463=\"\",\"\",Cover_Sheet!F463)","v":""},{"$f":"Cover_Sheet!G463","v":0},{"$f":"Cover_Sheet!H463","v":0}]
[{"$f":"IF(Cover_Sheet!A464=0,\"N\",\"Y\")","v":"N"},{"$f":"Cover_Sheet!B464","v":0},{"$f":"Cover_Sheet!C464","v":0},{"$f":"Cover_Sheet!D464","v":"00:00:00"},{"$f":"Cover_Sheet!E464","v":"00:00:00"},{"$f":"IF(Cover_Sheet!F464=\"\",\"\",Cover_Sheet!F464)","v":""},{"$f":"Cover_Sheet!G464","v":0},{"$f":"Cover_Sheet!H464","v":0}]
[{"$f":"IF(Cover_Sheet!A465=0,\"N\",\"Y\")","v":"N"},{"$f":"Cover_Sheet!B465","v":0},{"$f":"Cover_Sheet!C465","v":0},{"$f":"Cover_Sheet!D465","v":"00:00:00"},{"$f":"Cover_Sheet!E465","v":"00:00:00"},{"$f":"IF(Cover_Sheet!F465=\"\",\"\",Cover_Sheet!F465)","v":""},{"$f":"Cover_Sheet!G465","v":0},{"$f":"Cover_Sheet!H465","v":0}]
[{"$f":"IF(Cover_Sheet!A466=0,\"N\",\"Y\")","v":"N"},{"$f":"Cover_Sheet!B466","v":0},{"$f":"Cover_Sheet!C466","v":0},{"$f":"Cover_Sheet!D466","v":"00:00:00"},{"$f":"Cover_Sheet!E466","v":"00:00:00"},{"$f":"IF(Cover_Sheet!F466=\"\",\"\",Cover_Sheet!F466)","v":""},{"$f":"Cover_Sheet!G466","v":0},{"$f":"Cover_Sheet!H466","v":0}]
[{"$f":"IF(Cover_Sheet!A467=0,\"N\",\"Y\")","v":"N"},{"$f":"Cover_Sheet!B467","v":0},{"$f":"Cover_Sheet!C467","v":0},{"$f":"Cover_Sheet!D467","v":"00:00:00"},{"$f":"Cover_Sheet!E467","v":"00:00:00"},{"$f":"IF(Cover_Sheet!F467=\"\",\"\",Cover_Sheet!F467)","v":""},{"$f":"Cover_Sheet!G467","v":0},{"$f":"Cover_Sheet!H467","v":0}]
[{"$f":"IF(Cover_Sheet!A468=0,\"N\",\"Y\")","v":"N"},{"$f":"Cover_Sheet!B468","v":0},{"$f":"Cover_Sheet!C468","v":0},{"$f":"Cover_Sheet!D468","v":"00:00:00"},{"$f":"Cover_Sheet!E468","v":"00:00:00"},{"$f":"IF(Cover_Sheet!F468=\"\",\"\",Cover_Sheet!F468)","v":""},{"$f":"Cover_Sheet!G468","v":0},{"$f":"Cover_Sheet!H468","v":0}]
[{"$f":"IF(Cover_Sheet!A469=0,\"N\",\"Y\")","v":"N"},{"$f":"Cover_Sheet!B469","v":0},{"$f":"Cover_Sheet!C469","v":0},{"$f":"Cover_Sheet!D469","v":"00:00:00"},{"$f":"Cover_Sheet!E469","v":"00:00:00"},{"$f":"IF(Cover_Sheet!F469=\"\",\"\",Cover_Sheet!F469)","v":""},{"$f":"Cover_Sheet!G469","v":0},{"$f":"Cover_Sheet!H469","v":0}]
[{"$f":"IF(Cover_Sheet!A470=0,\"N\",\"Y\")","v":"N"},{"$f":"Cover_Sheet!B470","v":0},{"$f":"Cover_Sheet!C470","v":0},{"$f":"Cover_Sheet!D470","v":"00:00:00"},{"$f":"Cover_Sheet!E470","v":"00:00:00"},{"$f":"IF(Cover_Sheet!F470=\"\",\"\",Cover_Sheet!F470)","v":""},{"$f":"Cover_Sheet!G470","v":0},{"$f":"Cover_Sheet!H470","v":0}]
[{"$f":"IF(Cover_Sheet!A471=0,\"N\",\"Y\")","v":"N"},{"$f":"Cover_Sheet!B471","v":0},{"$f":"Cover_Sheet!C471","v":0},{"$f":"Cover_Sheet!D471","v":"00:00:00"},{"$f":"Cover_Sheet!E471","v":"00:00:00"},{"$f":"IF(Cover_Sheet!F471=\"\",\"\",Cover_Sheet!F471)","v":""},{"$f":"Cover_Sheet!G471","v":0},{"$f":"Cover_Sheet!H471","v":0}]
[{"$f":"IF(Cover_Sheet!A472=0,\"N\",\"Y\")","v":"N"},{"$f":"Cover_Sheet!B472","v":0},{"$f":"Cover_Sheet!C472","v":0},{"$f":"Cover_Sheet!D472","v":"00:00:00"},{"$f":"Cover_Sheet!E472","v":"00:00:00"},{"$f":"IF(Cover_Sheet!F472=\"\",\"\",Cover_Sheet!F472)","v":""},{"$f":"Cover_Sheet!G472","v":0},{"$f":"Cover_Sheet!H472","v":0}]
[{"$f":"IF(Cover_Sheet!A473=0,\"N\",\"Y\")","v":"N"},{"$f":"Cover_Sheet!B473","v":0},{"$f":"Cover_Sheet!C473","v":0},{"$f":"Cover_Sheet!D473","v":"00:00:00"},{"$f":"Cover_Sheet!E473","v":"00:00:00"},{"$f":"IF(Cover_Sheet!F473=\"\",\"\",Cover_Sheet!F473)","v":""},{"$f":"Cover_Sheet!G473","v":0},{"$f":"Cover_Sheet!H473","v":0}]
[{"$f":"IF(Cover_Sheet!A474=0,\"N\",\"Y\")","v":"N"},{"$f":"Cover_Sheet!B474","v":0},{"$f":"Cover_Sheet!C474","v":0},{"$f":"Cover_Sheet!D474","v":"00:00:00"},{"$f":"Cover_Sheet!E474","v":"00:00:00"},{"$f":"IF(Cover_Sheet!F474=\"\",\"\",Cover_Sheet!F474)","v":""},{"$f":"Cover_Sheet!G474","v":0},{"$f":"Cover_Sheet!H474","v":0}]
[{"$f":"IF(Cover_Sheet!A475=0,\"N\",\"Y\")","v":"N"},{"$f":"Cover_Sheet!B475","v":0},{"$f":"Cover_Sheet!C475","v":0},{"$f":"Cover_Sheet!D475","v":"00:00:00"},{"$f":"Cover_Sheet!E475","v":"00:00:00"},{"$f":"IF(Cover_Sheet!F475=\"\",\"\",Cover_Sheet!F475)","v":""},{"$f":"Cover_Sheet!G475","v":0},{"$f":"Cover_Sheet!H475","v":0}]
[{"$f":"IF(Cover_Sheet!A476=0,\"N\",\"Y\")","v":"N"},{"$f":"Cover_Sheet!B476","v":0},{"$f":"Cover_Sheet!C476","v":0},{"$f":"Cover_Sheet!D476","v":"00:00:00"},{"$f":"Cover_Sheet!E476","v":"00:00:00"},{"$f":"IF(Cover_Sheet!F476=\"\",\"\",Cover_Sheet!F476)","v":""},{"$f":"Cover_Sheet!G476","v":0},{"$f":"Cover_Sheet!H476","v":0}]
[{"$f":"IF(Cover_Sheet!A477=0,\"N\",\"Y\")","v":"N"},{"$f":"Cover_Sheet!B477","v":0},{"$f":"Cover_Sheet!C477","v":0},{"$f":"Cover_Sheet!D477","v":"00:00:00"},{"$f":"Cover_Sheet!E477","v":"00:00:00"},{"$f":"IF(Cover_Sheet!F477=\"\",\"\",Cover_Sheet!F477)","v":""},{"$f":"Cover_Sheet!G477","v":0},{"$f":"Cover_Sheet!H477","v":0}]
[{"$f":"IF(Cover_Sheet!A478=0,\"N\",\"Y\")","v":"N"},{"$f":"Cover_Sheet!B478","v":0},{"$f":"Cover_Sheet!C478","v":0},{"$f":"Cover_Sheet!D478","v":"00:00:00"},{"$f":"Cover_Sheet!E478","v":"00:00:00"},{"$f":"IF(Cover_Sheet!F478=\"\",\"\",Cover_Sheet!F478)","v":""},{"$f":"Cover_Sheet!G478","v":0},{"$f":"Cover_Sheet!H478","v":0}]
[{"$f":"IF(Cover_Sheet!A479=0,\"N\",\"Y\")","v":"N"},{"$f":"Cover_Sheet!B479","v":0},{"$f":"Cover_Sheet!C479","v":0},{"$f":"Cover_Sheet!D479","v":"00:00:00"},{"$f":"Cover_Sheet!E479","v":"00:00:00"},{"$f":"IF(Cover_Sheet!F479=\"\",\"\",Cover_Sheet!F479)","v":""},{"$f":"Cover_Sheet!G479","v":0},{"$f":"Cover_Sheet!H479","v":0}]
[{"$f":"IF(Cover_Sheet!A480=0,\"N\",\"Y\")","v":"N"},{"$f":"Cover_Sheet!B480","v":0},{"$f":"Cover_Sheet!C480","v":0},{"$f":"Cover_Sheet!D480","v":"00:00:00"},{"$f":"Cover_Sheet!E480","v":"00:00:00"},{"$f":"IF(Cover_Sheet!F480=\"\",\"\",Cover_Sheet!F480)","v":""},{"$f":"Cover_Sheet!G480","v":0},{"$f":"Cover_Sheet!H480","v":0}]
[{"$f":"IF(Cover_Sheet!A481=0,\"N\",\"Y\")","v":"N"},{"$f":"Cover_Sheet!B481","v":0},{"$f":"Cover_Sheet!C481","v":0},{"$f":"Cover_Sheet!D481","v":"00:00:00"},{"$f":"Cover_Sheet!E481","v":"00:00:00"},{"$f":"IF(Cover_Sheet!F481=\"\",\"\",Cover_Sheet!F481)","v":""},{"$f":"Cover_Sheet!G481","v":0},{"$f":"Cover_Sheet!H481","v":0}]
[{"$f":"IF(Cover_Sheet!A482=0,\"N\",\"Y\")","v":"N"},{"$f":"Cover_Sheet!B482","v":0},{"$f":"Cover_Sheet!C482","v":0},{"$f":"Cover_Sheet!D482","v":"00:00:00"},{"$f":"Cover_Sheet!E482","v":"00:00:00"},{"$f":"IF(Cover_Sheet!F482=\"\",\"\",Cover_Sheet!F482)","v":""},{"$f":"Cover_Sheet!G482","v":0},{"$f":"Cover_Sheet!H482","v":0}]
[{"$f":"IF(Cover_Sheet!A483=0,\"N\",\"Y\")","v":"N"},{"$f":"Cover_Sheet!B483","v":0},{"$f":"Cover_Sheet!C483","v":0},{"$f":"Cover_Sheet!D483","v":"00:00:00"},{"$f":"Cover_Sheet!E483","v":"00:00:00"},{"$f":"IF(Cover_Sheet!F483=\"\",\"\",Cover_Sheet!F483)","v":""},{"$f":"Cover_Sheet!G483","v":0},{"$f":"Cover_Sheet!H483","v":0}]
[{"$f":"IF(Cover_Sheet!A484=0,\"N\",\"Y\")","v":"N"},{"$f":"Cover_Sheet!B484","v":0},{"$f":"Cover_Sheet!C484","v":0},{"$f":"Cover_Sheet!D484","v":"00:00:00"},{"$f":"Cover_Sheet!E484","v":"00:00:00"},{"$f":"IF(Cover_Sheet!F484=\"\",\"\",Cover_Sheet!F484)","v":""},{"$f":"Cover_Sheet!G484","v":0},{"$f":"Cover_Sheet!H484","v":0}]
[{"$f":"IF(Cover_Sheet!A485=0,\"N\",\"Y\")","v":"N"},{"$f":"Cover_Sheet!B485","v":0},{"$f":"Cover_Sheet!C485","v":0},{"$f":"Cover_Sheet!D485","v":"00:00:00"},{"$f":"Cover_Sheet!E485","v":"00:00:00"},{"$f":"IF(Cover_Sheet!F485=\"\",\"\",Cover_Sheet!F485)","v":""},{"$f":"Cover_Sheet!G485","v":0},{"$f":"Cover_Sheet!H485","v":0}]
[{"$f":"IF(Cover_Sheet!A486=0,\"N\",\"Y\")","v":"N"},{"$f":"Cover_Sheet!B486","v":0},{"$f":"Cover_Sheet!C486","v":0},{"$f":"Cover_Sheet!D486","v":"00:00:00"},{"$f":"Cover_Sheet!E486","v":"00:00:00"},{"$f":"IF(Cover_Sheet!F486=\"\",\"\",Cover_Sheet!F486)","v":""},{"$f":"Cover_Sheet!G486","v":0},{"$f":"Cover_Sheet!H486","v":0}]
[{"$f":"IF(Cover_Sheet!A487=0,\"N\",\"Y\")","v":"N"},{"$f":"Cover_Sheet!B487","v":0},{"$f":"Cover_Sheet!C487","v":0},{"$f":"Cover_Sheet!D487","v":"00:00:00"},{"$f":"Cover_Sheet!E487","v":"00:00:00"},{"$f":"IF(Cover_Sheet!F487=\"\",\"\",Cover_Sheet!F487)","v":""},{"$f":"Cover_Sheet!G487","v":0},{"$f":"Cover_Sheet!H487","v":0}]
[{"$f":"IF(Cover_Sheet!A488=0,\"N\",\"Y\")","v":"N"},{"$f":"Cover_Sheet!B488","v":0},{"$f":"Cover_Sheet!C488","v":0},{"$f":"Cover_Sheet!D488","v":"00:00:00"},{"$f":"Cover_Sheet!E488","v":"00:00:00"},{"$f":"IF(Cover_Sheet!F488=\"\",\"\",Cover_Sheet!F488)","v":""},{"$f":"Cover_Sheet!G488","v":0},{"$f":"Cover_Sheet!H488","v":0}]
[{"$f":"IF(Cover_Sheet!A489=0,\"N\",\"Y\")","v":"N"},{"$f":"Cover_Sheet!B489","v":0},{"$f":"Cover_Sheet!C489","v":0},{"$f":"Cover_Sheet!D489","v":"00:00:00"},{"$f":"Cover_Sheet!E489","v":"00:00:00"},{"$f":"IF(Cover_Sheet!F489=\"\",\"\",Cover_Sheet!F489)","v":""},{"$f":"Cover_Sheet!G489","v":0},{"$f":"Cover_Sheet!H489","v":0}]
[{"$f":"IF(Cover_Sheet!A490=0,\"N\",\"Y\")","v":"N"},{"$f":"Cover_Sheet!B490","v":0},{"$f":"Cover_Sheet!C490","v":0},{"$f":"Cover_Sheet!D490","v":"00:00:00"},{"$f":"Cover_Sheet!E490","v":"00:00:00"},{"$f":"IF(Cover_Sheet!F490=\"\",\"\",Cover_Sheet!F490)","v":""},{"$f":"Cover_Sheet!G490","v":0},{"$f":"Cover_Sheet!H490","v":0}]
[{"$f":"IF(Cover_Sheet!A491=0,\"N\",\"Y\")","v":"N"},{"$f":"Cover_Sheet!B491","v":0},{"$f":"Cover_Sheet!C491","v":0},{"$f":"Cover_Sheet!D491","v":"00:00:00"},{"$f":"Cover_Sheet!E491","v":"00:00:00"},{"$f":"IF(Cover_Sheet!F491=\"\",\"\",Cover_Sheet!F491)","v":""},{"$f":"Cover_Sheet!G491","v":0},{"$f":"Cover_Sheet!H491","v":0}]
[{"$f":"IF(Cover_Sheet!A492=0,\"N\",\"Y\")","v":"N"},{"$f":"Cover_Sheet!B492","v":0},{"$f":"Cover_Sheet!C492","v":0},{"$f":"Cover_Sheet!D492","v":"00:00:00"},{"$f":"Cover_Sheet!E492","v":"00:00:00"},{"$f":"IF(Cover_Sheet!F492=\"\",\"\",Cover_Sheet!F492)","v":""},{"$f":"Cover_Sheet!G492","v":0},{"$f":"Cover_Sheet!H492","v":0}]
[{"$f":"IF(Cover_Sheet!A493=0,\"N\",\"Y\")","v":"N"},{"$f":"Cover_Sheet!B493","v":0},{"$f":"Cover_Sheet!C493","v":0},{"$f":"Cover_Sheet!D493","v":"00:00:00"},{"$f":"Cover_Sheet!E493","v":"00:00:00"},{"$f":"IF(Cover_Sheet!F493=\"\",\"\",Cover_Sheet!F493)","v":""},{"$f":"Cover_Sheet!G493","v":0},{"$f":"Cover_Sheet!H493","v":0}]
[{"$f":"IF(Cover_Sheet!A494=0,\"N\",\"Y\")","v":"N"},{"$f":"Cover_Sheet!B494","v":0},{"$f":"Cover_Sheet!C494","v":0},{"$f":"Cover_Sheet!D494","v":"00:00:00"},{"$f":"Cover_Sheet!E494","v":"00:00:00"},{"$f":"IF(Cover_Sheet!F494=\"\",\"\",Cover_Sheet!F494)","v":""},{"$f":"Cover_Sheet!G494","v":0},{"$f":"Cover_Sheet!H494","v":0}]
[{"$f":"IF(Cover_Sheet!A495=0,\"N\",\"Y\")","v":"N"},{"$f":"Cover_Sheet!B495","v":0},{"$f":"Cover_Sheet!C495","v":0},{"$f":"Cover_Sheet!D495","v":"00:00:00"},{"$f":"Cover_Sheet!E495","v":"00:00:00"},{"$f":"IF(Cover_Sheet!F495=\"\",\"\",Cover_Sheet!F495)","v":""},{"$f":"Cover_Sheet!G495","v":0},{"$f":"Cover_Sheet!H495","v":0}]
[{"$f":"IF(Cover_Sheet!A496=0,\"N\",\"Y\")","v":"N"},{"$f":"Cover_Sheet!B496","v":0},{"$f":"Cover_Sheet!C496","v":0},{"$f":"Cover_Sheet!D496","v":"00:00:00"},{"$f":"Cover_Sheet!E496","v":"00:00:00"},{"$f":"IF(Cover_Sheet!F496=\"\",\"\",Cover_Sheet!F496)","v":""},{"$f":"Cover_Sheet!G496","v":0},{"$f":"Cover_Sheet!H496","v":0}]
[{"$f":"IF(Cover_Sheet!A497=0,\"N\",\"Y\")","v":"N"},{"$f":"Cover_Sheet!B497","v":0},{"$f":"Cover_Sheet!C497","v":0},{"$f":"Cover_Sheet!D497","v":"00:00:00"},{"$f":"Cover_Sheet!E497","v":"00:00:00"},{"$f":"IF(Cover_Sheet!F497=\"\",\"\",Cover_Sheet!F497)","v":""},{"$f":"Cover_Sheet!G497","v":0},{"$f":"Cover_Sheet!H497","v":0}]
[{"$f":"IF(Cover_Sheet!A498=0,\"N\",\"Y\")","v":"N"},{"$f":"Cover_Sheet!B498","v":0},{"$f":"Cover_Sheet!C498","v":0},{"$f":"Cover_Sheet!D498","v":"00:00:00"},{"$f":"Cover_Sheet!E498","v":"00:00:00"},{"$f":"IF(Cover_Sheet!F498=\"\",\"\",Cover_Sheet!F498)","v":""},{"$f":"Cover_Sheet!G498","v":0},{"$f":"Cover_Sheet!H498","v":0}]
[{"$f":"IF(Cover_Sheet!A499=0,\"N\",\"Y\")","v":"N"},{"$f":"Cover_Sheet!B499","v":0},{"$f":"Cover_Sheet!C499","v":0},{"$f":"Cover_Sheet!D499","v":"00:00:00"},{"$f":"Cover_Sheet!E499","v":"00:00:00"},{"$f":"IF(Cover_Sheet!F499=\"\",\"\",Cover_Sheet!F499)","v":""},{"$f":"Cover_Sheet!G499","v":0},{"$f":"Cover_Sheet!H499","v":0}]
[{"$f":"IF(Cover_Sheet!A500=0,\"N\",\"Y\")","v":"N"},{"$f":"Cover_Sheet!B500","v":0},{"$f":"Cover_Sheet!C500","v":0},{"$f":"Cover_Sheet!D500","v":"00:00:00"},{"$f":"Cover_Sheet!E500","v":"00:00:00"},{"$f":"IF(Cover_Sheet!F500=\"\",\"\",Cover_Sheet!F500)","v":""},{"$f":"Cover_Sheet!G500","v":0},{"$f":"Cover_Sheet!H500","v":0}]
[{"$f":"IF(Cover_Sheet!A501=0,\"N\",\"Y\")","v":"N"},{"$f":"Cover_Sheet!B501","v":0},{"$f":"Cover_Sheet!C501","v":0},{"$f":"Cover_Sheet!D501","v":"00:00:00"},{"$f":"Cover_Sheet!E501","v":"00:00:00"},{"$f":"IF(Cover_Sheet!F501=\"\",\"\",Cover_Sheet!F501)","v":""},{"$f":"Cover_Sheet!G501","v":0},{"$f":"Cover_Sheet!H501","v":0}]
[{"$f":"IF(Cover_Sheet!A502=0,\"N\",\"Y\")","v":"N"},{"$f":"Cover_Sheet!B502","v":0},{"$f":"Cover_Sheet!C502","v":0},{"$f":"Cover_Sheet!D502","v":"00:00:00"},{"$f":"Cover_Sheet!E502","v":"00:00:00"},{"$f":"IF(Cover_Sheet!F502=\"\",\"\",Cover_Sheet!F502)","v":""},{"$f":"Cover_Sheet!G502","v":0},{"$f":"Cover_Sheet!H502","v":0}]
[{"$f":"IF(Cover_Sheet!A503=0,\"N\",\"Y\")","v":"N"},{"$f":"Cover_Sheet!B503","v":0},{"$f":"Cover_Sheet!C503","v":0},{"$f":"Cover_Sheet!D503","v":"00:00:00"},{"$f":"Cover_Sheet!E503","v":"00:00:00"},{"$f":"IF(Cover_Sheet!F503=\"\",\"\",Cover_Sheet!F503)","v":""},{"$f":"Cover_Sheet!G503","v":0},{"$f":"Cover_Sheet!H503","v":0}]
[{"$f":"IF(Cover_Sheet!A504=0,\"N\",\"Y\")","v":"N"},{"$f":"Cover_Sheet!B504","v":0},{"$f":"Cover_Sheet!C504","v":0},{"$f":"Cover_Sheet!D504","v":"00:00:00"},{"$f":"Cover_Sheet!E504","v":"00:00:00"},{"$f":"IF(Cover_Sheet!F504=\"\",\"\",Cover_Sheet!F504)","v":""},{"$f":"Cover_Sheet!G504","v":0},{"$f":"Cover_Sheet!H504","v":0}]
[{"$f":"IF(Cover_Sheet!A505=0,\"N\",\"Y\")","v":"N"},{"$f":"Cover_Sheet!B505","v":0},{"$f":"Cover_Sheet!C505","v":0},{"$f":"Cover_Sheet!D505","v":"00:00:00"},{"$f":"Cover_Sheet!E505","v":"00:00:00"},{"$f":"IF(Cover_Sheet!F505=\"\",\"\",Cover_Sheet!F505)","v":""},{"$f":"Cover_Sheet!G505","v":0},{"$f":"Cover_Sheet!H505","v":0}]
[{"$f":"IF(Cover_Sheet!A506=0,\"N\",\"Y\")","v":"N"},{"$f":"Cover_Sheet!B506","v":0},{"$f":"Cover_Sheet!C506","v":0},{"$f":"Cover_Sheet!D506","v":"00:00:00"},{"$f":"Cover_Sheet!E506","v":"00:00:00"},{"$f":"IF(Cover_Sheet!F506=\"\",\"\",Cover_Sheet!F506)","v":""},{"$f":"Cover_Sheet!G506","v":0},{"$f":"Cover_Sheet!H506","v":0}]
[{"$f":"IF(Cover_Sheet!A507=0,\"N\",\"Y\")","v":"N"},{"$f":"Cover_Sheet!B507","v":0},{"$f":"Cover_Sheet!C507","v":0},{"$f":"Cover_Sheet!D507","v":"00:00:00"},{"$f":"Cover_Sheet!E507","v":"00:00:00"},{"$f":"IF(Cover_Sheet!F507=\"\",\"\",Cover_Sheet!F507)","v":""},{"$f":"Cover_Sheet!G507","v":0},{"$f":"Cover_Sheet!H507","v":0}]
[{"$f":"IF(Cover_Sheet!A508=0,\"N\",\"Y\")","v":"N"},{"$f":"Cover_Sheet!B508","v":0},{"$f":"Cover_Sheet!C508","v":0},{"$f":"Cover_Sheet!D508","v":"00:00:00"},{"$f":"Cover_Sheet!E508","v":"00:00:00"},{"$f":"IF(Cover_Sheet!F508=\"\",\"\",Cover_Sheet!F508)","v":""},{"$f":"Cover_Sheet!G508","v":0},{"$f":"Cover_Sheet!H508","v":0}]
[{"$f":"IF(Cover_Sheet!A509=0,\"N\",\"Y\")","v":"N"},{"$f":"Cover_Sheet!B509","v":0},{"$f":"Cover_Sheet!C509","v":0},{"$f":"Cover_Sheet!D509","v":"00:00:00"},{"$f":"Cover_Sheet!E509","v":"00:00:00"},{"$f":"IF(Cover_Sheet!F509=\"\",\"\",Cover_Sheet!F509)","v":""},{"$f":"Cover_Sheet!G509","v":0},{"$f":"Cover_Sheet!H509","v":0}]
[{"$f":"IF(Cover_Sheet!A510=0,\"N\",\"Y\")","v":"N"},{"$f":"Cover_Sheet!B510","v":0},{"$f":"Cover_Sheet!C510","v":0},{"$f":"Cover_Sheet!D510","v":"00:00:00"},{"$f":"Cover_Sheet!E510","v":"00:00:00"},{"$f":"IF(Cover_Sheet!F510=\"\",\"\",Cover_Sheet!F510)","v":""},{"$f":"Cover_Sheet!G510","v":0},{"$f":"Cover_Sheet!H510","v":0}]
[{"$f":"IF(Cover_Sheet!A511=0,\"N\",\"Y\")","v":"N"},{"$f":"Cover_Sheet!B511","v":0},{"$f":"Cover_Sheet!C511","v":0},{"$f":"Cover_Sheet!D511","v":"00:00:00"},{"$f":"Cover_Sheet!E511","v":"00:00:00"},{"$f":"IF(Cover_Sheet!F511=\"\",\"\",Cover_Sheet!F511)","v":""},{"$f":"Cover_Sheet!G511","v":0},{"$f":"Cover_Sheet!H511","v":0}]
[{"$f":"IF(Cover_Sheet!A512=0,\"N\",\"Y\")","v":"N"},{"$f":"Cover_Sheet!B512","v":0},{"$f":"Cover_Sheet!C512","v":0},{"$f":"Cover_Sheet!D512","v":"00:00:00"},{"$f":"Cover_Sheet!E512","v":"00:00:00"},{"$f":"IF(Cover_Sheet!F512=\"\",\"\",Cover_Sheet!F512)","v":""},{"$f":"Cover_Sheet!G512","v":0},{"$f":"Cover_Sheet!H512","v":0}]
[{"$f":"IF(Cover_Sheet!A513=0,\"N\",\"Y\")","v":"N"},{"$f":"Cover_Sheet!B513","v":0},{"$f":"Cover_Sheet!C513","v":0},{"$f":"Cover_Sheet!D513","v":"00:00:00"},{"$f":"Cover_Sheet!E513","v":"00:00:00"},{"$f":"IF(Cover_Sheet!F513=\"\",\"\",Cover_Sheet!F513)","v":""},{"$f":"Cover_Sheet!G513","v":0},{"$f":"Cover_Sheet!H513","v":0}]
[{"$f":"IF(Cover_Sheet!A514=0,\"N\",\"Y\")","v":"N"},{"$f":"Cover_Sheet!B514","v":0},{"$f":"Cover_Sheet!C514","v":0},{"$f":"Cover_Sheet!D514","v":"00:00:00"},{"$f":"Cover_Sheet!E514","v":"00:00:00"},{"$f":"IF(Cover_Sheet!F514=\"\",\"\",Cover_Sheet!F514)","v":""},{"$f":"Cover_Sheet!G514","v":0},{"$f":"Cover_Sheet!H514","v":0}]
[{"$f":"IF(Cover_Sheet!A515=0,\"N\",\"Y\")","v":"N"},{"$f":"Cover_Sheet!B515","v":0},{"$f":"Cover_Sheet!C515","v":0},{"$f":"Cover_Sheet!D515","v":"00:00:00"},{"$f":"Cover_Sheet!E515","v":"00:00:00"},{"$f":"IF(Cover_Sheet!F515=\"\",\"\",Cover_Sheet!F515)","v":""},{"$f":"Cover_Sheet!G515","v":0},{"$f":"Cover_Sheet!H515","v":0}]
[{"$f":"IF(Cover_Sheet!A516=0,\"N\",\"Y\")","v":"N"},{"$f":"Cover_Sheet!B516","v":0},{"$f":"Cover_Sheet!C516","v":0},{"$f":"Cover_Sheet!D516","v":"00:00:00"},{"$f":"Cover_Sheet!E516","v":"00:00:00"},{"$f":"IF(Cover_Sheet!F516=\"\",\"\",Cover_Sheet!F516)","v":""},{"$f":"Cover_Sheet!G516","v":0},{"$f":"Cover_Sheet!H516","v":0}]
[{"$f":"IF(Cover_Sheet!A517=0,\"N\",\"Y\")","v":"N"},{"$f":"Cover_Sheet!B517","v":0},{"$f":"Cover_Sheet!C517","v":0},{"$f":"Cover_Sheet!D517","v":"00:00:00"},{"$f":"Cover_Sheet!E517","v":"00:00:00"},{"$f":"IF(Cover_Sheet!F517=\"\",\"\",Cover_Sheet!F517)","v":""},{"$f":"Cover_Sheet!G517","v":0},{"$f":"Cover_Sheet!H517","v":0}]
[{"$f":"IF(Cover_Sheet!A518=0,\"N\",\"Y\")","v":"N"},{"$f":"Cover_Sheet!B518","v":0},{"$f":"Cover_Sheet!C518","v":0},{"$f":"Cover_Sheet!D518","v":"00:00:00"},{"$f":"Cover_Sheet!E518","v":"00:00:00"},{"$f":"IF(Cover_Sheet!F518=\"\",\"\",Cover_Sheet!F518)","v":""},{"$f":"Cover_Sheet!G518","v":0},{"$f":"Cover_Sheet!H518","v":0}]
[{"$f":"IF(Cover_Sheet!A519=0,\"N\",\"Y\")","v":"N"},{"$f":"Cover_Sheet!B519","v":0},{"$f":"Cover_Sheet!C519","v":0},{"$f":"Cover_Sheet!D519","v":"00:00:00"},{"$f":"Cover_Sheet!E519","v":"00:00:00"},{"$f":"IF(Cover_Sheet!F519=\"\",\"\",Cover_Sheet!F519)","v":""},{"$f":"Cover_Sheet!G519","v":0},{"$f":"Cover_Sheet!H519","v":0}]
[{"$f":"IF(Cover_Sheet!A520=0,\"N\",\"Y\")","v":"N"},{"$f":"Cover_Sheet!B520","v":0},{"$f":"Cover_Sheet!C520","v":0},{"$f":"Cover_Sheet!D520","v":"00:00:00"},{"$f":"Cover_Sheet!E520","v":"00:00:00"},{"$f":"IF(Cover_Sheet!F520=\"\",\"\",Cover_Sheet!F520)","v":""},{"$f":"Cover_Sheet!G520","v":0},{"$f":"Cover_Sheet!H520","v":0}]
[{"$f":"IF(Cover_Sheet!A521=0,\"N\",\"Y\")","v":"N"},{"$f":"Cover_Sheet!B521","v":0},{"$f":"Cover_Sheet!C521","v":0},{"$f":"Cover_Sheet!D521","v":"00:00:00"},{"$f":"Cover_Sheet!E521","v":"00:00:00"},{"$f":"IF(Cover_Sheet!F521=\"\",\"\",Cover_Sheet!F521)","v":""},{"$f":"Cover_Sheet!G521","v":0},{"$f":"Cover_Sheet!H521","v":0}]
[{"$f":"IF(Cover_Sheet!A522=0,\"N\",\"Y\")","v":"N"},{"$f":"Cover_Sheet!B522","v":0},{"$f":"Cover_Sheet!C522","v":0},{"$f":"Cover_Sheet!D522","v":"00:00:00"},{"$f":"Cover_Sheet!E522","v":"00:00:00"},{"$f":"IF(Cover_Sheet!F522=\"\",\"\",Cover_Sheet!F522)","v":""},{"$f":"Cover_Sheet!G522","v":0},{"$f":"Cover_Sheet!H522","v":0}]
[{"$f":"IF(Cover_Sheet!A523=0,\"N\",\"Y\")","v":"N"},{"$f":"Cover_Sheet!B523","v":0},{"$f":"Cover_Sheet!C523","v":0},{"$f":"Cover_Sheet!D523","v":"00:00:00"},{"$f":"Cover_Sheet!E523","v":"00:00:00"},{"$f":"IF(Cover_Sheet!F523=\"\",\"\",Cover_Sheet!F523)","v":""},{"$f":"Cover_Sheet!G523","v":0},{"$f":"Cover_Sheet!H523","v":0}]
[{"$f":"IF(Cover_Sheet!A524=0,\"N\",\"Y\")","v":"N"},{"$f":"Cover_Sheet!B524","v":0},{"$f":"Cover_Sheet!C524","v":0},{"$f":"Cover_Sheet!D524","v":"00:00:00"},{"$f":"Cover_Sheet!E524","v":"00:00:00"},{"$f":"IF(Cover_Sheet!F524=\"\",\"\",Cover_Sheet!F524)","v":""},{"$f":"Cover_Sheet!G524","v":0},{"$f":"Cover_Sheet!H524","v":0}]
[{"$f":"IF(Cover_Sheet!A525=0,\"N\",\"Y\")","v":"N"},{"$f":"Cover_Sheet!B525","v":0},{"$f":"Cover_Sheet!C525","v":0},{"$f":"Cover_Sheet!D525","v":"00:00:00"},{"$f":"Cover_Sheet!E525","v":"00:00:00"},{"$f":"IF(Cover_Sheet!F525=\"\",\"\",Cover_Sheet!F525)","v":""},{"$f":"Cover_Sheet!G525","v":0},{"$f":"Cover_Sheet!H525","v":0}]
[{"$f":"IF(Cover_Sheet!A526=0,\"N\",\"Y\")","v":"N"},{"$f":"Cover_Sheet!B526","v":0},{"$f":"Cover_Sheet!C526","v":0},{"$f":"Cover_Sheet!D526","v":"00:00:00"},{"$f":"Cover_Sheet!E526","v":"00:00:00"},{"$f":"IF(Cover_Sheet!F526=\"\",\"\",Cover_Sheet!F526)","v":""},{"$f":"Cover_Sheet!G526","v":0},{"$f":"Cover_Sheet!H526","v":0}]
[{"$f":"IF(Cover_Sheet!A527=0,\"N\",\"Y\")","v":"N"},{"$f":"Cover_Sheet!B527","v":0},{"$f":"Cover_Sheet!C527","v":0},{"$f":"Cover_Sheet!D527","v":"00:00:00"},{"$f":"Cover_Sheet!E527","v":"00:00:00"},{"$f":"IF(Cover_Sheet!F527=\"\",\"\",Cover_Sheet!F527)","v":""},{"$f":"Cover_Sheet!G527","v":0},{"$f":"Cover_Sheet!H527","v":0}]
[{"$f":"IF(Cover_Sheet!A528=0,\"N\",\"Y\")","v":"N"},{"$f":"Cover_Sheet!B528","v":0},{"$f":"Cover_Sheet!C528","v":0},{"$f":"Cover_Sheet!D528","v":"00:00:00"},{"$f":"Cover_Sheet!E528","v":"00:00:00"},{"$f":"IF(Cover_Sheet!F528=\"\",\"\",Cover_Sheet!F528)","v":""},{"$f":"Cover_Sheet!G528","v":0},{"$f":"Cover_Sheet!H528","v":0}]
[{"$f":"IF(Cover_Sheet!A529=0,\"N\",\"Y\")","v":"N"},{"$f":"Cover_Sheet!B529","v":0},{"$f":"Cover_Sheet!C529","v":0},{"$f":"Cover_Sheet!D529","v":"00:00:00"},{"$f":"Cover_Sheet!E529","v":"00:00:00"},{"$f":"IF(Cover_Sheet!F529=\"\",\"\",Cover_Sheet!F529)","v":""},{"$f":"Cover_Sheet!G529","v":0},{"$f":"Cover_Sheet!H529","v":0}]
[{"$f":"IF(Cover_Sheet!A530=0,\"N\",\"Y\")","v":"N"},{"$f":"Cover_Sheet!B530","v":0},{"$f":"Cover_Sheet!C530","v":0},{"$f":"Cover_Sheet!D530","v":"00:00:00"},{"$f":"Cover_Sheet!E530","v":"00:00:00"},{"$f":"IF(Cover_Sheet!F530=\"\",\"\",Cover_Sheet!F530)","v":""},{"$f":"Cover_Sheet!G530","v":0},{"$f":"Cover_Sheet!H530","v":0}]
[{"$f":"IF(Cover_Sheet!A531=0,\"N\",\"Y\")","v":"N"},{"$f":"Cover_Sheet!B531","v":0},{"$f":"Cover_Sheet!C531","v":0},{"$f":"Cover_Sheet!D531","v":"00:00:00"},{"$f":"Cover_Sheet!E531","v":"00:00:00"},{"$f":"IF(Cover_Sheet!F531=\"\",\"\",Cover_Sheet!F531)","v":""},{"$f":"Cover_Sheet!G531","v":0},{"$f":"Cover_Sheet!H531","v":0}]
[{"$f":"IF(Cover_Sheet!A532=0,\"N\",\"Y\")","v":"N"},{"$f":"Cover_Sheet!B532","v":0},{"$f":"Cover_Sheet!C532","v":0},{"$f":"Cover_Sheet!D532","v":"00:00:00"},{"$f":"Cover_Sheet!E532","v":"00:00:00"},{"$f":"IF(Cover_Sheet!F532=\"\",\"\",Cover_Sheet!F532)","v":""},{"$f":"Cover_Sheet!G532","v":0},{"$f":"Cover_Sheet!H532","v":0}]
[{"$f":"IF(Cover_Sheet!A533=0,\"N\",\"Y\")","v":"N"},{"$f":"Cover_Sheet!B533","v":0},{"$f":"Cover_Sheet!C533","v":0},{"$f":"Cover_Sheet!D533","v":"00:00:00"},{"$f":"Cover_Sheet!E533","v":"00:00:00"},{"$f":"IF(Cover_Sheet!F533=\"\",\"\",Cover_Sheet!F533)","v":""},{"$f":"Cover_Sheet!G533","v":0},{"$f":"Cover_Sheet!H533","v":0}]
[{"$f":"IF(Cover_Sheet!A534=0,\"N\",\"Y\")","v":"N"},{"$f":"Cover_Sheet!B534","v":0},{"$f":"Cover_Sheet!C534","v":0},{"$f":"Cover_Sheet!D534","v":"00:00:00"},{"$f":"Cover_Sheet!E534","v":"00:00:00"},{"$f":"IF(Cover_Sheet!F534=\"\",\"\",Cover_Sheet!F534)","v":""},{"$f":"Cover_Sheet!G534","v":0},{"$f":"Cover_Sheet!H534","v":0}]
[{"$f":"IF(Cover_Sheet!A535=0,\"N\",\"Y\")","v":"N"},{"$f":"Cover_Sheet!B535","v":0},{"$f":"Cover_Sheet!C535","v":0},{"$f":"Cover_Sheet!D535","v":"00:00:00"},{"$f":"Cover_Sheet!E535","v":"00:00:00"},{"$f":"IF(Cover_Sheet!F535=\"\",\"\",Cover_Sheet!F535)","v":""},{"$f":"Cover_Sheet!G535","v":0},{"$f":"Cover_Sheet!H535","v":0}]
[{"$f":"IF(Cover_Sheet!A536=0,\"N\",\"Y\")","v":"N"},{"$f":"Cover_Sheet!B536","v":0},{"$f":"Cover_Sheet!C536","v":0},{"$f":"Cover_Sheet!D536","v":"00:00:00"},{"$f":"Cover_Sheet!E536","v":"00:00:00"},{"$f":"IF(Cover_Sheet!F536=\"\",\"\",Cover_Sheet!F536)","v":""},{"$f":"Cover_Sheet!G536","v":0},{"$f":"Cover_Sheet!H536","v":0}]
[{"$f":"IF(Cover_Sheet!A537=0,\"N\",\"Y\")","v":"N"},{"$f":"Cover_Sheet!B537","v":0},{"$f":"Cover_Sheet!C537","v":0},{"$f":"Cover_Sheet!D537","v":"00:00:00"},{"$f":"Cover_Sheet!E537","v":"00:00:00"},{"$f":"IF(Cover_Sheet!F537=\"\",\"\",Cover_Sheet!F537)","v":""},{"$f":"Cover_Sheet!G537","v":0},{"$f":"Cover_Sheet!H537","v":0}]
[{"$f":"IF(Cover_Sheet!A538=0,\"N\",\"Y\")","v":"N"},{"$f":"Cover_Sheet!B538","v":0},{"$f":"Cover_Sheet!C538","v":0},{"$f":"Cover_Sheet!D538","v":"00:00:00"},{"$f":"Cover_Sheet!E538","v":"00:00:00"},{"$f":"IF(Cover_Sheet!F538=\"\",\"\",Cover_Sheet!F538)","v":""},{"$f":"Cover_Sheet!G538","v":0},{"$f":"Cover_Sheet!H538","v":0}]
[{"$f":"IF(Cover_Sheet!A539=0,\"N\",\"Y\")","v":"N"},{"$f":"Cover_Sheet!B539","v":0},{"$f":"Cover_Sheet!C539","v":0},{"$f":"Cover_Sheet!D539","v":"00:00:00"},{"$f":"Cover_Sheet!E539","v":"00:00:00"},{"$f":"IF(Cover_Sheet!F539=\"\",\"\",Cover_Sheet!F539)","v":""},{"$f":"Cover_Sheet!G539","v":0},{"$f":"Cover_Sheet!H539","v":0}]
[{"$f":"IF(Cover_Sheet!A540=0,\"N\",\"Y\")","v":"N"},{"$f":"Cover_Sheet!B540","v":0},{"$f":"Cover_Sheet!C540","v":0},{"$f":"Cover_Sheet!D540","v":"00:00:00"},{"$f":"Cover_Sheet!E540","v":"00:00:00"},{"$f":"IF(Cover_Sheet!F540=\"\",\"\",Cover_Sheet!F540)","v":""},{"$f":"Cover_Sheet!G540","v":0},{"$f":"Cover_Sheet!H540","v":0}]
[{"$f":"IF(Cover_Sheet!A541=0,\"N\",\"Y\")","v":"N"},{"$f":"Cover_Sheet!B541","v":0},{"$f":"Cover_Sheet!C541","v":0},{"$f":"Cover_Sheet!D541","v":"00:00:00"},{"$f":"Cover_Sheet!E541","v":"00:00:00"},{"$f":"IF(Cover_Sheet!F541=\"\",\"\",Cover_Sheet!F541)","v":""},{"$f":"Cover_Sheet!G541","v":0},{"$f":"Cover_Sheet!H541","v":0}]
[{"$f":"IF(Cover_Sheet!A542=0,\"N\",\"Y\")","v":"N"},{"$f":"Cover_Sheet!B542","v":0},{"$f":"Cover_Sheet!C542","v":0},{"$f":"Cover_Sheet!D542","v":"00:00:00"},{"$f":"Cover_Sheet!E542","v":"00:00:00"},{"$f":"IF(Cover_Sheet!F542=\"\",\"\",Cover_Sheet!F542)","v":""},{"$f":"Cover_Sheet!G542","v":0},{"$f":"Cover_Sheet!H542","v":0}]
[{"$f":"IF(Cover_Sheet!A543=0,\"N\",\"Y\")","v":"N"},{"$f":"Cover_Sheet!B543","v":0},{"$f":"Cover_Sheet!C543","v":0},{"$f":"Cover_Sheet!D543","v":"00:00:00"},{"$f":"Cover_Sheet!E543","v":"00:00:00"},{"$f":"IF(Cover_Sheet!F543=\"\",\"\",Cover_Sheet!F543)","v":""},{"$f":"Cover_Sheet!G543","v":0},{"$f":"Cover_Sheet!H543","v":0}]
[{"$f":"IF(Cover_Sheet!A544=0,\"N\",\"Y\")","v":"N"},{"$f":"Cover_Sheet!B544","v":0},{"$f":"Cover_Sheet!C544","v":0},{"$f":"Cover_Sheet!D544","v":"00:00:00"},{"$f":"Cover_Sheet!E544","v":"00:00:00"},{"$f":"IF(Cover_Sheet!F544=\"\",\"\",Cover_Sheet!F544)","v":""},{"$f":"Cover_Sheet!G544","v":0},{"$f":"Cover_Sheet!H544","v":0}]
[{"$f":"IF(Cover_Sheet!A545=0,\"N\",\"Y\")","v":"N"},{"$f":"Cover_Sheet!B545","v":0},{"$f":"Cover_Sheet!C545","v":0},{"$f":"Cover_Sheet!D545","v":"00:00:00"},{"$f":"Cover_Sheet!E545","v":"00:00:00"},{"$f":"IF(Cover_Sheet!F545=\"\",\"\",Cover_Sheet!F545)","v":""},{"$f":"Cover_Sheet!G545","v":0},{"$f":"Cover_Sheet!H545","v":0}]
[{"$f":"IF(Cover_Sheet!A546=0,\"N\",\"Y\")","v":"N"},{"$f":"Cover_Sheet!B546","v":0},{"$f":"Cover_Sheet!C546","v":0},{"$f":"Cover_Sheet!D546","v":"00:00:00"},{"$f":"Cover_Sheet!E546","v":"00:00:00"},{"$f":"IF(Cover_Sheet!F546=\"\",\"\",Cover_Sheet!F546)","v":""},{"$f":"Cover_Sheet!G546","v":0},{"$f":"Cover_Sheet!H546","v":0}]
[{"$f":"IF(Cover_Sheet!A547=0,\"N\",\"Y\")","v":"N"},{"$f":"Cover_Sheet!B547","v":0},{"$f":"Cover_Sheet!C547","v":0},{"$f":"Cover_Sheet!D547","v":"00:00:00"},{"$f":"Cover_Sheet!E547","v":"00:00:00"},{"$f":"IF(Cover_Sheet!F547=\"\",\"\",Cover_Sheet!F547)","v":""},{"$f":"Cover_Sheet!G547","v":0},{"$f":"Cover_Sheet!H547","v":0}]
[{"$f":"IF(Cover_Sheet!A548=0,\"N\",\"Y\")","v":"N"},{"$f":"Cover_Sheet!B548","v":0},{"$f":"Cover_Sheet!C548","v":0},{"$f":"Cover_Sheet!D548","v":"00:00:00"},{"$f":"Cover_Sheet!E548","v":"00:00:00"},{"$f":"IF(Cover_Sheet!F548=\"\",\"\",Cover_Sheet!F548)","v":""},{"$f":"Cover_Sheet!G548","v":0},{"$f":"Cover_Sheet!H548","v":0}]
[{"$f":"IF(Cover_Sheet!A549=0,\"N\",\"Y\")","v":"N"},{"$f":"Cover_Sheet!B549","v":0},{"$f":"Cover_Sheet!C549","v":0},{"$f":"Cover_Sheet!D549","v":"00:00:00"},{"$f":"Cover_Sheet!E549","v":"00:00:00"},{"$f":"IF(Cover_Sheet!F549=\"\",\"\",Cover_Sheet!F549)","v":""},{"$f":"Cover_Sheet!G549","v":0},{"$f":"Cover_Sheet!H549","v":0}]
[{"$f":"IF(Cover_Sheet!A550=0,\"N\",\"Y\")","v":"N"},{"$f":"Cover_Sheet!B550","v":0},{"$f":"Cover_Sheet!C550","v":0},{"$f":"Cover_Sheet!D550","v":"00:00:00"},{"$f":"Cover_Sheet!E550","v":"00:00:00"},{"$f":"IF(Cover_Sheet!F550=\"\",\"\",Cover_Sheet!F550)","v":""},{"$f":"Cover_Sheet!G550","v":0},{"$f":"Cover_Sheet!H550","v":0}]
[{"$f":"IF(Cover_Sheet!A551=0,\"N\",\"Y\")","v":"N"},{"$f":"Cover_Sheet!B551","v":0},{"$f":"Cover_Sheet!C551","v":0},{"$f":"Cover_Sheet!D551","v":"00:00:00"},{"$f":"Cover_Sheet!E551","v":"00:00:00"},{"$f":"IF(Cover_Sheet!F551=\"\",\"\",Cover_Sheet!F551)","v":""},{"$f":"Cover_Sheet!G551","v":0},{"$f":"Cover_Sheet!H551","v":0}]
[{"$f":"IF(Cover_Sheet!A552=0,\"N\",\"Y\")","v":"N"},{"$f":"Cover_Sheet!B552","v":0},{"$f":"Cover_Sheet!C552","v":0},{"$f":"Cover_Sheet!D552","v":"00:00:00"},{"$f":"Cover_Sheet!E552","v":"00:00:00"},{"$f":"IF(Cover_Sheet!F552=\"\",\"\",Cover_Sheet!F552)","v":""},{"$f":"Cover_Sheet!G552","v":0},{"$f":"Cover_Sheet!H552","v":0}]
[{"$f":"IF(Cover_Sheet!A553=0,\"N\",\"Y\")","v":"N"},{"$f":"Cover_Sheet!B553","v":0},{"$f":"Cover_Sheet!C553","v":0},{"$f":"Cover_Sheet!D553","v":"00:00:00"},{"$f":"Cover_Sheet!E553","v":"00:00:00"},{"$f":"IF(Cover_Sheet!F553=\"\",\"\",Cover_Sheet!F553)","v":""},{"$f":"Cover_Sheet!G553","v":0},{"$f":"Cover_Sheet!H553","v":0}]
[{"$f":"IF(Cover_Sheet!A554=0,\"N\",\"Y\")","v":"N"},{"$f":"Cover_Sheet!B554","v":0},{"$f":"Cover_Sheet!C554","v":0},{"$f":"Cover_Sheet!D554","v":"00:00:00"},{"$f":"Cover_Sheet!E554","v":"00:00:00"},{"$f":"IF(Cover_Sheet!F554=\"\",\"\",Cover_Sheet!F554)","v":""},{"$f":"Cover_Sheet!G554","v":0},{"$f":"Cover_Sheet!H554","v":0}]
[{"$f":"IF(Cover_Sheet!A555=0,\"N\",\"Y\")","v":"N"},{"$f":"Cover_Sheet!B555","v":0},{"$f":"Cover_Sheet!C555","v":0},{"$f":"Cover_Sheet!D555","v":"00:00:00"},{"$f":"Cover_Sheet!E555","v":"00:00:00"},{"$f":"IF(Cover_Sheet!F555=\"\",\"\",Cover_Sheet!F555)","v":""},{"$f":"Cover_Sheet!G555","v":0},{"$f":"Cover_Sheet!H555","v":0}]
[{"$f":"IF(Cover_Sheet!A556=0,\"N\",\"Y\")","v":"N"},{"$f":"Cover_Sheet!B556","v":0},{"$f":"Cover_Sheet!C556","v":0},{"$f":"Cover_Sheet!D556","v":"00:00:00"},{"$f":"Cover_Sheet!E556","v":"00:00:00"},{"$f":"IF(Cover_Sheet!F556=\"\",\"\",Cover_Sheet!F556)","v":""},{"$f":"Cover_Sheet!G556","v":0},{"$f":"Cover_Sheet!H556","v":0}]
[{"$f":"IF(Cover_Sheet!A557=0,\"N\",\"Y\")","v":"N"},{"$f":"Cover_Sheet!B557","v":0},{"$f":"Cover_Sheet!C557","v":0},{"$f":"Cover_Sheet!D557","v":"00:00:00"},{"$f":"Cover_Sheet!E557","v":"00:00:00"},{"$f":"IF(Cover_Sheet!F557=\"\",\"\",Cover_Sheet!F557)","v":""},{"$f":"Cover_Sheet!G557","v":0},{"$f":"Cover_Sheet!H557","v":0}]
[{"$f":"IF(Cover_Sheet!A558=0,\"N\",\"Y\")","v":"N"},{"$f":"Cover_Sheet!B558","v":0},{"$f":"Cover_Sheet!C558","v":0},{"$f":"Cover_Sheet!D558","v":"00:00:00"},{"$f":"Cover_Sheet!E558","v":"00:00:00"},{"$f":"IF(Cover_Sheet!F558=\"\",\"\",Cover_Sheet!F558)","v":""},{"$f":"Cover_Sheet!G558","v":0},{"$f":"Cover_Sheet!H558","v":0}]
[{"$f":"IF(Cover_Sheet!A559=0,\"N\",\"Y\")","v":"N"},{"$f":"Cover_Sheet!B559","v":0},{"$f":"Cover_Sheet!C559","v":0},{"$f":"Cover_Sheet!D559","v":"00:00:00"},{"$f":"Cover_Sheet!E559","v":"00:00:00"},{"$f":"IF(Cover_Sheet!F559=\"\",\"\",Cover_Sheet!F559)","v":""},{"$f":"Cover_Sheet!G559","v":0},{"$f":"Cover_Sheet!H559","v":0}]
[{"$f":"IF(Cover_Sheet!A560=0,\"N\",\"Y\")","v":"N"},{"$f":"Cover_Sheet!B560","v":0},{"$f":"Cover_Sheet!C560","v":0},{"$f":"Cover_Sheet!D560","v":"00:00:00"},{"$f":"Cover_Sheet!E560","v":"00:00:00"},{"$f":"IF(Cover_Sheet!F560=\"\",\"\",Cover_Sheet!F560)","v":""},{"$f":"Cover_Sheet!G560","v":0},{"$f":"Cover_Sheet!H560","v":0}]
[{"$f":"IF(Cover_Sheet!A561=0,\"N\",\"Y\")","v":"N"},{"$f":"Cover_Sheet!B561","v":0},{"$f":"Cover_Sheet!C561","v":0},{"$f":"Cover_Sheet!D561","v":"00:00:00"},{"$f":"Cover_Sheet!E561","v":"00:00:00"},{"$f":"IF(Cover_Sheet!F561=\"\",\"\",Cover_Sheet!F561)","v":""},{"$f":"Cover_Sheet!G561","v":0},{"$f":"Cover_Sheet!H561","v":0}]
[{"$f":"IF(Cover_Sheet!A562=0,\"N\",\"Y\")","v":"N"},{"$f":"Cover_Sheet!B562","v":0},{"$f":"Cover_Sheet!C562","v":0},{"$f":"Cover_Sheet!D562","v":"00:00:00"},{"$f":"Cover_Sheet!E562","v":"00:00:00"},{"$f":"IF(Cover_Sheet!F562=\"\",\"\",Cover_Sheet!F562)","v":""},{"$f":"Cover_Sheet!G562","v":0},{"$f":"Cover_Sheet!H562","v":0}]
[{"$f":"IF(Cover_Sheet!A563=0,\"N\",\"Y\")","v":"N"},{"$f":"Cover_Sheet!B563","v":0},{"$f":"Cover_Sheet!C563","v":0},{"$f":"Cover_Sheet!D563","v":"00:00:00"},{"$f":"Cover_Sheet!E563","v":"00:00:00"},{"$f":"IF(Cover_Sheet!F563=\"\",\"\",Cover_Sheet!F563)","v":""},{"$f":"Cover_Sheet!G563","v":0},{"$f":"Cover_Sheet!H563","v":0}]
[{"$f":"IF(Cover_Sheet!A564=0,\"N\",\"Y\")","v":"N"},{"$f":"Cover_Sheet!B564","v":0},{"$f":"Cover_Sheet!C564","v":0},{"$f":"Cover_Sheet!D564","v":"00:00:00"},{"$f":"Cover_Sheet!E564","v":"00:00:00"},{"$f":"IF(Cover_Sheet!F564=\"\",\"\",Cover_Sheet!F564)","v":""},{"$f":"Cover_Sheet!G564","v":0},{"$f":"Cover_Sheet!H564","v":0}]
[{"$f":"IF(Cover_Sheet!A565=0,\"N\",\"Y\")","v":"N"},{"$f":"Cover_Sheet!B565","v":0},{"$f":"Cover_Sheet!C565","v":0},{"$f":"Cover_Sheet!D565","v":"00:00:00"},{"$f":"Cover_Sheet!E565","v":"00:00:00"},{"$f":"IF(Cover_Sheet!F565=\"\",\"\",Cover_Sheet!F565)","v":""},{"$f":"Cover_Sheet!G565","v":0},{"$f":"Cover_Sheet!H565","v":0}]
[{"$f":"IF(Cover_Sheet!A566=0,\"N\",\"Y\")","v":"N"},{"$f":"Cover_Sheet!B566","v":0},{"$f":"Cover_Sheet!C566","v":0},{"$f":"Cover_Sheet!D566","v":"00:00:00"},{"$f":"Cover_Sheet!E566","v":"00:00:00"},{"$f":"IF(Cover_Sheet!F566=\"\",\"\",Cover_Sheet!F566)","v":""},{"$f":"Cover_Sheet!G566","v":0},{"$f":"Cover_Sheet!H566","v":0}]
[{"$f":"IF(Cover_Sheet!A567=0,\"N\",\"Y\")","v":"N"},{"$f":"Cover_Sheet!B567","v":0},{"$f":"Cover_Sheet!C567","v":0},{"$f":"Cover_Sheet!D567","v":"00:00:00"},{"$f":"Cover_Sheet!E567","v":"00:00:00"},{"$f":"IF(Cover_Sheet!F567=\"\",\"\",Cover_Sheet!F567)","v":""},{"$f":"Cover_Sheet!G567","v":0},{"$f":"Cover_Sheet!H567","v":0}]
[{"$f":"IF(Cover_Sheet!A568=0,\"N\",\"Y\")","v":"N"},{"$f":"Cover_Sheet!B568","v":0},{"$f":"Cover_Sheet!C568","v":0},{"$f":"Cover_Sheet!D568","v":"00:00:00"},{"$f":"Cover_Sheet!E568","v":"00:00:00"},{"$f":"IF(Cover_Sheet!F568=\"\",\"\",Cover_Sheet!F568)","v":""},{"$f":"Cover_Sheet!G568","v":0},{"$f":"Cover_Sheet!H568","v":0}]
[{"$f":"IF(Cover_Sheet!A569=0,\"N\",\"Y\")","v":"N"},{"$f":"Cover_Sheet!B569","v":0},{"$f":"Cover_Sheet!C569","v":0},{"$f":"Cover_Sheet!D569","v":"00:00:00"},{"$f":"Cover_Sheet!E569","v":"00:00:00"},{"$f":"IF(Cover_Sheet!F569=\"\",\"\",Cover_Sheet!F569)","v":""},{"$f":"Cover_Sheet!G569","v":0},{"$f":"Cover_Sheet!H569","v":0}]
[{"$f":"IF(Cover_Sheet!A570=0,\"N\",\"Y\")","v":"N"},{"$f":"Cover_Sheet!B570","v":0},{"$f":"Cover_Sheet!C570","v":0},{"$f":"Cover_Sheet!D570","v":"00:00:00"},{"$f":"Cover_Sheet!E570","v":"00:00:00"},{"$f":"IF(Cover_Sheet!F570=\"\",\"\",Cover_Sheet!F570)","v":""},{"$f":"Cover_Sheet!G570","v":0},{"$f":"Cover_Sheet!H570","v":0}]
[{"$f":"IF(Cover_Sheet!A571=0,\"N\",\"Y\")","v":"N"},{"$f":"Cover_Sheet!B571","v":0},{"$f":"Cover_Sheet!C571","v":0},{"$f":"Cover_Sheet!D571","v":"00:00:00"},{"$f":"Cover_Sheet!E571","v":"00:00:00"},{"$f":"IF(Cover_Sheet!F571=\"\",\"\",Cover_Sheet!F571)","v":""},{"$f":"Cover_Sheet!G571","v":0},{"$f":"Cover_Sheet!H571","v":0}]
[{"$f":"IF(Cover_Sheet!A572=0,\"N\",\"Y\")","v":"N"},{"$f":"Cover_Sheet!B572","v":0},{"$f":"Cover_Sheet!C572","v":0},{"$f":"Cover_Sheet!D572","v":"00:00:00"},{"$f":"Cover_Sheet!E572","v":"00:00:00"},{"$f":"IF(Cover_Sheet!F572=\"\",\"\",Cover_Sheet!F572)","v":""},{"$f":"Cover_Sheet!G572","v":0},{"$f":"Cover_Sheet!H572","v":0}]
[{"$f":"IF(Cover_Sheet!A573=0,\"N\",\"Y\")","v":"N"},{"$f":"Cover_Sheet!B573","v":0},{"$f":"Cover_Sheet!C573","v":0},{"$f":"Cover_Sheet!D573","v":"00:00:00"},{"$f":"Cover_Sheet!E573","v":"00:00:00"},{"$f":"IF(Cover_Sheet!F573=\"\",\"\",Cover_Sheet!F573)","v":""},{"$f":"Cover_Sheet!G573","v":0},{"$f":"Cover_Sheet!H573","v":0}]
[{"$f":"IF(Cover_Sheet!A574=0,\"N\",\"Y\")","v":"N"},{"$f":"Cover_Sheet!B574","v":0},{"$f":"Cover_Sheet!C574","v":0},{"$f":"Cover_Sheet!D574","v":"00:00:00"},{"$f":"Cover_Sheet!E574","v":"00:00:00"},{"$f":"IF(Cover_Sheet!F574=\"\",\"\",Cover_Sheet!F574)","v":""},{"$f":"Cover_Sheet!G574","v":0},{"$f":"Cover_Sheet!H574","v":0}]
[{"$f":"IF(Cover_Sheet!A575=0,\"N\",\"Y\")","v":"N"},{"$f":"Cover_Sheet!B575","v":0},{"$f":"Cover_Sheet!C575","v":0},{"$f":"Cover_Sheet!D575","v":"00:00:00"},{"$f":"Cover_Sheet!E575","v":"00:00:00"},{"$f":"IF(Cover_Sheet!F575=\"\",\"\",Cover_Sheet!F575)","v":""},{"$f":"Cover_Sheet!G575","v":0},{"$f":"Cover_Sheet!H575","v":0}]
[{"$f":"IF(Cover_Sheet!A576=0,\"N\",\"Y\")","v":"N"},{"$f":"Cover_Sheet!B576","v":0},{"$f":"Cover_Sheet!C576","v":0},{"$f":"Cover_Sheet!D576","v":"00:00:00"},{"$f":"Cover_Sheet!E576","v":"00:00:00"},{"$f":"IF(Cover_Sheet!F576=\"\",\"\",Cover_Sheet!F576)","v":""},{"$f":"Cover_Sheet!G576","v":0},{"$f":"Cover_Sheet!H576","v":0}]
[{"$f":"IF(Cover_Sheet!A577=0,\"N\",\"Y\")","v":"N"},{"$f":"Cover_Sheet!B577","v":0},{"$f":"Cover_Sheet!C577","v":0},{"$f":"Cover_Sheet!D577","v":"00:00:00"},{"$f":"Cover_Sheet!E577","v":"00:00:00"},{"$f":"IF(Cover_Sheet!F577=\"\",\"\",Cover_Sheet!F577)","v":""},{"$f":"Cover_Sheet!G577","v":0},{"$f":"Cover_Sheet!H577","v":0}]
[{"$f":"IF(Cover_Sheet!A578=0,\"N\",\"Y\")","v":"N"},{"$f":"Cover_Sheet!B578","v":0},{"$f":"Cover_Sheet!C578","v":0},{"$f":"Cover_Sheet!D578","v":"00:00:00"},{"$f":"Cover_Sheet!E578","v":"00:00:00"},{"$f":"IF(Cover_Sheet!F578=\"\",\"\",Cover_Sheet!F578)","v":""},{"$f":"Cover_Sheet!G578","v":0},{"$f":"Cover_Sheet!H578","v":0}]
[{"$f":"IF(Cover_Sheet!A579=0,\"N\",\"Y\")","v":"N"},{"$f":"Cover_Sheet!B579","v":0},{"$f":"Cover_Sheet!C579","v":0},{"$f":"Cover_Sheet!D579","v":"00:00:00"},{"$f":"Cover_Sheet!E579","v":"00:00:00"},{"$f":"IF(Cover_Sheet!F579=\"\",\"\",Cover_Sheet!F579)","v":""},{"$f":"Cover_Sheet!G579","v":0},{"$f":"Cover_Sheet!H579","v":0}]
[{"$f":"IF(Cover_Sheet!A580=0,\"N\",\"Y\")","v":"N"},{"$f":"Cover_Sheet!B580","v":0},{"$f":"Cover_Sheet!C580","v":0},{"$f":"Cover_Sheet!D580","v":"00:00:00"},{"$f":"Cover_Sheet!E580","v":"00:00:00"},{"$f":"IF(Cover_Sheet!F580=\"\",\"\",Cover_Sheet!F580)","v":""},{"$f":"Cover_Sheet!G580","v":0},{"$f":"Cover_Sheet!H580","v":0}]
[{"$f":"IF(Cover_Sheet!A581=0,\"N\",\"Y\")","v":"N"},{"$f":"Cover_Sheet!B581","v":0},{"$f":"Cover_Sheet!C581","v":0},{"$f":"Cover_Sheet!D581","v":"00:00:00"},{"$f":"Cover_Sheet!E581","v":"00:00:00"},{"$f":"IF(Cover_Sheet!F581=\"\",\"\",Cover_Sheet!F581)","v":""},{"$f":"Cover_Sheet!G581","v":0},{"$f":"Cover_Sheet!H581","v":0}]
[{"$f":"IF(Cover_Sheet!A582=0,\"N\",\"Y\")","v":"N"},{"$f":"Cover_Sheet!B582","v":0},{"$f":"Cover_Sheet!C582","v":0},{"$f":"Cover_Sheet!D582","v":"00:00:00"},{"$f":"Cover_Sheet!E582","v":"00:00:00"},{"$f":"IF(Cover_Sheet!F582=\"\",\"\",Cover_Sheet!F582)","v":""},{"$f":"Cover_Sheet!G582","v":0},{"$f":"Cover_Sheet!H582","v":0}]
[{"$f":"IF(Cover_Sheet!A583=0,\"N\",\"Y\")","v":"N"},{"$f":"Cover_Sheet!B583","v":0},{"$f":"Cover_Sheet!C583","v":0},{"$f":"Cover_Sheet!D583","v":"00:00:00"},{"$f":"Cover_Sheet!E583","v":"00:00:00"},{"$f":"IF(Cover_Sheet!F583=\"\",\"\",Cover_Sheet!F583)","v":""},{"$f":"Cover_Sheet!G583","v":0},{"$f":"Cover_Sheet!H583","v":0}]
[{"$f":"IF(Cover_Sheet!A584=0,\"N\",\"Y\")","v":"N"},{"$f":"Cover_Sheet!B584","v":0},{"$f":"Cover_Sheet!C584","v":0},{"$f":"Cover_Sheet!D584","v":"00:00:00"},{"$f":"Cover_Sheet!E584","v":"00:00:00"},{"$f":"IF(Cover_Sheet!F584=\"\",\"\",Cover_Sheet!F584)","v":""},{"$f":"Cover_Sheet!G584","v":0},{"$f":"Cover_Sheet!H584","v":0}]
[{"$f":"IF(Cover_Sheet!A585=0,\"N\",\"Y\")","v":"N"},{"$f":"Cover_Sheet!B585","v":0},{"$f":"Cover_Sheet!C585","v":0},{"$f":"Cover_Sheet!D585","v":"00:00:00"},{"$f":"Cover_Sheet!E585","v":"00:00:00"},{"$f":"IF(Cover_Sheet!F585=\"\",\"\",Cover_Sheet!F585)","v":""},{"$f":"Cover_Sheet!G585","v":0},{"$f":"Cover_Sheet!H585","v":0}]
[{"$f":"IF(Cover_Sheet!A586=0,\"N\",\"Y\")","v":"N"},{"$f":"Cover_Sheet!B586","v":0},{"$f":"Cover_Sheet!C586","v":0},{"$f":"Cover_Sheet!D586","v":"00:00:00"},{"$f":"Cover_Sheet!E586","v":"00:00:00"},{"$f":"IF(Cover_Sheet!F586=\"\",\"\",Cover_Sheet!F586)","v":""},{"$f":"Cover_Sheet!G586","v":0},{"$f":"Cover_Sheet!H586","v":0}]
[{"$f":"IF(Cover_Sheet!A587=0,\"N\",\"Y\")","v":"N"},{"$f":"Cover_Sheet!B587","v":0},{"$f":"Cover_Sheet!C587","v":0},{"$f":"Cover_Sheet!D587","v":"00:00:00"},{"$f":"Cover_Sheet!E587","v":"00:00:00"},{"$f":"IF(Cover_Sheet!F587=\"\",\"\",Cover_Sheet!F587)","v":""},{"$f":"Cover_Sheet!G587","v":0},{"$f":"Cover_Sheet!H587","v":0}]
[{"$f":"IF(Cover_Sheet!A588=0,\"N\",\"Y\")","v":"N"},{"$f":"Cover_Sheet!B588","v":0},{"$f":"Cover_Sheet!C588","v":0},{"$f":"Cover_Sheet!D588","v":"00:00:00"},{"$f":"Cover_Sheet!E588","v":"00:00:00"},{"$f":"IF(Cover_Sheet!F588=\"\",\"\",Cover_Sheet!F588)","v":""},{"$f":"Cover_Sheet!G588","v":0},{"$f":"Cover_Sheet!H588","v":0}]
[{"$f":"IF(Cover_Sheet!A589=0,\"N\",\"Y\")","v":"N"},{"$f":"Cover_Sheet!B589","v":0},{"$f":"Cover_Sheet!C589","v":0},{"$f":"Cover_Sheet!D589","v":"00:00:00"},{"$f":"Cover_Sheet!E589","v":"00:00:00"},{"$f":"IF(Cover_Sheet!F589=\"\",\"\",Cover_Sheet!F589)","v":""},{"$f":"Cover_Sheet!G589","v":0},{"$f":"Cover_Sheet!H589","v":0}]
[{"$f":"IF(Cover_Sheet!A590=0,\"N\",\"Y\")","v":"N"},{"$f":"Cover_Sheet!B590","v":0},{"$f":"Cover_Sheet!C590","v":0},{"$f":"Cover_Sheet!D590","v":"00:00:00"},{"$f":"Cover_Sheet!E590","v":"00:00:00"},{"$f":"IF(Cover_Sheet!F590=\"\",\"\",Cover_Sheet!F590)","v":""},{"$f":"Cover_Sheet!G590","v":0},{"$f":"Cover_Sheet!H590","v":0}]
[{"$f":"IF(Cover_Sheet!A591=0,\"N\",\"Y\")","v":"N"},{"$f":"Cover_Sheet!B591","v":0},{"$f":"Cover_Sheet!C591","v":0},{"$f":"Cover_Sheet!D591","v":"00:00:00"},{"$f":"Cover_Sheet!E591","v":"00:00:00"},{"$f":"IF(Cover_Sheet!F591=\"\",\"\",Cover_Sheet!F591)","v":""},{"$f":"Cover_Sheet!G591","v":0},{"$f":"Cover_Sheet!H591","v":0}]
[{"$f":"IF(Cover_Sheet!A592=0,\"N\",\"Y\")","v":"N"},{"$f":"Cover_Sheet!B592","v":0},{"$f":"Cover_Sheet!C592","v":0},{"$f":"Cover_Sheet!D592","v":"00:00:00"},{"$f":"Cover_Sheet!E592","v":"00:00:00"},{"$f":"IF(Cover_Sheet!F592=\"\",\"\",Cover_Sheet!F592)","v":""},{"$f":"Cover_Sheet!G592","v":0},{"$f":"Cover_Sheet!H592","v":0}]
[{"$f":"IF(Cover_Sheet!A593=0,\"N\",\"Y\")","v":"N"},{"$f":"Cover_Sheet!B593","v":0},{"$f":"Cover_Sheet!C593","v":0},{"$f":"Cover_Sheet!D593","v":"00:00:00"},{"$f":"Cover_Sheet!E593","v":"00:00:00"},{"$f":"IF(Cover_Sheet!F593=\"\",\"\",Cover_Sheet!F593)","v":""},{"$f":"Cover_Sheet!G593","v":0},{"$f":"Cover_Sheet!H593","v":0}]
[{"$f":"IF(Cover_Sheet!A594=0,\"N\",\"Y\")","v":"N"},{"$f":"Cover_Sheet!B594","v":0},{"$f":"Cover_Sheet!C594","v":0},{"$f":"Cover_Sheet!D594","v":"00:00:00"},{"$f":"Cover_Sheet!E594","v":"00:00:00"},{"$f":"IF(Cover_Sheet!F594=\"\",\"\",Cover_Sheet!F594)","v":""},{"$f":"Cover_Sheet!G594","v":0},{"$f":"Cover_Sheet!H594","v":0}]
[{"$f":"IF(Cover_Sheet!A595=0,\"N\",\"Y\")","v":"N"},{"$f":"Cover_Sheet!B595","v":0},{"$f":"Cover_Sheet!C595","v":0},{"$f":"Cover_Sheet!D595","v":"00:00:00"},{"$f":"Cover_Sheet!E595","v":"00:00:00"},{"$f":"IF(Cover_Sheet!F595=\"\",\"\",Cover_Sheet!F595)","v":""},{"$f":"Cover_Sheet!G595","v":0},{"$f":"Cover_Sheet!H595","v":0}]
[{"$f":"IF(Cover_Sheet!A596=0,\"N\",\"Y\")","v":"N"},{"$f":"Cover_Sheet!B596","v":0},{"$f":"Cover_Sheet!C596","v":0},{"$f":"Cover_Sheet!D596","v":"00:00:00"},{"$f":"Cover_Sheet!E596","v":"00:00:00"},{"$f":"IF(Cover_Sheet!F596=\"\",\"\",Cover_Sheet!F596)","v":""},{"$f":"Cover_Sheet!G596","v":0},{"$f":"Cover_Sheet!H596","v":0}]
[{"$f":"IF(Cover_Sheet!A597=0,\"N\",\"Y\")","v":"N"},{"$f":"Cover_Sheet!B597","v":0},{"$f":"Cover_Sheet!C597","v":0},{"$f":"Cover_Sheet!D597","v":"00:00:00"},{"$f":"Cover_Sheet!E597","v":"00:00:00"},{"$f":"IF(Cover_Sheet!F597=\"\",\"\",Cover_Sheet!F597)","v":""},{"$f":"Cover_Sheet!G597","v":0},{"$f":"Cover_Sheet!H597","v":0}]
[{"$f":"IF(Cover_Sheet!A598=0,\"N\",\"Y\")","v":"N"},{"$f":"Cover_Sheet!B598","v":0},{"$f":"Cover_Sheet!C598","v":0},{"$f":"Cover_Sheet!D598","v":"00:00:00"},{"$f":"Cover_Sheet!E598","v":"00:00:00"},{"$f":"IF(Cover_Sheet!F598=\"\",\"\",Cover_Sheet!F598)","v":""},{"$f":"Cover_Sheet!G598","v":0},{"$f":"Cover_Sheet!H598","v":0}]
[{"$f":"IF(Cover_Sheet!A599=0,\"N\",\"Y\")","v":"N"},{"$f":"Cover_Sheet!B599","v":0},{"$f":"Cover_Sheet!C599","v":0},{"$f":"Cover_Sheet!D599","v":"00:00:00"},{"$f":"Cover_Sheet!E599","v":"00:00:00"},{"$f":"IF(Cover_Sheet!F599=\"\",\"\",Cover_Sheet!F599)","v":""},{"$f":"Cover_Sheet!G599","v":0},{"$f":"Cover_Sheet!H599","v":0}]
[{"$f":"IF(Cover_Sheet!A600=0,\"N\",\"Y\")","v":"N"},{"$f":"Cover_Sheet!B600","v":0},{"$f":"Cover_Sheet!C600","v":0},{"$f":"Cover_Sheet!D600","v":"00:00:00"},{"$f":"Cover_Sheet!E600","v":"00:00:00"},{"$f":"IF(Cover_Sheet!F600=\"\",\"\",Cover_Sheet!F600)","v":""},{"$f":"Cover_Sheet!G600","v":0},{"$f":"Cover_Sheet!H600","v":0}]
[{"$f":"IF(Cover_Sheet!A601=0,\"N\",\"Y\")","v":"N"},{"$f":"Cover_Sheet!B601","v":0},{"$f":"Cover_Sheet!C601","v":0},{"$f":"Cover_Sheet!D601","v":"00:00:00"},{"$f":"Cover_Sheet!E601","v":"00:00:00"},{"$f":"IF(Cover_Sheet!F601=\"\",\"\",Cover_Sheet!F601)","v":""},{"$f":"Cover_Sheet!G601","v":0},{"$f":"Cover_Sheet!H601","v":0}]
[{"$f":"IF(Cover_Sheet!A602=0,\"N\",\"Y\")","v":"N"},{"$f":"Cover_Sheet!B602","v":0},{"$f":"Cover_Sheet!C602","v":0},{"$f":"Cover_Sheet!D602","v":"00:00:00"},{"$f":"Cover_Sheet!E602","v":"00:00:00"},{"$f":"IF(Cover_Sheet!F602=\"\",\"\",Cover_Sheet!F602)","v":""},{"$f":"Cover_Sheet!G602","v":0},{"$f":"Cover_Sheet!H602","v":0}]
[{"$f":"IF(Cover_Sheet!A603=0,\"N\",\"Y\")","v":"N"},{"$f":"Cover_Sheet!B603","v":0},{"$f":"Cover_Sheet!C603","v":0},{"$f":"Cover_Sheet!D603","v":"00:00:00"},{"$f":"Cover_Sheet!E603","v":"00:00:00"},{"$f":"IF(Cover_Sheet!F603=\"\",\"\",Cover_Sheet!F603)","v":""},{"$f":"Cover_Sheet!G603","v":0},{"$f":"Cover_Sheet!H603","v":0}]
[{"$f":"IF(Cover_Sheet!A604=0,\"N\",\"Y\")","v":"N"},{"$f":"Cover_Sheet!B604","v":0},{"$f":"Cover_Sheet!C604","v":0},{"$f":"Cover_Sheet!D604","v":"00:00:00"},{"$f":"Cover_Sheet!E604","v":"00:00:00"},{"$f":"IF(Cover_Sheet!F604=\"\",\"\",Cover_Sheet!F604)","v":""},{"$f":"Cover_Sheet!G604","v":0},{"$f":"Cover_Sheet!H604","v":0}]
[{"$f":"IF(Cover_Sheet!A605=0,\"N\",\"Y\")","v":"N"},{"$f":"Cover_Sheet!B605","v":0},{"$f":"Cover_Sheet!C605","v":0},{"$f":"Cover_Sheet!D605","v":"00:00:00"},{"$f":"Cover_Sheet!E605","v":"00:00:00"},{"$f":"IF(Cover_Sheet!F605=\"\",\"\",Cover_Sheet!F605)","v":""},{"$f":"Cover_Sheet!G605","v":0},{"$f":"Cover_Sheet!H605","v":0}]
[{"$f":"IF(Cover_Sheet!A606=0,\"N\",\"Y\")","v":"N"},{"$f":"Cover_Sheet!B606","v":0},{"$f":"Cover_Sheet!C606","v":0},{"$f":"Cover_Sheet!D606","v":"00:00:00"},{"$f":"Cover_Sheet!E606","v":"00:00:00"},{"$f":"IF(Cover_Sheet!F606=\"\",\"\",Cover_Sheet!F606)","v":""},{"$f":"Cover_Sheet!G606","v":0},{"$f":"Cover_Sheet!H606","v":0}]
[{"$f":"IF(Cover_Sheet!A607=0,\"N\",\"Y\")","v":"N"},{"$f":"Cover_Sheet!B607","v":0},{"$f":"Cover_Sheet!C607","v":0},{"$f":"Cover_Sheet!D607","v":"00:00:00"},{"$f":"Cover_Sheet!E607","v":"00:00:00"},{"$f":"IF(Cover_Sheet!F607=\"\",\"\",Cover_Sheet!F607)","v":""},{"$f":"Cover_Sheet!G607","v":0},{"$f":"Cover_Sheet!H607","v":0}]
[{"$f":"IF(Cover_Sheet!A608=0,\"N\",\"Y\")","v":"N"},{"$f":"Cover_Sheet!B608","v":0},{"$f":"Cover_Sheet!C608","v":0},{"$f":"Cover_Sheet!D608","v":"00:00:00"},{"$f":"Cover_Sheet!E608","v":"00:00:00"},{"$f":"IF(Cover_Sheet!F608=\"\",\"\",Cover_Sheet!F608)","v":""},{"$f":"Cover_Sheet!G608","v":0},{"$f":"Cover_Sheet!H608","v":0}]
[{"$f":"IF(Cover_Sheet!A609=0,\"N\",\"Y\")","v":"N"},{"$f":"Cover_Sheet!B609","v":0},{"$f":"Cover_Sheet!C609","v":0},{"$f":"Cover_Sheet!D609","v":"00:00:00"},{"$f":"Cover_Sheet!E609","v":"00:00:00"},{"$f":"IF(Cover_Sheet!F609=\"\",\"\",Cover_Sheet!F609)","v":""},{"$f":"Cover_Sheet!G609","v":0},{"$f":"Cover_Sheet!H609","v":0}]
[{"$f":"IF(Cover_Sheet!A610=0,\"N\",\"Y\")","v":"N"},{"$f":"Cover_Sheet!B610","v":0},{"$f":"Cover_Sheet!C610","v":0},{"$f":"Cover_Sheet!D610","v":"00:00:00"},{"$f":"Cover_Sheet!E610","v":"00:00:00"},{"$f":"IF(Cover_Sheet!F610=\"\",\"\",Cover_Sheet!F610)","v":""},{"$f":"Cover_Sheet!G610","v":0},{"$f":"Cover_Sheet!H610","v":0}]
[{"$f":"IF(Cover_Sheet!A611=0,\"N\",\"Y\")","v":"N"},{"$f":"Cover_Sheet!B611","v":0},{"$f":"Cover_Sheet!C611","v":0},{"$f":"Cover_Sheet!D611","v":"00:00:00"},{"$f":"Cover_Sheet!E611","v":"00:00:00"},{"$f":"IF(Cover_Sheet!F611=\"\",\"\",Cover_Sheet!F611)","v":""},{"$f":"Cover_Sheet!G611","v":0},{"$f":"Cover_Sheet!H611","v":0}]
[{"$f":"IF(Cover_Sheet!A612=0,\"N\",\"Y\")","v":"N"},{"$f":"Cover_Sheet!B612","v":0},{"$f":"Cover_Sheet!C612","v":0},{"$f":"Cover_Sheet!D612","v":"00:00:00"},{"$f":"Cover_Sheet!E612","v":"00:00:00"},{"$f":"IF(Cover_Sheet!F612=\"\",\"\",Cover_Sheet!F612)","v":""},{"$f":"Cover_Sheet!G612","v":0},{"$f":"Cover_Sheet!H612","v":0}]
[{"$f":"IF(Cover_Sheet!A613=0,\"N\",\"Y\")","v":"N"},{"$f":"Cover_Sheet!B613","v":0},{"$f":"Cover_Sheet!C613","v":0},{"$f":"Cover_Sheet!D613","v":"00:00:00"},{"$f":"Cover_Sheet!E613","v":"00:00:00"},{"$f":"IF(Cover_Sheet!F613=\"\",\"\",Cover_Sheet!F613)","v":""},{"$f":"Cover_Sheet!G613","v":0},{"$f":"Cover_Sheet!H613","v":0}]
[{"$f":"IF(Cover_Sheet!A614=0,\"N\",\"Y\")","v":"N"},{"$f":"Cover_Sheet!B614","v":0},{"$f":"Cover_Sheet!C614","v":0},{"$f":"Cover_Sheet!D614","v":"00:00:00"},{"$f":"Cover_Sheet!E614","v":"00:00:00"},{"$f":"IF(Cover_Sheet!F614=\"\",\"\",Cover_Sheet!F614)","v":""},{"$f":"Cover_Sheet!G614","v":0},{"$f":"Cover_Sheet!H614","v":0}]
[{"$f":"IF(Cover_Sheet!A615=0,\"N\",\"Y\")","v":"N"},{"$f":"Cover_Sheet!B615","v":0},{"$f":"Cover_Sheet!C615","v":0},{"$f":"Cover_Sheet!D615","v":"00:00:00"},{"$f":"Cover_Sheet!E615","v":"00:00:00"},{"$f":"IF(Cover_Sheet!F615=\"\",\"\",Cover_Sheet!F615)","v":""},{"$f":"Cover_Sheet!G615","v":0},{"$f":"Cover_Sheet!H615","v":0}]
[{"$f":"IF(Cover_Sheet!A616=0,\"N\",\"Y\")","v":"N"},{"$f":"Cover_Sheet!B616","v":0},{"$f":"Cover_Sheet!C616","v":0},{"$f":"Cover_Sheet!D616","v":"00:00:00"},{"$f":"Cover_Sheet!E616","v":"00:00:00"},{"$f":"IF(Cover_Sheet!F616=\"\",\"\",Cover_Sheet!F616)","v":""},{"$f":"Cover_Sheet!G616","v":0},{"$f":"Cover_Sheet!H616","v":0}]
[{"$f":"IF(Cover_Sheet!A617=0,\"N\",\"Y\")","v":"N"},{"$f":"Cover_Sheet!B617","v":0},{"$f":"Cover_Sheet!C617","v":0},{"$f":"Cover_Sheet!D617","v":"00:00:00"},{"$f":"Cover_Sheet!E617","v":"00:00:00"},{"$f":"IF(Cover_Sheet!F617=\"\",\"\",Cover_Sheet!F617)","v":""},{"$f":"Cover_Sheet!G617","v":0},{"$f":"Cover_Sheet!H617","v":0}]
[{"$f":"IF(Cover_Sheet!A618=0,\"N\",\"Y\")","v":"N"},{"$f":"Cover_Sheet!B618","v":0},{"$f":"Cover_Sheet!C618","v":0},{"$f":"Cover_Sheet!D618","v":"00:00:00"},{"$f":"Cover_Sheet!E618","v":"00:00:00"},{"$f":"IF(Cover_Sheet!F618=\"\",\"\",Cover_Sheet!F618)","v":""},{"$f":"Cover_Sheet!G618","v":0},{"$f":"Cover_Sheet!H618","v":0}]
[{"$f":"IF(Cover_Sheet!A619=0,\"N\",\"Y\")","v":"N"},{"$f":"Cover_Sheet!B619","v":0},{"$f":"Cover_Sheet!C619","v":0},{"$f":"Cover_Sheet!D619","v":"00:00:00"},{"$f":"Cover_Sheet!E619","v":"00:00:00"},{"$f":"IF(Cover_Sheet!F619=\"\",\"\",Cover_Sheet!F619)","v":""},{"$f":"Cover_Sheet!G619","v":0},{"$f":"Cover_Sheet!H619","v":0}]
[{"$f":"IF(Cover_Sheet!A620=0,\"N\",\"Y\")","v":"N"},{"$f":"Cover_Sheet!B620","v":0},{"$f":"Cover_Sheet!C620","v":0},{"$f":"Cover_Sheet!D620","v":"00:00:00"},{"$f":"Cover_Sheet!E620","v":"00:00:00"},{"$f":"IF(Cover_Sheet!F620=\"\",\"\",Cover_Sheet!F620)","v":""},{"$f":"Cover_Sheet!G620","v":0},{"$f":"Cover_Sheet!H620","v":0}]
[{"$f":"IF(Cover_Sheet!A621=0,\"N\",\"Y\")","v":"N"},{"$f":"Cover_Sheet!B621","v":0},{"$f":"Cover_Sheet!C621","v":0},{"$f":"Cover_Sheet!D621","v":"00:00:00"},{"$f":"Cover_Sheet!E621","v":"00:00:00"},{"$f":"IF(Cover_Sheet!F621=\"\",\"\",Cover_Sheet!F621)","v":""},{"$f":"Cover_Sheet!G621","v":0},{"$f":"Cover_Sheet!H621","v":0}]
[{"$f":"IF(Cover_Sheet!A622=0,\"N\",\"Y\")","v":"N"},{"$f":"Cover_Sheet!B622","v":0},{"$f":"Cover_Sheet!C622","v":0},{"$f":"Cover_Sheet!D622","v":"00:00:00"},{"$f":"Cover_Sheet!E622","v":"00:00:00"},{"$f":"IF(Cover_Sheet!F622=\"\",\"\",Cover_Sheet!F622)","v":""},{"$f":"Cover_Sheet!G622","v":0},{"$f":"Cover_Sheet!H622","v":0}]
[{"$f":"IF(Cover_Sheet!A623=0,\"N\",\"Y\")","v":"N"},{"$f":"Cover_Sheet!B623","v":0},{"$f":"Cover_Sheet!C623","v":0},{"$f":"Cover_Sheet!D623","v":"00:00:00"},{"$f":"Cover_Sheet!E623","v":"00:00:00"},{"$f":"IF(Cover_Sheet!F623=\"\",\"\",Cover_Sheet!F623)","v":""},{"$f":"Cover_Sheet!G623","v":0},{"$f":"Cover_Sheet!H623","v":0}]
[{"$f":"IF(Cover_Sheet!A624=0,\"N\",\"Y\")","v":"N"},{"$f":"Cover_Sheet!B624","v":0},{"$f":"Cover_Sheet!C624","v":0},{"$f":"Cover_Sheet!D624","v":"00:00:00"},{"$f":"Cover_Sheet!E624","v":"00:00:00"},{"$f":"IF(Cover_Sheet!F624=\"\",\"\",Cover_Sheet!F624)","v":""},{"$f":"Cover_Sheet!G624","v":0},{"$f":"Cover_Sheet!H624","v":0}]
[{"$f":"IF(Cover_Sheet!A625=0,\"N\",\"Y\")","v":"N"},{"$f":"Cover_Sheet!B625","v":0},{"$f":"Cover_Sheet!C625","v":0},{"$f":"Cover_Sheet!D625","v":"00:00:00"},{"$f":"Cover_Sheet!E625","v":"00:00:00"},{"$f":"IF(Cover_Sheet!F625=\"\",\"\",Cover_Sheet!F625)","v":""},{"$f":"Cover_Sheet!G625","v":0},{"$f":"Cover_Sheet!H625","v":0}]
[{"$f":"IF(Cover_Sheet!A626=0,\"N\",\"Y\")","v":"N"},{"$f":"Cover_Sheet!B626","v":0},{"$f":"Cover_Sheet!C626","v":0},{"$f":"Cover_Sheet!D626","v":"00:00:00"},{"$f":"Cover_Sheet!E626","v":"00:00:00"},{"$f":"IF(Cover_Sheet!F626=\"\",\"\",Cover_Sheet!F626)","v":""},{"$f":"Cover_Sheet!G626","v":0},{"$f":"Cover_Sheet!H626","v":0}]
[{"$f":"IF(Cover_Sheet!A627=0,\"N\",\"Y\")","v":"N"},{"$f":"Cover_Sheet!B627","v":0},{"$f":"Cover_Sheet!C627","v":0},{"$f":"Cover_Sheet!D627","v":"00:00:00"},{"$f":"Cover_Sheet!E627","v":"00:00:00"},{"$f":"IF(Cover_Sheet!F627=\"\",\"\",Cover_Sheet!F627)","v":""},{"$f":"Cover_Sheet!G627","v":0},{"$f":"Cover_Sheet!H627","v":0}]
[{"$f":"IF(Cover_Sheet!A628=0,\"N\",\"Y\")","v":"N"},{"$f":"Cover_Sheet!B628","v":0},{"$f":"Cover_Sheet!C628","v":0},{"$f":"Cover_Sheet!D628","v":"00:00:00"},{"$f":"Cover_Sheet!E628","v":"00:00:00"},{"$f":"IF(Cover_Sheet!F628=\"\",\"\",Cover_Sheet!F628)","v":""},{"$f":"Cover_Sheet!G628","v":0},{"$f":"Cover_Sheet!H628","v":0}]
[{"$f":"IF(Cover_Sheet!A629=0,\"N\",\"Y\")","v":"N"},{"$f":"Cover_Sheet!B629","v":0},{"$f":"Cover_Sheet!C629","v":0},{"$f":"Cover_Sheet!D629","v":"00:00:00"},{"$f":"Cover_Sheet!E629","v":"00:00:00"},{"$f":"IF(Cover_Sheet!F629=\"\",\"\",Cover_Sheet!F629)","v":""},{"$f":"Cover_Sheet!G629","v":0},{"$f":"Cover_Sheet!H629","v":0}]
[{"$f":"IF(Cover_Sheet!A630=0,\"N\",\"Y\")","v":"N"},{"$f":"Cover_Sheet!B630","v":0},{"$f":"Cover_Sheet!C630","v":0},{"$f":"Cover_Sheet!D630","v":"00:00:00"},{"$f":"Cover_Sheet!E630","v":"00:00:00"},{"$f":"IF(Cover_Sheet!F630=\"\",\"\",Cover_Sheet!F630)","v":""},{"$f":"Cover_Sheet!G630","v":0},{"$f":"Cover_Sheet!H630","v":0}]
[{"$f":"IF(Cover_Sheet!A631=0,\"N\",\"Y\")","v":"N"},{"$f":"Cover_Sheet!B631","v":0},{"$f":"Cover_Sheet!C631","v":0},{"$f":"Cover_Sheet!D631","v":"00:00:00"},{"$f":"Cover_Sheet!E631","v":"00:00:00"},{"$f":"IF(Cover_Sheet!F631=\"\",\"\",Cover_Sheet!F631)","v":""},{"$f":"Cover_Sheet!G631","v":0},{"$f":"Cover_Sheet!H631","v":0}]
[{"$f":"IF(Cover_Sheet!A632=0,\"N\",\"Y\")","v":"N"},{"$f":"Cover_Sheet!B632","v":0},{"$f":"Cover_Sheet!C632","v":0},{"$f":"Cover_Sheet!D632","v":"00:00:00"},{"$f":"Cover_Sheet!E632","v":"00:00:00"},{"$f":"IF(Cover_Sheet!F632=\"\",\"\",Cover_Sheet!F632)","v":""},{"$f":"Cover_Sheet!G632","v":0},{"$f":"Cover_Sheet!H632","v":0}]
[{"$f":"IF(Cover_Sheet!A633=0,\"N\",\"Y\")","v":"N"},{"$f":"Cover_Sheet!B633","v":0},{"$f":"Cover_Sheet!C633","v":0},{"$f":"Cover_Sheet!D633","v":"00:00:00"},{"$f":"Cover_Sheet!E633","v":"00:00:00"},{"$f":"IF(Cover_Sheet!F633=\"\",\"\",Cover_Sheet!F633)","v":""},{"$f":"Cover_Sheet!G633","v":0},{"$f":"Cover_Sheet!H633","v":0}]
[{"$f":"IF(Cover_Sheet!A634=0,\"N\",\"Y\")","v":"N"},{"$f":"Cover_Sheet!B634","v":0},{"$f":"Cover_Sheet!C634","v":0},{"$f":"Cover_Sheet!D634","v":"00:00:00"},{"$f":"Cover_Sheet!E634","v":"00:00:00"},{"$f":"IF(Cover_Sheet!F634=\"\",\"\",Cover_Sheet!F634)","v":""},{"$f":"Cover_Sheet!G634","v":0},{"$f":"Cover_Sheet!H634","v":0}]
[{"$f":"IF(Cover_Sheet!A635=0,\"N\",\"Y\")","v":"N"},{"$f":"Cover_Sheet!B635","v":0},{"$f":"Cover_Sheet!C635","v":0},{"$f":"Cover_Sheet!D635","v":"00:00:00"},{"$f":"Cover_Sheet!E635","v":"00:00:00"},{"$f":"IF(Cover_Sheet!F635=\"\",\"\",Cover_Sheet!F635)","v":""},{"$f":"Cover_Sheet!G635","v":0},{"$f":"Cover_Sheet!H635","v":0}]
[{"$f":"IF(Cover_Sheet!A636=0,\"N\",\"Y\")","v":"N"},{"$f":"Cover_Sheet!B636","v":0},{"$f":"Cover_Sheet!C636","v":0},{"$f":"Cover_Sheet!D636","v":"00:00:00"},{"$f":"Cover_Sheet!E636","v":"00:00:00"},{"$f":"IF(Cover_Sheet!F636=\"\",\"\",Cover_Sheet!F636)","v":""},{"$f":"Cover_Sheet!G636","v":0},{"$f":"Cover_Sheet!H636","v":0}]
[{"$f":"IF(Cover_Sheet!A637=0,\"N\",\"Y\")","v":"N"},{"$f":"Cover_Sheet!B637","v":0},{"$f":"Cover_Sheet!C637","v":0},{"$f":"Cover_Sheet!D637","v":"00:00:00"},{"$f":"Cover_Sheet!E637","v":"00:00:00"},{"$f":"IF(Cover_Sheet!F637=\"\",\"\",Cover_Sheet!F637)","v":""},{"$f":"Cover_Sheet!G637","v":0},{"$f":"Cover_Sheet!H637","v":0}]
[{"$f":"IF(Cover_Sheet!A638=0,\"N\",\"Y\")","v":"N"},{"$f":"Cover_Sheet!B638","v":0},{"$f":"Cover_Sheet!C638","v":0},{"$f":"Cover_Sheet!D638","v":"00:00:00"},{"$f":"Cover_Sheet!E638","v":"00:00:00"},{"$f":"IF(Cover_Sheet!F638=\"\",\"\",Cover_Sheet!F638)","v":""},{"$f":"Cover_Sheet!G638","v":0},{"$f":"Cover_Sheet!H638","v":0}]
[{"$f":"IF(Cover_Sheet!A639=0,\"N\",\"Y\")","v":"N"},{"$f":"Cover_Sheet!B639","v":0},{"$f":"Cover_Sheet!C639","v":0},{"$f":"Cover_Sheet!D639","v":"00:00:00"},{"$f":"Cover_Sheet!E639","v":"00:00:00"},{"$f":"IF(Cover_Sheet!F639=\"\",\"\",Cover_Sheet!F639)","v":""},{"$f":"Cover_Sheet!G639","v":0},{"$f":"Cover_Sheet!H639","v":0}]
[{"$f":"IF(Cover_Sheet!A640=0,\"N\",\"Y\")","v":"N"},{"$f":"Cover_Sheet!B640","v":0},{"$f":"Cover_Sheet!C640","v":0},{"$f":"Cover_Sheet!D640","v":"00:00:00"},{"$f":"Cover_Sheet!E640","v":"00:00:00"},{"$f":"IF(Cover_Sheet!F640=\"\",\"\",Cover_Sheet!F640)","v":""},{"$f":"Cover_Sheet!G640","v":0},{"$f":"Cover_Sheet!H640","v":0}]
[{"$f":"IF(Cover_Sheet!A641=0,\"N\",\"Y\")","v":"N"},{"$f":"Cover_Sheet!B641","v":0},{"$f":"Cover_Sheet!C641","v":0},{"$f":"Cover_Sheet!D641","v":"00:00:00"},{"$f":"Cover_Sheet!E641","v":"00:00:00"},{"$f":"IF(Cover_Sheet!F641=\"\",\"\",Cover_Sheet!F641)","v":""},{"$f":"Cover_Sheet!G641","v":0},{"$f":"Cover_Sheet!H641","v":0}]
[{"$f":"IF(Cover_Sheet!A642=0,\"N\",\"Y\")","v":"N"},{"$f":"Cover_Sheet!B642","v":0},{"$f":"Cover_Sheet!C642","v":0},{"$f":"Cover_Sheet!D642","v":"00:00:00"},{"$f":"Cover_Sheet!E642","v":"00:00:00"},{"$f":"IF(Cover_Sheet!F642=\"\",\"\",Cover_Sheet!F642)","v":""},{"$f":"Cover_Sheet!G642","v":0},{"$f":"Cover_Sheet!H642","v":0}]
[{"$f":"IF(Cover_Sheet!A643=0,\"N\",\"Y\")","v":"N"},{"$f":"Cover_Sheet!B643","v":0},{"$f":"Cover_Sheet!C643","v":0},{"$f":"Cover_Sheet!D643","v":"00:00:00"},{"$f":"Cover_Sheet!E643","v":"00:00:00"},{"$f":"IF(Cover_Sheet!F643=\"\",\"\",Cover_Sheet!F643)","v":""},{"$f":"Cover_Sheet!G643","v":0},{"$f":"Cover_Sheet!H643","v":0}]
[{"$f":"IF(Cover_Sheet!A644=0,\"N\",\"Y\")","v":"N"},{"$f":"Cover_Sheet!B644","v":0},{"$f":"Cover_Sheet!C644","v":0},{"$f":"Cover_Sheet!D644","v":"00:00:00"},{"$f":"Cover_Sheet!E644","v":"00:00:00"},{"$f":"IF(Cover_Sheet!F644=\"\",\"\",Cover_Sheet!F644)","v":""},{"$f":"Cover_Sheet!G644","v":0},{"$f":"Cover_Sheet!H644","v":0}]
[{"$f":"IF(Cover_Sheet!A645=0,\"N\",\"Y\")","v":"N"},{"$f":"Cover_Sheet!B645","v":0},{"$f":"Cover_Sheet!C645","v":0},{"$f":"Cover_Sheet!D645","v":"00:00:00"},{"$f":"Cover_Sheet!E645","v":"00:00:00"},{"$f":"IF(Cover_Sheet!F645=\"\",\"\",Cover_Sheet!F645)","v":""},{"$f":"Cover_Sheet!G645","v":0},{"$f":"Cover_Sheet!H645","v":0}]
[{"$f":"IF(Cover_Sheet!A646=0,\"N\",\"Y\")","v":"N"},{"$f":"Cover_Sheet!B646","v":0},{"$f":"Cover_Sheet!C646","v":0},{"$f":"Cover_Sheet!D646","v":"00:00:00"},{"$f":"Cover_Sheet!E646","v":"00:00:00"},{"$f":"IF(Cover_Sheet!F646=\"\",\"\",Cover_Sheet!F646)","v":""},{"$f":"Cover_Sheet!G646","v":0},{"$f":"Cover_Sheet!H646","v":0}]
[{"$f":"IF(Cover_Sheet!A647=0,\"N\",\"Y\")","v":"N"},{"$f":"Cover_Sheet!B647","v":0},{"$f":"Cover_Sheet!C647","v":0},{"$f":"Cover_Sheet!D647","v":"00:00:00"},{"$f":"Cover_Sheet!E647","v":"00:00:00"},{"$f":"IF(Cover_Sheet!F647=\"\",\"\",Cover_Sheet!F647)","v":""},{"$f":"Cover_Sheet!G647","v":0},{"$f":"Cover_Sheet!H647","v":0}]
[{"$f":"IF(Cover_Sheet!A648=0,\"N\",\"Y\")","v":"N"},{"$f":"Cover_Sheet!B648","v":0},{"$f":"Cover_Sheet!C648","v":0},{"$f":"Cover_Sheet!D648","v":"00:00:00"},{"$f":"Cover_Sheet!E648","v":"00:00:00"},{"$f":"IF(Cover_Sheet!F648=\"\",\"\",Cover_Sheet!F648)","v":""},{"$f":"Cover_Sheet!G648","v":0},{"$f":"Cover_Sheet!H648","v":0}]
[{"$f":"IF(Cover_Sheet!A649=0,\"N\",\"Y\")","v":"N"},{"$f":"Cover_Sheet!B649","v":0},{"$f":"Cover_Sheet!C649","v":0},{"$f":"Cover_Sheet!D649","v":"00:00:00"},{"$f":"Cover_Sheet!E649","v":"00:00:00"},{"$f":"IF(Cover_Sheet!F649=\"\",\"\",Cover_Sheet!F649)","v":""},{"$f":"Cover_Sheet!G649","v":0},{"$f":"Cover_Sheet!H649","v":0}]
[{"$f":"IF(Cover_Sheet!A650=0,\"N\",\"Y\")","v":"N"},{"$f":"Cover_Sheet!B650","v":0},{"$f":"Cover_Sheet!C650","v":0},{"$f":"Cover_Sheet!D650","v":"00:00:00"},{"$f":"Cover_Sheet!E650","v":"00:00:00"},{"$f":"IF(Cover_Sheet!F650=\"\",\"\",Cover_Sheet!F650)","v":""},{"$f":"Cover_Sheet!G650","v":0},{"$f":"Cover_Sheet!H650","v":0}]
[{"$f":"IF(Cover_Sheet!A651=0,\"N\",\"Y\")","v":"N"},{"$f":"Cover_Sheet!B651","v":0},{"$f":"Cover_Sheet!C651","v":0},{"$f":"Cover_Sheet!D651","v":"00:00:00"},{"$f":"Cover_Sheet!E651","v":"00:00:00"},{"$f":"IF(Cover_Sheet!F651=\"\",\"\",Cover_Sheet!F651)","v":""},{"$f":"Cover_Sheet!G651","v":0},{"$f":"Cover_Sheet!H651","v":0}]
[{"$f":"IF(Cover_Sheet!A652=0,\"N\",\"Y\")","v":"N"},{"$f":"Cover_Sheet!B652","v":0},{"$f":"Cover_Sheet!C652","v":0},{"$f":"Cover_Sheet!D652","v":"00:00:00"},{"$f":"Cover_Sheet!E652","v":"00:00:00"},{"$f":"IF(Cover_Sheet!F652=\"\",\"\",Cover_Sheet!F652)","v":""},{"$f":"Cover_Sheet!G652","v":0},{"$f":"Cover_Sheet!H652","v":0}]
[{"$f":"IF(Cover_Sheet!A653=0,\"N\",\"Y\")","v":"N"},{"$f":"Cover_Sheet!B653","v":0},{"$f":"Cover_Sheet!C653","v":0},{"$f":"Cover_Sheet!D653","v":"00:00:00"},{"$f":"Cover_Sheet!E653","v":"00:00:00"},{"$f":"IF(Cover_Sheet!F653=\"\",\"\",Cover_Sheet!F653)","v":""},{"$f":"Cover_Sheet!G653","v":0},{"$f":"Cover_Sheet!H653","v":0}]
[{"$f":"IF(Cover_Sheet!A654=0,\"N\",\"Y\")","v":"N"},{"$f":"Cover_Sheet!B654","v":0},{"$f":"Cover_Sheet!C654","v":0},{"$f":"Cover_Sheet!D654","v":"00:00:00"},{"$f":"Cover_Sheet!E654","v":"00:00:00"},{"$f":"IF(Cover_Sheet!F654=\"\",\"\",Cover_Sheet!F654)","v":""},{"$f":"Cover_Sheet!G654","v":0},{"$f":"Cover_Sheet!H654","v":0}]
[{"$f":"IF(Cover_Sheet!A655=0,\"N\",\"Y\")","v":"N"},{"$f":"Cover_Sheet!B655","v":0},{"$f":"Cover_Sheet!C655","v":0},{"$f":"Cover_Sheet!D655","v":"00:00:00"},{"$f":"Cover_Sheet!E655","v":"00:00:00"},{"$f":"IF(Cover_Sheet!F655=\"\",\"\",Cover_Sheet!F655)","v":""},{"$f":"Cover_Sheet!G655","v":0},{"$f":"Cover_Sheet!H655","v":0}]
[{"$f":"IF(Cover_Sheet!A656=0,\"N\",\"Y\")","v":"N"},{"$f":"Cover_Sheet!B656","v":0},{"$f":"Cover_Sheet!C656","v":0},{"$f":"Cover_Sheet!D656","v":"00:00:00"},{"$f":"Cover_Sheet!E656","v":"00:00:00"},{"$f":"IF(Cover_Sheet!F656=\"\",\"\",Cover_Sheet!F656)","v":""},{"$f":"Cover_Sheet!G656","v":0},{"$f":"Cover_Sheet!H656","v":0}]
[{"$f":"IF(Cover_Sheet!A657=0,\"N\",\"Y\")","v":"N"},{"$f":"Cover_Sheet!B657","v":0},{"$f":"Cover_Sheet!C657","v":0},{"$f":"Cover_Sheet!D657","v":"00:00:00"},{"$f":"Cover_Sheet!E657","v":"00:00:00"},{"$f":"IF(Cover_Sheet!F657=\"\",\"\",Cover_Sheet!F657)","v":""},{"$f":"Cover_Sheet!G657","v":0},{"$f":"Cover_Sheet!H657","v":0}]
[{"$f":"IF(Cover_Sheet!A658=0,\"N\",\"Y\")","v":"N"},{"$f":"Cover_Sheet!B658","v":0},{"$f":"Cover_Sheet!C658","v":0},{"$f":"Cover_Sheet!D658","v":"00:00:00"},{"$f":"Cover_Sheet!E658","v":"00:00:00"},{"$f":"IF(Cover_Sheet!F658=\"\",\"\",Cover_Sheet!F658)","v":""},{"$f":"Cover_Sheet!G658","v":0},{"$f":"Cover_Sheet!H658","v":0}]
[{"$f":"IF(Cover_Sheet!A659=0,\"N\",\"Y\")","v":"N"},{"$f":"Cover_Sheet!B659","v":0},{"$f":"Cover_Sheet!C659","v":0},{"$f":"Cover_Sheet!D659","v":"00:00:00"},{"$f":"Cover_Sheet!E659","v":"00:00:00"},{"$f":"IF(Cover_Sheet!F659=\"\",\"\",Cover_Sheet!F659)","v":""},{"$f":"Cover_Sheet!G659","v":0},{"$f":"Cover_Sheet!H659","v":0}]
[{"$f":"IF(Cover_Sheet!A660=0,\"N\",\"Y\")","v":"N"},{"$f":"Cover_Sheet!B660","v":0},{"$f":"Cover_Sheet!C660","v":0},{"$f":"Cover_Sheet!D660","v":"00:00:00"},{"$f":"Cover_Sheet!E660","v":"00:00:00"},{"$f":"IF(Cover_Sheet!F660=\"\",\"\",Cover_Sheet!F660)","v":""},{"$f":"Cover_Sheet!G660","v":0},{"$f":"Cover_Sheet!H660","v":0}]
[{"$f":"IF(Cover_Sheet!A661=0,\"N\",\"Y\")","v":"N"},{"$f":"Cover_Sheet!B661","v":0},{"$f":"Cover_Sheet!C661","v":0},{"$f":"Cover_Sheet!D661","v":"00:00:00"},{"$f":"Cover_Sheet!E661","v":"00:00:00"},{"$f":"IF(Cover_Sheet!F661=\"\",\"\",Cover_Sheet!F661)","v":""},{"$f":"Cover_Sheet!G661","v":0},{"$f":"Cover_Sheet!H661","v":0}]
[{"$f":"IF(Cover_Sheet!A662=0,\"N\",\"Y\")","v":"N"},{"$f":"Cover_Sheet!B662","v":0},{"$f":"Cover_Sheet!C662","v":0},{"$f":"Cover_Sheet!D662","v":"00:00:00"},{"$f":"Cover_Sheet!E662","v":"00:00:00"},{"$f":"IF(Cover_Sheet!F662=\"\",\"\",Cover_Sheet!F662)","v":""},{"$f":"Cover_Sheet!G662","v":0},{"$f":"Cover_Sheet!H662","v":0}]
[{"$f":"IF(Cover_Sheet!A663=0,\"N\",\"Y\")","v":"N"},{"$f":"Cover_Sheet!B663","v":0},{"$f":"Cover_Sheet!C663","v":0},{"$f":"Cover_Sheet!D663","v":"00:00:00"},{"$f":"Cover_Sheet!E663","v":"00:00:00"},{"$f":"IF(Cover_Sheet!F663=\"\",\"\",Cover_Sheet!F663)","v":""},{"$f":"Cover_Sheet!G663","v":0},{"$f":"Cover_Sheet!H663","v":0}]
[{"$f":"IF(Cover_Sheet!A664=0,\"N\",\"Y\")","v":"N"},{"$f":"Cover_Sheet!B664","v":0},{"$f":"Cover_Sheet!C664","v":0},{"$f":"Cover_Sheet!D664","v":"00:00:00"},{"$f":"Cover_Sheet!E664","v":"00:00:00"},{"$f":"IF(Cover_Sheet!F664=\"\",\"\",Cover_Sheet!F664)","v":""},{"$f":"Cover_Sheet!G664","v":0},{"$f":"Cover_Sheet!H664","v":0}]
[{"$f":"IF(Cover_Sheet!A665=0,\"N\",\"Y\")","v":"N"},{"$f":"Cover_Sheet!B665","v":0},{"$f":"Cover_Sheet!C665","v":0},{"$f":"Cover_Sheet!D665","v":"00:00:00"},{"$f":"Cover_Sheet!E665","v":"00:00:00"},{"$f":"IF(Cover_Sheet!F665=\"\",\"\",Cover_Sheet!F665)","v":""},{"$f":"Cover_Sheet!G665","v":0},{"$f":"Cover_Sheet!H665","v":0}]
[{"$f":"IF(Cover_Sheet!A666=0,\"N\",\"Y\")","v":"N"},{"$f":"Cover_Sheet!B666","v":0},{"$f":"Cover_Sheet!C666","v":0},{"$f":"Cover_Sheet!D666","v":"00:00:00"},{"$f":"Cover_Sheet!E666","v":"00:00:00"},{"$f":"IF(Cover_Sheet!F666=\"\",\"\",Cover_Sheet!F666)","v":""},{"$f":"Cover_Sheet!G666","v":0},{"$f":"Cover_Sheet!H666","v":0}]
[{"$f":"IF(Cover_Sheet!A667=0,\"N\",\"Y\")","v":"N"},{"$f":"Cover_Sheet!B667","v":0},{"$f":"Cover_Sheet!C667","v":0},{"$f":"Cover_Sheet!D667","v":"00:00:00"},{"$f":"Cover_Sheet!E667","v":"00:00:00"},{"$f":"IF(Cover_Sheet!F667=\"\",\"\",Cover_Sheet!F667)","v":""},{"$f":"Cover_Sheet!G667","v":0},{"$f":"Cover_Sheet!H667","v":0}]
[{"$f":"IF(Cover_Sheet!A668=0,\"N\",\"Y\")","v":"N"},{"$f":"Cover_Sheet!B668","v":0},{"$f":"Cover_Sheet!C668","v":0},{"$f":"Cover_Sheet!D668","v":"00:00:00"},{"$f":"Cover_Sheet!E668","v":"00:00:00"},{"$f":"IF(Cover_Sheet!F668=\"\",\"\",Cover_Sheet!F668)","v":""},{"$f":"Cover_Sheet!G668","v":0},{"$f":"Cover_Sheet!H668","v":0}]
[{"$f":"IF(Cover_Sheet!A669=0,\"N\",\"Y\")","v":"N"},{"$f":"Cover_Sheet!B669","v":0},{"$f":"Cover_Sheet!C669","v":0},{"$f":"Cover_Sheet!D669","v":"00:00:00"},{"$f":"Cover_Sheet!E669","v":"00:00:00"},{"$f":"IF(Cover_Sheet!F669=\"\",\"\",Cover_Sheet!F669)","v":""},{"$f":"Cover_Sheet!G669","v":0},{"$f":"Cover_Sheet!H669","v":0}]
[{"$f":"IF(Cover_Sheet!A670=0,\"N\",\"Y\")","v":"N"},{"$f":"Cover_Sheet!B670","v":0},{"$f":"Cover_Sheet!C670","v":0},{"$f":"Cover_Sheet!D670","v":"00:00:00"},{"$f":"Cover_Sheet!E670","v":"00:00:00"},{"$f":"IF(Cover_Sheet!F670=\"\",\"\",Cover_Sheet!F670)","v":""},{"$f":"Cover_Sheet!G670","v":0},{"$f":"Cover_Sheet!H670","v":0}]
[{"$f":"IF(Cover_Sheet!A671=0,\"N\",\"Y\")","v":"N"},{"$f":"Cover_Sheet!B671","v":0},{"$f":"Cover_Sheet!C671","v":0},{"$f":"Cover_Sheet!D671","v":"00:00:00"},{"$f":"Cover_Sheet!E671","v":"00:00:00"},{"$f":"IF(Cover_Sheet!F671=\"\",\"\",Cover_Sheet!F671)","v":""},{"$f":"Cover_Sheet!G671","v":0},{"$f":"Cover_Sheet!H671","v":0}]
[{"$f":"IF(Cover_Sheet!A672=0,\"N\",\"Y\")","v":"N"},{"$f":"Cover_Sheet!B672","v":0},{"$f":"Cover_Sheet!C672","v":0},{"$f":"Cover_Sheet!D672","v":"00:00:00"},{"$f":"Cover_Sheet!E672","v":"00:00:00"},{"$f":"IF(Cover_Sheet!F672=\"\",\"\",Cover_Sheet!F672)","v":""},{"$f":"Cover_Sheet!G672","v":0},{"$f":"Cover_Sheet!H672","v":0}]
[{"$f":"IF(Cover_Sheet!A673=0,\"N\",\"Y\")","v":"N"},{"$f":"Cover_Sheet!B673","v":0},{"$f":"Cover_Sheet!C673","v":0},{"$f":"Cover_Sheet!D673","v":"00:00:00"},{"$f":"Cover_Sheet!E673","v":"00:00:00"},{"$f":"IF(Cover_Sheet!F673=\"\",\"\",Cover_Sheet!F673)","v":""},{"$f":"Cover_Sheet!G673","v":0},{"$f":"Cover_Sheet!H673","v":0}]
[{"$f":"IF(Cover_Sheet!A674=0,\"N\",\"Y\")","v":"N"},{"$f":"Cover_Sheet!B674","v":0},{"$f":"Cover_Sheet!C674","v":0},{"$f":"Cover_Sheet!D674","v":"00:00:00"},{"$f":"Cover_Sheet!E674","v":"00:00:00"},{"$f":"IF(Cover_Sheet!F674=\"\",\"\",Cover_Sheet!F674)","v":""},{"$f":"Cover_Sheet!G674","v":0},{"$f":"Cover_Sheet!H674","v":0}]
[{"$f":"IF(Cover_Sheet!A675=0,\"N\",\"Y\")","v":"N"},{"$f":"Cover_Sheet!B675","v":0},{"$f":"Cover_Sheet!C675","v":0},{"$f":"Cover_Sheet!D675","v":"00:00:00"},{"$f":"Cover_Sheet!E675","v":"00:00:00"},{"$f":"IF(Cover_Sheet!F675=\"\",\"\",Cover_Sheet!F675)","v":""},{"$f":"Cover_Sheet!G675","v":0},{"$f":"Cover_Sheet!H675","v":0}]
[{"$f":"IF(Cover_Sheet!A676=0,\"N\",\"Y\")","v":"N"},{"$f":"Cover_Sheet!B676","v":0},{"$f":"Cover_Sheet!C676","v":0},{"$f":"Cover_Sheet!D676","v":"00:00:00"},{"$f":"Cover_Sheet!E676","v":"00:00:00"},{"$f":"IF(Cover_Sheet!F676=\"\",\"\",Cover_Sheet!F676)","v":""},{"$f":"Cover_Sheet!G676","v":0},{"$f":"Cover_Sheet!H676","v":0}]
[{"$f":"IF(Cover_Sheet!A677=0,\"N\",\"Y\")","v":"N"},{"$f":"Cover_Sheet!B677","v":0},{"$f":"Cover_Sheet!C677","v":0},{"$f":"Cover_Sheet!D677","v":"00:00:00"},{"$f":"Cover_Sheet!E677","v":"00:00:00"},{"$f":"IF(Cover_Sheet!F677=\"\",\"\",Cover_Sheet!F677)","v":""},{"$f":"Cover_Sheet!G677","v":0},{"$f":"Cover_Sheet!H677","v":0}]
[{"$f":"IF(Cover_Sheet!A678=0,\"N\",\"Y\")","v":"N"},{"$f":"Cover_Sheet!B678","v":0},{"$f":"Cover_Sheet!C678","v":0},{"$f":"Cover_Sheet!D678","v":"00:00:00"},{"$f":"Cover_Sheet!E678","v":"00:00:00"},{"$f":"IF(Cover_Sheet!F678=\"\",\"\",Cover_Sheet!F678)","v":""},{"$f":"Cover_Sheet!G678","v":0},{"$f":"Cover_Sheet!H678","v":0}]
[{"$f":"IF(Cover_Sheet!A679=0,\"N\",\"Y\")","v":"N"},{"$f":"Cover_Sheet!B679","v":0},{"$f":"Cover_Sheet!C679","v":0},{"$f":"Cover_Sheet!D679","v":"00:00:00"},{"$f":"Cover_Sheet!E679","v":"00:00:00"},{"$f":"IF(Cover_Sheet!F679=\"\",\"\",Cover_Sheet!F679)","v":""},{"$f":"Cover_Sheet!G679","v":0},{"$f":"Cover_Sheet!H679","v":0}]
[{"$f":"IF(Cover_Sheet!A680=0,\"N\",\"Y\")","v":"N"},{"$f":"Cover_Sheet!B680","v":0},{"$f":"Cover_Sheet!C680","v":0},{"$f":"Cover_Sheet!D680","v":"00:00:00"},{"$f":"Cover_Sheet!E680","v":"00:00:00"},{"$f":"IF(Cover_Sheet!F680=\"\",\"\",Cover_Sheet!F680)","v":""},{"$f":"Cover_Sheet!G680","v":0},{"$f":"Cover_Sheet!H680","v":0}]
[{"$f":"IF(Cover_Sheet!A681=0,\"N\",\"Y\")","v":"N"},{"$f":"Cover_Sheet!B681","v":0},{"$f":"Cover_Sheet!C681","v":0},{"$f":"Cover_Sheet!D681","v":"00:00:00"},{"$f":"Cover_Sheet!E681","v":"00:00:00"},{"$f":"IF(Cover_Sheet!F681=\"\",\"\",Cover_Sheet!F681)","v":""},{"$f":"Cover_Sheet!G681","v":0},{"$f":"Cover_Sheet!H681","v":0}]
[{"$f":"IF(Cover_Sheet!A682=0,\"N\",\"Y\")","v":"N"},{"$f":"Cover_Sheet!B682","v":0},{"$f":"Cover_Sheet!C682","v":0},{"$f":"Cover_Sheet!D682","v":"00:00:00"},{"$f":"Cover_Sheet!E682","v":"00:00:00"},{"$f":"IF(Cover_Sheet!F682=\"\",\"\",Cover_Sheet!F682)","v":""},{"$f":"Cover_Sheet!G682","v":0},{"$f":"Cover_Sheet!H682","v":0}]
[{"$f":"IF(Cover_Sheet!A683=0,\"N\",\"Y\")","v":"N"},{"$f":"Cover_Sheet!B683","v":0},{"$f":"Cover_Sheet!C683","v":0},{"$f":"Cover_Sheet!D683","v":"00:00:00"},{"$f":"Cover_Sheet!E683","v":"00:00:00"},{"$f":"IF(Cover_Sheet!F683=\"\",\"\",Cover_Sheet!F683)","v":""},{"$f":"Cover_Sheet!G683","v":0},{"$f":"Cover_Sheet!H683","v":0}]
[{"$f":"IF(Cover_Sheet!A684=0,\"N\",\"Y\")","v":"N"},{"$f":"Cover_Sheet!B684","v":0},{"$f":"Cover_Sheet!C684","v":0},{"$f":"Cover_Sheet!D684","v":"00:00:00"},{"$f":"Cover_Sheet!E684","v":"00:00:00"},{"$f":"IF(Cover_Sheet!F684=\"\",\"\",Cover_Sheet!F684)","v":""},{"$f":"Cover_Sheet!G684","v":0},{"$f":"Cover_Sheet!H684","v":0}]
[{"$f":"IF(Cover_Sheet!A685=0,\"N\",\"Y\")","v":"N"},{"$f":"Cover_Sheet!B685","v":0},{"$f":"Cover_Sheet!C685","v":0},{"$f":"Cover_Sheet!D685","v":"00:00:00"},{"$f":"Cover_Sheet!E685","v":"00:00:00"},{"$f":"IF(Cover_Sheet!F685=\"\",\"\",Cover_Sheet!F685)","v":""},{"$f":"Cover_Sheet!G685","v":0},{"$f":"Cover_Sheet!H685","v":0}]
[{"$f":"IF(Cover_Sheet!A686=0,\"N\",\"Y\")","v":"N"},{"$f":"Cover_Sheet!B686","v":0},{"$f":"Cover_Sheet!C686","v":0},{"$f":"Cover_Sheet!D686","v":"00:00:00"},{"$f":"Cover_Sheet!E686","v":"00:00:00"},{"$f":"IF(Cover_Sheet!F686=\"\",\"\",Cover_Sheet!F686)","v":""},{"$f":"Cover_Sheet!G686","v":0},{"$f":"Cover_Sheet!H686","v":0}]
[{"$f":"IF(Cover_Sheet!A687=0,\"N\",\"Y\")","v":"N"},{"$f":"Cover_Sheet!B687","v":0},{"$f":"Cover_Sheet!C687","v":0},{"$f":"Cover_Sheet!D687","v":"00:00:00"},{"$f":"Cover_Sheet!E687","v":"00:00:00"},{"$f":"IF(Cover_Sheet!F687=\"\",\"\",Cover_Sheet!F687)","v":""},{"$f":"Cover_Sheet!G687","v":0},{"$f":"Cover_Sheet!H687","v":0}]
[{"$f":"IF(Cover_Sheet!A688=0,\"N\",\"Y\")","v":"N"},{"$f":"Cover_Sheet!B688","v":0},{"$f":"Cover_Sheet!C688","v":0},{"$f":"Cover_Sheet!D688","v":"00:00:00"},{"$f":"Cover_Sheet!E688","v":"00:00:00"},{"$f":"IF(Cover_Sheet!F688=\"\",\"\",Cover_Sheet!F688)","v":""},{"$f":"Cover_Sheet!G688","v":0},{"$f":"Cover_Sheet!H688","v":0}]
[{"$f":"IF(Cover_Sheet!A689=0,\"N\",\"Y\")","v":"N"},{"$f":"Cover_Sheet!B689","v":0},{"$f":"Cover_Sheet!C689","v":0},{"$f":"Cover_Sheet!D689","v":"00:00:00"},{"$f":"Cover_Sheet!E689","v":"00:00:00"},{"$f":"IF(Cover_Sheet!F689=\"\",\"\",Cover_Sheet!F689)","v":""},{"$f":"Cover_Sheet!G689","v":0},{"$f":"Cover_Sheet!H689","v":0}]
[{"$f":"IF(Cover_Sheet!A690=0,\"N\",\"Y\")","v":"N"},{"$f":"Cover_Sheet!B690","v":0},{"$f":"Cover_Sheet!C690","v":0},{"$f":"Cover_Sheet!D690","v":"00:00:00"},{"$f":"Cover_Sheet!E690","v":"00:00:00"},{"$f":"IF(Cover_Sheet!F690=\"\",\"\",Cover_Sheet!F690)","v":""},{"$f":"Cover_Sheet!G690","v":0},{"$f":"Cover_Sheet!H690","v":0}]
[{"$f":"IF(Cover_Sheet!A691=0,\"N\",\"Y\")","v":"N"},{"$f":"Cover_Sheet!B691","v":0},{"$f":"Cover_Sheet!C691","v":0},{"$f":"Cover_Sheet!D691","v":"00:00:00"},{"$f":"Cover_Sheet!E691","v":"00:00:00"},{"$f":"IF(Cover_Sheet!F691=\"\",\"\",Cover_Sheet!F691)","v":""},{"$f":"Cover_Sheet!G691","v":0},{"$f":"Cover_Sheet!H691","v":0}]
[{"$f":"IF(Cover_Sheet!A692=0,\"N\",\"Y\")","v":"N"},{"$f":"Cover_Sheet!B692","v":0},{"$f":"Cover_Sheet!C692","v":0},{"$f":"Cover_Sheet!D692","v":"00:00:00"},{"$f":"Cover_Sheet!E692","v":"00:00:00"},{"$f":"IF(Cover_Sheet!F692=\"\",\"\",Cover_Sheet!F692)","v":""},{"$f":"Cover_Sheet!G692","v":0},{"$f":"Cover_Sheet!H692","v":0}]
[{"$f":"IF(Cover_Sheet!A693=0,\"N\",\"Y\")","v":"N"},{"$f":"Cover_Sheet!B693","v":0},{"$f":"Cover_Sheet!C693","v":0},{"$f":"Cover_Sheet!D693","v":"00:00:00"},{"$f":"Cover_Sheet!E693","v":"00:00:00"},{"$f":"IF(Cover_Sheet!F693=\"\",\"\",Cover_Sheet!F693)","v":""},{"$f":"Cover_Sheet!G693","v":0},{"$f":"Cover_Sheet!H693","v":0}]
[{"$f":"IF(Cover_Sheet!A694=0,\"N\",\"Y\")","v":"N"},{"$f":"Cover_Sheet!B694","v":0},{"$f":"Cover_Sheet!C694","v":0},{"$f":"Cover_Sheet!D694","v":"00:00:00"},{"$f":"Cover_Sheet!E694","v":"00:00:00"},{"$f":"IF(Cover_Sheet!F694=\"\",\"\",Cover_Sheet!F694)","v":""},{"$f":"Cover_Sheet!G694","v":0},{"$f":"Cover_Sheet!H694","v":0}]
[{"$f":"IF(Cover_Sheet!A695=0,\"N\",\"Y\")","v":"N"},{"$f":"Cover_Sheet!B695","v":0},{"$f":"Cover_Sheet!C695","v":0},{"$f":"Cover_Sheet!D695","v":"00:00:00"},{"$f":"Cover_Sheet!E695","v":"00:00:00"},{"$f":"IF(Cover_Sheet!F695=\"\",\"\",Cover_Sheet!F695)","v":""},{"$f":"Cover_Sheet!G695","v":0},{"$f":"Cover_Sheet!H695","v":0}]
[{"$f":"IF(Cover_Sheet!A696=0,\"N\",\"Y\")","v":"N"},{"$f":"Cover_Sheet!B696","v":0},{"$f":"Cover_Sheet!C696","v":0},{"$f":"Cover_Sheet!D696","v":"00:00:00"},{"$f":"Cover_Sheet!E696","v":"00:00:00"},{"$f":"IF(Cover_Sheet!F696=\"\",\"\",Cover_Sheet!F696)","v":""},{"$f":"Cover_Sheet!G696","v":0},{"$f":"Cover_Sheet!H696","v":0}]
[{"$f":"IF(Cover_Sheet!A697=0,\"N\",\"Y\")","v":"N"},{"$f":"Cover_Sheet!B697","v":0},{"$f":"Cover_Sheet!C697","v":0},{"$f":"Cover_Sheet!D697","v":"00:00:00"},{"$f":"Cover_Sheet!E697","v":"00:00:00"},{"$f":"IF(Cover_Sheet!F697=\"\",\"\",Cover_Sheet!F697)","v":""},{"$f":"Cover_Sheet!G697","v":0},{"$f":"Cover_Sheet!H697","v":0}]
[{"$f":"IF(Cover_Sheet!A698=0,\"N\",\"Y\")","v":"N"},{"$f":"Cover_Sheet!B698","v":0},{"$f":"Cover_Sheet!C698","v":0},{"$f":"Cover_Sheet!D698","v":"00:00:00"},{"$f":"Cover_Sheet!E698","v":"00:00:00"},{"$f":"IF(Cover_Sheet!F698=\"\",\"\",Cover_Sheet!F698)","v":""},{"$f":"Cover_Sheet!G698","v":0},{"$f":"Cover_Sheet!H698","v":0}]
[{"$f":"IF(Cover_Sheet!A699=0,\"N\",\"Y\")","v":"N"},{"$f":"Cover_Sheet!B699","v":0},{"$f":"Cover_Sheet!C699","v":0},{"$f":"Cover_Sheet!D699","v":"00:00:00"},{"$f":"Cover_Sheet!E699","v":"00:00:00"},{"$f":"IF(Cover_Sheet!F699=\"\",\"\",Cover_Sheet!F699)","v":""},{"$f":"Cover_Sheet!G699","v":0},{"$f":"Cover_Sheet!H699","v":0}]
[{"$f":"IF(Cover_Sheet!A700=0,\"N\",\"Y\")","v":"N"},{"$f":"Cover_Sheet!B700","v":0},{"$f":"Cover_Sheet!C700","v":0},{"$f":"Cover_Sheet!D700","v":"00:00:00"},{"$f":"Cover_Sheet!E700","v":"00:00:00"},{"$f":"IF(Cover_Sheet!F700=\"\",\"\",Cover_Sheet!F700)","v":""},{"$f":"Cover_Sheet!G700","v":0},{"$f":"Cover_Sheet!H700","v":0}]
[{"$f":"IF(Cover_Sheet!A701=0,\"N\",\"Y\")","v":"N"},{"$f":"Cover_Sheet!B701","v":0},{"$f":"Cover_Sheet!C701","v":0},{"$f":"Cover_Sheet!D701","v":"00:00:00"},{"$f":"Cover_Sheet!E701","v":"00:00:00"},{"$f":"IF(Cover_Sheet!F701=\"\",\"\",Cover_Sheet!F701)","v":""},{"$f":"Cover_Sheet!G701","v":0},{"$f":"Cover_Sheet!H701","v":0}]
[{"$f":"IF(Cover_Sheet!A702=0,\"N\",\"Y\")","v":"N"},{"$f":"Cover_Sheet!B702","v":0},{"$f":"Cover_Sheet!C702","v":0},{"$f":"Cover_Sheet!D702","v":"00:00:00"},{"$f":"Cover_Sheet!E702","v":"00:00:00"},{"$f":"IF(Cover_Sheet!F702=\"\",\"\",Cover_Sheet!F702)","v":""},{"$f":"Cover_Sheet!G702","v":0},{"$f":"Cover_Sheet!H702","v":0}]
[{"$f":"IF(Cover_Sheet!A703=0,\"N\",\"Y\")","v":"N"},{"$f":"Cover_Sheet!B703","v":0},{"$f":"Cover_Sheet!C703","v":0},{"$f":"Cover_Sheet!D703","v":"00:00:00"},{"$f":"Cover_Sheet!E703","v":"00:00:00"},{"$f":"IF(Cover_Sheet!F703=\"\",\"\",Cover_Sheet!F703)","v":""},{"$f":"Cover_Sheet!G703","v":0},{"$f":"Cover_Sheet!H703","v":0}]
[{"$f":"IF(Cover_Sheet!A704=0,\"N\",\"Y\")","v":"N"},{"$f":"Cover_Sheet!B704","v":0},{"$f":"Cover_Sheet!C704","v":0},{"$f":"Cover_Sheet!D704","v":"00:00:00"},{"$f":"Cover_Sheet!E704","v":"00:00:00"},{"$f":"IF(Cover_Sheet!F704=\"\",\"\",Cover_Sheet!F704)","v":""},{"$f":"Cover_Sheet!G704","v":0},{"$f":"Cover_Sheet!H704","v":0}]
[{"$f":"IF(Cover_Sheet!A705=0,\"N\",\"Y\")","v":"N"},{"$f":"Cover_Sheet!B705","v":0},{"$f":"Cover_Sheet!C705","v":0},{"$f":"Cover_Sheet!D705","v":"00:00:00"},{"$f":"Cover_Sheet!E705","v":"00:00:00"},{"$f":"IF(Cover_Sheet!F705=\"\",\"\",Cover_Sheet!F705)","v":""},{"$f":"Cover_Sheet!G705","v":0},{"$f":"Cover_Sheet!H705","v":0}]
[{"$f":"IF(Cover_Sheet!A706=0,\"N\",\"Y\")","v":"N"},{"$f":"Cover_Sheet!B706","v":0},{"$f":"Cover_Sheet!C706","v":0},{"$f":"Cover_Sheet!D706","v":"00:00:00"},{"$f":"Cover_Sheet!E706","v":"00:00:00"},{"$f":"IF(Cover_Sheet!F706=\"\",\"\",Cover_Sheet!F706)","v":""},{"$f":"Cover_Sheet!G706","v":0},{"$f":"Cover_Sheet!H706","v":0}]
[{"$f":"IF(Cover_Sheet!A707=0,\"N\",\"Y\")","v":"N"},{"$f":"Cover_Sheet!B707","v":0},{"$f":"Cover_Sheet!C707","v":0},{"$f":"Cover_Sheet!D707","v":"00:00:00"},{"$f":"Cover_Sheet!E707","v":"00:00:00"},{"$f":"IF(Cover_Sheet!F707=\"\",\"\",Cover_Sheet!F707)","v":""},{"$f":"Cover_Sheet!G707","v":0},{"$f":"Cover_Sheet!H707","v":0}]
[{"$f":"IF(Cover_Sheet!A708=0,\"N\",\"Y\")","v":"N"},{"$f":"Cover_Sheet!B708","v":0},{"$f":"Cover_Sheet!C708","v":0},{"$f":"Cover_Sheet!D708","v":"00:00:00"},{"$f":"Cover_Sheet!E708","v":"00:00:00"},{"$f":"IF(Cover_Sheet!F708=\"\",\"\",Cover_Sheet!F708)","v":""},{"$f":"Cover_Sheet!G708","v":0},{"$f":"Cover_Sheet!H708","v":0}]
[{"$f":"IF(Cover_Sheet!A709=0,\"N\",\"Y\")","v":"N"},{"$f":"Cover_Sheet!B709","v":0},{"$f":"Cover_Sheet!C709","v":0},{"$f":"Cover_Sheet!D709","v":"00:00:00"},{"$f":"Cover_Sheet!E709","v":"00:00:00"},{"$f":"IF(Cover_Sheet!F709=\"\",\"\",Cover_Sheet!F709)","v":""},{"$f":"Cover_Sheet!G709","v":0},{"$f":"Cover_Sheet!H709","v":0}]
[{"$f":"IF(Cover_Sheet!A710=0,\"N\",\"Y\")","v":"N"},{"$f":"Cover_Sheet!B710","v":0},{"$f":"Cover_Sheet!C710","v":0},{"$f":"Cover_Sheet!D710","v":"00:00:00"},{"$f":"Cover_Sheet!E710","v":"00:00:00"},{"$f":"IF(Cover_Sheet!F710=\"\",\"\",Cover_Sheet!F710)","v":""},{"$f":"Cover_Sheet!G710","v":0},{"$f":"Cover_Sheet!H710","v":0}]
[{"$f":"IF(Cover_Sheet!A711=0,\"N\",\"Y\")","v":"N"},{"$f":"Cover_Sheet!B711","v":0},{"$f":"Cover_Sheet!C711","v":0},{"$f":"Cover_Sheet!D711","v":"00:00:00"},{"$f":"Cover_Sheet!E711","v":"00:00:00"},{"$f":"IF(Cover_Sheet!F711=\"\",\"\",Cover_Sheet!F711)","v":""},{"$f":"Cover_Sheet!G711","v":0},{"$f":"Cover_Sheet!H711","v":0}]
[{"$f":"IF(Cover_Sheet!A712=0,\"N\",\"Y\")","v":"N"},{"$f":"Cover_Sheet!B712","v":0},{"$f":"Cover_Sheet!C712","v":0},{"$f":"Cover_Sheet!D712","v":"00:00:00"},{"$f":"Cover_Sheet!E712","v":"00:00:00"},{"$f":"IF(Cover_Sheet!F712=\"\",\"\",Cover_Sheet!F712)","v":""},{"$f":"Cover_Sheet!G712","v":0},{"$f":"Cover_Sheet!H712","v":0}]
[{"$f":"IF(Cover_Sheet!A713=0,\"N\",\"Y\")","v":"N"},{"$f":"Cover_Sheet!B713","v":0},{"$f":"Cover_Sheet!C713","v":0},{"$f":"Cover_Sheet!D713","v":"00:00:00"},{"$f":"Cover_Sheet!E713","v":"00:00:00"},{"$f":"IF(Cover_Sheet!F713=\"\",\"\",Cover_Sheet!F713)","v":""},{"$f":"Cover_Sheet!G713","v":0},{"$f":"Cover_Sheet!H713","v":0}]
[{"$f":"IF(Cover_Sheet!A714=0,\"N\",\"Y\")","v":"N"},{"$f":"Cover_Sheet!B714","v":0},{"$f":"Cover_Sheet!C714","v":0},{"$f":"Cover_Sheet!D714","v":"00:00:00"},{"$f":"Cover_Sheet!E714","v":"00:00:00"},{"$f":"IF(Cover_Sheet!F714=\"\",\"\",Cover_Sheet!F714)","v":""},{"$f":"Cover_Sheet!G714","v":0},{"$f":"Cover_Sheet!H714","v":0}]
[{"$f":"IF(Cover_Sheet!A715=0,\"N\",\"Y\")","v":"N"},{"$f":"Cover_Sheet!B715","v":0},{"$f":"Cover_Sheet!C715","v":0},{"$f":"Cover_Sheet!D715","v":"00:00:00"},{"$f":"Cover_Sheet!E715","v":"00:00:00"},{"$f":"IF(Cover_Sheet!F715=\"\",\"\",Cover_Sheet!F715)","v":""},{"$f":"Cover_Sheet!G715","v":0},{"$f":"Cover_Sheet!H715","v":0}]
[{"$f":"IF(Cover_Sheet!A716=0,\"N\",\"Y\")","v":"N"},{"$f":"Cover_Sheet!B716","v":0},{"$f":"Cover_Sheet!C716","v":0},{"$f":"Cover_Sheet!D716","v":"00:00:00"},{"$f":"Cover_Sheet!E716","v":"00:00:00"},{"$f":"IF(Cover_Sheet!F716=\"\",\"\",Cover_Sheet!F716)","v":""},{"$f":"Cover_Sheet!G716","v":0},{"$f":"Cover_Sheet!H716","v":0}]
[{"$f":"IF(Cover_Sheet!A717=0,\"N\",\"Y\")","v":"N"},{"$f":"Cover_Sheet!B717","v":0},{"$f":"Cover_Sheet!C717","v":0},{"$f":"Cover_Sheet!D717","v":"00:00:00"},{"$f":"Cover_Sheet!E717","v":"00:00:00"},{"$f":"IF(Cover_Sheet!F717=\"\",\"\",Cover_Sheet!F717)","v":""},{"$f":"Cover_Sheet!G717","v":0},{"$f":"Cover_Sheet!H717","v":0}]
[{"$f":"IF(Cover_Sheet!A718=0,\"N\",\"Y\")","v":"N"},{"$f":"Cover_Sheet!B718","v":0},{"$f":"Cover_Sheet!C718","v":0},{"$f":"Cover_Sheet!D718","v":"00:00:00"},{"$f":"Cover_Sheet!E718","v":"00:00:00"},{"$f":"IF(Cover_Sheet!F718=\"\",\"\",Cover_Sheet!F718)","v":""},{"$f":"Cover_Sheet!G718","v":0},{"$f":"Cover_Sheet!H718","v":0}]
[{"$f":"IF(Cover_Sheet!A719=0,\"N\",\"Y\")","v":"N"},{"$f":"Cover_Sheet!B719","v":0},{"$f":"Cover_Sheet!C719","v":0},{"$f":"Cover_Sheet!D719","v":"00:00:00"},{"$f":"Cover_Sheet!E719","v":"00:00:00"},{"$f":"IF(Cover_Sheet!F719=\"\",\"\",Cover_Sheet!F719)","v":""},{"$f":"Cover_Sheet!G719","v":0},{"$f":"Cover_Sheet!H719","v":0}]
[{"$f":"IF(Cover_Sheet!A720=0,\"N\",\"Y\")","v":"N"},{"$f":"Cover_Sheet!B720","v":0},{"$f":"Cover_Sheet!C720","v":0},{"$f":"Cover_Sheet!D720","v":"00:00:00"},{"$f":"Cover_Sheet!E720","v":"00:00:00"},{"$f":"IF(Cover_Sheet!F720=\"\",\"\",Cover_Sheet!F720)","v":""},{"$f":"Cover_Sheet!G720","v":0},{"$f":"Cover_Sheet!H720","v":0}]
[{"$f":"IF(Cover_Sheet!A721=0,\"N\",\"Y\")","v":"N"},{"$f":"Cover_Sheet!B721","v":0},{"$f":"Cover_Sheet!C721","v":0},{"$f":"Cover_Sheet!D721","v":"00:00:00"},{"$f":"Cover_Sheet!E721","v":"00:00:00"},{"$f":"IF(Cover_Sheet!F721=\"\",\"\",Cover_Sheet!F721)","v":""},{"$f":"Cover_Sheet!G721","v":0},{"$f":"Cover_Sheet!H721","v":0}]
[{"$f":"IF(Cover_Sheet!A722=0,\"N\",\"Y\")","v":"N"},{"$f":"Cover_Sheet!B722","v":0},{"$f":"Cover_Sheet!C722","v":0},{"$f":"Cover_Sheet!D722","v":"00:00:00"},{"$f":"Cover_Sheet!E722","v":"00:00:00"},{"$f":"IF(Cover_Sheet!F722=\"\",\"\",Cover_Sheet!F722)","v":""},{"$f":"Cover_Sheet!G722","v":0},{"$f":"Cover_Sheet!H722","v":0}]
[{"$f":"IF(Cover_Sheet!A723=0,\"N\",\"Y\")","v":"N"},{"$f":"Cover_Sheet!B723","v":0},{"$f":"Cover_Sheet!C723","v":0},{"$f":"Cover_Sheet!D723","v":"00:00:00"},{"$f":"Cover_Sheet!E723","v":"00:00:00"},{"$f":"IF(Cover_Sheet!F723=\"\",\"\",Cover_Sheet!F723)","v":""},{"$f":"Cover_Sheet!G723","v":0},{"$f":"Cover_Sheet!H723","v":0}]
[{"$f":"IF(Cover_Sheet!A724=0,\"N\",\"Y\")","v":"N"},{"$f":"Cover_Sheet!B724","v":0},{"$f":"Cover_Sheet!C724","v":0},{"$f":"Cover_Sheet!D724","v":"00:00:00"},{"$f":"Cover_Sheet!E724","v":"00:00:00"},{"$f":"IF(Cover_Sheet!F724=\"\",\"\",Cover_Sheet!F724)","v":""},{"$f":"Cover_Sheet!G724","v":0},{"$f":"Cover_Sheet!H724","v":0}]
[{"$f":"IF(Cover_Sheet!A725=0,\"N\",\"Y\")","v":"N"},{"$f":"Cover_Sheet!B725","v":0},{"$f":"Cover_Sheet!C725","v":0},{"$f":"Cover_Sheet!D725","v":"00:00:00"},{"$f":"Cover_Sheet!E725","v":"00:00:00"},{"$f":"IF(Cover_Sheet!F725=\"\",\"\",Cover_Sheet!F725)","v":""},{"$f":"Cover_Sheet!G725","v":0},{"$f":"Cover_Sheet!H725","v":0}]
[{"$f":"IF(Cover_Sheet!A726=0,\"N\",\"Y\")","v":"N"},{"$f":"Cover_Sheet!B726","v":0},{"$f":"Cover_Sheet!C726","v":0},{"$f":"Cover_Sheet!D726","v":"00:00:00"},{"$f":"Cover_Sheet!E726","v":"00:00:00"},{"$f":"IF(Cover_Sheet!F726=\"\",\"\",Cover_Sheet!F726)","v":""},{"$f":"Cover_Sheet!G726","v":0},{"$f":"Cover_Sheet!H726","v":0}]
[{"$f":"IF(Cover_Sheet!A727=0,\"N\",\"Y\")","v":"N"},{"$f":"Cover_Sheet!B727","v":0},{"$f":"Cover_Sheet!C727","v":0},{"$f":"Cover_Sheet!D727","v":"00:00:00"},{"$f":"Cover_Sheet!E727","v":"00:00:00"},{"$f":"IF(Cover_Sheet!F727=\"\",\"\",Cover_Sheet!F727)","v":""},{"$f":"Cover_Sheet!G727","v":0},{"$f":"Cover_Sheet!H727","v":0}]
[{"$f":"IF(Cover_Sheet!A728=0,\"N\",\"Y\")","v":"N"},{"$f":"Cover_Sheet!B728","v":0},{"$f":"Cover_Sheet!C728","v":0},{"$f":"Cover_Sheet!D728","v":"00:00:00"},{"$f":"Cover_Sheet!E728","v":"00:00:00"},{"$f":"IF(Cover_Sheet!F728=\"\",\"\",Cover_Sheet!F728)","v":""},{"$f":"Cover_Sheet!G728","v":0},{"$f":"Cover_Sheet!H728","v":0}]
[{"$f":"IF(Cover_Sheet!A729=0,\"N\",\"Y\")","v":"N"},{"$f":"Cover_Sheet!B729","v":0},{"$f":"Cover_Sheet!C729","v":0},{"$f":"Cover_Sheet!D729","v":"00:00:00"},{"$f":"Cover_Sheet!E729","v":"00:00:00"},{"$f":"IF(Cover_Sheet!F729=\"\",\"\",Cover_Sheet!F729)","v":""},{"$f":"Cover_Sheet!G729","v":0},{"$f":"Cover_Sheet!H729","v":0}]
[{"$f":"IF(Cover_Sheet!A730=0,\"N\",\"Y\")","v":"N"},{"$f":"Cover_Sheet!B730","v":0},{"$f":"Cover_Sheet!C730","v":0},{"$f":"Cover_Sheet!D730","v":"00:00:00"},{"$f":"Cover_Sheet!E730","v":"00:00:00"},{"$f":"IF(Cover_Sheet!F730=\"\",\"\",Cover_Sheet!F730)","v":""},{"$f":"Cover_Sheet!G730","v":0},{"$f":"Cover_Sheet!H730","v":0}]
[{"$f":"IF(Cover_Sheet!A731=0,\"N\",\"Y\")","v":"N"},{"$f":"Cover_Sheet!B731","v":0},{"$f":"Cover_Sheet!C731","v":0},{"$f":"Cover_Sheet!D731","v":"00:00:00"},{"$f":"Cover_Sheet!E731","v":"00:00:00"},{"$f":"IF(Cover_Sheet!F731=\"\",\"\",Cover_Sheet!F731)","v":""},{"$f":"Cover_Sheet!G731","v":0},{"$f":"Cover_Sheet!H731","v":0}]
[{"$f":"IF(Cover_Sheet!A732=0,\"N\",\"Y\")","v":"N"},{"$f":"Cover_Sheet!B732","v":0},{"$f":"Cover_Sheet!C732","v":0},{"$f":"Cover_Sheet!D732","v":"00:00:00"},{"$f":"Cover_Sheet!E732","v":"00:00:00"},{"$f":"IF(Cover_Sheet!F732=\"\",\"\",Cover_Sheet!F732)","v":""},{"$f":"Cover_Sheet!G732","v":0},{"$f":"Cover_Sheet!H732","v":0}]
[{"$f":"IF(Cover_Sheet!A733=0,\"N\",\"Y\")","v":"N"},{"$f":"Cover_Sheet!B733","v":0},{"$f":"Cover_Sheet!C733","v":0},{"$f":"Cover_Sheet!D733","v":"00:00:00"},{"$f":"Cover_Sheet!E733","v":"00:00:00"},{"$f":"IF(Cover_Sheet!F733=\"\",\"\",Cover_Sheet!F733)","v":""},{"$f":"Cover_Sheet!G733","v":0},{"$f":"Cover_Sheet!H733","v":0}]
[{"$f":"IF(Cover_Sheet!A734=0,\"N\",\"Y\")","v":"N"},{"$f":"Cover_Sheet!B734","v":0},{"$f":"Cover_Sheet!C734","v":0},{"$f":"Cover_Sheet!D734","v":"00:00:00"},{"$f":"Cover_Sheet!E734","v":"00:00:00"},{"$f":"IF(Cover_Sheet!F734=\"\",\"\",Cover_Sheet!F734)","v":""},{"$f":"Cover_Sheet!G734","v":0},{"$f":"Cover_Sheet!H734","v":0}]
[{"$f":"IF(Cover_Sheet!A735=0,\"N\",\"Y\")","v":"N"},{"$f":"Cover_Sheet!B735","v":0},{"$f":"Cover_Sheet!C735","v":0},{"$f":"Cover_Sheet!D735","v":"00:00:00"},{"$f":"Cover_Sheet!E735","v":"00:00:00"},{"$f":"IF(Cover_Sheet!F735=\"\",\"\",Cover_Sheet!F735)","v":""},{"$f":"Cover_Sheet!G735","v":0},{"$f":"Cover_Sheet!H735","v":0}]
[{"$f":"IF(Cover_Sheet!A736=0,\"N\",\"Y\")","v":"N"},{"$f":"Cover_Sheet!B736","v":0},{"$f":"Cover_Sheet!C736","v":0},{"$f":"Cover_Sheet!D736","v":"00:00:00"},{"$f":"Cover_Sheet!E736","v":"00:00:00"},{"$f":"IF(Cover_Sheet!F736=\"\",\"\",Cover_Sheet!F736)","v":""},{"$f":"Cover_Sheet!G736","v":0},{"$f":"Cover_Sheet!H736","v":0}]
[{"$f":"IF(Cover_Sheet!A737=0,\"N\",\"Y\")","v":"N"},{"$f":"Cover_Sheet!B737","v":0},{"$f":"Cover_Sheet!C737","v":0},{"$f":"Cover_Sheet!D737","v":"00:00:00"},{"$f":"Cover_Sheet!E737","v":"00:00:00"},{"$f":"IF(Cover_Sheet!F737=\"\",\"\",Cover_Sheet!F737)","v":""},{"$f":"Cover_Sheet!G737","v":0},{"$f":"Cover_Sheet!H737","v":0}]
[{"$f":"IF(Cover_Sheet!A738=0,\"N\",\"Y\")","v":"N"},{"$f":"Cover_Sheet!B738","v":0},{"$f":"Cover_Sheet!C738","v":0},{"$f":"Cover_Sheet!D738","v":"00:00:00"},{"$f":"Cover_Sheet!E738","v":"00:00:00"},{"$f":"IF(Cover_Sheet!F738=\"\",\"\",Cover_Sheet!F738)","v":""},{"$f":"Cover_Sheet!G738","v":0},{"$f":"Cover_Sheet!H738","v":0}]
[{"$f":"IF(Cover_Sheet!A739=0,\"N\",\"Y\")","v":"N"},{"$f":"Cover_Sheet!B739","v":0},{"$f":"Cover_Sheet!C739","v":0},{"$f":"Cover_Sheet!D739","v":"00:00:00"},{"$f":"Cover_Sheet!E739","v":"00:00:00"},{"$f":"IF(Cover_Sheet!F739=\"\",\"\",Cover_Sheet!F739)","v":""},{"$f":"Cover_Sheet!G739","v":0},{"$f":"Cover_Sheet!H739","v":0}]
[{"$f":"IF(Cover_Sheet!A740=0,\"N\",\"Y\")","v":"N"},{"$f":"Cover_Sheet!B740","v":0},{"$f":"Cover_Sheet!C740","v":0},{"$f":"Cover_Sheet!D740","v":"00:00:00"},{"$f":"Cover_Sheet!E740","v":"00:00:00"},{"$f":"IF(Cover_Sheet!F740=\"\",\"\",Cover_Sheet!F740)","v":""},{"$f":"Cover_Sheet!G740","v":0},{"$f":"Cover_Sheet!H740","v":0}]
[{"$f":"IF(Cover_Sheet!A741=0,\"N\",\"Y\")","v":"N"},{"$f":"Cover_Sheet!B741","v":0},{"$f":"Cover_Sheet!C741","v":0},{"$f":"Cover_Sheet!D741","v":"00:00:00"},{"$f":"Cover_Sheet!E741","v":"00:00:00"},{"$f":"IF(Cover_Sheet!F741=\"\",\"\",Cover_Sheet!F741)","v":""},{"$f":"Cover_Sheet!G741","v":0},{"$f":"Cover_Sheet!H741","v":0}]
[{"$f":"IF(Cover_Sheet!A742=0,\"N\",\"Y\")","v":"N"},{"$f":"Cover_Sheet!B742","v":0},{"$f":"Cover_Sheet!C742","v":0},{"$f":"Cover_Sheet!D742","v":"00:00:00"},{"$f":"Cover_Sheet!E742","v":"00:00:00"},{"$f":"IF(Cover_Sheet!F742=\"\",\"\",Cover_Sheet!F742)","v":""},{"$f":"Cover_Sheet!G742","v":0},{"$f":"Cover_Sheet!H742","v":0}]
[{"$f":"IF(Cover_Sheet!A743=0,\"N\",\"Y\")","v":"N"},{"$f":"Cover_Sheet!B743","v":0},{"$f":"Cover_Sheet!C743","v":0},{"$f":"Cover_Sheet!D743","v":"00:00:00"},{"$f":"Cover_Sheet!E743","v":"00:00:00"},{"$f":"IF(Cover_Sheet!F743=\"\",\"\",Cover_Sheet!F743)","v":""},{"$f":"Cover_Sheet!G743","v":0},{"$f":"Cover_Sheet!H743","v":0}]
[{"$f":"IF(Cover_Sheet!A744=0,\"N\",\"Y\")","v":"N"},{"$f":"Cover_Sheet!B744","v":0},{"$f":"Cover_Sheet!C744","v":0},{"$f":"Cover_Sheet!D744","v":"00:00:00"},{"$f":"Cover_Sheet!E744","v":"00:00:00"},{"$f":"IF(Cover_Sheet!F744=\"\",\"\",Cover_Sheet!F744)","v":""},{"$f":"Cover_Sheet!G744","v":0},{"$f":"Cover_Sheet!H744","v":0}]
[{"$f":"IF(Cover_Sheet!A745=0,\"N\",\"Y\")","v":"N"},{"$f":"Cover_Sheet!B745","v":0},{"$f":"Cover_Sheet!C745","v":0},{"$f":"Cover_Sheet!D745","v":"00:00:00"},{"$f":"Cover_Sheet!E745","v":"00:00:00"},{"$f":"IF(Cover_Sheet!F745=\"\",\"\",Cover_Sheet!F745)","v":""},{"$f":"Cover_Sheet!G745","v":0},{"$f":"Cover_Sheet!H745","v":0}]
[{"$f":"IF(Cover_Sheet!A746=0,\"N\",\"Y\")","v":"N"},{"$f":"Cover_Sheet!B746","v":0},{"$f":"Cover_Sheet!C746","v":0},{"$f":"Cover_Sheet!D746","v":"00:00:00"},{"$f":"Cover_Sheet!E746","v":"00:00:00"},{"$f":"IF(Cover_Sheet!F746=\"\",\"\",Cover_Sheet!F746)","v":""},{"$f":"Cover_Sheet!G746","v":0},{"$f":"Cover_Sheet!H746","v":0}]
[{"$f":"IF(Cover_Sheet!A747=0,\"N\",\"Y\")","v":"N"},{"$f":"Cover_Sheet!B747","v":0},{"$f":"Cover_Sheet!C747","v":0},{"$f":"Cover_Sheet!D747","v":"00:00:00"},{"$f":"Cover_Sheet!E747","v":"00:00:00"},{"$f":"IF(Cover_Sheet!F747=\"\",\"\",Cover_Sheet!F747)","v":""},{"$f":"Cover_Sheet!G747","v":0},{"$f":"Cover_Sheet!H747","v":0}]
[{"$f":"IF(Cover_Sheet!A748=0,\"N\",\"Y\")","v":"N"},{"$f":"Cover_Sheet!B748","v":0},{"$f":"Cover_Sheet!C748","v":0},{"$f":"Cover_Sheet!D748","v":"00:00:00"},{"$f":"Cover_Sheet!E748","v":"00:00:00"},{"$f":"IF(Cover_Sheet!F748=\"\",\"\",Cover_Sheet!F748)","v":""},{"$f":"Cover_Sheet!G748","v":0},{"$f":"Cover_Sheet!H748","v":0}]
[{"$f":"IF(Cover_Sheet!A749=0,\"N\",\"Y\")","v":"N"},{"$f":"Cover_Sheet!B749","v":0},{"$f":"Cover_Sheet!C749","v":0},{"$f":"Cover_Sheet!D749","v":"00:00:00"},{"$f":"Cover_Sheet!E749","v":"00:00:00"},{"$f":"IF(Cover_Sheet!F749=\"\",\"\",Cover_Sheet!F749)","v":""},{"$f":"Cover_Sheet!G749","v":0},{"$f":"Cover_Sheet!H749","v":0}]
[{"$f":"IF(Cover_Sheet!A750=0,\"N\",\"Y\")","v":"N"},{"$f":"Cover_Sheet!B750","v":0},{"$f":"Cover_Sheet!C750","v":0},{"$f":"Cover_Sheet!D750","v":"00:00:00"},{"$f":"Cover_Sheet!E750","v":"00:00:00"},{"$f":"IF(Cover_Sheet!F750=\"\",\"\",Cover_Sheet!F750)","v":""},{"$f":"Cover_Sheet!G750","v":0},{"$f":"Cover_Sheet!H750","v":0}]
[{"$f":"IF(Cover_Sheet!A751=0,\"N\",\"Y\")","v":"N"},{"$f":"Cover_Sheet!B751","v":0},{"$f":"Cover_Sheet!C751","v":0},{"$f":"Cover_Sheet!D751","v":"00:00:00"},{"$f":"Cover_Sheet!E751","v":"00:00:00"},{"$f":"IF(Cover_Sheet!F751=\"\",\"\",Cover_Sheet!F751)","v":""},{"$f":"Cover_Sheet!G751","v":0},{"$f":"Cover_Sheet!H751","v":0}]
[{"$f":"IF(Cover_Sheet!A752=0,\"N\",\"Y\")","v":"N"},{"$f":"Cover_Sheet!B752","v":0},{"$f":"Cover_Sheet!C752","v":0},{"$f":"Cover_Sheet!D752","v":"00:00:00"},{"$f":"Cover_Sheet!E752","v":"00:00:00"},{"$f":"IF(Cover_Sheet!F752=\"\",\"\",Cover_Sheet!F752)","v":""},{"$f":"Cover_Sheet!G752","v":0},{"$f":"Cover_Sheet!H752","v":0}]
[{"$f":"IF(Cover_Sheet!A753=0,\"N\",\"Y\")","v":"N"},{"$f":"Cover_Sheet!B753","v":0},{"$f":"Cover_Sheet!C753","v":0},{"$f":"Cover_Sheet!D753","v":"00:00:00"},{"$f":"Cover_Sheet!E753","v":"00:00:00"},{"$f":"IF(Cover_Sheet!F753=\"\",\"\",Cover_Sheet!F753)","v":""},{"$f":"Cover_Sheet!G753","v":0},{"$f":"Cover_Sheet!H753","v":0}]
[{"$f":"IF(Cover_Sheet!A754=0,\"N\",\"Y\")","v":"N"},{"$f":"Cover_Sheet!B754","v":0},{"$f":"Cover_Sheet!C754","v":0},{"$f":"Cover_Sheet!D754","v":"00:00:00"},{"$f":"Cover_Sheet!E754","v":"00:00:00"},{"$f":"IF(Cover_Sheet!F754=\"\",\"\",Cover_Sheet!F754)","v":""},{"$f":"Cover_Sheet!G754","v":0},{"$f":"Cover_Sheet!H754","v":0}]
[{"$f":"IF(Cover_Sheet!A755=0,\"N\",\"Y\")","v":"N"},{"$f":"Cover_Sheet!B755","v":0},{"$f":"Cover_Sheet!C755","v":0},{"$f":"Cover_Sheet!D755","v":"00:00:00"},{"$f":"Cover_Sheet!E755","v":"00:00:00"},{"$f":"IF(Cover_Sheet!F755=\"\",\"\",Cover_Sheet!F755)","v":""},{"$f":"Cover_Sheet!G755","v":0},{"$f":"Cover_Sheet!H755","v":0}]
[{"$f":"IF(Cover_Sheet!A756=0,\"N\",\"Y\")","v":"N"},{"$f":"Cover_Sheet!B756","v":0},{"$f":"Cover_Sheet!C756","v":0},{"$f":"Cover_Sheet!D756","v":"00:00:00"},{"$f":"Cover_Sheet!E756","v":"00:00:00"},{"$f":"IF(Cover_Sheet!F756=\"\",\"\",Cover_Sheet!F756)","v":""},{"$f":"Cover_Sheet!G756","v":0},{"$f":"Cover_Sheet!H756","v":0}]
[{"$f":"IF(Cover_Sheet!A757=0,\"N\",\"Y\")","v":"N"},{"$f":"Cover_Sheet!B757","v":0},{"$f":"Cover_Sheet!C757","v":0},{"$f":"Cover_Sheet!D757","v":"00:00:00"},{"$f":"Cover_Sheet!E757","v":"00:00:00"},{"$f":"IF(Cover_Sheet!F757=\"\",\"\",Cover_Sheet!F757)","v":""},{"$f":"Cover_Sheet!G757","v":0},{"$f":"Cover_Sheet!H757","v":0}]
[{"$f":"IF(Cover_Sheet!A758=0,\"N\",\"Y\")","v":"N"},{"$f":"Cover_Sheet!B758","v":0},{"$f":"Cover_Sheet!C758","v":0},{"$f":"Cover_Sheet!D758","v":"00:00:00"},{"$f":"Cover_Sheet!E758","v":"00:00:00"},{"$f":"IF(Cover_Sheet!F758=\"\",\"\",Cover_Sheet!F758)","v":""},{"$f":"Cover_Sheet!G758","v":0},{"$f":"Cover_Sheet!H758","v":0}]
[{"$f":"IF(Cover_Sheet!A759=0,\"N\",\"Y\")","v":"N"},{"$f":"Cover_Sheet!B759","v":0},{"$f":"Cover_Sheet!C759","v":0},{"$f":"Cover_Sheet!D759","v":"00:00:00"},{"$f":"Cover_Sheet!E759","v":"00:00:00"},{"$f":"IF(Cover_Sheet!F759=\"\",\"\",Cover_Sheet!F759)","v":""},{"$f":"Cover_Sheet!G759","v":0},{"$f":"Cover_Sheet!H759","v":0}]
[{"$f":"IF(Cover_Sheet!A760=0,\"N\",\"Y\")","v":"N"},{"$f":"Cover_Sheet!B760","v":0},{"$f":"Cover_Sheet!C760","v":0},{"$f":"Cover_Sheet!D760","v":"00:00:00"},{"$f":"Cover_Sheet!E760","v":"00:00:00"},{"$f":"IF(Cover_Sheet!F760=\"\",\"\",Cover_Sheet!F760)","v":""},{"$f":"Cover_Sheet!G760","v":0},{"$f":"Cover_Sheet!H760","v":0}]
[{"$f":"IF(Cover_Sheet!A761=0,\"N\",\"Y\")","v":"N"},{"$f":"Cover_Sheet!B761","v":0},{"$f":"Cover_Sheet!C761","v":0},{"$f":"Cover_Sheet!D761","v":"00:00:00"},{"$f":"Cover_Sheet!E761","v":"00:00:00"},{"$f":"IF(Cover_Sheet!F761=\"\",\"\",Cover_Sheet!F761)","v":""},{"$f":"Cover_Sheet!G761","v":0},{"$f":"Cover_Sheet!H761","v":0}]
[{"$f":"IF(Cover_Sheet!A762=0,\"N\",\"Y\")","v":"N"},{"$f":"Cover_Sheet!B762","v":0},{"$f":"Cover_Sheet!C762","v":0},{"$f":"Cover_Sheet!D762","v":"00:00:00"},{"$f":"Cover_Sheet!E762","v":"00:00:00"},{"$f":"IF(Cover_Sheet!F762=\"\",\"\",Cover_Sheet!F762)","v":""},{"$f":"Cover_Sheet!G762","v":0},{"$f":"Cover_Sheet!H762","v":0}]
[{"$f":"IF(Cover_Sheet!A763=0,\"N\",\"Y\")","v":"N"},{"$f":"Cover_Sheet!B763","v":0},{"$f":"Cover_Sheet!C763","v":0},{"$f":"Cover_Sheet!D763","v":"00:00:00"},{"$f":"Cover_Sheet!E763","v":"00:00:00"},{"$f":"IF(Cover_Sheet!F763=\"\",\"\",Cover_Sheet!F763)","v":""},{"$f":"Cover_Sheet!G763","v":0},{"$f":"Cover_Sheet!H763","v":0}]
[{"$f":"IF(Cover_Sheet!A764=0,\"N\",\"Y\")","v":"N"},{"$f":"Cover_Sheet!B764","v":0},{"$f":"Cover_Sheet!C764","v":0},{"$f":"Cover_Sheet!D764","v":"00:00:00"},{"$f":"Cover_Sheet!E764","v":"00:00:00"},{"$f":"IF(Cover_Sheet!F764=\"\",\"\",Cover_Sheet!F764)","v":""},{"$f":"Cover_Sheet!G764","v":0},{"$f":"Cover_Sheet!H764","v":0}]
[{"$f":"IF(Cover_Sheet!A765=0,\"N\",\"Y\")","v":"N"},{"$f":"Cover_Sheet!B765","v":0},{"$f":"Cover_Sheet!C765","v":0},{"$f":"Cover_Sheet!D765","v":"00:00:00"},{"$f":"Cover_Sheet!E765","v":"00:00:00"},{"$f":"IF(Cover_Sheet!F765=\"\",\"\",Cover_Sheet!F765)","v":""},{"$f":"Cover_Sheet!G765","v":0},{"$f":"Cover_Sheet!H765","v":0}]
[{"$f":"IF(Cover_Sheet!A766=0,\"N\",\"Y\")","v":"N"},{"$f":"Cover_Sheet!B766","v":0},{"$f":"Cover_Sheet!C766","v":0},{"$f":"Cover_Sheet!D766","v":"00:00:00"},{"$f":"Cover_Sheet!E766","v":"00:00:00"},{"$f":"IF(Cover_Sheet!F766=\"\",\"\",Cover_Sheet!F766)","v":""},{"$f":"Cover_Sheet!G766","v":0},{"$f":"Cover_Sheet!H766","v":0}]
[{"$f":"IF(Cover_Sheet!A767=0,\"N\",\"Y\")","v":"N"},{"$f":"Cover_Sheet!B767","v":0},{"$f":"Cover_Sheet!C767","v":0},{"$f":"Cover_Sheet!D767","v":"00:00:00"},{"$f":"Cover_Sheet!E767","v":"00:00:00"},{"$f":"IF(Cover_Sheet!F767=\"\",\"\",Cover_Sheet!F767)","v":""},{"$f":"Cover_Sheet!G767","v":0},{"$f":"Cover_Sheet!H767","v":0}]
[{"$f":"IF(Cover_Sheet!A768=0,\"N\",\"Y\")","v":"N"},{"$f":"Cover_Sheet!B768","v":0},{"$f":"Cover_Sheet!C768","v":0},{"$f":"Cover_Sheet!D768","v":"00:00:00"},{"$f":"Cover_Sheet!E768","v":"00:00:00"},{"$f":"IF(Cover_Sheet!F768=\"\",\"\",Cover_Sheet!F768)","v":""},{"$f":"Cover_Sheet!G768","v":0},{"$f":"Cover_Sheet!H768","v":0}]
[{"$f":"IF(Cover_Sheet!A769=0,\"N\",\"Y\")","v":"N"},{"$f":"Cover_Sheet!B769","v":0},{"$f":"Cover_Sheet!C769","v":0},{"$f":"Cover_Sheet!D769","v":"00:00:00"},{"$f":"Cover_Sheet!E769","v":"00:00:00"},{"$f":"IF(Cover_Sheet!F769=\"\",\"\",Cover_Sheet!F769)","v":""},{"$f":"Cover_Sheet!G769","v":0},{"$f":"Cover_Sheet!H769","v":0}]
[{"$f":"IF(Cover_Sheet!A770=0,\"N\",\"Y\")","v":"N"},{"$f":"Cover_Sheet!B770","v":0},{"$f":"Cover_Sheet!C770","v":0},{"$f":"Cover_Sheet!D770","v":"00:00:00"},{"$f":"Cover_Sheet!E770","v":"00:00:00"},{"$f":"IF(Cover_Sheet!F770=\"\",\"\",Cover_Sheet!F770)","v":""},{"$f":"Cover_Sheet!G770","v":0},{"$f":"Cover_Sheet!H770","v":0}]
[{"$f":"IF(Cover_Sheet!A771=0,\"N\",\"Y\")","v":"N"},{"$f":"Cover_Sheet!B771","v":0},{"$f":"Cover_Sheet!C771","v":0},{"$f":"Cover_Sheet!D771","v":"00:00:00"},{"$f":"Cover_Sheet!E771","v":"00:00:00"},{"$f":"IF(Cover_Sheet!F771=\"\",\"\",Cover_Sheet!F771)","v":""},{"$f":"Cover_Sheet!G771","v":0},{"$f":"Cover_Sheet!H771","v":0}]
[{"$f":"IF(Cover_Sheet!A772=0,\"N\",\"Y\")","v":"N"},{"$f":"Cover_Sheet!B772","v":0},{"$f":"Cover_Sheet!C772","v":0},{"$f":"Cover_Sheet!D772","v":"00:00:00"},{"$f":"Cover_Sheet!E772","v":"00:00:00"},{"$f":"IF(Cover_Sheet!F772=\"\",\"\",Cover_Sheet!F772)","v":""},{"$f":"Cover_Sheet!G772","v":0},{"$f":"Cover_Sheet!H772","v":0}]
[{"$f":"IF(Cover_Sheet!A773=0,\"N\",\"Y\")","v":"N"},{"$f":"Cover_Sheet!B773","v":0},{"$f":"Cover_Sheet!C773","v":0},{"$f":"Cover_Sheet!D773","v":"00:00:00"},{"$f":"Cover_Sheet!E773","v":"00:00:00"},{"$f":"IF(Cover_Sheet!F773=\"\",\"\",Cover_Sheet!F773)","v":""},{"$f":"Cover_Sheet!G773","v":0},{"$f":"Cover_Sheet!H773","v":0}]
[{"$f":"IF(Cover_Sheet!A774=0,\"N\",\"Y\")","v":"N"},{"$f":"Cover_Sheet!B774","v":0},{"$f":"Cover_Sheet!C774","v":0},{"$f":"Cover_Sheet!D774","v":"00:00:00"},{"$f":"Cover_Sheet!E774","v":"00:00:00"},{"$f":"IF(Cover_Sheet!F774=\"\",\"\",Cover_Sheet!F774)","v":""},{"$f":"Cover_Sheet!G774","v":0},{"$f":"Cover_Sheet!H774","v":0}]
[{"$f":"IF(Cover_Sheet!A775=0,\"N\",\"Y\")","v":"N"},{"$f":"Cover_Sheet!B775","v":0},{"$f":"Cover_Sheet!C775","v":0},{"$f":"Cover_Sheet!D775","v":"00:00:00"},{"$f":"Cover_Sheet!E775","v":"00:00:00"},{"$f":"IF(Cover_Sheet!F775=\"\",\"\",Cover_Sheet!F775)","v":""},{"$f":"Cover_Sheet!G775","v":0},{"$f":"Cover_Sheet!H775","v":0}]
[{"$f":"IF(Cover_Sheet!A776=0,\"N\",\"Y\")","v":"N"},{"$f":"Cover_Sheet!B776","v":0},{"$f":"Cover_Sheet!C776","v":0},{"$f":"Cover_Sheet!D776","v":"00:00:00"},{"$f":"Cover_Sheet!E776","v":"00:00:00"},{"$f":"IF(Cover_Sheet!F776=\"\",\"\",Cover_Sheet!F776)","v":""},{"$f":"Cover_Sheet!G776","v":0},{"$f":"Cover_Sheet!H776","v":0}]
[{"$f":"IF(Cover_Sheet!A777=0,\"N\",\"Y\")","v":"N"},{"$f":"Cover_Sheet!B777","v":0},{"$f":"Cover_Sheet!C777","v":0},{"$f":"Cover_Sheet!D777","v":"00:00:00"},{"$f":"Cover_Sheet!E777","v":"00:00:00"},{"$f":"IF(Cover_Sheet!F777=\"\",\"\",Cover_Sheet!F777)","v":""},{"$f":"Cover_Sheet!G777","v":0},{"$f":"Cover_Sheet!H777","v":0}]
[{"$f":"IF(Cover_Sheet!A778=0,\"N\",\"Y\")","v":"N"},{"$f":"Cover_Sheet!B778","v":0},{"$f":"Cover_Sheet!C778","v":0},{"$f":"Cover_Sheet!D778","v":"00:00:00"},{"$f":"Cover_Sheet!E778","v":"00:00:00"},{"$f":"IF(Cover_Sheet!F778=\"\",\"\",Cover_Sheet!F778)","v":""},{"$f":"Cover_Sheet!G778","v":0},{"$f":"Cover_Sheet!H778","v":0}]
[{"$f":"IF(Cover_Sheet!A779=0,\"N\",\"Y\")","v":"N"},{"$f":"Cover_Sheet!B779","v":0},{"$f":"Cover_Sheet!C779","v":0},{"$f":"Cover_Sheet!D779","v":"00:00:00"},{"$f":"Cover_Sheet!E779","v":"00:00:00"},{"$f":"IF(Cover_Sheet!F779=\"\",\"\",Cover_Sheet!F779)","v":""},{"$f":"Cover_Sheet!G779","v":0},{"$f":"Cover_Sheet!H779","v":0}]
[{"$f":"IF(Cover_Sheet!A780=0,\"N\",\"Y\")","v":"N"},{"$f":"Cover_Sheet!B780","v":0},{"$f":"Cover_Sheet!C780","v":0},{"$f":"Cover_Sheet!D780","v":"00:00:00"},{"$f":"Cover_Sheet!E780","v":"00:00:00"},{"$f":"IF(Cover_Sheet!F780=\"\",\"\",Cover_Sheet!F780)","v":""},{"$f":"Cover_Sheet!G780","v":0},{"$f":"Cover_Sheet!H780","v":0}]
[{"$f":"IF(Cover_Sheet!A781=0,\"N\",\"Y\")","v":"N"},{"$f":"Cover_Sheet!B781","v":0},{"$f":"Cover_Sheet!C781","v":0},{"$f":"Cover_Sheet!D781","v":"00:00:00"},{"$f":"Cover_Sheet!E781","v":"00:00:00"},{"$f":"IF(Cover_Sheet!F781=\"\",\"\",Cover_Sheet!F781)","v":""},{"$f":"Cover_Sheet!G781","v":0},{"$f":"Cover_Sheet!H781","v":0}]
[{"$f":"IF(Cover_Sheet!A782=0,\"N\",\"Y\")","v":"N"},{"$f":"Cover_Sheet!B782","v":0},{"$f":"Cover_Sheet!C782","v":0},{"$f":"Cover_Sheet!D782","v":"00:00:00"},{"$f":"Cover_Sheet!E782","v":"00:00:00"},{"$f":"IF(Cover_Sheet!F782=\"\",\"\",Cover_Sheet!F782)","v":""},{"$f":"Cover_Sheet!G782","v":0},{"$f":"Cover_Sheet!H782","v":0}]
[{"$f":"IF(Cover_Sheet!A783=0,\"N\",\"Y\")","v":"N"},{"$f":"Cover_Sheet!B783","v":0},{"$f":"Cover_Sheet!C783","v":0},{"$f":"Cover_Sheet!D783","v":"00:00:00"},{"$f":"Cover_Sheet!E783","v":"00:00:00"},{"$f":"IF(Cover_Sheet!F783=\"\",\"\",Cover_Sheet!F783)","v":""},{"$f":"Cover_Sheet!G783","v":0},{"$f":"Cover_Sheet!H783","v":0}]
[{"$f":"IF(Cover_Sheet!A784=0,\"N\",\"Y\")","v":"N"},{"$f":"Cover_Sheet!B784","v":0},{"$f":"Cover_Sheet!C784","v":0},{"$f":"Cover_Sheet!D784","v":"00:00:00"},{"$f":"Cover_Sheet!E784","v":"00:00:00"},{"$f":"IF(Cover_Sheet!F784=\"\",\"\",Cover_Sheet!F784)","v":""},{"$f":"Cover_Sheet!G784","v":0},{"$f":"Cover_Sheet!H784","v":0}]
[{"$f":"IF(Cover_Sheet!A785=0,\"N\",\"Y\")","v":"N"},{"$f":"Cover_Sheet!B785","v":0},{"$f":"Cover_Sheet!C785","v":0},{"$f":"Cover_Sheet!D785","v":"00:00:00"},{"$f":"Cover_Sheet!E785","v":"00:00:00"},{"$f":"IF(Cover_Sheet!F785=\"\",\"\",Cover_Sheet!F785)","v":""},{"$f":"Cover_Sheet!G785","v":0},{"$f":"Cover_Sheet!H785","v":0}]
[{"$f":"IF(Cover_Sheet!A786=0,\"N\",\"Y\")","v":"N"},{"$f":"Cover_Sheet!B786","v":0},{"$f":"Cover_Sheet!C786","v":0},{"$f":"Cover_Sheet!D786","v":"00:00:00"},{"$f":"Cover_Sheet!E786","v":"00:00:00"},{"$f":"IF(Cover_Sheet!F786=\"\",\"\",Cover_Sheet!F786)","v":""},{"$f":"Cover_Sheet!G786","v":0},{"$f":"Cover_Sheet!H786","v":0}]
[{"$f":"IF(Cover_Sheet!A787=0,\"N\",\"Y\")","v":"N"},{"$f":"Cover_Sheet!B787","v":0},{"$f":"Cover_Sheet!C787","v":0},{"$f":"Cover_Sheet!D787","v":"00:00:00"},{"$f":"Cover_Sheet!E787","v":"00:00:00"},{"$f":"IF(Cover_Sheet!F787=\"\",\"\",Cover_Sheet!F787)","v":""},{"$f":"Cover_Sheet!G787","v":0},{"$f":"Cover_Sheet!H787","v":0}]
[{"$f":"IF(Cover_Sheet!A788=0,\"N\",\"Y\")","v":"N"},{"$f":"Cover_Sheet!B788","v":0},{"$f":"Cover_Sheet!C788","v":0},{"$f":"Cover_Sheet!D788","v":"00:00:00"},{"$f":"Cover_Sheet!E788","v":"00:00:00"},{"$f":"IF(Cover_Sheet!F788=\"\",\"\",Cover_Sheet!F788)","v":""},{"$f":"Cover_Sheet!G788","v":0},{"$f":"Cover_Sheet!H788","v":0}]
[{"$f":"IF(Cover_Sheet!A789=0,\"N\",\"Y\")","v":"N"},{"$f":"Cover_Sheet!B789","v":0},{"$f":"Cover_Sheet!C789","v":0},{"$f":"Cover_Sheet!D789","v":"00:00:00"},{"$f":"Cover_Sheet!E789","v":"00:00:00"},{"$f":"IF(Cover_Sheet!F789=\"\",\"\",Cover_Sheet!F789)","v":""},{"$f":"Cover_Sheet!G789","v":0},{"$f":"Cover_Sheet!H789","v":0}]
[{"$f":"IF(Cover_Sheet!A790=0,\"N\",\"Y\")","v":"N"},{"$f":"Cover_Sheet!B790","v":0},{"$f":"Cover_Sheet!C790","v":0},{"$f":"Cover_Sheet!D790","v":"00:00:00"},{"$f":"Cover_Sheet!E790","v":"00:00:00"},{"$f":"IF(Cover_Sheet!F790=\"\",\"\",Cover_Sheet!F790)","v":""},{"$f":"Cover_Sheet!G790","v":0},{"$f":"Cover_Sheet!H790","v":0}]
[{"$f":"IF(Cover_Sheet!A791=0,\"N\",\"Y\")","v":"N"},{"$f":"Cover_Sheet!B791","v":0},{"$f":"Cover_Sheet!C791","v":0},{"$f":"Cover_Sheet!D791","v":"00:00:00"},{"$f":"Cover_Sheet!E791","v":"00:00:00"},{"$f":"IF(Cover_Sheet!F791=\"\",\"\",Cover_Sheet!F791)","v":""},{"$f":"Cover_Sheet!G791","v":0},{"$f":"Cover_Sheet!H791","v":0}]
[{"$f":"IF(Cover_Sheet!A792=0,\"N\",\"Y\")","v":"N"},{"$f":"Cover_Sheet!B792","v":0},{"$f":"Cover_Sheet!C792","v":0},{"$f":"Cover_Sheet!D792","v":"00:00:00"},{"$f":"Cover_Sheet!E792","v":"00:00:00"},{"$f":"IF(Cover_Sheet!F792=\"\",\"\",Cover_Sheet!F792)","v":""},{"$f":"Cover_Sheet!G792","v":0},{"$f":"Cover_Sheet!H792","v":0}]
[{"$f":"IF(Cover_Sheet!A793=0,\"N\",\"Y\")","v":"N"},{"$f":"Cover_Sheet!B793","v":0},{"$f":"Cover_Sheet!C793","v":0},{"$f":"Cover_Sheet!D793","v":"00:00:00"},{"$f":"Cover_Sheet!E793","v":"00:00:00"},{"$f":"IF(Cover_Sheet!F793=\"\",\"\",Cover_Sheet!F793)","v":""},{"$f":"Cover_Sheet!G793","v":0},{"$f":"Cover_Sheet!H793","v":0}]
[{"$f":"IF(Cover_Sheet!A794=0,\"N\",\"Y\")","v":"N"},{"$f":"Cover_Sheet!B794","v":0},{"$f":"Cover_Sheet!C794","v":0},{"$f":"Cover_Sheet!D794","v":"00:00:00"},{"$f":"Cover_Sheet!E794","v":"00:00:00"},{"$f":"IF(Cover_Sheet!F794=\"\",\"\",Cover_Sheet!F794)","v":""},{"$f":"Cover_Sheet!G794","v":0},{"$f":"Cover_Sheet!H794","v":0}]
[{"$f":"IF(Cover_Sheet!A795=0,\"N\",\"Y\")","v":"N"},{"$f":"Cover_Sheet!B795","v":0},{"$f":"Cover_Sheet!C795","v":0},{"$f":"Cover_Sheet!D795","v":"00:00:00"},{"$f":"Cover_Sheet!E795","v":"00:00:00"},{"$f":"IF(Cover_Sheet!F795=\"\",\"\",Cover_Sheet!F795)","v":""},{"$f":"Cover_Sheet!G795","v":0},{"$f":"Cover_Sheet!H795","v":0}]
[{"$f":"IF(Cover_Sheet!A796=0,\"N\",\"Y\")","v":"N"},{"$f":"Cover_Sheet!B796","v":0},{"$f":"Cover_Sheet!C796","v":0},{"$f":"Cover_Sheet!D796","v":"00:00:00"},{"$f":"Cover_Sheet!E796","v":"00:00:00"},{"$f":"IF(Cover_Sheet!F796=\"\",\"\",Cover_Sheet!F796)","v":""},{"$f":"Cover_Sheet!G796","v":0},{"$f":"Cover_Sheet!H796","v":0}]
[{"$f":"IF(Cover_Sheet!A797=0,\"N\",\"Y\")","v":"N"},{"$f":"Cover_Sheet!B797","v":0},{"$f":"Cover_Sheet!C797","v":0},{"$f":"Cover_Sheet!D797","v":"00:00:00"},{"$f":"Cover_Sheet!E797","v":"00:00:00"},{"$f":"IF(Cover_Sheet!F797=\"\",\"\",Cover_Sheet!F797)","v":""},{"$f":"Cover_Sheet!G797","v":0},{"$f":"Cover_Sheet!H797","v":0}]
[{"$f":"IF(Cover_Sheet!A798=0,\"N\",\"Y\")","v":"N"},{"$f":"Cover_Sheet!B798","v":0},{"$f":"Cover_Sheet!C798","v":0},{"$f":"Cover_Sheet!D798","v":"00:00:00"},{"$f":"Cover_Sheet!E798","v":"00:00:00"},{"$f":"IF(Cover_Sheet!F798=\"\",\"\",Cover_Sheet!F798)","v":""},{"$f":"Cover_Sheet!G798","v":0},{"$f":"Cover_Sheet!H798","v":0}]
[{"$f":"IF(Cover_Sheet!A799=0,\"N\",\"Y\")","v":"N"},{"$f":"Cover_Sheet!B799","v":0},{"$f":"Cover_Sheet!C799","v":0},{"$f":"Cover_Sheet!D799","v":"00:00:00"},{"$f":"Cover_Sheet!E799","v":"00:00:00"},{"$f":"IF(Cover_Sheet!F799=\"\",\"\",Cover_Sheet!F799)","v":""},{"$f":"Cover_Sheet!G799","v":0},{"$f":"Cover_Sheet!H799","v":0}]
[{"$f":"IF(Cover_Sheet!A800=0,\"N\",\"Y\")","v":"N"},{"$f":"Cover_Sheet!B800","v":0},{"$f":"Cover_Sheet!C800","v":0},{"$f":"Cover_Sheet!D800","v":"00:00:00"},{"$f":"Cover_Sheet!E800","v":"00:00:00"},{"$f":"IF(Cover_Sheet!F800=\"\",\"\",Cover_Sheet!F800)","v":""},{"$f":"Cover_Sheet!G800","v":0},{"$f":"Cover_Sheet!H800","v":0}]
[{"$f":"IF(Cover_Sheet!A801=0,\"N\",\"Y\")","v":"N"},{"$f":"Cover_Sheet!B801","v":0},{"$f":"Cover_Sheet!C801","v":0},{"$f":"Cover_Sheet!D801","v":"00:00:00"},{"$f":"Cover_Sheet!E801","v":"00:00:00"},{"$f":"IF(Cover_Sheet!F801=\"\",\"\",Cover_Sheet!F801)","v":""},{"$f":"Cover_Sheet!G801","v":0},{"$f":"Cover_Sheet!H801","v":0}]
[{"$f":"IF(Cover_Sheet!A802=0,\"N\",\"Y\")","v":"N"},{"$f":"Cover_Sheet!B802","v":0},{"$f":"Cover_Sheet!C802","v":0},{"$f":"Cover_Sheet!D802","v":"00:00:00"},{"$f":"Cover_Sheet!E802","v":"00:00:00"},{"$f":"IF(Cover_Sheet!F802=\"\",\"\",Cover_Sheet!F802)","v":""},{"$f":"Cover_Sheet!G802","v":0},{"$f":"Cover_Sheet!H802","v":0}]
[{"$f":"IF(Cover_Sheet!A803=0,\"N\",\"Y\")","v":"N"},{"$f":"Cover_Sheet!B803","v":0},{"$f":"Cover_Sheet!C803","v":0},{"$f":"Cover_Sheet!D803","v":"00:00:00"},{"$f":"Cover_Sheet!E803","v":"00:00:00"},{"$f":"IF(Cover_Sheet!F803=\"\",\"\",Cover_Sheet!F803)","v":""},{"$f":"Cover_Sheet!G803","v":0},{"$f":"Cover_Sheet!H803","v":0}]
[{"$f":"IF(Cover_Sheet!A804=0,\"N\",\"Y\")","v":"N"},{"$f":"Cover_Sheet!B804","v":0},{"$f":"Cover_Sheet!C804","v":0},{"$f":"Cover_Sheet!D804","v":"00:00:00"},{"$f":"Cover_Sheet!E804","v":"00:00:00"},{"$f":"IF(Cover_Sheet!F804=\"\",\"\",Cover_Sheet!F804)","v":""},{"$f":"Cover_Sheet!G804","v":0},{"$f":"Cover_Sheet!H804","v":0}]
[{"$f":"IF(Cover_Sheet!A805=0,\"N\",\"Y\")","v":"N"},{"$f":"Cover_Sheet!B805","v":0},{"$f":"Cover_Sheet!C805","v":0},{"$f":"Cover_Sheet!D805","v":"00:00:00"},{"$f":"Cover_Sheet!E805","v":"00:00:00"},{"$f":"IF(Cover_Sheet!F805=\"\",\"\",Cover_Sheet!F805)","v":""},{"$f":"Cover_Sheet!G805","v":0},{"$f":"Cover_Sheet!H805","v":0}]
[{"$f":"IF(Cover_Sheet!A806=0,\"N\",\"Y\")","v":"N"},{"$f":"Cover_Sheet!B806","v":0},{"$f":"Cover_Sheet!C806","v":0},{"$f":"Cover_Sheet!D806","v":"00:00:00"},{"$f":"Cover_Sheet!E806","v":"00:00:00"},{"$f":"IF(Cover_Sheet!F806=\"\",\"\",Cover_Sheet!F806)","v":""},{"$f":"Cover_Sheet!G806","v":0},{"$f":"Cover_Sheet!H806","v":0}]
[{"$f":"IF(Cover_Sheet!A807=0,\"N\",\"Y\")","v":"N"},{"$f":"Cover_Sheet!B807","v":0},{"$f":"Cover_Sheet!C807","v":0},{"$f":"Cover_Sheet!D807","v":"00:00:00"},{"$f":"Cover_Sheet!E807","v":"00:00:00"},{"$f":"IF(Cover_Sheet!F807=\"\",\"\",Cover_Sheet!F807)","v":""},{"$f":"Cover_Sheet!G807","v":0},{"$f":"Cover_Sheet!H807","v":0}]
[{"$f":"IF(Cover_Sheet!A808=0,\"N\",\"Y\")","v":"N"},{"$f":"Cover_Sheet!B808","v":0},{"$f":"Cover_Sheet!C808","v":0},{"$f":"Cover_Sheet!D808","v":"00:00:00"},{"$f":"Cover_Sheet!E808","v":"00:00:00"},{"$f":"IF(Cover_Sheet!F808=\"\",\"\",Cover_Sheet!F808)","v":""},{"$f":"Cover_Sheet!G808","v":0},{"$f":"Cover_Sheet!H808","v":0}]
[{"$f":"IF(Cover_Sheet!A809=0,\"N\",\"Y\")","v":"N"},{"$f":"Cover_Sheet!B809","v":0},{"$f":"Cover_Sheet!C809","v":0},{"$f":"Cover_Sheet!D809","v":"00:00:00"},{"$f":"Cover_Sheet!E809","v":"00:00:00"},{"$f":"IF(Cover_Sheet!F809=\"\",\"\",Cover_Sheet!F809)","v":""},{"$f":"Cover_Sheet!G809","v":0},{"$f":"Cover_Sheet!H809","v":0}]
[{"$f":"IF(Cover_Sheet!A810=0,\"N\",\"Y\")","v":"N"},{"$f":"Cover_Sheet!B810","v":0},{"$f":"Cover_Sheet!C810","v":0},{"$f":"Cover_Sheet!D810","v":"00:00:00"},{"$f":"Cover_Sheet!E810","v":"00:00:00"},{"$f":"IF(Cover_Sheet!F810=\"\",\"\",Cover_Sheet!F810)","v":""},{"$f":"Cover_Sheet!G810","v":0},{"$f":"Cover_Sheet!H810","v":0}]
[{"$f":"IF(Cover_Sheet!A811=0,\"N\",\"Y\")","v":"N"},{"$f":"Cover_Sheet!B811","v":0},{"$f":"Cover_Sheet!C811","v":0},{"$f":"Cover_Sheet!D811","v":"00:00:00"},{"$f":"Cover_Sheet!E811","v":"00:00:00"},{"$f":"IF(Cover_Sheet!F811=\"\",\"\",Cover_Sheet!F811)","v":""},{"$f":"Cover_Sheet!G811","v":0},{"$f":"Cover_Sheet!H811","v":0}]
[{"$f":"IF(Cover_Sheet!A812=0,\"N\",\"Y\")","v":"N"},{"$f":"Cover_Sheet!B812","v":0},{"$f":"Cover_Sheet!C812","v":0},{"$f":"Cover_Sheet!D812","v":"00:00:00"},{"$f":"Cover_Sheet!E812","v":"00:00:00"},{"$f":"IF(Cover_Sheet!F812=\"\",\"\",Cover_Sheet!F812)","v":""},{"$f":"Cover_Sheet!G812","v":0},{"$f":"Cover_Sheet!H812","v":0}]
[{"$f":"IF(Cover_Sheet!A813=0,\"N\",\"Y\")","v":"N"},{"$f":"Cover_Sheet!B813","v":0},{"$f":"Cover_Sheet!C813","v":0},{"$f":"Cover_Sheet!D813","v":"00:00:00"},{"$f":"Cover_Sheet!E813","v":"00:00:00"},{"$f":"IF(Cover_Sheet!F813=\"\",\"\",Cover_Sheet!F813)","v":""},{"$f":"Cover_Sheet!G813","v":0},{"$f":"Cover_Sheet!H813","v":0}]
[{"$f":"IF(Cover_Sheet!A814=0,\"N\",\"Y\")","v":"N"},{"$f":"Cover_Sheet!B814","v":0},{"$f":"Cover_Sheet!C814","v":0},{"$f":"Cover_Sheet!D814","v":"00:00:00"},{"$f":"Cover_Sheet!E814","v":"00:00:00"},{"$f":"IF(Cover_Sheet!F814=\"\",\"\",Cover_Sheet!F814)","v":""},{"$f":"Cover_Sheet!G814","v":0},{"$f":"Cover_Sheet!H814","v":0}]
[{"$f":"IF(Cover_Sheet!A815=0,\"N\",\"Y\")","v":"N"},{"$f":"Cover_Sheet!B815","v":0},{"$f":"Cover_Sheet!C815","v":0},{"$f":"Cover_Sheet!D815","v":"00:00:00"},{"$f":"Cover_Sheet!E815","v":"00:00:00"},{"$f":"IF(Cover_Sheet!F815=\"\",\"\",Cover_Sheet!F815)","v":""},{"$f":"Cover_Sheet!G815","v":0},{"$f":"Cover_Sheet!H815","v":0}]
[{"$f":"IF(Cover_Sheet!A816=0,\"N\",\"Y\")","v":"N"},{"$f":"Cover_Sheet!B816","v":0},{"$f":"Cover_Sheet!C816","v":0},{"$f":"Cover_Sheet!D816","v":"00:00:00"},{"$f":"Cover_Sheet!E816","v":"00:00:00"},{"$f":"IF(Cover_Sheet!F816=\"\",\"\",Cover_Sheet!F816)","v":""},{"$f":"Cover_Sheet!G816","v":0},{"$f":"Cover_Sheet!H816","v":0}]
[{"$f":"IF(Cover_Sheet!A817=0,\"N\",\"Y\")","v":"N"},{"$f":"Cover_Sheet!B817","v":0},{"$f":"Cover_Sheet!C817","v":0},{"$f":"Cover_Sheet!D817","v":"00:00:00"},{"$f":"Cover_Sheet!E817","v":"00:00:00"},{"$f":"IF(Cover_Sheet!F817=\"\",\"\",Cover_Sheet!F817)","v":""},{"$f":"Cover_Sheet!G817","v":0},{"$f":"Cover_Sheet!H817","v":0}]
[{"$f":"IF(Cover_Sheet!A818=0,\"N\",\"Y\")","v":"N"},{"$f":"Cover_Sheet!B818","v":0},{"$f":"Cover_Sheet!C818","v":0},{"$f":"Cover_Sheet!D818","v":"00:00:00"},{"$f":"Cover_Sheet!E818","v":"00:00:00"},{"$f":"IF(Cover_Sheet!F818=\"\",\"\",Cover_Sheet!F818)","v":""},{"$f":"Cover_Sheet!G818","v":0},{"$f":"Cover_Sheet!H818","v":0}]
[{"$f":"IF(Cover_Sheet!A819=0,\"N\",\"Y\")","v":"N"},{"$f":"Cover_Sheet!B819","v":0},{"$f":"Cover_Sheet!C819","v":0},{"$f":"Cover_Sheet!D819","v":"00:00:00"},{"$f":"Cover_Sheet!E819","v":"00:00:00"},{"$f":"IF(Cover_Sheet!F819=\"\",\"\",Cover_Sheet!F819)","v":""},{"$f":"Cover_Sheet!G819","v":0},{"$f":"Cover_Sheet!H819","v":0}]
[{"$f":"IF(Cover_Sheet!A820=0,\"N\",\"Y\")","v":"N"},{"$f":"Cover_Sheet!B820","v":0},{"$f":"Cover_Sheet!C820","v":0},{"$f":"Cover_Sheet!D820","v":"00:00:00"},{"$f":"Cover_Sheet!E820","v":"00:00:00"},{"$f":"IF(Cover_Sheet!F820=\"\",\"\",Cover_Sheet!F820)","v":""},{"$f":"Cover_Sheet!G820","v":0},{"$f":"Cover_Sheet!H820","v":0}]
[{"$f":"IF(Cover_Sheet!A821=0,\"N\",\"Y\")","v":"N"},{"$f":"Cover_Sheet!B821","v":0},{"$f":"Cover_Sheet!C821","v":0},{"$f":"Cover_Sheet!D821","v":"00:00:00"},{"$f":"Cover_Sheet!E821","v":"00:00:00"},{"$f":"IF(Cover_Sheet!F821=\"\",\"\",Cover_Sheet!F821)","v":""},{"$f":"Cover_Sheet!G821","v":0},{"$f":"Cover_Sheet!H821","v":0}]
[{"$f":"IF(Cover_Sheet!A822=0,\"N\",\"Y\")","v":"N"},{"$f":"Cover_Sheet!B822","v":0},{"$f":"Cover_Sheet!C822","v":0},{"$f":"Cover_Sheet!D822","v":"00:00:00"},{"$f":"Cover_Sheet!E822","v":"00:00:00"},{"$f":"IF(Cover_Sheet!F822=\"\",\"\",Cover_Sheet!F822)","v":""},{"$f":"Cover_Sheet!G822","v":0},{"$f":"Cover_Sheet!H822","v":0}]
[{"$f":"IF(Cover_Sheet!A823=0,\"N\",\"Y\")","v":"N"},{"$f":"Cover_Sheet!B823","v":0},{"$f":"Cover_Sheet!C823","v":0},{"$f":"Cover_Sheet!D823","v":"00:00:00"},{"$f":"Cover_Sheet!E823","v":"00:00:00"},{"$f":"IF(Cover_Sheet!F823=\"\",\"\",Cover_Sheet!F823)","v":""},{"$f":"Cover_Sheet!G823","v":0},{"$f":"Cover_Sheet!H823","v":0}]
[{"$f":"IF(Cover_Sheet!A824=0,\"N\",\"Y\")","v":"N"},{"$f":"Cover_Sheet!B824","v":0},{"$f":"Cover_Sheet!C824","v":0},{"$f":"Cover_Sheet!D824","v":"00:00:00"},{"$f":"Cover_Sheet!E824","v":"00:00:00"},{"$f":"IF(Cover_Sheet!F824=\"\",\"\",Cover_Sheet!F824)","v":""},{"$f":"Cover_Sheet!G824","v":0},{"$f":"Cover_Sheet!H824","v":0}]
[{"$f":"IF(Cover_Sheet!A825=0,\"N\",\"Y\")","v":"N"},{"$f":"Cover_Sheet!B825","v":0},{"$f":"Cover_Sheet!C825","v":0},{"$f":"Cover_Sheet!D825","v":"00:00:00"},{"$f":"Cover_Sheet!E825","v":"00:00:00"},{"$f":"IF(Cover_Sheet!F825=\"\",\"\",Cover_Sheet!F825)","v":""},{"$f":"Cover_Sheet!G825","v":0},{"$f":"Cover_Sheet!H825","v":0}]
[{"$f":"IF(Cover_Sheet!A826=0,\"N\",\"Y\")","v":"N"},{"$f":"Cover_Sheet!B826","v":0},{"$f":"Cover_Sheet!C826","v":0},{"$f":"Cover_Sheet!D826","v":"00:00:00"},{"$f":"Cover_Sheet!E826","v":"00:00:00"},{"$f":"IF(Cover_Sheet!F826=\"\",\"\",Cover_Sheet!F826)","v":""},{"$f":"Cover_Sheet!G826","v":0},{"$f":"Cover_Sheet!H826","v":0}]
[{"$f":"IF(Cover_Sheet!A827=0,\"N\",\"Y\")","v":"N"},{"$f":"Cover_Sheet!B827","v":0},{"$f":"Cover_Sheet!C827","v":0},{"$f":"Cover_Sheet!D827","v":"00:00:00"},{"$f":"Cover_Sheet!E827","v":"00:00:00"},{"$f":"IF(Cover_Sheet!F827=\"\",\"\",Cover_Sheet!F827)","v":""},{"$f":"Cover_Sheet!G827","v":0},{"$f":"Cover_Sheet!H827","v":0}]
[{"$f":"IF(Cover_Sheet!A828=0,\"N\",\"Y\")","v":"N"},{"$f":"Cover_Sheet!B828","v":0},{"$f":"Cover_Sheet!C828","v":0},{"$f":"Cover_Sheet!D828","v":"00:00:00"},{"$f":"Cover_Sheet!E828","v":"00:00:00"},{"$f":"IF(Cover_Sheet!F828=\"\",\"\",Cover_Sheet!F828)","v":""},{"$f":"Cover_Sheet!G828","v":0},{"$f":"Cover_Sheet!H828","v":0}]
[{"$f":"IF(Cover_Sheet!A829=0,\"N\",\"Y\")","v":"N"},{"$f":"Cover_Sheet!B829","v":0},{"$f":"Cover_Sheet!C829","v":0},{"$f":"Cover_Sheet!D829","v":"00:00:00"},{"$f":"Cover_Sheet!E829","v":"00:00:00"},{"$f":"IF(Cover_Sheet!F829=\"\",\"\",Cover_Sheet!F829)","v":""},{"$f":"Cover_Sheet!G829","v":0},{"$f":"Cover_Sheet!H829","v":0}]
[{"$f":"IF(Cover_Sheet!A830=0,\"N\",\"Y\")","v":"N"},{"$f":"Cover_Sheet!B830","v":0},{"$f":"Cover_Sheet!C830","v":0},{"$f":"Cover_Sheet!D830","v":"00:00:00"},{"$f":"Cover_Sheet!E830","v":"00:00:00"},{"$f":"IF(Cover_Sheet!F830=\"\",\"\",Cover_Sheet!F830)","v":""},{"$f":"Cover_Sheet!G830","v":0},{"$f":"Cover_Sheet!H830","v":0}]
[{"$f":"IF(Cover_Sheet!A831=0,\"N\",\"Y\")","v":"N"},{"$f":"Cover_Sheet!B831","v":0},{"$f":"Cover_Sheet!C831","v":0},{"$f":"Cover_Sheet!D831","v":"00:00:00"},{"$f":"Cover_Sheet!E831","v":"00:00:00"},{"$f":"IF(Cover_Sheet!F831=\"\",\"\",Cover_Sheet!F831)","v":""},{"$f":"Cover_Sheet!G831","v":0},{"$f":"Cover_Sheet!H831","v":0}]
[{"$f":"IF(Cover_Sheet!A832=0,\"N\",\"Y\")","v":"N"},{"$f":"Cover_Sheet!B832","v":0},{"$f":"Cover_Sheet!C832","v":0},{"$f":"Cover_Sheet!D832","v":"00:00:00"},{"$f":"Cover_Sheet!E832","v":"00:00:00"},{"$f":"IF(Cover_Sheet!F832=\"\",\"\",Cover_Sheet!F832)","v":""},{"$f":"Cover_Sheet!G832","v":0},{"$f":"Cover_Sheet!H832","v":0}]
[{"$f":"IF(Cover_Sheet!A833=0,\"N\",\"Y\")","v":"N"},{"$f":"Cover_Sheet!B833","v":0},{"$f":"Cover_Sheet!C833","v":0},{"$f":"Cover_Sheet!D833","v":"00:00:00"},{"$f":"Cover_Sheet!E833","v":"00:00:00"},{"$f":"IF(Cover_Sheet!F833=\"\",\"\",Cover_Sheet!F833)","v":""},{"$f":"Cover_Sheet!G833","v":0},{"$f":"Cover_Sheet!H833","v":0}]
[{"$f":"IF(Cover_Sheet!A834=0,\"N\",\"Y\")","v":"N"},{"$f":"Cover_Sheet!B834","v":0},{"$f":"Cover_Sheet!C834","v":0},{"$f":"Cover_Sheet!D834","v":"00:00:00"},{"$f":"Cover_Sheet!E834","v":"00:00:00"},{"$f":"IF(Cover_Sheet!F834=\"\",\"\",Cover_Sheet!F834)","v":""},{"$f":"Cover_Sheet!G834","v":0},{"$f":"Cover_Sheet!H834","v":0}]
[{"$f":"IF(Cover_Sheet!A835=0,\"N\",\"Y\")","v":"N"},{"$f":"Cover_Sheet!B835","v":0},{"$f":"Cover_Sheet!C835","v":0},{"$f":"Cover_Sheet!D835","v":"00:00:00"},{"$f":"Cover_Sheet!E835","v":"00:00:00"},{"$f":"IF(Cover_Sheet!F835=\"\",\"\",Cover_Sheet!F835)","v":""},{"$f":"Cover_Sheet!G835","v":0},{"$f":"Cover_Sheet!H835","v":0}]
[{"$f":"IF(Cover_Sheet!A836=0,\"N\",\"Y\")","v":"N"},{"$f":"Cover_Sheet!B836","v":0},{"$f":"Cover_Sheet!C836","v":0},{"$f":"Cover_Sheet!D836","v":"00:00:00"},{"$f":"Cover_Sheet!E836","v":"00:00:00"},{"$f":"IF(Cover_Sheet!F836=\"\",\"\",Cover_Sheet!F836)","v":""},{"$f":"Cover_Sheet!G836","v":0},{"$f":"Cover_Sheet!H836","v":0}]
[{"$f":"IF(Cover_Sheet!A837=0,\"N\",\"Y\")","v":"N"},{"$f":"Cover_Sheet!B837","v":0},{"$f":"Cover_Sheet!C837","v":0},{"$f":"Cover_Sheet!D837","v":"00:00:00"},{"$f":"Cover_Sheet!E837","v":"00:00:00"},{"$f":"IF(Cover_Sheet!F837=\"\",\"\",Cover_Sheet!F837)","v":""},{"$f":"Cover_Sheet!G837","v":0},{"$f":"Cover_Sheet!H837","v":0}]
[{"$f":"IF(Cover_Sheet!A838=0,\"N\",\"Y\")","v":"N"},{"$f":"Cover_Sheet!B838","v":0},{"$f":"Cover_Sheet!C838","v":0},{"$f":"Cover_Sheet!D838","v":"00:00:00"},{"$f":"Cover_Sheet!E838","v":"00:00:00"},{"$f":"IF(Cover_Sheet!F838=\"\",\"\",Cover_Sheet!F838)","v":""},{"$f":"Cover_Sheet!G838","v":0},{"$f":"Cover_Sheet!H838","v":0}]
[{"$f":"IF(Cover_Sheet!A839=0,\"N\",\"Y\")","v":"N"},{"$f":"Cover_Sheet!B839","v":0},{"$f":"Cover_Sheet!C839","v":0},{"$f":"Cover_Sheet!D839","v":"00:00:00"},{"$f":"Cover_Sheet!E839","v":"00:00:00"},{"$f":"IF(Cover_Sheet!F839=\"\",\"\",Cover_Sheet!F839)","v":""},{"$f":"Cover_Sheet!G839","v":0},{"$f":"Cover_Sheet!H839","v":0}]
[{"$f":"IF(Cover_Sheet!A840=0,\"N\",\"Y\")","v":"N"},{"$f":"Cover_Sheet!B840","v":0},{"$f":"Cover_Sheet!C840","v":0},{"$f":"Cover_Sheet!D840","v":"00:00:00"},{"$f":"Cover_Sheet!E840","v":"00:00:00"},{"$f":"IF(Cover_Sheet!F840=\"\",\"\",Cover_Sheet!F840)","v":""},{"$f":"Cover_Sheet!G840","v":0},{"$f":"Cover_Sheet!H840","v":0}]
[{"$f":"IF(Cover_Sheet!A841=0,\"N\",\"Y\")","v":"N"},{"$f":"Cover_Sheet!B841","v":0},{"$f":"Cover_Sheet!C841","v":0},{"$f":"Cover_Sheet!D841","v":"00:00:00"},{"$f":"Cover_Sheet!E841","v":"00:00:00"},{"$f":"IF(Cover_Sheet!F841=\"\",\"\",Cover_Sheet!F841)","v":""},{"$f":"Cover_Sheet!G841","v":0},{"$f":"Cover_Sheet!H841","v":0}]
[{"$f":"IF(Cover_Sheet!A842=0,\"N\",\"Y\")","v":"N"},{"$f":"Cover_Sheet!B842","v":0},{"$f":"Cover_Sheet!C842","v":0},{"$f":"Cover_Sheet!D842","v":"00:00:00"},{"$f":"Cover_Sheet!E842","v":"00:00:00"},{"$f":"IF(Cover_Sheet!F842=\"\",\"\",Cover_Sheet!F842)","v":""},{"$f":"Cover_Sheet!G842","v":0},{"$f":"Cover_Sheet!H842","v":0}]
[{"$f":"IF(Cover_Sheet!A843=0,\"N\",\"Y\")","v":"N"},{"$f":"Cover_Sheet!B843","v":0},{"$f":"Cover_Sheet!C843","v":0},{"$f":"Cover_Sheet!D843","v":"00:00:00"},{"$f":"Cover_Sheet!E843","v":"00:00:00"},{"$f":"IF(Cover_Sheet!F843=\"\",\"\",Cover_Sheet!F843)","v":""},{"$f":"Cover_Sheet!G843","v":0},{"$f":"Cover_Sheet!H843","v":0}]
[{"$f":"IF(Cover_Sheet!A844=0,\"N\",\"Y\")","v":"N"},{"$f":"Cover_Sheet!B844","v":0},{"$f":"Cover_Sheet!C844","v":0},{"$f":"Cover_Sheet!D844","v":"00:00:00"},{"$f":"Cover_Sheet!E844","v":"00:00:00"},{"$f":"IF(Cover_Sheet!F844=\"\",\"\",Cover_Sheet!F844)","v":""},{"$f":"Cover_Sheet!G844","v":0},{"$f":"Cover_Sheet!H844","v":0}]
[{"$f":"IF(Cover_Sheet!A845=0,\"N\",\"Y\")","v":"N"},{"$f":"Cover_Sheet!B845","v":0},{"$f":"Cover_Sheet!C845","v":0},{"$f":"Cover_Sheet!D845","v":"00:00:00"},{"$f":"Cover_Sheet!E845","v":"00:00:00"},{"$f":"IF(Cover_Sheet!F845=\"\",\"\",Cover_Sheet!F845)","v":""},{"$f":"Cover_Sheet!G845","v":0},{"$f":"Cover_Sheet!H845","v":0}]
[{"$f":"IF(Cover_Sheet!A846=0,\"N\",\"Y\")","v":"N"},{"$f":"Cover_Sheet!B846","v":0},{"$f":"Cover_Sheet!C846","v":0},{"$f":"Cover_Sheet!D846","v":"00:00:00"},{"$f":"Cover_Sheet!E846","v":"00:00:00"},{"$f":"IF(Cover_Sheet!F846=\"\",\"\",Cover_Sheet!F846)","v":""},{"$f":"Cover_Sheet!G846","v":0},{"$f":"Cover_Sheet!H846","v":0}]
[{"$f":"IF(Cover_Sheet!A847=0,\"N\",\"Y\")","v":"N"},{"$f":"Cover_Sheet!B847","v":0},{"$f":"Cover_Sheet!C847","v":0},{"$f":"Cover_Sheet!D847","v":"00:00:00"},{"$f":"Cover_Sheet!E847","v":"00:00:00"},{"$f":"IF(Cover_Sheet!F847=\"\",\"\",Cover_Sheet!F847)","v":""},{"$f":"Cover_Sheet!G847","v":0},{"$f":"Cover_Sheet!H847","v":0}]
[{"$f":"IF(Cover_Sheet!A848=0,\"N\",\"Y\")","v":"N"},{"$f":"Cover_Sheet!B848","v":0},{"$f":"Cover_Sheet!C848","v":0},{"$f":"Cover_Sheet!D848","v":"00:00:00"},{"$f":"Cover_Sheet!E848","v":"00:00:00"},{"$f":"IF(Cover_Sheet!F848=\"\",\"\",Cover_Sheet!F848)","v":""},{"$f":"Cover_Sheet!G848","v":0},{"$f":"Cover_Sheet!H848","v":0}]
[{"$f":"IF(Cover_Sheet!A849=0,\"N\",\"Y\")","v":"N"},{"$f":"Cover_Sheet!B849","v":0},{"$f":"Cover_Sheet!C849","v":0},{"$f":"Cover_Sheet!D849","v":"00:00:00"},{"$f":"Cover_Sheet!E849","v":"00:00:00"},{"$f":"IF(Cover_Sheet!F849=\"\",\"\",Cover_Sheet!F849)","v":""},{"$f":"Cover_Sheet!G849","v":0},{"$f":"Cover_Sheet!H849","v":0}]
[{"$f":"IF(Cover_Sheet!A850=0,\"N\",\"Y\")","v":"N"},{"$f":"Cover_Sheet!B850","v":0},{"$f":"Cover_Sheet!C850","v":0},{"$f":"Cover_Sheet!D850","v":"00:00:00"},{"$f":"Cover_Sheet!E850","v":"00:00:00"},{"$f":"IF(Cover_Sheet!F850=\"\",\"\",Cover_Sheet!F850)","v":""},{"$f":"Cover_Sheet!G850","v":0},{"$f":"Cover_Sheet!H850","v":0}]
[{"$f":"IF(Cover_Sheet!A851=0,\"N\",\"Y\")","v":"N"},{"$f":"Cover_Sheet!B851","v":0},{"$f":"Cover_Sheet!C851","v":0},{"$f":"Cover_Sheet!D851","v":"00:00:00"},{"$f":"Cover_Sheet!E851","v":"00:00:00"},{"$f":"IF(Cover_Sheet!F851=\"\",\"\",Cover_Sheet!F851)","v":""},{"$f":"Cover_Sheet!G851","v":0},{"$f":"Cover_Sheet!H851","v":0}]
[{"$f":"IF(Cover_Sheet!A852=0,\"N\",\"Y\")","v":"N"},{"$f":"Cover_Sheet!B852","v":0},{"$f":"Cover_Sheet!C852","v":0},{"$f":"Cover_Sheet!D852","v":"00:00:00"},{"$f":"Cover_Sheet!E852","v":"00:00:00"},{"$f":"IF(Cover_Sheet!F852=\"\",\"\",Cover_Sheet!F852)","v":""},{"$f":"Cover_Sheet!G852","v":0},{"$f":"Cover_Sheet!H852","v":0}]
[{"$f":"IF(Cover_Sheet!A853=0,\"N\",\"Y\")","v":"N"},{"$f":"Cover_Sheet!B853","v":0},{"$f":"Cover_Sheet!C853","v":0},{"$f":"Cover_Sheet!D853","v":"00:00:00"},{"$f":"Cover_Sheet!E853","v":"00:00:00"},{"$f":"IF(Cover_Sheet!F853=\"\",\"\",Cover_Sheet!F853)","v":""},{"$f":"Cover_Sheet!G853","v":0},{"$f":"Cover_Sheet!H853","v":0}]
[{"$f":"IF(Cover_Sheet!A854=0,\"N\",\"Y\")","v":"N"},{"$f":"Cover_Sheet!B854","v":0},{"$f":"Cover_Sheet!C854","v":0},{"$f":"Cover_Sheet!D854","v":"00:00:00"},{"$f":"Cover_Sheet!E854","v":"00:00:00"},{"$f":"IF(Cover_Sheet!F854=\"\",\"\",Cover_Sheet!F854)","v":""},{"$f":"Cover_Sheet!G854","v":0},{"$f":"Cover_Sheet!H854","v":0}]
[{"$f":"IF(Cover_Sheet!A855=0,\"N\",\"Y\")","v":"N"},{"$f":"Cover_Sheet!B855","v":0},{"$f":"Cover_Sheet!C855","v":0},{"$f":"Cover_Sheet!D855","v":"00:00:00"},{"$f":"Cover_Sheet!E855","v":"00:00:00"},{"$f":"IF(Cover_Sheet!F855=\"\",\"\",Cover_Sheet!F855)","v":""},{"$f":"Cover_Sheet!G855","v":0},{"$f":"Cover_Sheet!H855","v":0}]
[{"$f":"IF(Cover_Sheet!A856=0,\"N\",\"Y\")","v":"N"},{"$f":"Cover_Sheet!B856","v":0},{"$f":"Cover_Sheet!C856","v":0},{"$f":"Cover_Sheet!D856","v":"00:00:00"},{"$f":"Cover_Sheet!E856","v":"00:00:00"},{"$f":"IF(Cover_Sheet!F856=\"\",\"\",Cover_Sheet!F856)","v":""},{"$f":"Cover_Sheet!G856","v":0},{"$f":"Cover_Sheet!H856","v":0}]
[{"$f":"IF(Cover_Sheet!A857=0,\"N\",\"Y\")","v":"N"},{"$f":"Cover_Sheet!B857","v":0},{"$f":"Cover_Sheet!C857","v":0},{"$f":"Cover_Sheet!D857","v":"00:00:00"},{"$f":"Cover_Sheet!E857","v":"00:00:00"},{"$f":"IF(Cover_Sheet!F857=\"\",\"\",Cover_Sheet!F857)","v":""},{"$f":"Cover_Sheet!G857","v":0},{"$f":"Cover_Sheet!H857","v":0}]
[{"$f":"IF(Cover_Sheet!A858=0,\"N\",\"Y\")","v":"N"},{"$f":"Cover_Sheet!B858","v":0},{"$f":"Cover_Sheet!C858","v":0},{"$f":"Cover_Sheet!D858","v":"00:00:00"},{"$f":"Cover_Sheet!E858","v":"00:00:00"},{"$f":"IF(Cover_Sheet!F858=\"\",\"\",Cover_Sheet!F858)","v":""},{"$f":"Cover_Sheet!G858","v":0},{"$f":"Cover_Sheet!H858","v":0}]
[{"$f":"IF(Cover_Sheet!A859=0,\"N\",\"Y\")","v":"N"},{"$f":"Cover_Sheet!B859","v":0},{"$f":"Cover_Sheet!C859","v":0},{"$f":"Cover_Sheet!D859","v":"00:00:00"},{"$f":"Cover_Sheet!E859","v":"00:00:00"},{"$f":"IF(Cover_Sheet!F859=\"\",\"\",Cover_Sheet!F859)","v":""},{"$f":"Cover_Sheet!G859","v":0},{"$f":"Cover_Sheet!H859","v":0}]
[{"$f":"IF(Cover_Sheet!A860=0,\"N\",\"Y\")","v":"N"},{"$f":"Cover_Sheet!B860","v":0},{"$f":"Cover_Sheet!C860","v":0},{"$f":"Cover_Sheet!D860","v":"00:00:00"},{"$f":"Cover_Sheet!E860","v":"00:00:00"},{"$f":"IF(Cover_Sheet!F860=\"\",\"\",Cover_Sheet!F860)","v":""},{"$f":"Cover_Sheet!G860","v":0},{"$f":"Cover_Sheet!H860","v":0}]
[{"$f":"IF(Cover_Sheet!A861=0,\"N\",\"Y\")","v":"N"},{"$f":"Cover_Sheet!B861","v":0},{"$f":"Cover_Sheet!C861","v":0},{"$f":"Cover_Sheet!D861","v":"00:00:00"},{"$f":"Cover_Sheet!E861","v":"00:00:00"},{"$f":"IF(Cover_Sheet!F861=\"\",\"\",Cover_Sheet!F861)","v":""},{"$f":"Cover_Sheet!G861","v":0},{"$f":"Cover_Sheet!H861","v":0}]
[{"$f":"IF(Cover_Sheet!A862=0,\"N\",\"Y\")","v":"N"},{"$f":"Cover_Sheet!B862","v":0},{"$f":"Cover_Sheet!C862","v":0},{"$f":"Cover_Sheet!D862","v":"00:00:00"},{"$f":"Cover_Sheet!E862","v":"00:00:00"},{"$f":"IF(Cover_Sheet!F862=\"\",\"\",Cover_Sheet!F862)","v":""},{"$f":"Cover_Sheet!G862","v":0},{"$f":"Cover_Sheet!H862","v":0}]
[{"$f":"IF(Cover_Sheet!A863=0,\"N\",\"Y\")","v":"N"},{"$f":"Cover_Sheet!B863","v":0},{"$f":"Cover_Sheet!C863","v":0},{"$f":"Cover_Sheet!D863","v":"00:00:00"},{"$f":"Cover_Sheet!E863","v":"00:00:00"},{"$f":"IF(Cover_Sheet!F863=\"\",\"\",Cover_Sheet!F863)","v":""},{"$f":"Cover_Sheet!G863","v":0},{"$f":"Cover_Sheet!H863","v":0}]
[{"$f":"IF(Cover_Sheet!A864=0,\"N\",\"Y\")","v":"N"},{"$f":"Cover_Sheet!B864","v":0},{"$f":"Cover_Sheet!C864","v":0},{"$f":"Cover_Sheet!D864","v":"00:00:00"},{"$f":"Cover_Sheet!E864","v":"00:00:00"},{"$f":"IF(Cover_Sheet!F864=\"\",\"\",Cover_Sheet!F864)","v":""},{"$f":"Cover_Sheet!G864","v":0},{"$f":"Cover_Sheet!H864","v":0}]
[{"$f":"IF(Cover_Sheet!A865=0,\"N\",\"Y\")","v":"N"},{"$f":"Cover_Sheet!B865","v":0},{"$f":"Cover_Sheet!C865","v":0},{"$f":"Cover_Sheet!D865","v":"00:00:00"},{"$f":"Cover_Sheet!E865","v":"00:00:00"},{"$f":"IF(Cover_Sheet!F865=\"\",\"\",Cover_Sheet!F865)","v":""},{"$f":"Cover_Sheet!G865","v":0},{"$f":"Cover_Sheet!H865","v":0}]
[{"$f":"IF(Cover_Sheet!A866=0,\"N\",\"Y\")","v":"N"},{"$f":"Cover_Sheet!B866","v":0},{"$f":"Cover_Sheet!C866","v":0},{"$f":"Cover_Sheet!D866","v":"00:00:00"},{"$f":"Cover_Sheet!E866","v":"00:00:00"},{"$f":"IF(Cover_Sheet!F866=\"\",\"\",Cover_Sheet!F866)","v":""},{"$f":"Cover_Sheet!G866","v":0},{"$f":"Cover_Sheet!H866","v":0}]
[{"$f":"IF(Cover_Sheet!A867=0,\"N\",\"Y\")","v":"N"},{"$f":"Cover_Sheet!B867","v":0},{"$f":"Cover_Sheet!C867","v":0},{"$f":"Cover_Sheet!D867","v":"00:00:00"},{"$f":"Cover_Sheet!E867","v":"00:00:00"},{"$f":"IF(Cover_Sheet!F867=\"\",\"\",Cover_Sheet!F867)","v":""},{"$f":"Cover_Sheet!G867","v":0},{"$f":"Cover_Sheet!H867","v":0}]
[{"$f":"IF(Cover_Sheet!A868=0,\"N\",\"Y\")","v":"N"},{"$f":"Cover_Sheet!B868","v":0},{"$f":"Cover_Sheet!C868","v":0},{"$f":"Cover_Sheet!D868","v":"00:00:00"},{"$f":"Cover_Sheet!E868","v":"00:00:00"},{"$f":"IF(Cover_Sheet!F868=\"\",\"\",Cover_Sheet!F868)","v":""},{"$f":"Cover_Sheet!G868","v":0},{"$f":"Cover_Sheet!H868","v":0}]
[{"$f":"IF(Cover_Sheet!A869=0,\"N\",\"Y\")","v":"N"},{"$f":"Cover_Sheet!B869","v":0},{"$f":"Cover_Sheet!C869","v":0},{"$f":"Cover_Sheet!D869","v":"00:00:00"},{"$f":"Cover_Sheet!E869","v":"00:00:00"},{"$f":"IF(Cover_Sheet!F869=\"\",\"\",Cover_Sheet!F869)","v":""},{"$f":"Cover_Sheet!G869","v":0},{"$f":"Cover_Sheet!H869","v":0}]
[{"$f":"IF(Cover_Sheet!A870=0,\"N\",\"Y\")","v":"N"},{"$f":"Cover_Sheet!B870","v":0},{"$f":"Cover_Sheet!C870","v":0},{"$f":"Cover_Sheet!D870","v":"00:00:00"},{"$f":"Cover_Sheet!E870","v":"00:00:00"},{"$f":"IF(Cover_Sheet!F870=\"\",\"\",Cover_Sheet!F870)","v":""},{"$f":"Cover_Sheet!G870","v":0},{"$f":"Cover_Sheet!H870","v":0}]
[{"$f":"IF(Cover_Sheet!A871=0,\"N\",\"Y\")","v":"N"},{"$f":"Cover_Sheet!B871","v":0},{"$f":"Cover_Sheet!C871","v":0},{"$f":"Cover_Sheet!D871","v":"00:00:00"},{"$f":"Cover_Sheet!E871","v":"00:00:00"},{"$f":"IF(Cover_Sheet!F871=\"\",\"\",Cover_Sheet!F871)","v":""},{"$f":"Cover_Sheet!G871","v":0},{"$f":"Cover_Sheet!H871","v":0}]
[{"$f":"IF(Cover_Sheet!A872=0,\"N\",\"Y\")","v":"N"},{"$f":"Cover_Sheet!B872","v":0},{"$f":"Cover_Sheet!C872","v":0},{"$f":"Cover_Sheet!D872","v":"00:00:00"},{"$f":"Cover_Sheet!E872","v":"00:00:00"},{"$f":"IF(Cover_Sheet!F872=\"\",\"\",Cover_Sheet!F872)","v":""},{"$f":"Cover_Sheet!G872","v":0},{"$f":"Cover_Sheet!H872","v":0}]
[{"$f":"IF(Cover_Sheet!A873=0,\"N\",\"Y\")","v":"N"},{"$f":"Cover_Sheet!B873","v":0},{"$f":"Cover_Sheet!C873","v":0},{"$f":"Cover_Sheet!D873","v":"00:00:00"},{"$f":"Cover_Sheet!E873","v":"00:00:00"},{"$f":"IF(Cover_Sheet!F873=\"\",\"\",Cover_Sheet!F873)","v":""},{"$f":"Cover_Sheet!G873","v":0},{"$f":"Cover_Sheet!H873","v":0}]
[{"$f":"IF(Cover_Sheet!A874=0,\"N\",\"Y\")","v":"N"},{"$f":"Cover_Sheet!B874","v":0},{"$f":"Cover_Sheet!C874","v":0},{"$f":"Cover_Sheet!D874","v":"00:00:00"},{"$f":"Cover_Sheet!E874","v":"00:00:00"},{"$f":"IF(Cover_Sheet!F874=\"\",\"\",Cover_Sheet!F874)","v":""},{"$f":"Cover_Sheet!G874","v":0},{"$f":"Cover_Sheet!H874","v":0}]
[{"$f":"IF(Cover_Sheet!A875=0,\"N\",\"Y\")","v":"N"},{"$f":"Cover_Sheet!B875","v":0},{"$f":"Cover_Sheet!C875","v":0},{"$f":"Cover_Sheet!D875","v":"00:00:00"},{"$f":"Cover_Sheet!E875","v":"00:00:00"},{"$f":"IF(Cover_Sheet!F875=\"\",\"\",Cover_Sheet!F875)","v":""},{"$f":"Cover_Sheet!G875","v":0},{"$f":"Cover_Sheet!H875","v":0}]
[{"$f":"IF(Cover_Sheet!A876=0,\"N\",\"Y\")","v":"N"},{"$f":"Cover_Sheet!B876","v":0},{"$f":"Cover_Sheet!C876","v":0},{"$f":"Cover_Sheet!D876","v":"00:00:00"},{"$f":"Cover_Sheet!E876","v":"00:00:00"},{"$f":"IF(Cover_Sheet!F876=\"\",\"\",Cover_Sheet!F876)","v":""},{"$f":"Cover_Sheet!G876","v":0},{"$f":"Cover_Sheet!H876","v":0}]
[{"$f":"IF(Cover_Sheet!A877=0,\"N\",\"Y\")","v":"N"},{"$f":"Cover_Sheet!B877","v":0},{"$f":"Cover_Sheet!C877","v":0},{"$f":"Cover_Sheet!D877","v":"00:00:00"},{"$f":"Cover_Sheet!E877","v":"00:00:00"},{"$f":"IF(Cover_Sheet!F877=\"\",\"\",Cover_Sheet!F877)","v":""},{"$f":"Cover_Sheet!G877","v":0},{"$f":"Cover_Sheet!H877","v":0}]
[{"$f":"IF(Cover_Sheet!A878=0,\"N\",\"Y\")","v":"N"},{"$f":"Cover_Sheet!B878","v":0},{"$f":"Cover_Sheet!C878","v":0},{"$f":"Cover_Sheet!D878","v":"00:00:00"},{"$f":"Cover_Sheet!E878","v":"00:00:00"},{"$f":"IF(Cover_Sheet!F878=\"\",\"\",Cover_Sheet!F878)","v":""},{"$f":"Cover_Sheet!G878","v":0},{"$f":"Cover_Sheet!H878","v":0}]
[{"$f":"IF(Cover_Sheet!A879=0,\"N\",\"Y\")","v":"N"},{"$f":"Cover_Sheet!B879","v":0},{"$f":"Cover_Sheet!C879","v":0},{"$f":"Cover_Sheet!D879","v":"00:00:00"},{"$f":"Cover_Sheet!E879","v":"00:00:00"},{"$f":"IF(Cover_Sheet!F879=\"\",\"\",Cover_Sheet!F879)","v":""},{"$f":"Cover_Sheet!G879","v":0},{"$f":"Cover_Sheet!H879","v":0}]
[{"$f":"IF(Cover_Sheet!A880=0,\"N\",\"Y\")","v":"N"},{"$f":"Cover_Sheet!B880","v":0},{"$f":"Cover_Sheet!C880","v":0},{"$f":"Cover_Sheet!D880","v":"00:00:00"},{"$f":"Cover_Sheet!E880","v":"00:00:00"},{"$f":"IF(Cover_Sheet!F880=\"\",\"\",Cover_Sheet!F880)","v":""},{"$f":"Cover_Sheet!G880","v":0},{"$f":"Cover_Sheet!H880","v":0}]
[{"$f":"IF(Cover_Sheet!A881=0,\"N\",\"Y\")","v":"N"},{"$f":"Cover_Sheet!B881","v":0},{"$f":"Cover_Sheet!C881","v":0},{"$f":"Cover_Sheet!D881","v":"00:00:00"},{"$f":"Cover_Sheet!E881","v":"00:00:00"},{"$f":"IF(Cover_Sheet!F881=\"\",\"\",Cover_Sheet!F881)","v":""},{"$f":"Cover_Sheet!G881","v":0},{"$f":"Cover_Sheet!H881","v":0}]
[{"$f":"IF(Cover_Sheet!A882=0,\"N\",\"Y\")","v":"N"},{"$f":"Cover_Sheet!B882","v":0},{"$f":"Cover_Sheet!C882","v":0},{"$f":"Cover_Sheet!D882","v":"00:00:00"},{"$f":"Cover_Sheet!E882","v":"00:00:00"},{"$f":"IF(Cover_Sheet!F882=\"\",\"\",Cover_Sheet!F882)","v":""},{"$f":"Cover_Sheet!G882","v":0},{"$f":"Cover_Sheet!H882","v":0}]
[{"$f":"IF(Cover_Sheet!A883=0,\"N\",\"Y\")","v":"N"},{"$f":"Cover_Sheet!B883","v":0},{"$f":"Cover_Sheet!C883","v":0},{"$f":"Cover_Sheet!D883","v":"00:00:00"},{"$f":"Cover_Sheet!E883","v":"00:00:00"},{"$f":"IF(Cover_Sheet!F883=\"\",\"\",Cover_Sheet!F883)","v":""},{"$f":"Cover_Sheet!G883","v":0},{"$f":"Cover_Sheet!H883","v":0}]
[{"$f":"IF(Cover_Sheet!A884=0,\"N\",\"Y\")","v":"N"},{"$f":"Cover_Sheet!B884","v":0},{"$f":"Cover_Sheet!C884","v":0},{"$f":"Cover_Sheet!D884","v":"00:00:00"},{"$f":"Cover_Sheet!E884","v":"00:00:00"},{"$f":"IF(Cover_Sheet!F884=\"\",\"\",Cover_Sheet!F884)","v":""},{"$f":"Cover_Sheet!G884","v":0},{"$f":"Cover_Sheet!H884","v":0}]
[{"$f":"IF(Cover_Sheet!A885=0,\"N\",\"Y\")","v":"N"},{"$f":"Cover_Sheet!B885","v":0},{"$f":"Cover_Sheet!C885","v":0},{"$f":"Cover_Sheet!D885","v":"00:00:00"},{"$f":"Cover_Sheet!E885","v":"00:00:00"},{"$f":"IF(Cover_Sheet!F885=\"\",\"\",Cover_Sheet!F885)","v":""},{"$f":"Cover_Sheet!G885","v":0},{"$f":"Cover_Sheet!H885","v":0}]
[{"$f":"IF(Cover_Sheet!A886=0,\"N\",\"Y\")","v":"N"},{"$f":"Cover_Sheet!B886","v":0},{"$f":"Cover_Sheet!C886","v":0},{"$f":"Cover_Sheet!D886","v":"00:00:00"},{"$f":"Cover_Sheet!E886","v":"00:00:00"},{"$f":"IF(Cover_Sheet!F886=\"\",\"\",Cover_Sheet!F886)","v":""},{"$f":"Cover_Sheet!G886","v":0},{"$f":"Cover_Sheet!H886","v":0}]
[{"$f":"IF(Cover_Sheet!A887=0,\"N\",\"Y\")","v":"N"},{"$f":"Cover_Sheet!B887","v":0},{"$f":"Cover_Sheet!C887","v":0},{"$f":"Cover_Sheet!D887","v":"00:00:00"},{"$f":"Cover_Sheet!E887","v":"00:00:00"},{"$f":"IF(Cover_Sheet!F887=\"\",\"\",Cover_Sheet!F887)","v":""},{"$f":"Cover_Sheet!G887","v":0},{"$f":"Cover_Sheet!H887","v":0}]
[{"$f":"IF(Cover_Sheet!A888=0,\"N\",\"Y\")","v":"N"},{"$f":"Cover_Sheet!B888","v":0},{"$f":"Cover_Sheet!C888","v":0},{"$f":"Cover_Sheet!D888","v":"00:00:00"},{"$f":"Cover_Sheet!E888","v":"00:00:00"},{"$f":"IF(Cover_Sheet!F888=\"\",\"\",Cover_Sheet!F888)","v":""},{"$f":"Cover_Sheet!G888","v":0},{"$f":"Cover_Sheet!H888","v":0}]
[{"$f":"IF(Cover_Sheet!A889=0,\"N\",\"Y\")","v":"N"},{"$f":"Cover_Sheet!B889","v":0},{"$f":"Cover_Sheet!C889","v":0},{"$f":"Cover_Sheet!D889","v":"00:00:00"},{"$f":"Cover_Sheet!E889","v":"00:00:00"},{"$f":"IF(Cover_Sheet!F889=\"\",\"\",Cover_Sheet!F889)","v":""},{"$f":"Cover_Sheet!G889","v":0},{"$f":"Cover_Sheet!H889","v":0}]
[{"$f":"IF(Cover_Sheet!A890=0,\"N\",\"Y\")","v":"N"},{"$f":"Cover_Sheet!B890","v":0},{"$f":"Cover_Sheet!C890","v":0},{"$f":"Cover_Sheet!D890","v":"00:00:00"},{"$f":"Cover_Sheet!E890","v":"00:00:00"},{"$f":"IF(Cover_Sheet!F890=\"\",\"\",Cover_Sheet!F890)","v":""},{"$f":"Cover_Sheet!G890","v":0},{"$f":"Cover_Sheet!H890","v":0}]
[{"$f":"IF(Cover_Sheet!A891=0,\"N\",\"Y\")","v":"N"},{"$f":"Cover_Sheet!B891","v":0},{"$f":"Cover_Sheet!C891","v":0},{"$f":"Cover_Sheet!D891","v":"00:00:00"},{"$f":"Cover_Sheet!E891","v":"00:00:00"},{"$f":"IF(Cover_Sheet!F891=\"\",\"\",Cover_Sheet!F891)","v":""},{"$f":"Cover_Sheet!G891","v":0},{"$f":"Cover_Sheet!H891","v":0}]
[{"$f":"IF(Cover_Sheet!A892=0,\"N\",\"Y\")","v":"N"},{"$f":"Cover_Sheet!B892","v":0},{"$f":"Cover_Sheet!C892","v":0},{"$f":"Cover_Sheet!D892","v":"00:00:00"},{"$f":"Cover_Sheet!E892","v":"00:00:00"},{"$f":"IF(Cover_Sheet!F892=\"\",\"\",Cover_Sheet!F892)","v":""},{"$f":"Cover_Sheet!G892","v":0},{"$f":"Cover_Sheet!H892","v":0}]
[{"$f":"IF(Cover_Sheet!A893=0,\"N\",\"Y\")","v":"N"},{"$f":"Cover_Sheet!B893","v":0},{"$f":"Cover_Sheet!C893","v":0},{"$f":"Cover_Sheet!D893","v":"00:00:00"},{"$f":"Cover_Sheet!E893","v":"00:00:00"},{"$f":"IF(Cover_Sheet!F893=\"\",\"\",Cover_Sheet!F893)","v":""},{"$f":"Cover_Sheet!G893","v":0},{"$f":"Cover_Sheet!H893","v":0}]
[{"$f":"IF(Cover_Sheet!A894=0,\"N\",\"Y\")","v":"N"},{"$f":"Cover_Sheet!B894","v":0},{"$f":"Cover_Sheet!C894","v":0},{"$f":"Cover_Sheet!D894","v":"00:00:00"},{"$f":"Cover_Sheet!E894","v":"00:00:00"},{"$f":"IF(Cover_Sheet!F894=\"\",\"\",Cover_Sheet!F894)","v":""},{"$f":"Cover_Sheet!G894","v":0},{"$f":"Cover_Sheet!H894","v":0}]
[{"$f":"IF(Cover_Sheet!A895=0,\"N\",\"Y\")","v":"N"},{"$f":"Cover_Sheet!B895","v":0},{"$f":"Cover_Sheet!C895","v":0},{"$f":"Cover_Sheet!D895","v":"00:00:00"},{"$f":"Cover_Sheet!E895","v":"00:00:00"},{"$f":"IF(Cover_Sheet!F895=\"\",\"\",Cover_Sheet!F895)","v":""},{"$f":"Cover_Sheet!G895","v":0},{"$f":"Cover_Sheet!H895","v":0}]
[{"$f":"IF(Cover_Sheet!A896=0,\"N\",\"Y\")","v":"N"},{"$f":"Cover_Sheet!B896","v":0},{"$f":"Cover_Sheet!C896","v":0},{"$f":"Cover_Sheet!D896","v":"00:00:00"},{"$f":"Cover_Sheet!E896","v":"00:00:00"},{"$f":"IF(Cover_Sheet!F896=\"\",\"\",Cover_Sheet!F896)","v":""},{"$f":"Cover_Sheet!G896","v":0},{"$f":"Cover_Sheet!H896","v":0}]
[{"$f":"IF(Cover_Sheet!A897=0,\"N\",\"Y\")","v":"N"},{"$f":"Cover_Sheet!B897","v":0},{"$f":"Cover_Sheet!C897","v":0},{"$f":"Cover_Sheet!D897","v":"00:00:00"},{"$f":"Cover_Sheet!E897","v":"00:00:00"},{"$f":"IF(Cover_Sheet!F897=\"\",\"\",Cover_Sheet!F897)","v":""},{"$f":"Cover_Sheet!G897","v":0},{"$f":"Cover_Sheet!H897","v":0}]
[{"$f":"IF(Cover_Sheet!A898=0,\"N\",\"Y\")","v":"N"},{"$f":"Cover_Sheet!B898","v":0},{"$f":"Cover_Sheet!C898","v":0},{"$f":"Cover_Sheet!D898","v":"00:00:00"},{"$f":"Cover_Sheet!E898","v":"00:00:00"},{"$f":"IF(Cover_Sheet!F898=\"\",\"\",Cover_Sheet!F898)","v":""},{"$f":"Cover_Sheet!G898","v":0},{"$f":"Cover_Sheet!H898","v":0}]
[{"$f":"IF(Cover_Sheet!A899=0,\"N\",\"Y\")","v":"N"},{"$f":"Cover_Sheet!B899","v":0},{"$f":"Cover_Sheet!C899","v":0},{"$f":"Cover_Sheet!D899","v":"00:00:00"},{"$f":"Cover_Sheet!E899","v":"00:00:00"},{"$f":"IF(Cover_Sheet!F899=\"\",\"\",Cover_Sheet!F899)","v":""},{"$f":"Cover_Sheet!G899","v":0},{"$f":"Cover_Sheet!H899","v":0}]
[{"$f":"IF(Cover_Sheet!A900=0,\"N\",\"Y\")","v":"N"},{"$f":"Cover_Sheet!B900","v":0},{"$f":"Cover_Sheet!C900","v":0},{"$f":"Cover_Sheet!D900","v":"00:00:00"},{"$f":"Cover_Sheet!E900","v":"00:00:00"},{"$f":"IF(Cover_Sheet!F900=\"\",\"\",Cover_Sheet!F900)","v":""},{"$f":"Cover_Sheet!G900","v":0},{"$f":"Cover_Sheet!H900","v":0}]
[{"$f":"IF(Cover_Sheet!A901=0,\"N\",\"Y\")","v":"N"},{"$f":"Cover_Sheet!B901","v":0},{"$f":"Cover_Sheet!C901","v":0},{"$f":"Cover_Sheet!D901","v":"00:00:00"},{"$f":"Cover_Sheet!E901","v":"00:00:00"},{"$f":"IF(Cover_Sheet!F901=\"\",\"\",Cover_Sheet!F901)","v":""},{"$f":"Cover_Sheet!G901","v":0},{"$f":"Cover_Sheet!H901","v":0}]
[{"$f":"IF(Cover_Sheet!A902=0,\"N\",\"Y\")","v":"N"},{"$f":"Cover_Sheet!B902","v":0},{"$f":"Cover_Sheet!C902","v":0},{"$f":"Cover_Sheet!D902","v":"00:00:00"},{"$f":"Cover_Sheet!E902","v":"00:00:00"},{"$f":"IF(Cover_Sheet!F902=\"\",\"\",Cover_Sheet!F902)","v":""},{"$f":"Cover_Sheet!G902","v":0},{"$f":"Cover_Sheet!H902","v":0}]
[{"$f":"IF(Cover_Sheet!A903=0,\"N\",\"Y\")","v":"N"},{"$f":"Cover_Sheet!B903","v":0},{"$f":"Cover_Sheet!C903","v":0},{"$f":"Cover_Sheet!D903","v":"00:00:00"},{"$f":"Cover_Sheet!E903","v":"00:00:00"},{"$f":"IF(Cover_Sheet!F903=\"\",\"\",Cover_Sheet!F903)","v":""},{"$f":"Cover_Sheet!G903","v":0},{"$f":"Cover_Sheet!H903","v":0}]
[{"$f":"IF(Cover_Sheet!A904=0,\"N\",\"Y\")","v":"N"},{"$f":"Cover_Sheet!B904","v":0},{"$f":"Cover_Sheet!C904","v":0},{"$f":"Cover_Sheet!D904","v":"00:00:00"},{"$f":"Cover_Sheet!E904","v":"00:00:00"},{"$f":"IF(Cover_Sheet!F904=\"\",\"\",Cover_Sheet!F904)","v":""},{"$f":"Cover_Sheet!G904","v":0},{"$f":"Cover_Sheet!H904","v":0}]
[{"$f":"IF(Cover_Sheet!A905=0,\"N\",\"Y\")","v":"N"},{"$f":"Cover_Sheet!B905","v":0},{"$f":"Cover_Sheet!C905","v":0},{"$f":"Cover_Sheet!D905","v":"00:00:00"},{"$f":"Cover_Sheet!E905","v":"00:00:00"},{"$f":"IF(Cover_Sheet!F905=\"\",\"\",Cover_Sheet!F905)","v":""},{"$f":"Cover_Sheet!G905","v":0},{"$f":"Cover_Sheet!H905","v":0}]
[{"$f":"IF(Cover_Sheet!A906=0,\"N\",\"Y\")","v":"N"},{"$f":"Cover_Sheet!B906","v":0},{"$f":"Cover_Sheet!C906","v":0},{"$f":"Cover_Sheet!D906","v":"00:00:00"},{"$f":"Cover_Sheet!E906","v":"00:00:00"},{"$f":"IF(Cover_Sheet!F906=\"\",\"\",Cover_Sheet!F906)","v":""},{"$f":"Cover_Sheet!G906","v":0},{"$f":"Cover_Sheet!H906","v":0}]
[{"$f":"IF(Cover_Sheet!A907=0,\"N\",\"Y\")","v":"N"},{"$f":"Cover_Sheet!B907","v":0},{"$f":"Cover_Sheet!C907","v":0},{"$f":"Cover_Sheet!D907","v":"00:00:00"},{"$f":"Cover_Sheet!E907","v":"00:00:00"},{"$f":"IF(Cover_Sheet!F907=\"\",\"\",Cover_Sheet!F907)","v":""},{"$f":"Cover_Sheet!G907","v":0},{"$f":"Cover_Sheet!H907","v":0}]
[{"$f":"IF(Cover_Sheet!A908=0,\"N\",\"Y\")","v":"N"},{"$f":"Cover_Sheet!B908","v":0},{"$f":"Cover_Sheet!C908","v":0},{"$f":"Cover_Sheet!D908","v":"00:00:00"},{"$f":"Cover_Sheet!E908","v":"00:00:00"},{"$f":"IF(Cover_Sheet!F908=\"\",\"\",Cover_Sheet!F908)","v":""},{"$f":"Cover_Sheet!G908","v":0},{"$f":"Cover_Sheet!H908","v":0}]
[{"$f":"IF(Cover_Sheet!A909=0,\"N\",\"Y\")","v":"N"},{"$f":"Cover_Sheet!B909","v":0},{"$f":"Cover_Sheet!C909","v":0},{"$f":"Cover_Sheet!D909","v":"00:00:00"},{"$f":"Cover_Sheet!E909","v":"00:00:00"},{"$f":"IF(Cover_Sheet!F909=\"\",\"\",Cover_Sheet!F909)","v":""},{"$f":"Cover_Sheet!G909","v":0},{"$f":"Cover_Sheet!H909","v":0}]
[{"$f":"IF(Cover_Sheet!A910=0,\"N\",\"Y\")","v":"N"},{"$f":"Cover_Sheet!B910","v":0},{"$f":"Cover_Sheet!C910","v":0},{"$f":"Cover_Sheet!D910","v":"00:00:00"},{"$f":"Cover_Sheet!E910","v":"00:00:00"},{"$f":"IF(Cover_Sheet!F910=\"\",\"\",Cover_Sheet!F910)","v":""},{"$f":"Cover_Sheet!G910","v":0},{"$f":"Cover_Sheet!H910","v":0}]
[{"$f":"IF(Cover_Sheet!A911=0,\"N\",\"Y\")","v":"N"},{"$f":"Cover_Sheet!B911","v":0},{"$f":"Cover_Sheet!C911","v":0},{"$f":"Cover_Sheet!D911","v":"00:00:00"},{"$f":"Cover_Sheet!E911","v":"00:00:00"},{"$f":"IF(Cover_Sheet!F911=\"\",\"\",Cover_Sheet!F911)","v":""},{"$f":"Cover_Sheet!G911","v":0},{"$f":"Cover_Sheet!H911","v":0}]
[{"$f":"IF(Cover_Sheet!A912=0,\"N\",\"Y\")","v":"N"},{"$f":"Cover_Sheet!B912","v":0},{"$f":"Cover_Sheet!C912","v":0},{"$f":"Cover_Sheet!D912","v":"00:00:00"},{"$f":"Cover_Sheet!E912","v":"00:00:00"},{"$f":"IF(Cover_Sheet!F912=\"\",\"\",Cover_Sheet!F912)","v":""},{"$f":"Cover_Sheet!G912","v":0},{"$f":"Cover_Sheet!H912","v":0}]
[{"$f":"IF(Cover_Sheet!A913=0,\"N\",\"Y\")","v":"N"},{"$f":"Cover_Sheet!B913","v":0},{"$f":"Cover_Sheet!C913","v":0},{"$f":"Cover_Sheet!D913","v":"00:00:00"},{"$f":"Cover_Sheet!E913","v":"00:00:00"},{"$f":"IF(Cover_Sheet!F913=\"\",\"\",Cover_Sheet!F913)","v":""},{"$f":"Cover_Sheet!G913","v":0},{"$f":"Cover_Sheet!H913","v":0}]
[{"$f":"IF(Cover_Sheet!A914=0,\"N\",\"Y\")","v":"N"},{"$f":"Cover_Sheet!B914","v":0},{"$f":"Cover_Sheet!C914","v":0},{"$f":"Cover_Sheet!D914","v":"00:00:00"},{"$f":"Cover_Sheet!E914","v":"00:00:00"},{"$f":"IF(Cover_Sheet!F914=\"\",\"\",Cover_Sheet!F914)","v":""},{"$f":"Cover_Sheet!G914","v":0},{"$f":"Cover_Sheet!H914","v":0}]
[{"$f":"IF(Cover_Sheet!A915=0,\"N\",\"Y\")","v":"N"},{"$f":"Cover_Sheet!B915","v":0},{"$f":"Cover_Sheet!C915","v":0},{"$f":"Cover_Sheet!D915","v":"00:00:00"},{"$f":"Cover_Sheet!E915","v":"00:00:00"},{"$f":"IF(Cover_Sheet!F915=\"\",\"\",Cover_Sheet!F915)","v":""},{"$f":"Cover_Sheet!G915","v":0},{"$f":"Cover_Sheet!H915","v":0}]
[{"$f":"IF(Cover_Sheet!A916=0,\"N\",\"Y\")","v":"N"},{"$f":"Cover_Sheet!B916","v":0},{"$f":"Cover_Sheet!C916","v":0},{"$f":"Cover_Sheet!D916","v":"00:00:00"},{"$f":"Cover_Sheet!E916","v":"00:00:00"},{"$f":"IF(Cover_Sheet!F916=\"\",\"\",Cover_Sheet!F916)","v":""},{"$f":"Cover_Sheet!G916","v":0},{"$f":"Cover_Sheet!H916","v":0}]
[{"$f":"IF(Cover_Sheet!A917=0,\"N\",\"Y\")","v":"N"},{"$f":"Cover_Sheet!B917","v":0},{"$f":"Cover_Sheet!C917","v":0},{"$f":"Cover_Sheet!D917","v":"00:00:00"},{"$f":"Cover_Sheet!E917","v":"00:00:00"},{"$f":"IF(Cover_Sheet!F917=\"\",\"\",Cover_Sheet!F917)","v":""},{"$f":"Cover_Sheet!G917","v":0},{"$f":"Cover_Sheet!H917","v":0}]
[{"$f":"IF(Cover_Sheet!A918=0,\"N\",\"Y\")","v":"N"},{"$f":"Cover_Sheet!B918","v":0},{"$f":"Cover_Sheet!C918","v":0},{"$f":"Cover_Sheet!D918","v":"00:00:00"},{"$f":"Cover_Sheet!E918","v":"00:00:00"},{"$f":"IF(Cover_Sheet!F918=\"\",\"\",Cover_Sheet!F918)","v":""},{"$f":"Cover_Sheet!G918","v":0},{"$f":"Cover_Sheet!H918","v":0}]
[{"$f":"IF(Cover_Sheet!A919=0,\"N\",\"Y\")","v":"N"},{"$f":"Cover_Sheet!B919","v":0},{"$f":"Cover_Sheet!C919","v":0},{"$f":"Cover_Sheet!D919","v":"00:00:00"},{"$f":"Cover_Sheet!E919","v":"00:00:00"},{"$f":"IF(Cover_Sheet!F919=\"\",\"\",Cover_Sheet!F919)","v":""},{"$f":"Cover_Sheet!G919","v":0},{"$f":"Cover_Sheet!H919","v":0}]
[{"$f":"IF(Cover_Sheet!A920=0,\"N\",\"Y\")","v":"N"},{"$f":"Cover_Sheet!B920","v":0},{"$f":"Cover_Sheet!C920","v":0},{"$f":"Cover_Sheet!D920","v":"00:00:00"},{"$f":"Cover_Sheet!E920","v":"00:00:00"},{"$f":"IF(Cover_Sheet!F920=\"\",\"\",Cover_Sheet!F920)","v":""},{"$f":"Cover_Sheet!G920","v":0},{"$f":"Cover_Sheet!H920","v":0}]
[{"$f":"IF(Cover_Sheet!A921=0,\"N\",\"Y\")","v":"N"},{"$f":"Cover_Sheet!B921","v":0},{"$f":"Cover_Sheet!C921","v":0},{"$f":"Cover_Sheet!D921","v":"00:00:00"},{"$f":"Cover_Sheet!E921","v":"00:00:00"},{"$f":"IF(Cover_Sheet!F921=\"\",\"\",Cover_Sheet!F921)","v":""},{"$f":"Cover_Sheet!G921","v":0},{"$f":"Cover_Sheet!H921","v":0}]
[{"$f":"IF(Cover_Sheet!A922=0,\"N\",\"Y\")","v":"N"},{"$f":"Cover_Sheet!B922","v":0},{"$f":"Cover_Sheet!C922","v":0},{"$f":"Cover_Sheet!D922","v":"00:00:00"},{"$f":"Cover_Sheet!E922","v":"00:00:00"},{"$f":"IF(Cover_Sheet!F922=\"\",\"\",Cover_Sheet!F922)","v":""},{"$f":"Cover_Sheet!G922","v":0},{"$f":"Cover_Sheet!H922","v":0}]
[{"$f":"IF(Cover_Sheet!A923=0,\"N\",\"Y\")","v":"N"},{"$f":"Cover_Sheet!B923","v":0},{"$f":"Cover_Sheet!C923","v":0},{"$f":"Cover_Sheet!D923","v":"00:00:00"},{"$f":"Cover_Sheet!E923","v":"00:00:00"},{"$f":"IF(Cover_Sheet!F923=\"\",\"\",Cover_Sheet!F923)","v":""},{"$f":"Cover_Sheet!G923","v":0},{"$f":"Cover_Sheet!H923","v":0}]
[{"$f":"IF(Cover_Sheet!A924=0,\"N\",\"Y\")","v":"N"},{"$f":"Cover_Sheet!B924","v":0},{"$f":"Cover_Sheet!C924","v":0},{"$f":"Cover_Sheet!D924","v":"00:00:00"},{"$f":"Cover_Sheet!E924","v":"00:00:00"},{"$f":"IF(Cover_Sheet!F924=\"\",\"\",Cover_Sheet!F924)","v":""},{"$f":"Cover_Sheet!G924","v":0},{"$f":"Cover_Sheet!H924","v":0}]
[{"$f":"IF(Cover_Sheet!A925=0,\"N\",\"Y\")","v":"N"},{"$f":"Cover_Sheet!B925","v":0},{"$f":"Cover_Sheet!C925","v":0},{"$f":"Cover_Sheet!D925","v":"00:00:00"},{"$f":"Cover_Sheet!E925","v":"00:00:00"},{"$f":"IF(Cover_Sheet!F925=\"\",\"\",Cover_Sheet!F925)","v":""},{"$f":"Cover_Sheet!G925","v":0},{"$f":"Cover_Sheet!H925","v":0}]
[{"$f":"IF(Cover_Sheet!A926=0,\"N\",\"Y\")","v":"N"},{"$f":"Cover_Sheet!B926","v":0},{"$f":"Cover_Sheet!C926","v":0},{"$f":"Cover_Sheet!D926","v":"00:00:00"},{"$f":"Cover_Sheet!E926","v":"00:00:00"},{"$f":"IF(Cover_Sheet!F926=\"\",\"\",Cover_Sheet!F926)","v":""},{"$f":"Cover_Sheet!G926","v":0},{"$f":"Cover_Sheet!H926","v":0}]
[{"$f":"IF(Cover_Sheet!A927=0,\"N\",\"Y\")","v":"N"},{"$f":"Cover_Sheet!B927","v":0},{"$f":"Cover_Sheet!C927","v":0},{"$f":"Cover_Sheet!D927","v":"00:00:00"},{"$f":"Cover_Sheet!E927","v":"00:00:00"},{"$f":"IF(Cover_Sheet!F927=\"\",\"\",Cover_Sheet!F927)","v":""},{"$f":"Cover_Sheet!G927","v":0},{"$f":"Cover_Sheet!H927","v":0}]
[{"$f":"IF(Cover_Sheet!A928=0,\"N\",\"Y\")","v":"N"},{"$f":"Cover_Sheet!B928","v":0},{"$f":"Cover_Sheet!C928","v":0},{"$f":"Cover_Sheet!D928","v":"00:00:00"},{"$f":"Cover_Sheet!E928","v":"00:00:00"},{"$f":"IF(Cover_Sheet!F928=\"\",\"\",Cover_Sheet!F928)","v":""},{"$f":"Cover_Sheet!G928","v":0},{"$f":"Cover_Sheet!H928","v":0}]
[{"$f":"IF(Cover_Sheet!A929=0,\"N\",\"Y\")","v":"N"},{"$f":"Cover_Sheet!B929","v":0},{"$f":"Cover_Sheet!C929","v":0},{"$f":"Cover_Sheet!D929","v":"00:00:00"},{"$f":"Cover_Sheet!E929","v":"00:00:00"},{"$f":"IF(Cover_Sheet!F929=\"\",\"\",Cover_Sheet!F929)","v":""},{"$f":"Cover_Sheet!G929","v":0},{"$f":"Cover_Sheet!H929","v":0}]
[{"$f":"IF(Cover_Sheet!A930=0,\"N\",\"Y\")","v":"N"},{"$f":"Cover_Sheet!B930","v":0},{"$f":"Cover_Sheet!C930","v":0},{"$f":"Cover_Sheet!D930","v":"00:00:00"},{"$f":"Cover_Sheet!E930","v":"00:00:00"},{"$f":"IF(Cover_Sheet!F930=\"\",\"\",Cover_Sheet!F930)","v":""},{"$f":"Cover_Sheet!G930","v":0},{"$f":"Cover_Sheet!H930","v":0}]
[{"$f":"IF(Cover_Sheet!A931=0,\"N\",\"Y\")","v":"N"},{"$f":"Cover_Sheet!B931","v":0},{"$f":"Cover_Sheet!C931","v":0},{"$f":"Cover_Sheet!D931","v":"00:00:00"},{"$f":"Cover_Sheet!E931","v":"00:00:00"},{"$f":"IF(Cover_Sheet!F931=\"\",\"\",Cover_Sheet!F931)","v":""},{"$f":"Cover_Sheet!G931","v":0},{"$f":"Cover_Sheet!H931","v":0}]
[{"$f":"IF(Cover_Sheet!A932=0,\"N\",\"Y\")","v":"N"},{"$f":"Cover_Sheet!B932","v":0},{"$f":"Cover_Sheet!C932","v":0},{"$f":"Cover_Sheet!D932","v":"00:00:00"},{"$f":"Cover_Sheet!E932","v":"00:00:00"},{"$f":"IF(Cover_Sheet!F932=\"\",\"\",Cover_Sheet!F932)","v":""},{"$f":"Cover_Sheet!G932","v":0},{"$f":"Cover_Sheet!H932","v":0}]
[{"$f":"IF(Cover_Sheet!A933=0,\"N\",\"Y\")","v":"N"},{"$f":"Cover_Sheet!B933","v":0},{"$f":"Cover_Sheet!C933","v":0},{"$f":"Cover_Sheet!D933","v":"00:00:00"},{"$f":"Cover_Sheet!E933","v":"00:00:00"},{"$f":"IF(Cover_Sheet!F933=\"\",\"\",Cover_Sheet!F933)","v":""},{"$f":"Cover_Sheet!G933","v":0},{"$f":"Cover_Sheet!H933","v":0}]
[{"$f":"IF(Cover_Sheet!A934=0,\"N\",\"Y\")","v":"N"},{"$f":"Cover_Sheet!B934","v":0},{"$f":"Cover_Sheet!C934","v":0},{"$f":"Cover_Sheet!D934","v":"00:00:00"},{"$f":"Cover_Sheet!E934","v":"00:00:00"},{"$f":"IF(Cover_Sheet!F934=\"\",\"\",Cover_Sheet!F934)","v":""},{"$f":"Cover_Sheet!G934","v":0},{"$f":"Cover_Sheet!H934","v":0}]
[{"$f":"IF(Cover_Sheet!A935=0,\"N\",\"Y\")","v":"N"},{"$f":"Cover_Sheet!B935","v":0},{"$f":"Cover_Sheet!C935","v":0},{"$f":"Cover_Sheet!D935","v":"00:00:00"},{"$f":"Cover_Sheet!E935","v":"00:00:00"},{"$f":"IF(Cover_Sheet!F935=\"\",\"\",Cover_Sheet!F935)","v":""},{"$f":"Cover_Sheet!G935","v":0},{"$f":"Cover_Sheet!H935","v":0}]
[{"$f":"IF(Cover_Sheet!A936=0,\"N\",\"Y\")","v":"N"},{"$f":"Cover_Sheet!B936","v":0},{"$f":"Cover_Sheet!C936","v":0},{"$f":"Cover_Sheet!D936","v":"00:00:00"},{"$f":"Cover_Sheet!E936","v":"00:00:00"},{"$f":"IF(Cover_Sheet!F936=\"\",\"\",Cover_Sheet!F936)","v":""},{"$f":"Cover_Sheet!G936","v":0},{"$f":"Cover_Sheet!H936","v":0}]
[{"$f":"IF(Cover_Sheet!A937=0,\"N\",\"Y\")","v":"N"},{"$f":"Cover_Sheet!B937","v":0},{"$f":"Cover_Sheet!C937","v":0},{"$f":"Cover_Sheet!D937","v":"00:00:00"},{"$f":"Cover_Sheet!E937","v":"00:00:00"},{"$f":"IF(Cover_Sheet!F937=\"\",\"\",Cover_Sheet!F937)","v":""},{"$f":"Cover_Sheet!G937","v":0},{"$f":"Cover_Sheet!H937","v":0}]
[{"$f":"IF(Cover_Sheet!A938=0,\"N\",\"Y\")","v":"N"},{"$f":"Cover_Sheet!B938","v":0},{"$f":"Cover_Sheet!C938","v":0},{"$f":"Cover_Sheet!D938","v":"00:00:00"},{"$f":"Cover_Sheet!E938","v":"00:00:00"},{"$f":"IF(Cover_Sheet!F938=\"\",\"\",Cover_Sheet!F938)","v":""},{"$f":"Cover_Sheet!G938","v":0},{"$f":"Cover_Sheet!H938","v":0}]
[{"$f":"IF(Cover_Sheet!A939=0,\"N\",\"Y\")","v":"N"},{"$f":"Cover_Sheet!B939","v":0},{"$f":"Cover_Sheet!C939","v":0},{"$f":"Cover_Sheet!D939","v":"00:00:00"},{"$f":"Cover_Sheet!E939","v":"00:00:00"},{"$f":"IF(Cover_Sheet!F939=\"\",\"\",Cover_Sheet!F939)","v":""},{"$f":"Cover_Sheet!G939","v":0},{"$f":"Cover_Sheet!H939","v":0}]
[{"$f":"IF(Cover_Sheet!A940=0,\"N\",\"Y\")","v":"N"},{"$f":"Cover_Sheet!B940","v":0},{"$f":"Cover_Sheet!C940","v":0},{"$f":"Cover_Sheet!D940","v":"00:00:00"},{"$f":"Cover_Sheet!E940","v":"00:00:00"},{"$f":"IF(Cover_Sheet!F940=\"\",\"\",Cover_Sheet!F940)","v":""},{"$f":"Cover_Sheet!G940","v":0},{"$f":"Cover_Sheet!H940","v":0}]
[{"$f":"IF(Cover_Sheet!A941=0,\"N\",\"Y\")","v":"N"},{"$f":"Cover_Sheet!B941","v":0},{"$f":"Cover_Sheet!C941","v":0},{"$f":"Cover_Sheet!D941","v":"00:00:00"},{"$f":"Cover_Sheet!E941","v":"00:00:00"},{"$f":"IF(Cover_Sheet!F941=\"\",\"\",Cover_Sheet!F941)","v":""},{"$f":"Cover_Sheet!G941","v":0},{"$f":"Cover_Sheet!H941","v":0}]
[{"$f":"IF(Cover_Sheet!A942=0,\"N\",\"Y\")","v":"N"},{"$f":"Cover_Sheet!B942","v":0},{"$f":"Cover_Sheet!C942","v":0},{"$f":"Cover_Sheet!D942","v":"00:00:00"},{"$f":"Cover_Sheet!E942","v":"00:00:00"},{"$f":"IF(Cover_Sheet!F942=\"\",\"\",Cover_Sheet!F942)","v":""},{"$f":"Cover_Sheet!G942","v":0},{"$f":"Cover_Sheet!H942","v":0}]
[{"$f":"IF(Cover_Sheet!A943=0,\"N\",\"Y\")","v":"N"},{"$f":"Cover_Sheet!B943","v":0},{"$f":"Cover_Sheet!C943","v":0},{"$f":"Cover_Sheet!D943","v":"00:00:00"},{"$f":"Cover_Sheet!E943","v":"00:00:00"},{"$f":"IF(Cover_Sheet!F943=\"\",\"\",Cover_Sheet!F943)","v":""},{"$f":"Cover_Sheet!G943","v":0},{"$f":"Cover_Sheet!H943","v":0}]
[{"$f":"IF(Cover_Sheet!A944=0,\"N\",\"Y\")","v":"N"},{"$f":"Cover_Sheet!B944","v":0},{"$f":"Cover_Sheet!C944","v":0},{"$f":"Cover_Sheet!D944","v":"00:00:00"},{"$f":"Cover_Sheet!E944","v":"00:00:00"},{"$f":"IF(Cover_Sheet!F944=\"\",\"\",Cover_Sheet!F944)","v":""},{"$f":"Cover_Sheet!G944","v":0},{"$f":"Cover_Sheet!H944","v":0}]
[{"$f":"IF(Cover_Sheet!A945=0,\"N\",\"Y\")","v":"N"},{"$f":"Cover_Sheet!B945","v":0},{"$f":"Cover_Sheet!C945","v":0},{"$f":"Cover_Sheet!D945","v":"00:00:00"},{"$f":"Cover_Sheet!E945","v":"00:00:00"},{"$f":"IF(Cover_Sheet!F945=\"\",\"\",Cover_Sheet!F945)","v":""},{"$f":"Cover_Sheet!G945","v":0},{"$f":"Cover_Sheet!H945","v":0}]
[{"$f":"IF(Cover_Sheet!A946=0,\"N\",\"Y\")","v":"N"},{"$f":"Cover_Sheet!B946","v":0},{"$f":"Cover_Sheet!C946","v":0},{"$f":"Cover_Sheet!D946","v":"00:00:00"},{"$f":"Cover_Sheet!E946","v":"00:00:00"},{"$f":"IF(Cover_Sheet!F946=\"\",\"\",Cover_Sheet!F946)","v":""},{"$f":"Cover_Sheet!G946","v":0},{"$f":"Cover_Sheet!H946","v":0}]
[{"$f":"IF(Cover_Sheet!A947=0,\"N\",\"Y\")","v":"N"},{"$f":"Cover_Sheet!B947","v":0},{"$f":"Cover_Sheet!C947","v":0},{"$f":"Cover_Sheet!D947","v":"00:00:00"},{"$f":"Cover_Sheet!E947","v":"00:00:00"},{"$f":"IF(Cover_Sheet!F947=\"\",\"\",Cover_Sheet!F947)","v":""},{"$f":"Cover_Sheet!G947","v":0},{"$f":"Cover_Sheet!H947","v":0}]
[{"$f":"IF(Cover_Sheet!A948=0,\"N\",\"Y\")","v":"N"},{"$f":"Cover_Sheet!B948","v":0},{"$f":"Cover_Sheet!C948","v":0},{"$f":"Cover_Sheet!D948","v":"00:00:00"},{"$f":"Cover_Sheet!E948","v":"00:00:00"},{"$f":"IF(Cover_Sheet!F948=\"\",\"\",Cover_Sheet!F948)","v":""},{"$f":"Cover_Sheet!G948","v":0},{"$f":"Cover_Sheet!H948","v":0}]
[{"$f":"IF(Cover_Sheet!A949=0,\"N\",\"Y\")","v":"N"},{"$f":"Cover_Sheet!B949","v":0},{"$f":"Cover_Sheet!C949","v":0},{"$f":"Cover_Sheet!D949","v":"00:00:00"},{"$f":"Cover_Sheet!E949","v":"00:00:00"},{"$f":"IF(Cover_Sheet!F949=\"\",\"\",Cover_Sheet!F949)","v":""},{"$f":"Cover_Sheet!G949","v":0},{"$f":"Cover_Sheet!H949","v":0}]
[{"$f":"IF(Cover_Sheet!A950=0,\"N\",\"Y\")","v":"N"},{"$f":"Cover_Sheet!B950","v":0},{"$f":"Cover_Sheet!C950","v":0},{"$f":"Cover_Sheet!D950","v":"00:00:00"},{"$f":"Cover_Sheet!E950","v":"00:00:00"},{"$f":"IF(Cover_Sheet!F950=\"\",\"\",Cover_Sheet!F950)","v":""},{"$f":"Cover_Sheet!G950","v":0},{"$f":"Cover_Sheet!H950","v":0}]
[{"$f":"IF(Cover_Sheet!A951=0,\"N\",\"Y\")","v":"N"},{"$f":"Cover_Sheet!B951","v":0},{"$f":"Cover_Sheet!C951","v":0},{"$f":"Cover_Sheet!D951","v":"00:00:00"},{"$f":"Cover_Sheet!E951","v":"00:00:00"},{"$f":"IF(Cover_Sheet!F951=\"\",\"\",Cover_Sheet!F951)","v":""},{"$f":"Cover_Sheet!G951","v":0},{"$f":"Cover_Sheet!H951","v":0}]
[{"$f":"IF(Cover_Sheet!A952=0,\"N\",\"Y\")","v":"N"},{"$f":"Cover_Sheet!B952","v":0},{"$f":"Cover_Sheet!C952","v":0},{"$f":"Cover_Sheet!D952","v":"00:00:00"},{"$f":"Cover_Sheet!E952","v":"00:00:00"},{"$f":"IF(Cover_Sheet!F952=\"\",\"\",Cover_Sheet!F952)","v":""},{"$f":"Cover_Sheet!G952","v":0},{"$f":"Cover_Sheet!H952","v":0}]
[{"$f":"IF(Cover_Sheet!A953=0,\"N\",\"Y\")","v":"N"},{"$f":"Cover_Sheet!B953","v":0},{"$f":"Cover_Sheet!C953","v":0},{"$f":"Cover_Sheet!D953","v":"00:00:00"},{"$f":"Cover_Sheet!E953","v":"00:00:00"},{"$f":"IF(Cover_Sheet!F953=\"\",\"\",Cover_Sheet!F953)","v":""},{"$f":"Cover_Sheet!G953","v":0},{"$f":"Cover_Sheet!H953","v":0}]
[{"$f":"IF(Cover_Sheet!A954=0,\"N\",\"Y\")","v":"N"},{"$f":"Cover_Sheet!B954","v":0},{"$f":"Cover_Sheet!C954","v":0},{"$f":"Cover_Sheet!D954","v":"00:00:00"},{"$f":"Cover_Sheet!E954","v":"00:00:00"},{"$f":"IF(Cover_Sheet!F954=\"\",\"\",Cover_Sheet!F954)","v":""},{"$f":"Cover_Sheet!G954","v":0},{"$f":"Cover_Sheet!H954","v":0}]
[{"$f":"IF(Cover_Sheet!A955=0,\"N\",\"Y\")","v":"N"},{"$f":"Cover_Sheet!B955","v":0},{"$f":"Cover_Sheet!C955","v":0},{"$f":"Cover_Sheet!D955","v":"00:00:00"},{"$f":"Cover_Sheet!E955","v":"00:00:00"},{"$f":"IF(Cover_Sheet!F955=\"\",\"\",Cover_Sheet!F955)","v":""},{"$f":"Cover_Sheet!G955","v":0},{"$f":"Cover_Sheet!H955","v":0}]
[{"$f":"IF(Cover_Sheet!A956=0,\"N\",\"Y\")","v":"N"},{"$f":"Cover_Sheet!B956","v":0},{"$f":"Cover_Sheet!C956","v":0},{"$f":"Cover_Sheet!D956","v":"00:00:00"},{"$f":"Cover_Sheet!E956","v":"00:00:00"},{"$f":"IF(Cover_Sheet!F956=\"\",\"\",Cover_Sheet!F956)","v":""},{"$f":"Cover_Sheet!G956","v":0},{"$f":"Cover_Sheet!H956","v":0}]
[{"$f":"IF(Cover_Sheet!A957=0,\"N\",\"Y\")","v":"N"},{"$f":"Cover_Sheet!B957","v":0},{"$f":"Cover_Sheet!C957","v":0},{"$f":"Cover_Sheet!D957","v":"00:00:00"},{"$f":"Cover_Sheet!E957","v":"00:00:00"},{"$f":"IF(Cover_Sheet!F957=\"\",\"\",Cover_Sheet!F957)","v":""},{"$f":"Cover_Sheet!G957","v":0},{"$f":"Cover_Sheet!H957","v":0}]
[{"$f":"IF(Cover_Sheet!A958=0,\"N\",\"Y\")","v":"N"},{"$f":"Cover_Sheet!B958","v":0},{"$f":"Cover_Sheet!C958","v":0},{"$f":"Cover_Sheet!D958","v":"00:00:00"},{"$f":"Cover_Sheet!E958","v":"00:00:00"},{"$f":"IF(Cover_Sheet!F958=\"\",\"\",Cover_Sheet!F958)","v":""},{"$f":"Cover_Sheet!G958","v":0},{"$f":"Cover_Sheet!H958","v":0}]
[{"$f":"IF(Cover_Sheet!A959=0,\"N\",\"Y\")","v":"N"},{"$f":"Cover_Sheet!B959","v":0},{"$f":"Cover_Sheet!C959","v":0},{"$f":"Cover_Sheet!D959","v":"00:00:00"},{"$f":"Cover_Sheet!E959","v":"00:00:00"},{"$f":"IF(Cover_Sheet!F959=\"\",\"\",Cover_Sheet!F959)","v":""},{"$f":"Cover_Sheet!G959","v":0},{"$f":"Cover_Sheet!H959","v":0}]
[{"$f":"IF(Cover_Sheet!A960=0,\"N\",\"Y\")","v":"N"},{"$f":"Cover_Sheet!B960","v":0},{"$f":"Cover_Sheet!C960","v":0},{"$f":"Cover_Sheet!D960","v":"00:00:00"},{"$f":"Cover_Sheet!E960","v":"00:00:00"},{"$f":"IF(Cover_Sheet!F960=\"\",\"\",Cover_Sheet!F960)","v":""},{"$f":"Cover_Sheet!G960","v":0},{"$f":"Cover_Sheet!H960","v":0}]
[{"$f":"IF(Cover_Sheet!A961=0,\"N\",\"Y\")","v":"N"},{"$f":"Cover_Sheet!B961","v":0},{"$f":"Cover_Sheet!C961","v":0},{"$f":"Cover_Sheet!D961","v":"00:00:00"},{"$f":"Cover_Sheet!E961","v":"00:00:00"},{"$f":"IF(Cover_Sheet!F961=\"\",\"\",Cover_Sheet!F961)","v":""},{"$f":"Cover_Sheet!G961","v":0},{"$f":"Cover_Sheet!H961","v":0}]
[{"$f":"IF(Cover_Sheet!A962=0,\"N\",\"Y\")","v":"N"},{"$f":"Cover_Sheet!B962","v":0},{"$f":"Cover_Sheet!C962","v":0},{"$f":"Cover_Sheet!D962","v":"00:00:00"},{"$f":"Cover_Sheet!E962","v":"00:00:00"},{"$f":"IF(Cover_Sheet!F962=\"\",\"\",Cover_Sheet!F962)","v":""},{"$f":"Cover_Sheet!G962","v":0},{"$f":"Cover_Sheet!H962","v":0}]
[{"$f":"IF(Cover_Sheet!A963=0,\"N\",\"Y\")","v":"N"},{"$f":"Cover_Sheet!B963","v":0},{"$f":"Cover_Sheet!C963","v":0},{"$f":"Cover_Sheet!D963","v":"00:00:00"},{"$f":"Cover_Sheet!E963","v":"00:00:00"},{"$f":"IF(Cover_Sheet!F963=\"\",\"\",Cover_Sheet!F963)","v":""},{"$f":"Cover_Sheet!G963","v":0},{"$f":"Cover_Sheet!H963","v":0}]
[{"$f":"IF(Cover_Sheet!A964=0,\"N\",\"Y\")","v":"N"},{"$f":"Cover_Sheet!B964","v":0},{"$f":"Cover_Sheet!C964","v":0},{"$f":"Cover_Sheet!D964","v":"00:00:00"},{"$f":"Cover_Sheet!E964","v":"00:00:00"},{"$f":"IF(Cover_Sheet!F964=\"\",\"\",Cover_Sheet!F964)","v":""},{"$f":"Cover_Sheet!G964","v":0},{"$f":"Cover_Sheet!H964","v":0}]
[{"$f":"IF(Cover_Sheet!A965=0,\"N\",\"Y\")","v":"N"},{"$f":"Cover_Sheet!B965","v":0},{"$f":"Cover_Sheet!C965","v":0},{"$f":"Cover_Sheet!D965","v":"00:00:00"},{"$f":"Cover_Sheet!E965","v":"00:00:00"},{"$f":"IF(Cover_Sheet!F965=\"\",\"\",Cover_Sheet!F965)","v":""},{"$f":"Cover_Sheet!G965","v":0},{"$f":"Cover_Sheet!H965","v":0}]
[{"$f":"IF(Cover_Sheet!A966=0,\"N\",\"Y\")","v":"N"},{"$f":"Cover_Sheet!B966","v":0},{"$f":"Cover_Sheet!C966","v":0},{"$f":"Cover_Sheet!D966","v":"00:00:00"},{"$f":"Cover_Sheet!E966","v":"00:00:00"},{"$f":"IF(Cover_Sheet!F966=\"\",\"\",Cover_Sheet!F966)","v":""},{"$f":"Cover_Sheet!G966","v":0},{"$f":"Cover_Sheet!H966","v":0}]
[{"$f":"IF(Cover_Sheet!A967=0,\"N\",\"Y\")","v":"N"},{"$f":"Cover_Sheet!B967","v":0},{"$f":"Cover_Sheet!C967","v":0},{"$f":"Cover_Sheet!D967","v":"00:00:00"},{"$f":"Cover_Sheet!E967","v":"00:00:00"},{"$f":"IF(Cover_Sheet!F967=\"\",\"\",Cover_Sheet!F967)","v":""},{"$f":"Cover_Sheet!G967","v":0},{"$f":"Cover_Sheet!H967","v":0}]
[{"$f":"IF(Cover_Sheet!A968=0,\"N\",\"Y\")","v":"N"},{"$f":"Cover_Sheet!B968","v":0},{"$f":"Cover_Sheet!C968","v":0},{"$f":"Cover_Sheet!D968","v":"00:00:00"},{"$f":"Cover_Sheet!E968","v":"00:00:00"},{"$f":"IF(Cover_Sheet!F968=\"\",\"\",Cover_Sheet!F968)","v":""},{"$f":"Cover_Sheet!G968","v":0},{"$f":"Cover_Sheet!H968","v":0}]
[{"$f":"IF(Cover_Sheet!A969=0,\"N\",\"Y\")","v":"N"},{"$f":"Cover_Sheet!B969","v":0},{"$f":"Cover_Sheet!C969","v":0},{"$f":"Cover_Sheet!D969","v":"00:00:00"},{"$f":"Cover_Sheet!E969","v":"00:00:00"},{"$f":"IF(Cover_Sheet!F969=\"\",\"\",Cover_Sheet!F969)","v":""},{"$f":"Cover_Sheet!G969","v":0},{"$f":"Cover_Sheet!H969","v":0}]
[{"$f":"IF(Cover_Sheet!A970=0,\"N\",\"Y\")","v":"N"},{"$f":"Cover_Sheet!B970","v":0},{"$f":"Cover_Sheet!C970","v":0},{"$f":"Cover_Sheet!D970","v":"00:00:00"},{"$f":"Cover_Sheet!E970","v":"00:00:00"},{"$f":"IF(Cover_Sheet!F970=\"\",\"\",Cover_Sheet!F970)","v":""},{"$f":"Cover_Sheet!G970","v":0},{"$f":"Cover_Sheet!H970","v":0}]
[{"$f":"IF(Cover_Sheet!A971=0,\"N\",\"Y\")","v":"N"},{"$f":"Cover_Sheet!B971","v":0},{"$f":"Cover_Sheet!C971","v":0},{"$f":"Cover_Sheet!D971","v":"00:00:00"},{"$f":"Cover_Sheet!E971","v":"00:00:00"},{"$f":"IF(Cover_Sheet!F971=\"\",\"\",Cover_Sheet!F971)","v":""},{"$f":"Cover_Sheet!G971","v":0},{"$f":"Cover_Sheet!H971","v":0}]
[{"$f":"IF(Cover_Sheet!A972=0,\"N\",\"Y\")","v":"N"},{"$f":"Cover_Sheet!B972","v":0},{"$f":"Cover_Sheet!C972","v":0},{"$f":"Cover_Sheet!D972","v":"00:00:00"},{"$f":"Cover_Sheet!E972","v":"00:00:00"},{"$f":"IF(Cover_Sheet!F972=\"\",\"\",Cover_Sheet!F972)","v":""},{"$f":"Cover_Sheet!G972","v":0},{"$f":"Cover_Sheet!H972","v":0}]
[{"$f":"IF(Cover_Sheet!A973=0,\"N\",\"Y\")","v":"N"},{"$f":"Cover_Sheet!B973","v":0},{"$f":"Cover_Sheet!C973","v":0},{"$f":"Cover_Sheet!D973","v":"00:00:00"},{"$f":"Cover_Sheet!E973","v":"00:00:00"},{"$f":"IF(Cover_Sheet!F973=\"\",\"\",Cover_Sheet!F973)","v":""},{"$f":"Cover_Sheet!G973","v":0},{"$f":"Cover_Sheet!H973","v":0}]
[{"$f":"IF(Cover_Sheet!A974=0,\"N\",\"Y\")","v":"N"},{"$f":"Cover_Sheet!B974","v":0},{"$f":"Cover_Sheet!C974","v":0},{"$f":"Cover_Sheet!D974","v":"00:00:00"},{"$f":"Cover_Sheet!E974","v":"00:00:00"},{"$f":"IF(Cover_Sheet!F974=\"\",\"\",Cover_Sheet!F974)","v":""},{"$f":"Cover_Sheet!G974","v":0},{"$f":"Cover_Sheet!H974","v":0}]
[{"$f":"IF(Cover_Sheet!A975=0,\"N\",\"Y\")","v":"N"},{"$f":"Cover_Sheet!B975","v":0},{"$f":"Cover_Sheet!C975","v":0},{"$f":"Cover_Sheet!D975","v":"00:00:00"},{"$f":"Cover_Sheet!E975","v":"00:00:00"},{"$f":"IF(Cover_Sheet!F975=\"\",\"\",Cover_Sheet!F975)","v":""},{"$f":"Cover_Sheet!G975","v":0},{"$f":"Cover_Sheet!H975","v":0}]
[{"$f":"IF(Cover_Sheet!A976=0,\"N\",\"Y\")","v":"N"},{"$f":"Cover_Sheet!B976","v":0},{"$f":"Cover_Sheet!C976","v":0},{"$f":"Cover_Sheet!D976","v":"00:00:00"},{"$f":"Cover_Sheet!E976","v":"00:00:00"},{"$f":"IF(Cover_Sheet!F976=\"\",\"\",Cover_Sheet!F976)","v":""},{"$f":"Cover_Sheet!G976","v":0},{"$f":"Cover_Sheet!H976","v":0}]
[{"$f":"IF(Cover_Sheet!A977=0,\"N\",\"Y\")","v":"N"},{"$f":"Cover_Sheet!B977","v":0},{"$f":"Cover_Sheet!C977","v":0},{"$f":"Cover_Sheet!D977","v":"00:00:00"},{"$f":"Cover_Sheet!E977","v":"00:00:00"},{"$f":"IF(Cover_Sheet!F977=\"\",\"\",Cover_Sheet!F977)","v":""},{"$f":"Cover_Sheet!G977","v":0},{"$f":"Cover_Sheet!H977","v":0}]
[{"$f":"IF(Cover_Sheet!A978=0,\"N\",\"Y\")","v":"N"},{"$f":"Cover_Sheet!B978","v":0},{"$f":"Cover_Sheet!C978","v":0},{"$f":"Cover_Sheet!D978","v":"00:00:00"},{"$f":"Cover_Sheet!E978","v":"00:00:00"},{"$f":"IF(Cover_Sheet!F978=\"\",\"\",Cover_Sheet!F978)","v":""},{"$f":"Cover_Sheet!G978","v":0},{"$f":"Cover_Sheet!H978","v":0}]
[{"$f":"IF(Cover_Sheet!A979=0,\"N\",\"Y\")","v":"N"},{"$f":"Cover_Sheet!B979","v":0},{"$f":"Cover_Sheet!C979","v":0},{"$f":"Cover_Sheet!D979","v":"00:00:00"},{"$f":"Cover_Sheet!E979","v":"00:00:00"},{"$f":"IF(Cover_Sheet!F979=\"\",\"\",Cover_Sheet!F979)","v":""},{"$f":"Cover_Sheet!G979","v":0},{"$f":"Cover_Sheet!H979","v":0}]
[{"$f":"IF(Cover_Sheet!A980=0,\"N\",\"Y\")","v":"N"},{"$f":"Cover_Sheet!B980","v":0},{"$f":"Cover_Sheet!C980","v":0},{"$f":"Cover_Sheet!D980","v":"00:00:00"},{"$f":"Cover_Sheet!E980","v":"00:00:00"},{"$f":"IF(Cover_Sheet!F980=\"\",\"\",Cover_Sheet!F980)","v":""},{"$f":"Cover_Sheet!G980","v":0},{"$f":"Cover_Sheet!H980","v":0}]
[{"$f":"IF(Cover_Sheet!A981=0,\"N\",\"Y\")","v":"N"},{"$f":"Cover_Sheet!B981","v":0},{"$f":"Cover_Sheet!C981","v":0},{"$f":"Cover_Sheet!D981","v":"00:00:00"},{"$f":"Cover_Sheet!E981","v":"00:00:00"},{"$f":"IF(Cover_Sheet!F981=\"\",\"\",Cover_Sheet!F981)","v":""},{"$f":"Cover_Sheet!G981","v":0},{"$f":"Cover_Sheet!H981","v":0}]
[{"$f":"IF(Cover_Sheet!A982=0,\"N\",\"Y\")","v":"N"},{"$f":"Cover_Sheet!B982","v":0},{"$f":"Cover_Sheet!C982","v":0},{"$f":"Cover_Sheet!D982","v":"00:00:00"},{"$f":"Cover_Sheet!E982","v":"00:00:00"},{"$f":"IF(Cover_Sheet!F982=\"\",\"\",Cover_Sheet!F982)","v":""},{"$f":"Cover_Sheet!G982","v":0},{"$f":"Cover_Sheet!H982","v":0}]
[{"$f":"IF(Cover_Sheet!A983=0,\"N\",\"Y\")","v":"N"},{"$f":"Cover_Sheet!B983","v":0},{"$f":"Cover_Sheet!C983","v":0},{"$f":"Cover_Sheet!D983","v":"00:00:00"},{"$f":"Cover_Sheet!E983","v":"00:00:00"},{"$f":"IF(Cover_Sheet!F983=\"\",\"\",Cover_Sheet!F983)","v":""},{"$f":"Cover_Sheet!G983","v":0},{"$f":"Cover_Sheet!H983","v":0}]
[{"$f":"IF(Cover_Sheet!A984=0,\"N\",\"Y\")","v":"N"},{"$f":"Cover_Sheet!B984","v":0},{"$f":"Cover_Sheet!C984","v":0},{"$f":"Cover_Sheet!D984","v":"00:00:00"},{"$f":"Cover_Sheet!E984","v":"00:00:00"},{"$f":"IF(Cover_Sheet!F984=\"\",\"\",Cover_Sheet!F984)","v":""},{"$f":"Cover_Sheet!G984","v":0},{"$f":"Cover_Sheet!H984","v":0}]
[{"$f":"IF(Cover_Sheet!A985=0,\"N\",\"Y\")","v":"N"},{"$f":"Cover_Sheet!B985","v":0},{"$f":"Cover_Sheet!C985","v":0},{"$f":"Cover_Sheet!D985","v":"00:00:00"},{"$f":"Cover_Sheet!E985","v":"00:00:00"},{"$f":"IF(Cover_Sheet!F985=\"\",\"\",Cover_Sheet!F985)","v":""},{"$f":"Cover_Sheet!G985","v":0},{"$f":"Cover_Sheet!H985","v":0}]
[{"$f":"IF(Cover_Sheet!A986=0,\"N\",\"Y\")","v":"N"},{"$f":"Cover_Sheet!B986","v":0},{"$f":"Cover_Sheet!C986","v":0},{"$f":"Cover_Sheet!D986","v":"00:00:00"},{"$f":"Cover_Sheet!E986","v":"00:00:00"},{"$f":"IF(Cover_Sheet!F986=\"\",\"\",Cover_Sheet!F986)","v":""},{"$f":"Cover_Sheet!G986","v":0},{"$f":"Cover_Sheet!H986","v":0}]
[{"$f":"IF(Cover_Sheet!A987=0,\"N\",\"Y\")","v":"N"},{"$f":"Cover_Sheet!B987","v":0},{"$f":"Cover_Sheet!C987","v":0},{"$f":"Cover_Sheet!D987","v":"00:00:00"},{"$f":"Cover_Sheet!E987","v":"00:00:00"},{"$f":"IF(Cover_Sheet!F987=\"\",\"\",Cover_Sheet!F987)","v":""},{"$f":"Cover_Sheet!G987","v":0},{"$f":"Cover_Sheet!H987","v":0}]
[{"$f":"IF(Cover_Sheet!A988=0,\"N\",\"Y\")","v":"N"},{"$f":"Cover_Sheet!B988","v":0},{"$f":"Cover_Sheet!C988","v":0},{"$f":"Cover_Sheet!D988","v":"00:00:00"},{"$f":"Cover_Sheet!E988","v":"00:00:00"},{"$f":"IF(Cover_Sheet!F988=\"\",\"\",Cover_Sheet!F988)","v":""},{"$f":"Cover_Sheet!G988","v":0},{"$f":"Cover_Sheet!H988","v":0}]
[{"$f":"IF(Cover_Sheet!A989=0,\"N\",\"Y\")","v":"N"},{"$f":"Cover_Sheet!B989","v":0},{"$f":"Cover_Sheet!C989","v":0},{"$f":"Cover_Sheet!D989","v":"00:00:00"},{"$f":"Cover_Sheet!E989","v":"00:00:00"},{"$f":"IF(Cover_Sheet!F989=\"\",\"\",Cover_Sheet!F989)","v":""},{"$f":"Cover_Sheet!G989","v":0},{"$f":"Cover_Sheet!H989","v":0}]
[{"$f":"IF(Cover_Sheet!A990=0,\"N\",\"Y\")","v":"N"},{"$f":"Cover_Sheet!B990","v":0},{"$f":"Cover_Sheet!C990","v":0},{"$f":"Cover_Sheet!D990","v":"00:00:00"},{"$f":"Cover_Sheet!E990","v":"00:00:00"},{"$f":"IF(Cover_Sheet!F990=\"\",\"\",Cover_Sheet!F990)","v":""},{"$f":"Cover_Sheet!G990","v":0},{"$f":"Cover_Sheet!H990","v":0}]
[{"$f":"IF(Cover_Sheet!A991=0,\"N\",\"Y\")","v":"N"},{"$f":"Cover_Sheet!B991","v":0},{"$f":"Cover_Sheet!C991","v":0},{"$f":"Cover_Sheet!D991","v":"00:00:00"},{"$f":"Cover_Sheet!E991","v":"00:00:00"},{"$f":"IF(Cover_Sheet!F991=\"\",\"\",Cover_Sheet!F991)","v":""},{"$f":"Cover_Sheet!G991","v":0},{"$f":"Cover_Sheet!H991","v":0}]
[{"$f":"IF(Cover_Sheet!A992=0,\"N\",\"Y\")","v":"N"},{"$f":"Cover_Sheet!B992","v":0},{"$f":"Cover_Sheet!C992","v":0},{"$f":"Cover_Sheet!D992","v":"00:00:00"},{"$f":"Cover_Sheet!E992","v":"00:00:00"},{"$f":"IF(Cover_Sheet!F992=\"\",\"\",Cover_Sheet!F992)","v":""},{"$f":"Cover_Sheet!G992","v":0},{"$f":"Cover_Sheet!H992","v":0}]
[{"$f":"IF(Cover_Sheet!A993=0,\"N\",\"Y\")","v":"N"},{"$f":"Cover_Sheet!B993","v":0},{"$f":"Cover_Sheet!C993","v":0},{"$f":"Cover_Sheet!D993","v":"00:00:00"},{"$f":"Cover_Sheet!E993","v":"00:00:00"},{"$f":"IF(Cover_Sheet!F993=\"\",\"\",Cover_Sheet!F993)","v":""},{"$f":"Cover_Sheet!G993","v":0},{"$f":"Cover_Sheet!H993","v":0}]
[{"$f":"IF(Cover_Sheet!A994=0,\"N\",\"Y\")","v":"N"},{"$f":"Cover_Sheet!B994","v":0},{"$f":"Cover_Sheet!C994","v":0},{"$f":"Cover_Sheet!D994","v":"00:00:00"},{"$f":"Cover_Sheet!E994","v":"00:00:00"},{"$f":"IF(Cover_Sheet!F994=\"\",\"\",Cover_Sheet!F994)","v":""},{"$f":"Cover_Sheet!G994","v":0},{"$f":"Cover_Sheet!H994","v":0}]
[{"$f":"IF(Cover_Sheet!A995=0,\"N\",\"Y\")","v":"N"},{"$f":"Cover_Sheet!B995","v":0},{"$f":"Cover_Sheet!C995","v":0},{"$f":"Cover_Sheet!D995","v":"00:00:00"},{"$f":"Cover_Sheet!E995","v":"00:00:00"},{"$f":"IF(Cover_Sheet!F995=\"\",\"\",Cover_Sheet!F995)","v":""},{"$f":"Cover_Sheet!G995","v":0},{"$f":"Cover_Sheet!H995","v":0}]
[{"$f":"IF(Cover_Sheet!A996=0,\"N\",\"Y\")","v":"N"},{"$f":"Cover_Sheet!B996","v":0},{"$f":"Cover_Sheet!C996","v":0},{"$f":"Cover_Sheet!D996","v":"00:00:00"},{"$f":"Cover_Sheet!E996","v":"00:00:00"},{"$f":"IF(Cover_Sheet!F996=\"\",\"\",Cover_Sheet!F996)","v":""},{"$f":"Cover_Sheet!G996","v":0},{"$f":"Cover_Sheet!H996","v":0}]
[{"$f":"IF(Cover_Sheet!A997=0,\"N\",\"Y\")","v":"N"},{"$f":"Cover_Sheet!B997","v":0},{"$f":"Cover_Sheet!C997","v":0},{"$f":"Cover_Sheet!D997","v":"00:00:00"},{"$f":"Cover_Sheet!E997","v":"00:00:00"},{"$f":"IF(Cover_Sheet!F997=\"\",\"\",Cover_Sheet!F997)","v":""},{"$f":"Cover_Sheet!G997","v":0},{"$f":"Cover_Sheet!H997","v":0}]
[{"$f":"IF(Cover_Sheet!A998=0,\"N\",\"Y\")","v":"N"},{"$f":"Cover_Sheet!B998","v":0},{"$f":"Cover_Sheet!C998","v":0},{"$f":"Cover_Sheet!D998","v":"00:00:00"},{"$f":"Cover_Sheet!E998","v":"00:00:00"},{"$f":"IF(Cover_Sheet!F998=\"\",\"\",Cover_Sheet!F998)","v":""},{"$f":"Cover_Sheet!G998","v":0},{"$f":"Cover_Sheet!H998","v":0}]
[{"$f":"IF(Cover_Sheet!A999=0,\"N\",\"Y\")","v":"N"},{"$f":"Cover_Sheet!B999","v":0},{"$f":"Cover_Sheet!C999","v":0},{"$f":"Cover_Sheet!D999","v":"00:00:00"},{"$f":"Cover_Sheet!E999","v":"00:00:00"},{"$f":"IF(Cover_Sheet!F999=\"\",\"\",Cover_Sheet!F999)","v":""},{"$f":"Cover_Sheet!G999","v":0},{"$f":"Cover_Sheet!H999","v":0}]
[{"$f":"IF(Cover_Sheet!A1000=0,\"N\",\"Y\")","v":"N"},{"$f":"Cover_Sheet!B1000","v":0},{"$f":"Cover_Sheet!C1000","v":0},{"$f":"Cover_Sheet!D1000","v":"00:00:00"},{"$f":"Cover_Sheet!E1000","v":"00:00:00"},{"$f":"IF(Cover_Sheet!F1000=\"\",\"\",Cover_Sheet!F1000)","v":""},{"$f":"Cover_Sheet!G1000","v":0},{"$f":"Cover_Sheet!H1000","v":0}]
[{"$f":"IF(Cover_Sheet!A1001=0,\"N\",\"Y\")","v":"N"},{"$f":"Cover_Sheet!B1001","v":0},{"$f":"Cover_Sheet!C1001","v":0},{"$f":"Cover_Sheet!D1001","v":"00:00:00"},{"$f":"Cover_Sheet!E1001","v":"00:00:00"},{"$f":"IF(Cover_Sheet!F1001=\"\",\"\",Cover_Sheet!F1001)","v":""},{"$f":"Cover_Sheet!G1001","v":0},{"$f":"Cover_Sheet!H1001","v":0}]
[{"$f":"IF(Cover_Sheet!A1002=0,\"N\",\"Y\")","v":"N"},{"$f":"Cover_Sheet!B1002","v":0},{"$f":"Cover_Sheet!C1002","v":0},{"$f":"Cover_Sheet!D1002","v":"00:00:00"},{"$f":"Cover_Sheet!E1002","v":"00:00:00"},{"$f":"IF(Cover_Sheet!F1002=\"\",\"\",Cover_Sheet!F1002)","v":""},{"$f":"Cover_Sheet!G1002","v":0},{"$f":"Cover_Sheet!H1002","v":0}]
[{"$f":"IF(Cover_Sheet!A1003=0,\"N\",\"Y\")","v":"N"},{"$f":"Cover_Sheet!B1003","v":0},{"$f":"Cover_Sheet!C1003","v":0},{"$f":"Cover_Sheet!D1003","v":"00:00:00"},{"$f":"Cover_Sheet!E1003","v":"00:00:00"},{"$f":"IF(Cover_Sheet!F1003=\"\",\"\",Cover_Sheet!F1003)","v":""},{"$f":"Cover_Sheet!G1003","v":0},{"$f":"Cover_Sheet!H1003","v":0}]
[{"$f":"IF(Cover_Sheet!A1004=0,\"N\",\"Y\")","v":"N"},{"$f":"Cover_Sheet!B1004","v":0},{"$f":"Cover_Sheet!C1004","v":0},{"$f":"Cover_Sheet!D1004","v":"00:00:00"},{"$f":"Cover_Sheet!E1004","v":"00:00:00"},{"$f":"IF(Cover_Sheet!F1004=\"\",\"\",Cover_Sheet!F1004)","v":""},{"$f":"Cover_Sheet!G1004","v":0},{"$f":"Cover_Sheet!H1004","v":0}]
[{"$f":"IF(Cover_Sheet!A1005=0,\"N\",\"Y\")","v":"N"},{"$f":"Cover_Sheet!B1005","v":0},{"$f":"Cover_Sheet!C1005","v":0},{"$f":"Cover_Sheet!D1005","v":"00:00:00"},{"$f":"Cover_Sheet!E1005","v":"00:00:00"},{"$f":"IF(Cover_Sheet!F1005=\"\",\"\",Cover_Sheet!F1005)","v":""},{"$f":"Cover_Sheet!G1005","v":0},{"$f":"Cover_Sheet!H1005","v":0}]
[{"$f":"IF(Cover_Sheet!A1006=0,\"N\",\"Y\")","v":"N"},{"$f":"Cover_Sheet!B1006","v":0},{"$f":"Cover_Sheet!C1006","v":0},{"$f":"Cover_Sheet!D1006","v":"00:00:00"},{"$f":"Cover_Sheet!E1006","v":"00:00:00"},{"$f":"IF(Cover_Sheet!F1006=\"\",\"\",Cover_Sheet!F1006)","v":""},{"$f":"Cover_Sheet!G1006","v":0},{"$f":"Cover_Sheet!H1006","v":0}]
[{"$f":"IF(Cover_Sheet!A1007=0,\"N\",\"Y\")","v":"N"},{"$f":"Cover_Sheet!B1007","v":0},{"$f":"Cover_Sheet!C1007","v":0},{"$f":"Cover_Sheet!D1007","v":"00:00:00"},{"$f":"Cover_Sheet!E1007","v":"00:00:00"},{"$f":"IF(Cover_Sheet!F1007=\"\",\"\",Cover_Sheet!F1007)","v":""},{"$f":"Cover_Sheet!G1007","v":0},{"$f":"Cover_Sheet!H1007","v":0}]
[{"$f":"IF(Cover_Sheet!A1008=0,\"N\",\"Y\")","v":"N"},{"$f":"Cover_Sheet!B1008","v":0},{"$f":"Cover_Sheet!C1008","v":0},{"$f":"Cover_Sheet!D1008","v":"00:00:00"},{"$f":"Cover_Sheet!E1008","v":"00:00:00"},{"$f":"IF(Cover_Sheet!F1008=\"\",\"\",Cover_Sheet!F1008)","v":""},{"$f":"Cover_Sheet!G1008","v":0},{"$f":"Cover_Sheet!H1008","v":0}]
[{"$f":"IF(Cover_Sheet!A1009=0,\"N\",\"Y\")","v":"N"},{"$f":"Cover_Sheet!B1009","v":0},{"$f":"Cover_Sheet!C1009","v":0},{"$f":"Cover_Sheet!D1009","v":"00:00:00"},{"$f":"Cover_Sheet!E1009","v":"00:00:00"},{"$f":"IF(Cover_Sheet!F1009=\"\",\"\",Cover_Sheet!F1009)","v":""},{"$f":"Cover_Sheet!G1009","v":0},{"$f":"Cover_Sheet!H1009","v":0}]
[{"$f":"IF(Cover_Sheet!A1010=0,\"N\",\"Y\")","v":"N"},{"$f":"Cover_Sheet!B1010","v":0},{"$f":"Cover_Sheet!C1010","v":0},{"$f":"Cover_Sheet!D1010","v":"00:00:00"},{"$f":"Cover_Sheet!E1010","v":"00:00:00"},{"$f":"IF(Cover_Sheet!F1010=\"\",\"\",Cover_Sheet!F1010)","v":""},{"$f":"Cover_Sheet!G1010","v":0},{"$f":"Cover_Sheet!H1010","v":0}]
[{"$f":"IF(Cover_Sheet!A1011=0,\"N\",\"Y\")","v":"N"},{"$f":"Cover_Sheet!B1011","v":0},{"$f":"Cover_Sheet!C1011","v":0},{"$f":"Cover_Sheet!D1011","v":"00:00:00"},{"$f":"Cover_Sheet!E1011","v":"00:00:00"},{"$f":"IF(Cover_Sheet!F1011=\"\",\"\",Cover_Sheet!F1011)","v":""},{"$f":"Cover_Sheet!G1011","v":0},{"$f":"Cover_Sheet!H1011","v":0}]
[{"$f":"IF(Cover_Sheet!A1012=0,\"N\",\"Y\")","v":"N"},{"$f":"Cover_Sheet!B1012","v":0},{"$f":"Cover_Sheet!C1012","v":0},{"$f":"Cover_Sheet!D1012","v":"00:00:00"},{"$f":"Cover_Sheet!E1012","v":"00:00:00"},{"$f":"IF(Cover_Sheet!F1012=\"\",\"\",Cover_Sheet!F1012)","v":""},{"$f":"Cover_Sheet!G1012","v":0},{"$f":"Cover_Sheet!H1012","v":0}]
[{"$f":"IF(Cover_Sheet!A1013=0,\"N\",\"Y\")","v":"N"},{"$f":"Cover_Sheet!B1013","v":0},{"$f":"Cover_Sheet!C1013","v":0},{"$f":"Cover_Sheet!D1013","v":"00:00:00"},{"$f":"Cover_Sheet!E1013","v":"00:00:00"},{"$f":"IF(Cover_Sheet!F1013=\"\",\"\",Cover_Sheet!F1013)","v":""},{"$f":"Cover_Sheet!G1013","v":0},{"$f":"Cover_Sheet!H1013","v":0}]
[{"$f":"IF(Cover_Sheet!A1014=0,\"N\",\"Y\")","v":"N"},{"$f":"Cover_Sheet!B1014","v":0},{"$f":"Cover_Sheet!C1014","v":0},{"$f":"Cover_Sheet!D1014","v":"00:00:00"},{"$f":"Cover_Sheet!E1014","v":"00:00:00"},{"$f":"IF(Cover_Sheet!F1014=\"\",\"\",Cover_Sheet!F1014)","v":""},{"$f":"Cover_Sheet!G1014","v":0},{"$f":"Cover_Sheet!H1014","v":0}]
[{"$f":"IF(Cover_Sheet!A1015=0,\"N\",\"Y\")","v":"N"},{"$f":"Cover_Sheet!B1015","v":0},{"$f":"Cover_Sheet!C1015","v":0},{"$f":"Cover_Sheet!D1015","v":"00:00:00"},{"$f":"Cover_Sheet!E1015","v":"00:00:00"},{"$f":"IF(Cover_Sheet!F1015=\"\",\"\",Cover_Sheet!F1015)","v":""},{"$f":"Cover_Sheet!G1015","v":0},{"$f":"Cover_Sheet!H1015","v":0}]
[{"$f":"IF(Cover_Sheet!A1016=0,\"N\",\"Y\")","v":"N"},{"$f":"Cover_Sheet!B1016","v":0},{"$f":"Cover_Sheet!C1016","v":0},{"$f":"Cover_Sheet!D1016","v":"00:00:00"},{"$f":"Cover_Sheet!E1016","v":"00:00:00"},{"$f":"IF(Cover_Sheet!F1016=\"\",\"\",Cover_Sheet!F1016)","v":""},{"$f":"Cover_Sheet!G1016","v":0},{"$f":"Cover_Sheet!H1016","v":0}]
[{"$f":"IF(Cover_Sheet!A1017=0,\"N\",\"Y\")","v":"N"},{"$f":"Cover_Sheet!B1017","v":0},{"$f":"Cover_Sheet!C1017","v":0},{"$f":"Cover_Sheet!D1017","v":"00:00:00"},{"$f":"Cover_Sheet!E1017","v":"00:00:00"},{"$f":"IF(Cover_Sheet!F1017=\"\",\"\",Cover_Sheet!F1017)","v":""},{"$f":"Cover_Sheet!G1017","v":0},{"$f":"Cover_Sheet!H1017","v":0}]
[{"$f":"IF(Cover_Sheet!A1018=0,\"N\",\"Y\")","v":"N"},{"$f":"Cover_Sheet!B1018","v":0},{"$f":"Cover_Sheet!C1018","v":0},{"$f":"Cover_Sheet!D1018","v":"00:00:00"},{"$f":"Cover_Sheet!E1018","v":"00:00:00"},{"$f":"IF(Cover_Sheet!F1018=\"\",\"\",Cover_Sheet!F1018)","v":""},{"$f":"Cover_Sheet!G1018","v":0},{"$f":"Cover_Sheet!H1018","v":0}]
[{"$f":"IF(Cover_Sheet!A1019=0,\"N\",\"Y\")","v":"N"},{"$f":"Cover_Sheet!B1019","v":0},{"$f":"Cover_Sheet!C1019","v":0},{"$f":"Cover_Sheet!D1019","v":"00:00:00"},{"$f":"Cover_Sheet!E1019","v":"00:00:00"},{"$f":"IF(Cover_Sheet!F1019=\"\",\"\",Cover_Sheet!F1019)","v":""},{"$f":"Cover_Sheet!G1019","v":0},{"$f":"Cover_Sheet!H1019","v":0}]
[{"$f":"IF(Cover_Sheet!A1020=0,\"N\",\"Y\")","v":"N"},{"$f":"Cover_Sheet!B1020","v":0},{"$f":"Cover_Sheet!C1020","v":0},{"$f":"Cover_Sheet!D1020","v":"00:00:00"},{"$f":"Cover_Sheet!E1020","v":"00:00:00"},{"$f":"IF(Cover_Sheet!F1020=\"\",\"\",Cover_Sheet!F1020)","v":""},{"$f":"Cover_Sheet!G1020","v":0},{"$f":"Cover_Sheet!H1020","v":0}]
[{"$f":"IF(Cover_Sheet!A1021=0,\"N\",\"Y\")","v":"N"},{"$f":"Cover_Sheet!B1021","v":0},{"$f":"Cover_Sheet!C1021","v":0},{"$f":"Cover_Sheet!D1021","v":"00:00:00"},{"$f":"Cover_Sheet!E1021","v":"00:00:00"},{"$f":"IF(Cover_Sheet!F1021=\"\",\"\",Cover_Sheet!F1021)","v":""},{"$f":"Cover_Sheet!G1021","v":0},{"$f":"Cover_Sheet!H1021","v":0}]
[{"$f":"IF(Cover_Sheet!A1022=0,\"N\",\"Y\")","v":"N"},{"$f":"Cover_Sheet!B1022","v":0},{"$f":"Cover_Sheet!C1022","v":0},{"$f":"Cover_Sheet!D1022","v":"00:00:00"},{"$f":"Cover_Sheet!E1022","v":"00:00:00"},{"$f":"IF(Cover_Sheet!F1022=\"\",\"\",Cover_Sheet!F1022)","v":""},{"$f":"Cover_Sheet!G1022","v":0},{"$f":"Cover_Sheet!H1022","v":0}]
[{"$f":"IF(Cover_Sheet!A1023=0,\"N\",\"Y\")","v":"N"},{"$f":"Cover_Sheet!B1023","v":0},{"$f":"Cover_Sheet!C1023","v":0},{"$f":"Cover_Sheet!D1023","v":"00:00:00"},{"$f":"Cover_Sheet!E1023","v":"00:00:00"},{"$f":"IF(Cover_Sheet!F1023=\"\",\"\",Cover_Sheet!F1023)","v":""},{"$f":"Cover_Sheet!G1023","v":0},{"$f":"Cover_Sheet!H1023","v":0}]
[{"$f":"IF(Cover_Sheet!A1024=0,\"N\",\"Y\")","v":"N"},{"$f":"Cover_Sheet!B1024","v":0},{"$f":"Cover_Sheet!C1024","v":0},{"$f":"Cover_Sheet!D1024","v":"00:00:00"},{"$f":"Cover_Sheet!E1024","v":"00:00:00"},{"$f":"IF(Cover_Sheet!F1024=\"\",\"\",Cover_Sheet!F1024)","v":""},{"$f":"Cover_Sheet!G1024","v":0},{"$f":"Cover_Sheet!H1024","v":0}]
[{"$f":"IF(Cover_Sheet!A1025=0,\"N\",\"Y\")","v":"N"},{"$f":"Cover_Sheet!B1025","v":0},{"$f":"Cover_Sheet!C1025","v":0},{"$f":"Cover_Sheet!D1025","v":"00:00:00"},{"$f":"Cover_Sheet!E1025","v":"00:00:00"},{"$f":"IF(Cover_Sheet!F1025=\"\",\"\",Cover_Sheet!F1025)","v":""},{"$f":"Cover_Sheet!G1025","v":0},{"$f":"Cover_Sheet!H1025","v":0}]
[{"$f":"IF(Cover_Sheet!A1026=0,\"N\",\"Y\")","v":"N"},{"$f":"Cover_Sheet!B1026","v":0},{"$f":"Cover_Sheet!C1026","v":0},{"$f":"Cover_Sheet!D1026","v":"00:00:00"},{"$f":"Cover_Sheet!E1026","v":"00:00:00"},{"$f":"IF(Cover_Sheet!F1026=\"\",\"\",Cover_Sheet!F1026)","v":""},{"$f":"Cover_Sheet!G1026","v":0},{"$f":"Cover_Sheet!H1026","v":0}]
[{"$f":"IF(Cover_Sheet!A1027=0,\"N\",\"Y\")","v":"N"},{"$f":"Cover_Sheet!B1027","v":0},{"$f":"Cover_Sheet!C1027","v":0},{"$f":"Cover_Sheet!D1027","v":"00:00:00"},{"$f":"Cover_Sheet!E1027","v":"00:00:00"},{"$f":"IF(Cover_Sheet!F1027=\"\",\"\",Cover_Sheet!F1027)","v":""},{"$f":"Cover_Sheet!G1027","v":0},{"$f":"Cover_Sheet!H1027","v":0}]
[{"$f":"IF(Cover_Sheet!A1028=0,\"N\",\"Y\")","v":"N"},{"$f":"Cover_Sheet!B1028","v":0},{"$f":"Cover_Sheet!C1028","v":0},{"$f":"Cover_Sheet!D1028","v":"00:00:00"},{"$f":"Cover_Sheet!E1028","v":"00:00:00"},{"$f":"IF(Cover_Sheet!F1028=\"\",\"\",Cover_Sheet!F1028)","v":""},{"$f":"Cover_Sheet!G1028","v":0},{"$f":"Cover_Sheet!H1028","v":0}]
[{"$f":"IF(Cover_Sheet!A1029=0,\"N\",\"Y\")","v":"N"},{"$f":"Cover_Sheet!B1029","v":0},{"$f":"Cover_Sheet!C1029","v":0},{"$f":"Cover_Sheet!D1029","v":"00:00:00"},{"$f":"Cover_Sheet!E1029","v":"00:00:00"},{"$f":"IF(Cover_Sheet!F1029=\"\",\"\",Cover_Sheet!F1029)","v":""},{"$f":"Cover_Sheet!G1029","v":0},{"$f":"Cover_Sheet!H1029","v":0}]
[{"$f":"IF(Cover_Sheet!A1030=0,\"N\",\"Y\")","v":"N"},{"$f":"Cover_Sheet!B1030","v":0},{"$f":"Cover_Sheet!C1030","v":0},{"$f":"Cover_Sheet!D1030","v":"00:00:00"},{"$f":"Cover_Sheet!E1030","v":"00:00:00"},{"$f":"IF(Cover_Sheet!F1030=\"\",\"\",Cover_Sheet!F1030)","v":""},{"$f":"Cover_Sheet!G1030","v":0},{"$f":"Cover_Sheet!H1030","v":0}]
[{"$f":"IF(Cover_Sheet!A1031=0,\"N\",\"Y\")","v":"N"},{"$f":"Cover_Sheet!B1031","v":0},{"$f":"Cover_Sheet!C1031","v":0},{"$f":"Cover_Sheet!D1031","v":"00:00:00"},{"$f":"Cover_Sheet!E1031","v":"00:00:00"},{"$f":"IF(Cover_Sheet!F1031=\"\",\"\",Cover_Sheet!F1031)","v":""},{"$f":"Cover_Sheet!G1031","v":0},{"$f":"Cover_Sheet!H1031","v":0}]
[{"$f":"IF(Cover_Sheet!A1032=0,\"N\",\"Y\")","v":"N"},{"$f":"Cover_Sheet!B1032","v":0},{"$f":"Cover_Sheet!C1032","v":0},{"$f":"Cover_Sheet!D1032","v":"00:00:00"},{"$f":"Cover_Sheet!E1032","v":"00:00:00"},{"$f":"IF(Cover_Sheet!F1032=\"\",\"\",Cover_Sheet!F1032)","v":""},{"$f":"Cover_Sheet!G1032","v":0},{"$f":"Cover_Sheet!H1032","v":0}]
[{"$f":"IF(Cover_Sheet!A1033=0,\"N\",\"Y\")","v":"N"},{"$f":"Cover_Sheet!B1033","v":0},{"$f":"Cover_Sheet!C1033","v":0},{"$f":"Cover_Sheet!D1033","v":"00:00:00"},{"$f":"Cover_Sheet!E1033","v":"00:00:00"},{"$f":"IF(Cover_Sheet!F1033=\"\",\"\",Cover_Sheet!F1033)","v":""},{"$f":"Cover_Sheet!G1033","v":0},{"$f":"Cover_Sheet!H1033","v":0}]
[{"$f":"IF(Cover_Sheet!A1034=0,\"N\",\"Y\")","v":"N"},{"$f":"Cover_Sheet!B1034","v":0},{"$f":"Cover_Sheet!C1034","v":0},{"$f":"Cover_Sheet!D1034","v":"00:00:00"},{"$f":"Cover_Sheet!E1034","v":"00:00:00"},{"$f":"IF(Cover_Sheet!F1034=\"\",\"\",Cover_Sheet!F1034)","v":""},{"$f":"Cover_Sheet!G1034","v":0},{"$f":"Cover_Sheet!H1034","v":0}]
[{"$f":"IF(Cover_Sheet!A1035=0,\"N\",\"Y\")","v":"N"},{"$f":"Cover_Sheet!B1035","v":0},{"$f":"Cover_Sheet!C1035","v":0},{"$f":"Cover_Sheet!D1035","v":"00:00:00"},{"$f":"Cover_Sheet!E1035","v":"00:00:00"},{"$f":"IF(Cover_Sheet!F1035=\"\",\"\",Cover_Sheet!F1035)","v":""},{"$f":"Cover_Sheet!G1035","v":0},{"$f":"Cover_Sheet!H1035","v":0}]
[{"$f":"IF(Cover_Sheet!A1036=0,\"N\",\"Y\")","v":"N"},{"$f":"Cover_Sheet!B1036","v":0},{"$f":"Cover_Sheet!C1036","v":0},{"$f":"Cover_Sheet!D1036","v":"00:00:00"},{"$f":"Cover_Sheet!E1036","v":"00:00:00"},{"$f":"IF(Cover_Sheet!F1036=\"\",\"\",Cover_Sheet!F1036)","v":""},{"$f":"Cover_Sheet!G1036","v":0},{"$f":"Cover_Sheet!H1036","v":0}]
[{"$f":"IF(Cover_Sheet!A1037=0,\"N\",\"Y\")","v":"N"},{"$f":"Cover_Sheet!B1037","v":0},{"$f":"Cover_Sheet!C1037","v":0},{"$f":"Cover_Sheet!D1037","v":"00:00:00"},{"$f":"Cover_Sheet!E1037","v":"00:00:00"},{"$f":"IF(Cover_Sheet!F1037=\"\",\"\",Cover_Sheet!F1037)","v":""},{"$f":"Cover_Sheet!G1037","v":0},{"$f":"Cover_Sheet!H1037","v":0}]
[{"$f":"IF(Cover_Sheet!A1038=0,\"N\",\"Y\")","v":"N"},{"$f":"Cover_Sheet!B1038","v":0},{"$f":"Cover_Sheet!C1038","v":0},{"$f":"Cover_Sheet!D1038","v":"00:00:00"},{"$f":"Cover_Sheet!E1038","v":"00:00:00"},{"$f":"IF(Cover_Sheet!F1038=\"\",\"\",Cover_Sheet!F1038)","v":""},{"$f":"Cover_Sheet!G1038","v":0},{"$f":"Cover_Sheet!H1038","v":0}]
[{"$f":"IF(Cover_Sheet!A1039=0,\"N\",\"Y\")","v":"N"},{"$f":"Cover_Sheet!B1039","v":0},{"$f":"Cover_Sheet!C1039","v":0},{"$f":"Cover_Sheet!D1039","v":"00:00:00"},{"$f":"Cover_Sheet!E1039","v":"00:00:00"},{"$f":"IF(Cover_Sheet!F1039=\"\",\"\",Cover_Sheet!F1039)","v":""},{"$f":"Cover_Sheet!G1039","v":0},{"$f":"Cover_Sheet!H1039","v":0}]
[{"$f":"IF(Cover_Sheet!A1040=0,\"N\",\"Y\")","v":"N"},{"$f":"Cover_Sheet!B1040","v":0},{"$f":"Cover_Sheet!C1040","v":0},{"$f":"Cover_Sheet!D1040","v":"00:00:00"},{"$f":"Cover_Sheet!E1040","v":"00:00:00"},{"$f":"IF(Cover_Sheet!F1040=\"\",\"\",Cover_Sheet!F1040)","v":""},{"$f":"Cover_Sheet!G1040","v":0},{"$f":"Cover_Sheet!H1040","v":0}]
[{"$f":"IF(Cover_Sheet!A1041=0,\"N\",\"Y\")","v":"N"},{"$f":"Cover_Sheet!B1041","v":0},{"$f":"Cover_Sheet!C1041","v":0},{"$f":"Cover_Sheet!D1041","v":"00:00:00"},{"$f":"Cover_Sheet!E1041","v":"00:00:00"},{"$f":"IF(Cover_Sheet!F1041=\"\",\"\",Cover_Sheet!F1041)","v":""},{"$f":"Cover_Sheet!G1041","v":0},{"$f":"Cover_Sheet!H1041","v":0}]
[{"$f":"IF(Cover_Sheet!A1042=0,\"N\",\"Y\")","v":"N"},{"$f":"Cover_Sheet!B1042","v":0},{"$f":"Cover_Sheet!C1042","v":0},{"$f":"Cover_Sheet!D1042","v":"00:00:00"},{"$f":"Cover_Sheet!E1042","v":"00:00:00"},{"$f":"IF(Cover_Sheet!F1042=\"\",\"\",Cover_Sheet!F1042)","v":""},{"$f":"Cover_Sheet!G1042","v":0},{"$f":"Cover_Sheet!H1042","v":0}]
[{"$f":"IF(Cover_Sheet!A1043=0,\"N\",\"Y\")","v":"N"},{"$f":"Cover_Sheet!B1043","v":0},{"$f":"Cover_Sheet!C1043","v":0},{"$f":"Cover_Sheet!D1043","v":"00:00:00"},{"$f":"Cover_Sheet!E1043","v":"00:00:00"},{"$f":"IF(Cover_Sheet!F1043=\"\",\"\",Cover_Sheet!F1043)","v":""},{"$f":"Cover_Sheet!G1043","v":0},{"$f":"Cover_Sheet!H1043","v":0}]
[{"$f":"IF(Cover_Sheet!A1044=0,\"N\",\"Y\")","v":"N"},{"$f":"Cover_Sheet!B1044","v":0},{"$f":"Cover_Sheet!C1044","v":0},{"$f":"Cover_Sheet!D1044","v":"00:00:00"},{"$f":"Cover_Sheet!E1044","v":"00:00:00"},{"$f":"IF(Cover_Sheet!F1044=\"\",\"\",Cover_Sheet!F1044)","v":""},{"$f":"Cover_Sheet!G1044","v":0},{"$f":"Cover_Sheet!H1044","v":0}]
[{"$f":"IF(Cover_Sheet!A1045=0,\"N\",\"Y\")","v":"N"},{"$f":"Cover_Sheet!B1045","v":0},{"$f":"Cover_Sheet!C1045","v":0},{"$f":"Cover_Sheet!D1045","v":"00:00:00"},{"$f":"Cover_Sheet!E1045","v":"00:00:00"},{"$f":"IF(Cover_Sheet!F1045=\"\",\"\",Cover_Sheet!F1045)","v":""},{"$f":"Cover_Sheet!G1045","v":0},{"$f":"Cover_Sheet!H1045","v":0}]
[{"$f":"IF(Cover_Sheet!A1046=0,\"N\",\"Y\")","v":"N"},{"$f":"Cover_Sheet!B1046","v":0},{"$f":"Cover_Sheet!C1046","v":0},{"$f":"Cover_Sheet!D1046","v":"00:00:00"},{"$f":"Cover_Sheet!E1046","v":"00:00:00"},{"$f":"IF(Cover_Sheet!F1046=\"\",\"\",Cover_Sheet!F1046)","v":""},{"$f":"Cover_Sheet!G1046","v":0},{"$f":"Cover_Sheet!H1046","v":0}]
[{"$f":"IF(Cover_Sheet!A1047=0,\"N\",\"Y\")","v":"N"},{"$f":"Cover_Sheet!B1047","v":0},{"$f":"Cover_Sheet!C1047","v":0},{"$f":"Cover_Sheet!D1047","v":"00:00:00"},{"$f":"Cover_Sheet!E1047","v":"00:00:00"},{"$f":"IF(Cover_Sheet!F1047=\"\",\"\",Cover_Sheet!F1047)","v":""},{"$f":"Cover_Sheet!G1047","v":0},{"$f":"Cover_Sheet!H1047","v":0}]
[{"$f":"IF(Cover_Sheet!A1048=0,\"N\",\"Y\")","v":"N"},{"$f":"Cover_Sheet!B1048","v":0},{"$f":"Cover_Sheet!C1048","v":0},{"$f":"Cover_Sheet!D1048","v":"00:00:00"},{"$f":"Cover_Sheet!E1048","v":"00:00:00"},{"$f":"IF(Cover_Sheet!F1048=\"\",\"\",Cover_Sheet!F1048)","v":""},{"$f":"Cover_Sheet!G1048","v":0},{"$f":"Cover_Sheet!H1048","v":0}]
[{"$f":"IF(Cover_Sheet!A1049=0,\"N\",\"Y\")","v":"N"},{"$f":"Cover_Sheet!B1049","v":0},{"$f":"Cover_Sheet!C1049","v":0},{"$f":"Cover_Sheet!D1049","v":"00:00:00"},{"$f":"Cover_Sheet!E1049","v":"00:00:00"},{"$f":"IF(Cover_Sheet!F1049=\"\",\"\",Cover_Sheet!F1049)","v":""},{"$f":"Cover_Sheet!G1049","v":0},{"$f":"Cover_Sheet!H1049","v":0}]
[{"$f":"IF(Cover_Sheet!A1050=0,\"N\",\"Y\")","v":"N"},{"$f":"Cover_Sheet!B1050","v":0},{"$f":"Cover_Sheet!C1050","v":0},{"$f":"Cover_Sheet!D1050","v":"00:00:00"},{"$f":"Cover_Sheet!E1050","v":"00:00:00"},{"$f":"IF(Cover_Sheet!F1050=\"\",\"\",Cover_Sheet!F1050)","v":""},{"$f":"Cover_Sheet!G1050","v":0},{"$f":"Cover_Sheet!H1050","v":0}]
[{"$f":"IF(Cover_Sheet!A1051=0,\"N\",\"Y\")","v":"N"},{"$f":"Cover_Sheet!B1051","v":0},{"$f":"Cover_Sheet!C1051","v":0},{"$f":"Cover_Sheet!D1051","v":"00:00:00"},{"$f":"Cover_Sheet!E1051","v":"00:00:00"},{"$f":"IF(Cover_Sheet!F1051=\"\",\"\",Cover_Sheet!F1051)","v":""},{"$f":"Cover_Sheet!G1051","v":0},{"$f":"Cover_Sheet!H1051","v":0}]
[{"$f":"IF(Cover_Sheet!A1052=0,\"N\",\"Y\")","v":"N"},{"$f":"Cover_Sheet!B1052","v":0},{"$f":"Cover_Sheet!C1052","v":0},{"$f":"Cover_Sheet!D1052","v":"00:00:00"},{"$f":"Cover_Sheet!E1052","v":"00:00:00"},{"$f":"IF(Cover_Sheet!F1052=\"\",\"\",Cover_Sheet!F1052)","v":""},{"$f":"Cover_Sheet!G1052","v":0},{"$f":"Cover_Sheet!H1052","v":0}]
[{"$f":"IF(Cover_Sheet!A1053=0,\"N\",\"Y\")","v":"N"},{"$f":"Cover_Sheet!B1053","v":0},{"$f":"Cover_Sheet!C1053","v":0},{"$f":"Cover_Sheet!D1053","v":"00:00:00"},{"$f":"Cover_Sheet!E1053","v":"00:00:00"},{"$f":"IF(Cover_Sheet!F1053=\"\",\"\",Cover_Sheet!F1053)","v":""},{"$f":"Cover_Sheet!G1053","v":0},{"$f":"Cover_Sheet!H1053","v":0}]
[{"$f":"IF(Cover_Sheet!A1054=0,\"N\",\"Y\")","v":"N"},{"$f":"Cover_Sheet!B1054","v":0},{"$f":"Cover_Sheet!C1054","v":0},{"$f":"Cover_Sheet!D1054","v":"00:00:00"},{"$f":"Cover_Sheet!E1054","v":"00:00:00"},{"$f":"IF(Cover_Sheet!F1054=\"\",\"\",Cover_Sheet!F1054)","v":""},{"$f":"Cover_Sheet!G1054","v":0},{"$f":"Cover_Sheet!H1054","v":0}]
[{"$f":"IF(Cover_Sheet!A1055=0,\"N\",\"Y\")","v":"N"},{"$f":"Cover_Sheet!B1055","v":0},{"$f":"Cover_Sheet!C1055","v":0},{"$f":"Cover_Sheet!D1055","v":"00:00:00"},{"$f":"Cover_Sheet!E1055","v":"00:00:00"},{"$f":"IF(Cover_Sheet!F1055=\"\",\"\",Cover_Sheet!F1055)","v":""},{"$f":"Cover_Sheet!G1055","v":0},{"$f":"Cover_Sheet!H1055","v":0}]
[{"$f":"IF(Cover_Sheet!A1056=0,\"N\",\"Y\")","v":"N"},{"$f":"Cover_Sheet!B1056","v":0},{"$f":"Cover_Sheet!C1056","v":0},{"$f":"Cover_Sheet!D1056","v":"00:00:00"},{"$f":"Cover_Sheet!E1056","v":"00:00:00"},{"$f":"IF(Cover_Sheet!F1056=\"\",\"\",Cover_Sheet!F1056)","v":""},{"$f":"Cover_Sheet!G1056","v":0},{"$f":"Cover_Sheet!H1056","v":0}]
[{"$f":"IF(Cover_Sheet!A1057=0,\"N\",\"Y\")","v":"N"},{"$f":"Cover_Sheet!B1057","v":0},{"$f":"Cover_Sheet!C1057","v":0},{"$f":"Cover_Sheet!D1057","v":"00:00:00"},{"$f":"Cover_Sheet!E1057","v":"00:00:00"},{"$f":"IF(Cover_Sheet!F1057=\"\",\"\",Cover_Sheet!F1057)","v":""},{"$f":"Cover_Sheet!G1057","v":0},{"$f":"Cover_Sheet!H1057","v":0}]
[{"$f":"IF(Cover_Sheet!A1058=0,\"N\",\"Y\")","v":"N"},{"$f":"Cover_Sheet!B1058","v":0},{"$f":"Cover_Sheet!C1058","v":0},{"$f":"Cover_Sheet!D1058","v":"00:00:00"},{"$f":"Cover_Sheet!E1058","v":"00:00:00"},{"$f":"IF(Cover_Sheet!F1058=\"\",\"\",Cover_Sheet!F1058)","v":""},{"$f":"Cover_Sheet!G1058","v":0},{"$f":"Cover_Sheet!H1058","v":0}]
[{"$f":"IF(Cover_Sheet!A1059=0,\"N\",\"Y\")","v":"N"},{"$f":"Cover_Sheet!B1059","v":0},{"$f":"Cover_Sheet!C1059","v":0},{"$f":"Cover_Sheet!D1059","v":"00:00:00"},{"$f":"Cover_Sheet!E1059","v":"00:00:00"},{"$f":"IF(Cover_Sheet!F1059=\"\",\"\",Cover_Sheet!F1059)","v":""},{"$f":"Cover_Sheet!G1059","v":0},{"$f":"Cover_Sheet!H1059","v":0}]
[{"$f":"IF(Cover_Sheet!A1060=0,\"N\",\"Y\")","v":"N"},{"$f":"Cover_Sheet!B1060","v":0},{"$f":"Cover_Sheet!C1060","v":0},{"$f":"Cover_Sheet!D1060","v":"00:00:00"},{"$f":"Cover_Sheet!E1060","v":"00:00:00"},{"$f":"IF(Cover_Sheet!F1060=\"\",\"\",Cover_Sheet!F1060)","v":""},{"$f":"Cover_Sheet!G1060","v":0},{"$f":"Cover_Sheet!H1060","v":0}]
[{"$f":"IF(Cover_Sheet!A1061=0,\"N\",\"Y\")","v":"N"},{"$f":"Cover_Sheet!B1061","v":0},{"$f":"Cover_Sheet!C1061","v":0},{"$f":"Cover_Sheet!D1061","v":"00:00:00"},{"$f":"Cover_Sheet!E1061","v":"00:00:00"},{"$f":"IF(Cover_Sheet!F1061=\"\",\"\",Cover_Sheet!F1061)","v":""},{"$f":"Cover_Sheet!G1061","v":0},{"$f":"Cover_Sheet!H1061","v":0}]
[{"$f":"IF(Cover_Sheet!A1062=0,\"N\",\"Y\")","v":"N"},{"$f":"Cover_Sheet!B1062","v":0},{"$f":"Cover_Sheet!C1062","v":0},{"$f":"Cover_Sheet!D1062","v":"00:00:00"},{"$f":"Cover_Sheet!E1062","v":"00:00:00"},{"$f":"IF(Cover_Sheet!F1062=\"\",\"\",Cover_Sheet!F1062)","v":""},{"$f":"Cover_Sheet!G1062","v":0},{"$f":"Cover_Sheet!H1062","v":0}]
[{"$f":"IF(Cover_Sheet!A1063=0,\"N\",\"Y\")","v":"N"},{"$f":"Cover_Sheet!B1063","v":0},{"$f":"Cover_Sheet!C1063","v":0},{"$f":"Cover_Sheet!D1063","v":"00:00:00"},{"$f":"Cover_Sheet!E1063","v":"00:00:00"},{"$f":"IF(Cover_Sheet!F1063=\"\",\"\",Cover_Sheet!F1063)","v":""},{"$f":"Cover_Sheet!G1063","v":0},{"$f":"Cover_Sheet!H1063","v":0}]
[{"$f":"IF(Cover_Sheet!A1064=0,\"N\",\"Y\")","v":"N"},{"$f":"Cover_Sheet!B1064","v":0},{"$f":"Cover_Sheet!C1064","v":0},{"$f":"Cover_Sheet!D1064","v":"00:00:00"},{"$f":"Cover_Sheet!E1064","v":"00:00:00"},{"$f":"IF(Cover_Sheet!F1064=\"\",\"\",Cover_Sheet!F1064)","v":""},{"$f":"Cover_Sheet!G1064","v":0},{"$f":"Cover_Sheet!H1064","v":0}]
[{"$f":"IF(Cover_Sheet!A1065=0,\"N\",\"Y\")","v":"N"},{"$f":"Cover_Sheet!B1065","v":0},{"$f":"Cover_Sheet!C1065","v":0},{"$f":"Cover_Sheet!D1065","v":"00:00:00"},{"$f":"Cover_Sheet!E1065","v":"00:00:00"},{"$f":"IF(Cover_Sheet!F1065=\"\",\"\",Cover_Sheet!F1065)","v":""},{"$f":"Cover_Sheet!G1065","v":0},{"$f":"Cover_Sheet!H1065","v":0}]
[{"$f":"IF(Cover_Sheet!A1066=0,\"N\",\"Y\")","v":"N"},{"$f":"Cover_Sheet!B1066","v":0},{"$f":"Cover_Sheet!C1066","v":0},{"$f":"Cover_Sheet!D1066","v":"00:00:00"},{"$f":"Cover_Sheet!E1066","v":"00:00:00"},{"$f":"IF(Cover_Sheet!F1066=\"\",\"\",Cover_Sheet!F1066)","v":""},{"$f":"Cover_Sheet!G1066","v":0},{"$f":"Cover_Sheet!H1066","v":0}]
[{"$f":"IF(Cover_Sheet!A1067=0,\"N\",\"Y\")","v":"N"},{"$f":"Cover_Sheet!B1067","v":0},{"$f":"Cover_Sheet!C1067","v":0},{"$f":"Cover_Sheet!D1067","v":"00:00:00"},{"$f":"Cover_Sheet!E1067","v":"00:00:00"},{"$f":"IF(Cover_Sheet!F1067=\"\",\"\",Cover_Sheet!F1067)","v":""},{"$f":"Cover_Sheet!G1067","v":0},{"$f":"Cover_Sheet!H1067","v":0}]
[{"$f":"IF(Cover_Sheet!A1068=0,\"N\",\"Y\")","v":"N"},{"$f":"Cover_Sheet!B1068","v":0},{"$f":"Cover_Sheet!C1068","v":0},{"$f":"Cover_Sheet!D1068","v":"00:00:00"},{"$f":"Cover_Sheet!E1068","v":"00:00:00"},{"$f":"IF(Cover_Sheet!F1068=\"\",\"\",Cover_Sheet!F1068)","v":""},{"$f":"Cover_Sheet!G1068","v":0},{"$f":"Cover_Sheet!H1068","v":0}]
[{"$f":"IF(Cover_Sheet!A1069=0,\"N\",\"Y\")","v":"N"},{"$f":"Cover_Sheet!B1069","v":0},{"$f":"Cover_Sheet!C1069","v":0},{"$f":"Cover_Sheet!D1069","v":"00:00:00"},{"$f":"Cover_Sheet!E1069","v":"00:00:00"},{"$f":"IF(Cover_Sheet!F1069=\"\",\"\",Cover_Sheet!F1069)","v":""},{"$f":"Cover_Sheet!G1069","v":0},{"$f":"Cover_Sheet!H1069","v":0}]
[{"$f":"IF(Cover_Sheet!A1070=0,\"N\",\"Y\")","v":"N"},{"$f":"Cover_Sheet!B1070","v":0},{"$f":"Cover_Sheet!C1070","v":0},{"$f":"Cover_Sheet!D1070","v":"00:00:00"},{"$f":"Cover_Sheet!E1070","v":"00:00:00"},{"$f":"IF(Cover_Sheet!F1070=\"\",\"\",Cover_Sheet!F1070)","v":""},{"$f":"Cover_Sheet!G1070","v":0},{"$f":"Cover_Sheet!H1070","v":0}]
[{"$f":"IF(Cover_Sheet!A1071=0,\"N\",\"Y\")","v":"N"},{"$f":"Cover_Sheet!B1071","v":0},{"$f":"Cover_Sheet!C1071","v":0},{"$f":"Cover_Sheet!D1071","v":"00:00:00"},{"$f":"Cover_Sheet!E1071","v":"00:00:00"},{"$f":"IF(Cover_Sheet!F1071=\"\",\"\",Cover_Sheet!F1071)","v":""},{"$f":"Cover_Sheet!G1071","v":0},{"$f":"Cover_Sheet!H1071","v":0}]
[{"$f":"IF(Cover_Sheet!A1072=0,\"N\",\"Y\")","v":"N"},{"$f":"Cover_Sheet!B1072","v":0},{"$f":"Cover_Sheet!C1072","v":0},{"$f":"Cover_Sheet!D1072","v":"00:00:00"},{"$f":"Cover_Sheet!E1072","v":"00:00:00"},{"$f":"IF(Cover_Sheet!F1072=\"\",\"\",Cover_Sheet!F1072)","v":""},{"$f":"Cover_Sheet!G1072","v":0},{"$f":"Cover_Sheet!H1072","v":0}]
[{"$f":"IF(Cover_Sheet!A1073=0,\"N\",\"Y\")","v":"N"},{"$f":"Cover_Sheet!B1073","v":0},{"$f":"Cover_Sheet!C1073","v":0},{"$f":"Cover_Sheet!D1073","v":"00:00:00"},{"$f":"Cover_Sheet!E1073","v":"00:00:00"},{"$f":"IF(Cover_Sheet!F1073=\"\",\"\",Cover_Sheet!F1073)","v":""},{"$f":"Cover_Sheet!G1073","v":0},{"$f":"Cover_Sheet!H1073","v":0}]
[{"$f":"IF(Cover_Sheet!A1074=0,\"N\",\"Y\")","v":"N"},{"$f":"Cover_Sheet!B1074","v":0},{"$f":"Cover_Sheet!C1074","v":0},{"$f":"Cover_Sheet!D1074","v":"00:00:00"},{"$f":"Cover_Sheet!E1074","v":"00:00:00"},{"$f":"IF(Cover_Sheet!F1074=\"\",\"\",Cover_Sheet!F1074)","v":""},{"$f":"Cover_Sheet!G1074","v":0},{"$f":"Cover_Sheet!H1074","v":0}]
[{"$f":"IF(Cover_Sheet!A1075=0,\"N\",\"Y\")","v":"N"},{"$f":"Cover_Sheet!B1075","v":0},{"$f":"Cover_Sheet!C1075","v":0},{"$f":"Cover_Sheet!D1075","v":"00:00:00"},{"$f":"Cover_Sheet!E1075","v":"00:00:00"},{"$f":"IF(Cover_Sheet!F1075=\"\",\"\",Cover_Sheet!F1075)","v":""},{"$f":"Cover_Sheet!G1075","v":0},{"$f":"Cover_Sheet!H1075","v":0}]
[{"$f":"IF(Cover_Sheet!A1076=0,\"N\",\"Y\")","v":"N"},{"$f":"Cover_Sheet!B1076","v":0},{"$f":"Cover_Sheet!C1076","v":0},{"$f":"Cover_Sheet!D1076","v":"00:00:00"},{"$f":"Cover_Sheet!E1076","v":"00:00:00"},{"$f":"IF(Cover_Sheet!F1076=\"\",\"\",Cover_Sheet!F1076)","v":""},{"$f":"Cover_Sheet!G1076","v":0},{"$f":"Cover_Sheet!H1076","v":0}]
[{"$f":"IF(Cover_Sheet!A1077=0,\"N\",\"Y\")","v":"N"},{"$f":"Cover_Sheet!B1077","v":0},{"$f":"Cover_Sheet!C1077","v":0},{"$f":"Cover_Sheet!D1077","v":"00:00:00"},{"$f":"Cover_Sheet!E1077","v":"00:00:00"},{"$f":"IF(Cover_Sheet!F1077=\"\",\"\",Cover_Sheet!F1077)","v":""},{"$f":"Cover_Sheet!G1077","v":0},{"$f":"Cover_Sheet!H1077","v":0}]
[{"$f":"IF(Cover_Sheet!A1078=0,\"N\",\"Y\")","v":"N"},{"$f":"Cover_Sheet!B1078","v":0},{"$f":"Cover_Sheet!C1078","v":0},{"$f":"Cover_Sheet!D1078","v":"00:00:00"},{"$f":"Cover_Sheet!E1078","v":"00:00:00"},{"$f":"IF(Cover_Sheet!F1078=\"\",\"\",Cover_Sheet!F1078)","v":""},{"$f":"Cover_Sheet!G1078","v":0},{"$f":"Cover_Sheet!H1078","v":0}]
[{"$f":"IF(Cover_Sheet!A1079=0,\"N\",\"Y\")","v":"N"},{"$f":"Cover_Sheet!B1079","v":0},{"$f":"Cover_Sheet!C1079","v":0},{"$f":"Cover_Sheet!D1079","v":"00:00:00"},{"$f":"Cover_Sheet!E1079","v":"00:00:00"},{"$f":"IF(Cover_Sheet!F1079=\"\",\"\",Cover_Sheet!F1079)","v":""},{"$f":"Cover_Sheet!G1079","v":0},{"$f":"Cover_Sheet!H1079","v":0}]
[{"$f":"IF(Cover_Sheet!A1080=0,\"N\",\"Y\")","v":"N"},{"$f":"Cover_Sheet!B1080","v":0},{"$f":"Cover_Sheet!C1080","v":0},{"$f":"Cover_Sheet!D1080","v":"00:00:00"},{"$f":"Cover_Sheet!E1080","v":"00:00:00"},{"$f":"IF(Cover_Sheet!F1080=\"\",\"\",Cover_Sheet!F1080)","v":""},{"$f":"Cover_Sheet!G1080","v":0},{"$f":"Cover_Sheet!H1080","v":0}]
[{"$f":"IF(Cover_Sheet!A1081=0,\"N\",\"Y\")","v":"N"},{"$f":"Cover_Sheet!B1081","v":0},{"$f":"Cover_Sheet!C1081","v":0},{"$f":"Cover_Sheet!D1081","v":"00:00:00"},{"$f":"Cover_Sheet!E1081","v":"00:00:00"},{"$f":"IF(Cover_Sheet!F1081=\"\",\"\",Cover_Sheet!F1081)","v":""},{"$f":"Cover_Sheet!G1081","v":0},{"$f":"Cover_Sheet!H1081","v":0}]
[{"$f":"IF(Cover_Sheet!A1082=0,\"N\",\"Y\")","v":"N"},{"$f":"Cover_Sheet!B1082","v":0},{"$f":"Cover_Sheet!C1082","v":0},{"$f":"Cover_Sheet!D1082","v":"00:00:00"},{"$f":"Cover_Sheet!E1082","v":"00:00:00"},{"$f":"IF(Cover_Sheet!F1082=\"\",\"\",Cover_Sheet!F1082)","v":""},{"$f":"Cover_Sheet!G1082","v":0},{"$f":"Cover_Sheet!H1082","v":0}]
[{"$f":"IF(Cover_Sheet!A1083=0,\"N\",\"Y\")","v":"N"},{"$f":"Cover_Sheet!B1083","v":0},{"$f":"Cover_Sheet!C1083","v":0},{"$f":"Cover_Sheet!D1083","v":"00:00:00"},{"$f":"Cover_Sheet!E1083","v":"00:00:00"},{"$f":"IF(Cover_Sheet!F1083=\"\",\"\",Cover_Sheet!F1083)","v":""},{"$f":"Cover_Sheet!G1083","v":0},{"$f":"Cover_Sheet!H1083","v":0}]
[{"$f":"IF(Cover_Sheet!A1084=0,\"N\",\"Y\")","v":"N"},{"$f":"Cover_Sheet!B1084","v":0},{"$f":"Cover_Sheet!C1084","v":0},{"$f":"Cover_Sheet!D1084","v":"00:00:00"},{"$f":"Cover_Sheet!E1084","v":"00:00:00"},{"$f":"IF(Cover_Sheet!F1084=\"\",\"\",Cover_Sheet!F1084)","v":""},{"$f":"Cover_Sheet!G1084","v":0},{"$f":"Cover_Sheet!H1084","v":0}]
[{"$f":"IF(Cover_Sheet!A1085=0,\"N\",\"Y\")","v":"N"},{"$f":"Cover_Sheet!B1085","v":0},{"$f":"Cover_Sheet!C1085","v":0},{"$f":"Cover_Sheet!D1085","v":"00:00:00"},{"$f":"Cover_Sheet!E1085","v":"00:00:00"},{"$f":"IF(Cover_Sheet!F1085=\"\",\"\",Cover_Sheet!F1085)","v":""},{"$f":"Cover_Sheet!G1085","v":0},{"$f":"Cover_Sheet!H1085","v":0}]
[{"$f":"IF(Cover_Sheet!A1086=0,\"N\",\"Y\")","v":"N"},{"$f":"Cover_Sheet!B1086","v":0},{"$f":"Cover_Sheet!C1086","v":0},{"$f":"Cover_Sheet!D1086","v":"00:00:00"},{"$f":"Cover_Sheet!E1086","v":"00:00:00"},{"$f":"IF(Cover_Sheet!F1086=\"\",\"\",Cover_Sheet!F1086)","v":""},{"$f":"Cover_Sheet!G1086","v":0},{"$f":"Cover_Sheet!H1086","v":0}]
[{"$f":"IF(Cover_Sheet!A1087=0,\"N\",\"Y\")","v":"N"},{"$f":"Cover_Sheet!B1087","v":0},{"$f":"Cover_Sheet!C1087","v":0},{"$f":"Cover_Sheet!D1087","v":"00:00:00"},{"$f":"Cover_Sheet!E1087","v":"00:00:00"},{"$f":"IF(Cover_Sheet!F1087=\"\",\"\",Cover_Sheet!F1087)","v":""},{"$f":"Cover_Sheet!G1087","v":0},{"$f":"Cover_Sheet!H1087","v":0}]
[{"$f":"IF(Cover_Sheet!A1088=0,\"N\",\"Y\")","v":"N"},{"$f":"Cover_Sheet!B1088","v":0},{"$f":"Cover_Sheet!C1088","v":0},{"$f":"Cover_Sheet!D1088","v":"00:00:00"},{"$f":"Cover_Sheet!E1088","v":"00:00:00"},{"$f":"IF(Cover_Sheet!F1088=\"\",\"\",Cover_Sheet!F1088)","v":""},{"$f":"Cover_Sheet!G1088","v":0},{"$f":"Cover_Sheet!H1088","v":0}]
[{"$f":"IF(Cover_Sheet!A1089=0,\"N\",\"Y\")","v":"N"},{"$f":"Cover_Sheet!B1089","v":0},{"$f":"Cover_Sheet!C1089","v":0},{"$f":"Cover_Sheet!D1089","v":"00:00:00"},{"$f":"Cover_Sheet!E1089","v":"00:00:00"},{"$f":"IF(Cover_Sheet!F1089=\"\",\"\",Cover_Sheet!F1089)","v":""},{"$f":"Cover_Sheet!G1089","v":0},{"$f":"Cover_Sheet!H1089","v":0}]
[{"$f":"IF(Cover_Sheet!A1090=0,\"N\",\"Y\")","v":"N"},{"$f":"Cover_Sheet!B1090","v":0},{"$f":"Cover_Sheet!C1090","v":0},{"$f":"Cover_Sheet!D1090","v":"00:00:00"},{"$f":"Cover_Sheet!E1090","v":"00:00:00"},{"$f":"IF(Cover_Sheet!F1090=\"\",\"\",Cover_Sheet!F1090)","v":""},{"$f":"Cover_Sheet!G1090","v":0},{"$f":"Cover_Sheet!H1090","v":0}]
[{"$f":"IF(Cover_Sheet!A1091=0,\"N\",\"Y\")","v":"N"},{"$f":"Cover_Sheet!B1091","v":0},{"$f":"Cover_Sheet!C1091","v":0},{"$f":"Cover_Sheet!D1091","v":"00:00:00"},{"$f":"Cover_Sheet!E1091","v":"00:00:00"},{"$f":"IF(Cover_Sheet!F1091=\"\",\"\",Cover_Sheet!F1091)","v":""},{"$f":"Cover_Sheet!G1091","v":0},{"$f":"Cover_Sheet!H1091","v":0}]
[{"$f":"IF(Cover_Sheet!A1092=0,\"N\",\"Y\")","v":"N"},{"$f":"Cover_Sheet!B1092","v":0},{"$f":"Cover_Sheet!C1092","v":0},{"$f":"Cover_Sheet!D1092","v":"00:00:00"},{"$f":"Cover_Sheet!E1092","v":"00:00:00"},{"$f":"IF(Cover_Sheet!F1092=\"\",\"\",Cover_Sheet!F1092)","v":""},{"$f":"Cover_Sheet!G1092","v":0},{"$f":"Cover_Sheet!H1092","v":0}]
[{"$f":"IF(Cover_Sheet!A1093=0,\"N\",\"Y\")","v":"N"},{"$f":"Cover_Sheet!B1093","v":0},{"$f":"Cover_Sheet!C1093","v":0},{"$f":"Cover_Sheet!D1093","v":"00:00:00"},{"$f":"Cover_Sheet!E1093","v":"00:00:00"},{"$f":"IF(Cover_Sheet!F1093=\"\",\"\",Cover_Sheet!F1093)","v":""},{"$f":"Cover_Sheet!G1093","v":0},{"$f":"Cover_Sheet!H1093","v":0}]
[{"$f":"IF(Cover_Sheet!A1094=0,\"N\",\"Y\")","v":"N"},{"$f":"Cover_Sheet!B1094","v":0},{"$f":"Cover_Sheet!C1094","v":0},{"$f":"Cover_Sheet!D1094","v":"00:00:00"},{"$f":"Cover_Sheet!E1094","v":"00:00:00"},{"$f":"IF(Cover_Sheet!F1094=\"\",\"\",Cover_Sheet!F1094)","v":""},{"$f":"Cover_Sheet!G1094","v":0},{"$f":"Cover_Sheet!H1094","v":0}]
[{"$f":"IF(Cover_Sheet!A1095=0,\"N\",\"Y\")","v":"N"},{"$f":"Cover_Sheet!B1095","v":0},{"$f":"Cover_Sheet!C1095","v":0},{"$f":"Cover_Sheet!D1095","v":"00:00:00"},{"$f":"Cover_Sheet!E1095","v":"00:00:00"},{"$f":"IF(Cover_Sheet!F1095=\"\",\"\",Cover_Sheet!F1095)","v":""},{"$f":"Cover_Sheet!G1095","v":0},{"$f":"Cover_Sheet!H1095","v":0}]
[{"$f":"IF(Cover_Sheet!A1096=0,\"N\",\"Y\")","v":"N"},{"$f":"Cover_Sheet!B1096","v":0},{"$f":"Cover_Sheet!C1096","v":0},{"$f":"Cover_Sheet!D1096","v":"00:00:00"},{"$f":"Cover_Sheet!E1096","v":"00:00:00"},{"$f":"IF(Cover_Sheet!F1096=\"\",\"\",Cover_Sheet!F1096)","v":""},{"$f":"Cover_Sheet!G1096","v":0},{"$f":"Cover_Sheet!H1096","v":0}]
[{"$f":"IF(Cover_Sheet!A1097=0,\"N\",\"Y\")","v":"N"},{"$f":"Cover_Sheet!B1097","v":0},{"$f":"Cover_Sheet!C1097","v":0},{"$f":"Cover_Sheet!D1097","v":"00:00:00"},{"$f":"Cover_Sheet!E1097","v":"00:00:00"},{"$f":"IF(Cover_Sheet!F1097=\"\",\"\",Cover_Sheet!F1097)","v":""},{"$f":"Cover_Sheet!G1097","v":0},{"$f":"Cover_Sheet!H1097","v":0}]
[{"$f":"IF(Cover_Sheet!A1098=0,\"N\",\"Y\")","v":"N"},{"$f":"Cover_Sheet!B1098","v":0},{"$f":"Cover_Sheet!C1098","v":0},{"$f":"Cover_Sheet!D1098","v":"00:00:00"},{"$f":"Cover_Sheet!E1098","v":"00:00:00"},{"$f":"IF(Cover_Sheet!F1098=\"\",\"\",Cover_Sheet!F1098)","v":""},{"$f":"Cover_Sheet!G1098","v":0},{"$f":"Cover_Sheet!H1098","v":0}]
[{"$f":"IF(Cover_Sheet!A1099=0,\"N\",\"Y\")","v":"N"},{"$f":"Cover_Sheet!B1099","v":0},{"$f":"Cover_Sheet!C1099","v":0},{"$f":"Cover_Sheet!D1099","v":"00:00:00"},{"$f":"Cover_Sheet!E1099","v":"00:00:00"},{"$f":"IF(Cover_Sheet!F1099=\"\",\"\",Cover_Sheet!F1099)","v":""},{"$f":"Cover_Sheet!G1099","v":0},{"$f":"Cover_Sheet!H1099","v":0}]
[{"$f":"IF(Cover_Sheet!A1100=0,\"N\",\"Y\")","v":"N"},{"$f":"Cover_Sheet!B1100","v":0},{"$f":"Cover_Sheet!C1100","v":0},{"$f":"Cover_Sheet!D1100","v":"00:00:00"},{"$f":"Cover_Sheet!E1100","v":"00:00:00"},{"$f":"IF(Cover_Sheet!F1100=\"\",\"\",Cover_Sheet!F1100)","v":""},{"$f":"Cover_Sheet!G1100","v":0},{"$f":"Cover_Sheet!H1100","v":0}]
[{"$f":"IF(Cover_Sheet!A1101=0,\"N\",\"Y\")","v":"N"},{"$f":"Cover_Sheet!B1101","v":0},{"$f":"Cover_Sheet!C1101","v":0},{"$f":"Cover_Sheet!D1101","v":"00:00:00"},{"$f":"Cover_Sheet!E1101","v":"00:00:00"},{"$f":"IF(Cover_Sheet!F1101=\"\",\"\",Cover_Sheet!F1101)","v":""},{"$f":"Cover_Sheet!G1101","v":0},{"$f":"Cover_Sheet!H1101","v":0}]
[{"$f":"IF(Cover_Sheet!A1102=0,\"N\",\"Y\")","v":"N"},{"$f":"Cover_Sheet!B1102","v":0},{"$f":"Cover_Sheet!C1102","v":0},{"$f":"Cover_Sheet!D1102","v":"00:00:00"},{"$f":"Cover_Sheet!E1102","v":"00:00:00"},{"$f":"IF(Cover_Sheet!F1102=\"\",\"\",Cover_Sheet!F1102)","v":""},{"$f":"Cover_Sheet!G1102","v":0},{"$f":"Cover_Sheet!H1102","v":0}]
[{"$f":"IF(Cover_Sheet!A1103=0,\"N\",\"Y\")","v":"N"},{"$f":"Cover_Sheet!B1103","v":0},{"$f":"Cover_Sheet!C1103","v":0},{"$f":"Cover_Sheet!D1103","v":"00:00:00"},{"$f":"Cover_Sheet!E1103","v":"00:00:00"},{"$f":"IF(Cover_Sheet!F1103=\"\",\"\",Cover_Sheet!F1103)","v":""},{"$f":"Cover_Sheet!G1103","v":0},{"$f":"Cover_Sheet!H1103","v":0}]
[{"$f":"IF(Cover_Sheet!A1104=0,\"N\",\"Y\")","v":"N"},{"$f":"Cover_Sheet!B1104","v":0},{"$f":"Cover_Sheet!C1104","v":0},{"$f":"Cover_Sheet!D1104","v":"00:00:00"},{"$f":"Cover_Sheet!E1104","v":"00:00:00"},{"$f":"IF(Cover_Sheet!F1104=\"\",\"\",Cover_Sheet!F1104)","v":""},{"$f":"Cover_Sheet!G1104","v":0},{"$f":"Cover_Sheet!H1104","v":0}]
[{"$f":"IF(Cover_Sheet!A1105=0,\"N\",\"Y\")","v":"N"},{"$f":"Cover_Sheet!B1105","v":0},{"$f":"Cover_Sheet!C1105","v":0},{"$f":"Cover_Sheet!D1105","v":"00:00:00"},{"$f":"Cover_Sheet!E1105","v":"00:00:00"},{"$f":"IF(Cover_Sheet!F1105=\"\",\"\",Cover_Sheet!F1105)","v":""},{"$f":"Cover_Sheet!G1105","v":0},{"$f":"Cover_Sheet!H1105","v":0}]
[{"$f":"IF(Cover_Sheet!A1106=0,\"N\",\"Y\")","v":"N"},{"$f":"Cover_Sheet!B1106","v":0},{"$f":"Cover_Sheet!C1106","v":0},{"$f":"Cover_Sheet!D1106","v":"00:00:00"},{"$f":"Cover_Sheet!E1106","v":"00:00:00"},{"$f":"IF(Cover_Sheet!F1106=\"\",\"\",Cover_Sheet!F1106)","v":""},{"$f":"Cover_Sheet!G1106","v":0},{"$f":"Cover_Sheet!H1106","v":0}]
[{"$f":"IF(Cover_Sheet!A1107=0,\"N\",\"Y\")","v":"N"},{"$f":"Cover_Sheet!B1107","v":0},{"$f":"Cover_Sheet!C1107","v":0},{"$f":"Cover_Sheet!D1107","v":"00:00:00"},{"$f":"Cover_Sheet!E1107","v":"00:00:00"},{"$f":"IF(Cover_Sheet!F1107=\"\",\"\",Cover_Sheet!F1107)","v":""},{"$f":"Cover_Sheet!G1107","v":0},{"$f":"Cover_Sheet!H1107","v":0}]
[{"$f":"IF(Cover_Sheet!A1108=0,\"N\",\"Y\")","v":"N"},{"$f":"Cover_Sheet!B1108","v":0},{"$f":"Cover_Sheet!C1108","v":0},{"$f":"Cover_Sheet!D1108","v":"00:00:00"},{"$f":"Cover_Sheet!E1108","v":"00:00:00"},{"$f":"IF(Cover_Sheet!F1108=\"\",\"\",Cover_Sheet!F1108)","v":""},{"$f":"Cover_Sheet!G1108","v":0},{"$f":"Cover_Sheet!H1108","v":0}]
[{"$f":"IF(Cover_Sheet!A1109=0,\"N\",\"Y\")","v":"N"},{"$f":"Cover_Sheet!B1109","v":0},{"$f":"Cover_Sheet!C1109","v":0},{"$f":"Cover_Sheet!D1109","v":"00:00:00"},{"$f":"Cover_Sheet!E1109","v":"00:00:00"},{"$f":"IF(Cover_Sheet!F1109=\"\",\"\",Cover_Sheet!F1109)","v":""},{"$f":"Cover_Sheet!G1109","v":0},{"$f":"Cover_Sheet!H1109","v":0}]
[{"$f":"IF(Cover_Sheet!A1110=0,\"N\",\"Y\")","v":"N"},{"$f":"Cover_Sheet!B1110","v":0},{"$f":"Cover_Sheet!C1110","v":0},{"$f":"Cover_Sheet!D1110","v":"00:00:00"},{"$f":"Cover_Sheet!E1110","v":"00:00:00"},{"$f":"IF(Cover_Sheet!F1110=\"\",\"\",Cover_Sheet!F1110)","v":""},{"$f":"Cover_Sheet!G1110","v":0},{"$f":"Cover_Sheet!H1110","v":0}]
[{"$f":"IF(Cover_Sheet!A1111=0,\"N\",\"Y\")","v":"N"},{"$f":"Cover_Sheet!B1111","v":0},{"$f":"Cover_Sheet!C1111","v":0},{"$f":"Cover_Sheet!D1111","v":"00:00:00"},{"$f":"Cover_Sheet!E1111","v":"00:00:00"},{"$f":"IF(Cover_Sheet!F1111=\"\",\"\",Cover_Sheet!F1111)","v":""},{"$f":"Cover_Sheet!G1111","v":0},{"$f":"Cover_Sheet!H1111","v":0}]
[{"$f":"IF(Cover_Sheet!A1112=0,\"N\",\"Y\")","v":"N"},{"$f":"Cover_Sheet!B1112","v":0},{"$f":"Cover_Sheet!C1112","v":0},{"$f":"Cover_Sheet!D1112","v":"00:00:00"},{"$f":"Cover_Sheet!E1112","v":"00:00:00"},{"$f":"IF(Cover_Sheet!F1112=\"\",\"\",Cover_Sheet!F1112)","v":""},{"$f":"Cover_Sheet!G1112","v":0},{"$f":"Cover_Sheet!H1112","v":0}]
[{"$f":"IF(Cover_Sheet!A1113=0,\"N\",\"Y\")","v":"N"},{"$f":"Cover_Sheet!B1113","v":0},{"$f":"Cover_Sheet!C1113","v":0},{"$f":"Cover_Sheet!D1113","v":"00:00:00"},{"$f":"Cover_Sheet!E1113","v":"00:00:00"},{"$f":"IF(Cover_Sheet!F1113=\"\",\"\",Cover_Sheet!F1113)","v":""},{"$f":"Cover_Sheet!G1113","v":0},{"$f":"Cover_Sheet!H1113","v":0}]
[{"$f":"IF(Cover_Sheet!A1114=0,\"N\",\"Y\")","v":"N"},{"$f":"Cover_Sheet!B1114","v":0},{"$f":"Cover_Sheet!C1114","v":0},{"$f":"Cover_Sheet!D1114","v":"00:00:00"},{"$f":"Cover_Sheet!E1114","v":"00:00:00"},{"$f":"IF(Cover_Sheet!F1114=\"\",\"\",Cover_Sheet!F1114)","v":""},{"$f":"Cover_Sheet!G1114","v":0},{"$f":"Cover_Sheet!H1114","v":0}]
[{"$f":"IF(Cover_Sheet!A1115=0,\"N\",\"Y\")","v":"N"},{"$f":"Cover_Sheet!B1115","v":0},{"$f":"Cover_Sheet!C1115","v":0},{"$f":"Cover_Sheet!D1115","v":"00:00:00"},{"$f":"Cover_Sheet!E1115","v":"00:00:00"},{"$f":"IF(Cover_Sheet!F1115=\"\",\"\",Cover_Sheet!F1115)","v":""},{"$f":"Cover_Sheet!G1115","v":0},{"$f":"Cover_Sheet!H1115","v":0}]
[{"$f":"IF(Cover_Sheet!A1116=0,\"N\",\"Y\")","v":"N"},{"$f":"Cover_Sheet!B1116","v":0},{"$f":"Cover_Sheet!C1116","v":0},{"$f":"Cover_Sheet!D1116","v":"00:00:00"},{"$f":"Cover_Sheet!E1116","v":"00:00:00"},{"$f":"IF(Cover_Sheet!F1116=\"\",\"\",Cover_Sheet!F1116)","v":""},{"$f":"Cover_Sheet!G1116","v":0},{"$f":"Cover_Sheet!H1116","v":0}]
[{"$f":"IF(Cover_Sheet!A1117=0,\"N\",\"Y\")","v":"N"},{"$f":"Cover_Sheet!B1117","v":0},{"$f":"Cover_Sheet!C1117","v":0},{"$f":"Cover_Sheet!D1117","v":"00:00:00"},{"$f":"Cover_Sheet!E1117","v":"00:00:00"},{"$f":"IF(Cover_Sheet!F1117=\"\",\"\",Cover_Sheet!F1117)","v":""},{"$f":"Cover_Sheet!G1117","v":0},{"$f":"Cover_Sheet!H1117","v":0}]
[{"$f":"IF(Cover_Sheet!A1118=0,\"N\",\"Y\")","v":"N"},{"$f":"Cover_Sheet!B1118","v":0},{"$f":"Cover_Sheet!C1118","v":0},{"$f":"Cover_Sheet!D1118","v":"00:00:00"},{"$f":"Cover_Sheet!E1118","v":"00:00:00"},{"$f":"IF(Cover_Sheet!F1118=\"\",\"\",Cover_Sheet!F1118)","v":""},{"$f":"Cover_Sheet!G1118","v":0},{"$f":"Cover_Sheet!H1118","v":0}]
[{"$f":"IF(Cover_Sheet!A1119=0,\"N\",\"Y\")","v":"N"},{"$f":"Cover_Sheet!B1119","v":0},{"$f":"Cover_Sheet!C1119","v":0},{"$f":"Cover_Sheet!D1119","v":"00:00:00"},{"$f":"Cover_Sheet!E1119","v":"00:00:00"},{"$f":"IF(Cover_Sheet!F1119=\"\",\"\",Cover_Sheet!F1119)","v":""},{"$f":"Cover_Sheet!G1119","v":0},{"$f":"Cover_Sheet!H1119","v":0}]
[{"$f":"IF(Cover_Sheet!A1120=0,\"N\",\"Y\")","v":"N"},{"$f":"Cover_Sheet!B1120","v":0},{"$f":"Cover_Sheet!C1120","v":0},{"$f":"Cover_Sheet!D1120","v":"00:00:00"},{"$f":"Cover_Sheet!E1120","v":"00:00:00"},{"$f":"IF(Cover_Sheet!F1120=\"\",\"\",Cover_Sheet!F1120)","v":""},{"$f":"Cover_Sheet!G1120","v":0},{"$f":"Cover_Sheet!H1120","v":0}]
[{"$f":"IF(Cover_Sheet!A1121=0,\"N\",\"Y\")","v":"N"},{"$f":"Cover_Sheet!B1121","v":0},{"$f":"Cover_Sheet!C1121","v":0},{"$f":"Cover_Sheet!D1121","v":"00:00:00"},{"$f":"Cover_Sheet!E1121","v":"00:00:00"},{"$f":"IF(Cover_Sheet!F1121=\"\",\"\",Cover_Sheet!F1121)","v":""},{"$f":"Cover_Sheet!G1121","v":0},{"$f":"Cover_Sheet!H1121","v":0}]
[{"$f":"IF(Cover_Sheet!A1122=0,\"N\",\"Y\")","v":"N"},{"$f":"Cover_Sheet!B1122","v":0},{"$f":"Cover_Sheet!C1122","v":0},{"$f":"Cover_Sheet!D1122","v":"00:00:00"},{"$f":"Cover_Sheet!E1122","v":"00:00:00"},{"$f":"IF(Cover_Sheet!F1122=\"\",\"\",Cover_Sheet!F1122)","v":""},{"$f":"Cover_Sheet!G1122","v":0},{"$f":"Cover_Sheet!H1122","v":0}]
[{"$f":"IF(Cover_Sheet!A1123=0,\"N\",\"Y\")","v":"N"},{"$f":"Cover_Sheet!B1123","v":0},{"$f":"Cover_Sheet!C1123","v":0},{"$f":"Cover_Sheet!D1123","v":"00:00:00"},{"$f":"Cover_Sheet!E1123","v":"00:00:00"},{"$f":"IF(Cover_Sheet!F1123=\"\",\"\",Cover_Sheet!F1123)","v":""},{"$f":"Cover_Sheet!G1123","v":0},{"$f":"Cover_Sheet!H1123","v":0}]
[{"$f":"IF(Cover_Sheet!A1124=0,\"N\",\"Y\")","v":"N"},{"$f":"Cover_Sheet!B1124","v":0},{"$f":"Cover_Sheet!C1124","v":0},{"$f":"Cover_Sheet!D1124","v":"00:00:00"},{"$f":"Cover_Sheet!E1124","v":"00:00:00"},{"$f":"IF(Cover_Sheet!F1124=\"\",\"\",Cover_Sheet!F1124)","v":""},{"$f":"Cover_Sheet!G1124","v":0},{"$f":"Cover_Sheet!H1124","v":0}]
[{"$f":"IF(Cover_Sheet!A1125=0,\"N\",\"Y\")","v":"N"},{"$f":"Cover_Sheet!B1125","v":0},{"$f":"Cover_Sheet!C1125","v":0},{"$f":"Cover_Sheet!D1125","v":"00:00:00"},{"$f":"Cover_Sheet!E1125","v":"00:00:00"},{"$f":"IF(Cover_Sheet!F1125=\"\",\"\",Cover_Sheet!F1125)","v":""},{"$f":"Cover_Sheet!G1125","v":0},{"$f":"Cover_Sheet!H1125","v":0}]
[{"$f":"IF(Cover_Sheet!A1126=0,\"N\",\"Y\")","v":"N"},{"$f":"Cover_Sheet!B1126","v":0},{"$f":"Cover_Sheet!C1126","v":0},{"$f":"Cover_Sheet!D1126","v":"00:00:00"},{"$f":"Cover_Sheet!E1126","v":"00:00:00"},{"$f":"IF(Cover_Sheet!F1126=\"\",\"\",Cover_Sheet!F1126)","v":""},{"$f":"Cover_Sheet!G1126","v":0},{"$f":"Cover_Sheet!H1126","v":0}]
[{"$f":"IF(Cover_Sheet!A1127=0,\"N\",\"Y\")","v":"N"},{"$f":"Cover_Sheet!B1127","v":0},{"$f":"Cover_Sheet!C1127","v":0},{"$f":"Cover_Sheet!D1127","v":"00:00:00"},{"$f":"Cover_Sheet!E1127","v":"00:00:00"},{"$f":"IF(Cover_Sheet!F1127=\"\",\"\",Cover_Sheet!F1127)","v":""},{"$f":"Cover_Sheet!G1127","v":0},{"$f":"Cover_Sheet!H1127","v":0}]
[{"$f":"IF(Cover_Sheet!A1128=0,\"N\",\"Y\")","v":"N"},{"$f":"Cover_Sheet!B1128","v":0},{"$f":"Cover_Sheet!C1128","v":0},{"$f":"Cover_Sheet!D1128","v":"00:00:00"},{"$f":"Cover_Sheet!E1128","v":"00:00:00"},{"$f":"IF(Cover_Sheet!F1128=\"\",\"\",Cover_Sheet!F1128)","v":""},{"$f":"Cover_Sheet!G1128","v":0},{"$f":"Cover_Sheet!H1128","v":0}]
[{"$f":"IF(Cover_Sheet!A1129=0,\"N\",\"Y\")","v":"N"},{"$f":"Cover_Sheet!B1129","v":0},{"$f":"Cover_Sheet!C1129","v":0},{"$f":"Cover_Sheet!D1129","v":"00:00:00"},{"$f":"Cover_Sheet!E1129","v":"00:00:00"},{"$f":"IF(Cover_Sheet!F1129=\"\",\"\",Cover_Sheet!F1129)","v":""},{"$f":"Cover_Sheet!G1129","v":0},{"$f":"Cover_Sheet!H1129","v":0}]
[{"$f":"IF(Cover_Sheet!A1130=0,\"N\",\"Y\")","v":"N"},{"$f":"Cover_Sheet!B1130","v":0},{"$f":"Cover_Sheet!C1130","v":0},{"$f":"Cover_Sheet!D1130","v":"00:00:00"},{"$f":"Cover_Sheet!E1130","v":"00:00:00"},{"$f":"IF(Cover_Sheet!F1130=\"\",\"\",Cover_Sheet!F1130)","v":""},{"$f":"Cover_Sheet!G1130","v":0},{"$f":"Cover_Sheet!H1130","v":0}]
[{"$f":"IF(Cover_Sheet!A1131=0,\"N\",\"Y\")","v":"N"},{"$f":"Cover_Sheet!B1131","v":0},{"$f":"Cover_Sheet!C1131","v":0},{"$f":"Cover_Sheet!D1131","v":"00:00:00"},{"$f":"Cover_Sheet!E1131","v":"00:00:00"},{"$f":"IF(Cover_Sheet!F1131=\"\",\"\",Cover_Sheet!F1131)","v":""},{"$f":"Cover_Sheet!G1131","v":0},{"$f":"Cover_Sheet!H1131","v":0}]
[{"$f":"IF(Cover_Sheet!A1132=0,\"N\",\"Y\")","v":"N"},{"$f":"Cover_Sheet!B1132","v":0},{"$f":"Cover_Sheet!C1132","v":0},{"$f":"Cover_Sheet!D1132","v":"00:00:00"},{"$f":"Cover_Sheet!E1132","v":"00:00:00"},{"$f":"IF(Cover_Sheet!F1132=\"\",\"\",Cover_Sheet!F1132)","v":""},{"$f":"Cover_Sheet!G1132","v":0},{"$f":"Cover_Sheet!H1132","v":0}]
[{"$f":"IF(Cover_Sheet!A1133=0,\"N\",\"Y\")","v":"N"},{"$f":"Cover_Sheet!B1133","v":0},{"$f":"Cover_Sheet!C1133","v":0},{"$f":"Cover_Sheet!D1133","v":"00:00:00"},{"$f":"Cover_Sheet!E1133","v":"00:00:00"},{"$f":"IF(Cover_Sheet!F1133=\"\",\"\",Cover_Sheet!F1133)","v":""},{"$f":"Cover_Sheet!G1133","v":0},{"$f":"Cover_Sheet!H1133","v":0}]
[{"$f":"IF(Cover_Sheet!A1134=0,\"N\",\"Y\")","v":"N"},{"$f":"Cover_Sheet!B1134","v":0},{"$f":"Cover_Sheet!C1134","v":0},{"$f":"Cover_Sheet!D1134","v":"00:00:00"},{"$f":"Cover_Sheet!E1134","v":"00:00:00"},{"$f":"IF(Cover_Sheet!F1134=\"\",\"\",Cover_Sheet!F1134)","v":""},{"$f":"Cover_Sheet!G1134","v":0},{"$f":"Cover_Sheet!H1134","v":0}]
[{"$f":"IF(Cover_Sheet!A1135=0,\"N\",\"Y\")","v":"N"},{"$f":"Cover_Sheet!B1135","v":0},{"$f":"Cover_Sheet!C1135","v":0},{"$f":"Cover_Sheet!D1135","v":"00:00:00"},{"$f":"Cover_Sheet!E1135","v":"00:00:00"},{"$f":"IF(Cover_Sheet!F1135=\"\",\"\",Cover_Sheet!F1135)","v":""},{"$f":"Cover_Sheet!G1135","v":0},{"$f":"Cover_Sheet!H1135","v":0}]
[{"$f":"IF(Cover_Sheet!A1136=0,\"N\",\"Y\")","v":"N"},{"$f":"Cover_Sheet!B1136","v":0},{"$f":"Cover_Sheet!C1136","v":0},{"$f":"Cover_Sheet!D1136","v":"00:00:00"},{"$f":"Cover_Sheet!E1136","v":"00:00:00"},{"$f":"IF(Cover_Sheet!F1136=\"\",\"\",Cover_Sheet!F1136)","v":""},{"$f":"Cover_Sheet!G1136","v":0},{"$f":"Cover_Sheet!H1136","v":0}]
[{"$f":"IF(Cover_Sheet!A1137=0,\"N\",\"Y\")","v":"N"},{"$f":"Cover_Sheet!B1137","v":0},{"$f":"Cover_Sheet!C1137","v":0},{"$f":"Cover_Sheet!D1137","v":"00:00:00"},{"$f":"Cover_Sheet!E1137","v":"00:00:00"},{"$f":"IF(Cover_Sheet!F1137=\"\",\"\",Cover_Sheet!F1137)","v":""},{"$f":"Cover_Sheet!G1137","v":0},{"$f":"Cover_Sheet!H1137","v":0}]
[{"$f":"IF(Cover_Sheet!A1138=0,\"N\",\"Y\")","v":"N"},{"$f":"Cover_Sheet!B1138","v":0},{"$f":"Cover_Sheet!C1138","v":0},{"$f":"Cover_Sheet!D1138","v":"00:00:00"},{"$f":"Cover_Sheet!E1138","v":"00:00:00"},{"$f":"IF(Cover_Sheet!F1138=\"\",\"\",Cover_Sheet!F1138)","v":""},{"$f":"Cover_Sheet!G1138","v":0},{"$f":"Cover_Sheet!H1138","v":0}]
[{"$f":"IF(Cover_Sheet!A1139=0,\"N\",\"Y\")","v":"N"},{"$f":"Cover_Sheet!B1139","v":0},{"$f":"Cover_Sheet!C1139","v":0},{"$f":"Cover_Sheet!D1139","v":"00:00:00"},{"$f":"Cover_Sheet!E1139","v":"00:00:00"},{"$f":"IF(Cover_Sheet!F1139=\"\",\"\",Cover_Sheet!F1139)","v":""},{"$f":"Cover_Sheet!G1139","v":0},{"$f":"Cover_Sheet!H1139","v":0}]
[{"$f":"IF(Cover_Sheet!A1140=0,\"N\",\"Y\")","v":"N"},{"$f":"Cover_Sheet!B1140","v":0},{"$f":"Cover_Sheet!C1140","v":0},{"$f":"Cover_Sheet!D1140","v":"00:00:00"},{"$f":"Cover_Sheet!E1140","v":"00:00:00"},{"$f":"IF(Cover_Sheet!F1140=\"\",\"\",Cover_Sheet!F1140)","v":""},{"$f":"Cover_Sheet!G1140","v":0},{"$f":"Cover_Sheet!H1140","v":0}]
[{"$f":"IF(Cover_Sheet!A1141=0,\"N\",\"Y\")","v":"N"},{"$f":"Cover_Sheet!B1141","v":0},{"$f":"Cover_Sheet!C1141","v":0},{"$f":"Cover_Sheet!D1141","v":"00:00:00"},{"$f":"Cover_Sheet!E1141","v":"00:00:00"},{"$f":"IF(Cover_Sheet!F1141=\"\",\"\",Cover_Sheet!F1141)","v":""},{"$f":"Cover_Sheet!G1141","v":0},{"$f":"Cover_Sheet!H1141","v":0}]
[{"$f":"IF(Cover_Sheet!A1142=0,\"N\",\"Y\")","v":"N"},{"$f":"Cover_Sheet!B1142","v":0},{"$f":"Cover_Sheet!C1142","v":0},{"$f":"Cover_Sheet!D1142","v":"00:00:00"},{"$f":"Cover_Sheet!E1142","v":"00:00:00"},{"$f":"IF(Cover_Sheet!F1142=\"\",\"\",Cover_Sheet!F1142)","v":""},{"$f":"Cover_Sheet!G1142","v":0},{"$f":"Cover_Sheet!H1142","v":0}]
[{"$f":"IF(Cover_Sheet!A1143=0,\"N\",\"Y\")","v":"N"},{"$f":"Cover_Sheet!B1143","v":0},{"$f":"Cover_Sheet!C1143","v":0},{"$f":"Cover_Sheet!D1143","v":"00:00:00"},{"$f":"Cover_Sheet!E1143","v":"00:00:00"},{"$f":"IF(Cover_Sheet!F1143=\"\",\"\",Cover_Sheet!F1143)","v":""},{"$f":"Cover_Sheet!G1143","v":0},{"$f":"Cover_Sheet!H1143","v":0}]
[{"$f":"IF(Cover_Sheet!A1144=0,\"N\",\"Y\")","v":"N"},{"$f":"Cover_Sheet!B1144","v":0},{"$f":"Cover_Sheet!C1144","v":0},{"$f":"Cover_Sheet!D1144","v":"00:00:00"},{"$f":"Cover_Sheet!E1144","v":"00:00:00"},{"$f":"IF(Cover_Sheet!F1144=\"\",\"\",Cover_Sheet!F1144)","v":""},{"$f":"Cover_Sheet!G1144","v":0},{"$f":"Cover_Sheet!H1144","v":0}]
[{"$f":"IF(Cover_Sheet!A1145=0,\"N\",\"Y\")","v":"N"},{"$f":"Cover_Sheet!B1145","v":0},{"$f":"Cover_Sheet!C1145","v":0},{"$f":"Cover_Sheet!D1145","v":"00:00:00"},{"$f":"Cover_Sheet!E1145","v":"00:00:00"},{"$f":"IF(Cover_Sheet!F1145=\"\",\"\",Cover_Sheet!F1145)","v":""},{"$f":"Cover_Sheet!G1145","v":0},{"$f":"Cover_Sheet!H1145","v":0}]
[{"$f":"IF(Cover_Sheet!A1146=0,\"N\",\"Y\")","v":"N"},{"$f":"Cover_Sheet!B1146","v":0},{"$f":"Cover_Sheet!C1146","v":0},{"$f":"Cover_Sheet!D1146","v":"00:00:00"},{"$f":"Cover_Sheet!E1146","v":"00:00:00"},{"$f":"IF(Cover_Sheet!F1146=\"\",\"\",Cover_Sheet!F1146)","v":""},{"$f":"Cover_Sheet!G1146","v":0},{"$f":"Cover_Sheet!H1146","v":0}]
[{"$f":"IF(Cover_Sheet!A1147=0,\"N\",\"Y\")","v":"N"},{"$f":"Cover_Sheet!B1147","v":0},{"$f":"Cover_Sheet!C1147","v":0},{"$f":"Cover_Sheet!D1147","v":"00:00:00"},{"$f":"Cover_Sheet!E1147","v":"00:00:00"},{"$f":"IF(Cover_Sheet!F1147=\"\",\"\",Cover_Sheet!F1147)","v":""},{"$f":"Cover_Sheet!G1147","v":0},{"$f":"Cover_Sheet!H1147","v":0}]
[{"$f":"IF(Cover_Sheet!A1148=0,\"N\",\"Y\")","v":"N"},{"$f":"Cover_Sheet!B1148","v":0},{"$f":"Cover_Sheet!C1148","v":0},{"$f":"Cover_Sheet!D1148","v":"00:00:00"},{"$f":"Cover_Sheet!E1148","v":"00:00:00"},{"$f":"IF(Cover_Sheet!F1148=\"\",\"\",Cover_Sheet!F1148)","v":""},{"$f":"Cover_Sheet!G1148","v":0},{"$f":"Cover_Sheet!H1148","v":0}]
[{"$f":"IF(Cover_Sheet!A1149=0,\"N\",\"Y\")","v":"N"},{"$f":"Cover_Sheet!B1149","v":0},{"$f":"Cover_Sheet!C1149","v":0},{"$f":"Cover_Sheet!D1149","v":"00:00:00"},{"$f":"Cover_Sheet!E1149","v":"00:00:00"},{"$f":"IF(Cover_Sheet!F1149=\"\",\"\",Cover_Sheet!F1149)","v":""},{"$f":"Cover_Sheet!G1149","v":0},{"$f":"Cover_Sheet!H1149","v":0}]
[{"$f":"IF(Cover_Sheet!A1150=0,\"N\",\"Y\")","v":"N"},{"$f":"Cover_Sheet!B1150","v":0},{"$f":"Cover_Sheet!C1150","v":0},{"$f":"Cover_Sheet!D1150","v":"00:00:00"},{"$f":"Cover_Sheet!E1150","v":"00:00:00"},{"$f":"IF(Cover_Sheet!F1150=\"\",\"\",Cover_Sheet!F1150)","v":""},{"$f":"Cover_Sheet!G1150","v":0},{"$f":"Cover_Sheet!H1150","v":0}]
[{"$f":"IF(Cover_Sheet!A1151=0,\"N\",\"Y\")","v":"N"},{"$f":"Cover_Sheet!B1151","v":0},{"$f":"Cover_Sheet!C1151","v":0},{"$f":"Cover_Sheet!D1151","v":"00:00:00"},{"$f":"Cover_Sheet!E1151","v":"00:00:00"},{"$f":"IF(Cover_Sheet!F1151=\"\",\"\",Cover_Sheet!F1151)","v":""},{"$f":"Cover_Sheet!G1151","v":0},{"$f":"Cover_Sheet!H1151","v":0}]
[{"$f":"IF(Cover_Sheet!A1152=0,\"N\",\"Y\")","v":"N"},{"$f":"Cover_Sheet!B1152","v":0},{"$f":"Cover_Sheet!C1152","v":0},{"$f":"Cover_Sheet!D1152","v":"00:00:00"},{"$f":"Cover_Sheet!E1152","v":"00:00:00"},{"$f":"IF(Cover_Sheet!F1152=\"\",\"\",Cover_Sheet!F1152)","v":""},{"$f":"Cover_Sheet!G1152","v":0},{"$f":"Cover_Sheet!H1152","v":0}]
[{"$f":"IF(Cover_Sheet!A1153=0,\"N\",\"Y\")","v":"N"},{"$f":"Cover_Sheet!B1153","v":0},{"$f":"Cover_Sheet!C1153","v":0},{"$f":"Cover_Sheet!D1153","v":"00:00:00"},{"$f":"Cover_Sheet!E1153","v":"00:00:00"},{"$f":"IF(Cover_Sheet!F1153=\"\",\"\",Cover_Sheet!F1153)","v":""},{"$f":"Cover_Sheet!G1153","v":0},{"$f":"Cover_Sheet!H1153","v":0}]
[{"$f":"IF(Cover_Sheet!A1154=0,\"N\",\"Y\")","v":"N"},{"$f":"Cover_Sheet!B1154","v":0},{"$f":"Cover_Sheet!C1154","v":0},{"$f":"Cover_Sheet!D1154","v":"00:00:00"},{"$f":"Cover_Sheet!E1154","v":"00:00:00"},{"$f":"IF(Cover_Sheet!F1154=\"\",\"\",Cover_Sheet!F1154)","v":""},{"$f":"Cover_Sheet!G1154","v":0},{"$f":"Cover_Sheet!H1154","v":0}]
[{"$f":"IF(Cover_Sheet!A1155=0,\"N\",\"Y\")","v":"N"},{"$f":"Cover_Sheet!B1155","v":0},{"$f":"Cover_Sheet!C1155","v":0},{"$f":"Cover_Sheet!D1155","v":"00:00:00"},{"$f":"Cover_Sheet!E1155","v":"00:00:00"},{"$f":"IF(Cover_Sheet!F1155=\"\",\"\",Cover_Sheet!F1155)","v":""},{"$f":"Cover_Sheet!G1155","v":0},{"$f":"Cover_Sheet!H1155","v":0}]
[{"$f":"IF(Cover_Sheet!A1156=0,\"N\",\"Y\")","v":"N"},{"$f":"Cover_Sheet!B1156","v":0},{"$f":"Cover_Sheet!C1156","v":0},{"$f":"Cover_Sheet!D1156","v":"00:00:00"},{"$f":"Cover_Sheet!E1156","v":"00:00:00"},{"$f":"IF(Cover_Sheet!F1156=\"\",\"\",Cover_Sheet!F1156)","v":""},{"$f":"Cover_Sheet!G1156","v":0},{"$f":"Cover_Sheet!H1156","v":0}]
[{"$f":"IF(Cover_Sheet!A1157=0,\"N\",\"Y\")","v":"N"},{"$f":"Cover_Sheet!B1157","v":0},{"$f":"Cover_Sheet!C1157","v":0},{"$f":"Cover_Sheet!D1157","v":"00:00:00"},{"$f":"Cover_Sheet!E1157","v":"00:00:00"},{"$f":"IF(Cover_Sheet!F1157=\"\",\"\",Cover_Sheet!F1157)","v":""},{"$f":"Cover_Sheet!G1157","v":0},{"$f":"Cover_Sheet!H1157","v":0}]
[{"$f":"IF(Cover_Sheet!A1158=0,\"N\",\"Y\")","v":"N"},{"$f":"Cover_Sheet!B1158","v":0},{"$f":"Cover_Sheet!C1158","v":0},{"$f":"Cover_Sheet!D1158","v":"00:00:00"},{"$f":"Cover_Sheet!E1158","v":"00:00:00"},{"$f":"IF(Cover_Sheet!F1158=\"\",\"\",Cover_Sheet!F1158)","v":""},{"$f":"Cover_Sheet!G1158","v":0},{"$f":"Cover_Sheet!H1158","v":0}]
[{"$f":"IF(Cover_Sheet!A1159=0,\"N\",\"Y\")","v":"N"},{"$f":"Cover_Sheet!B1159","v":0},{"$f":"Cover_Sheet!C1159","v":0},{"$f":"Cover_Sheet!D1159","v":"00:00:00"},{"$f":"Cover_Sheet!E1159","v":"00:00:00"},{"$f":"IF(Cover_Sheet!F1159=\"\",\"\",Cover_Sheet!F1159)","v":""},{"$f":"Cover_Sheet!G1159","v":0},{"$f":"Cover_Sheet!H1159","v":0}]
[{"$f":"IF(Cover_Sheet!A1160=0,\"N\",\"Y\")","v":"N"},{"$f":"Cover_Sheet!B1160","v":0},{"$f":"Cover_Sheet!C1160","v":0},{"$f":"Cover_Sheet!D1160","v":"00:00:00"},{"$f":"Cover_Sheet!E1160","v":"00:00:00"},{"$f":"IF(Cover_Sheet!F1160=\"\",\"\",Cover_Sheet!F1160)","v":""},{"$f":"Cover_Sheet!G1160","v":0},{"$f":"Cover_Sheet!H1160","v":0}]
[{"$f":"IF(Cover_Sheet!A1161=0,\"N\",\"Y\")","v":"N"},{"$f":"Cover_Sheet!B1161","v":0},{"$f":"Cover_Sheet!C1161","v":0},{"$f":"Cover_Sheet!D1161","v":"00:00:00"},{"$f":"Cover_Sheet!E1161","v":"00:00:00"},{"$f":"IF(Cover_Sheet!F1161=\"\",\"\",Cover_Sheet!F1161)","v":""},{"$f":"Cover_Sheet!G1161","v":0},{"$f":"Cover_Sheet!H1161","v":0}]
[{"$f":"IF(Cover_Sheet!A1162=0,\"N\",\"Y\")","v":"N"},{"$f":"Cover_Sheet!B1162","v":0},{"$f":"Cover_Sheet!C1162","v":0},{"$f":"Cover_Sheet!D1162","v":"00:00:00"},{"$f":"Cover_Sheet!E1162","v":"00:00:00"},{"$f":"IF(Cover_Sheet!F1162=\"\",\"\",Cover_Sheet!F1162)","v":""},{"$f":"Cover_Sheet!G1162","v":0},{"$f":"Cover_Sheet!H1162","v":0}]
[{"$f":"IF(Cover_Sheet!A1163=0,\"N\",\"Y\")","v":"N"},{"$f":"Cover_Sheet!B1163","v":0},{"$f":"Cover_Sheet!C1163","v":0},{"$f":"Cover_Sheet!D1163","v":"00:00:00"},{"$f":"Cover_Sheet!E1163","v":"00:00:00"},{"$f":"IF(Cover_Sheet!F1163=\"\",\"\",Cover_Sheet!F1163)","v":""},{"$f":"Cover_Sheet!G1163","v":0},{"$f":"Cover_Sheet!H1163","v":0}]
[{"$f":"IF(Cover_Sheet!A1164=0,\"N\",\"Y\")","v":"N"},{"$f":"Cover_Sheet!B1164","v":0},{"$f":"Cover_Sheet!C1164","v":0},{"$f":"Cover_Sheet!D1164","v":"00:00:00"},{"$f":"Cover_Sheet!E1164","v":"00:00:00"},{"$f":"IF(Cover_Sheet!F1164=\"\",\"\",Cover_Sheet!F1164)","v":""},{"$f":"Cover_Sheet!G1164","v":0},{"$f":"Cover_Sheet!H1164","v":0}]
[{"$f":"IF(Cover_Sheet!A1165=0,\"N\",\"Y\")","v":"N"},{"$f":"Cover_Sheet!B1165","v":0},{"$f":"Cover_Sheet!C1165","v":0},{"$f":"Cover_Sheet!D1165","v":"00:00:00"},{"$f":"Cover_Sheet!E1165","v":"00:00:00"},{"$f":"IF(Cover_Sheet!F1165=\"\",\"\",Cover_Sheet!F1165)","v":""},{"$f":"Cover_Sheet!G1165","v":0},{"$f":"Cover_Sheet!H1165","v":0}]
[{"$f":"IF(Cover_Sheet!A1166=0,\"N\",\"Y\")","v":"N"},{"$f":"Cover_Sheet!B1166","v":0},{"$f":"Cover_Sheet!C1166","v":0},{"$f":"Cover_Sheet!D1166","v":"00:00:00"},{"$f":"Cover_Sheet!E1166","v":"00:00:00"},{"$f":"IF(Cover_Sheet!F1166=\"\",\"\",Cover_Sheet!F1166)","v":""},{"$f":"Cover_Sheet!G1166","v":0},{"$f":"Cover_Sheet!H1166","v":0}]
[{"$f":"IF(Cover_Sheet!A1167=0,\"N\",\"Y\")","v":"N"},{"$f":"Cover_Sheet!B1167","v":0},{"$f":"Cover_Sheet!C1167","v":0},{"$f":"Cover_Sheet!D1167","v":"00:00:00"},{"$f":"Cover_Sheet!E1167","v":"00:00:00"},{"$f":"IF(Cover_Sheet!F1167=\"\",\"\",Cover_Sheet!F1167)","v":""},{"$f":"Cover_Sheet!G1167","v":0},{"$f":"Cover_Sheet!H1167","v":0}]
[{"$f":"IF(Cover_Sheet!A1168=0,\"N\",\"Y\")","v":"N"},{"$f":"Cover_Sheet!B1168","v":0},{"$f":"Cover_Sheet!C1168","v":0},{"$f":"Cover_Sheet!D1168","v":"00:00:00"},{"$f":"Cover_Sheet!E1168","v":"00:00:00"},{"$f":"IF(Cover_Sheet!F1168=\"\",\"\",Cover_Sheet!F1168)","v":""},{"$f":"Cover_Sheet!G1168","v":0},{"$f":"Cover_Sheet!H1168","v":0}]
[{"$f":"IF(Cover_Sheet!A1169=0,\"N\",\"Y\")","v":"N"},{"$f":"Cover_Sheet!B1169","v":0},{"$f":"Cover_Sheet!C1169","v":0},{"$f":"Cover_Sheet!D1169","v":"00:00:00"},{"$f":"Cover_Sheet!E1169","v":"00:00:00"},{"$f":"IF(Cover_Sheet!F1169=\"\",\"\",Cover_Sheet!F1169)","v":""},{"$f":"Cover_Sheet!G1169","v":0},{"$f":"Cover_Sheet!H1169","v":0}]
[{"$f":"IF(Cover_Sheet!A1170=0,\"N\",\"Y\")","v":"N"},{"$f":"Cover_Sheet!B1170","v":0},{"$f":"Cover_Sheet!C1170","v":0},{"$f":"Cover_Sheet!D1170","v":"00:00:00"},{"$f":"Cover_Sheet!E1170","v":"00:00:00"},{"$f":"IF(Cover_Sheet!F1170=\"\",\"\",Cover_Sheet!F1170)","v":""},{"$f":"Cover_Sheet!G1170","v":0},{"$f":"Cover_Sheet!H1170","v":0}]
[{"$f":"IF(Cover_Sheet!A1171=0,\"N\",\"Y\")","v":"N"},{"$f":"Cover_Sheet!B1171","v":0},{"$f":"Cover_Sheet!C1171","v":0},{"$f":"Cover_Sheet!D1171","v":"00:00:00"},{"$f":"Cover_Sheet!E1171","v":"00:00:00"},{"$f":"IF(Cover_Sheet!F1171=\"\",\"\",Cover_Sheet!F1171)","v":""},{"$f":"Cover_Sheet!G1171","v":0},{"$f":"Cover_Sheet!H1171","v":0}]
[{"$f":"IF(Cover_Sheet!A1172=0,\"N\",\"Y\")","v":"N"},{"$f":"Cover_Sheet!B1172","v":0},{"$f":"Cover_Sheet!C1172","v":0},{"$f":"Cover_Sheet!D1172","v":"00:00:00"},{"$f":"Cover_Sheet!E1172","v":"00:00:00"},{"$f":"IF(Cover_Sheet!F1172=\"\",\"\",Cover_Sheet!F1172)","v":""},{"$f":"Cover_Sheet!G1172","v":0},{"$f":"Cover_Sheet!H1172","v":0}]
[{"$f":"IF(Cover_Sheet!A1173=0,\"N\",\"Y\")","v":"N"},{"$f":"Cover_Sheet!B1173","v":0},{"$f":"Cover_Sheet!C1173","v":0},{"$f":"Cover_Sheet!D1173","v":"00:00:00"},{"$f":"Cover_Sheet!E1173","v":"00:00:00"},{"$f":"IF(Cover_Sheet!F1173=\"\",\"\",Cover_Sheet!F1173)","v":""},{"$f":"Cover_Sheet!G1173","v":0},{"$f":"Cover_Sheet!H1173","v":0}]
[{"$f":"IF(Cover_Sheet!A1174=0,\"N\",\"Y\")","v":"N"},{"$f":"Cover_Sheet!B1174","v":0},{"$f":"Cover_Sheet!C1174","v":0},{"$f":"Cover_Sheet!D1174","v":"00:00:00"},{"$f":"Cover_Sheet!E1174","v":"00:00:00"},{"$f":"IF(Cover_Sheet!F1174=\"\",\"\",Cover_Sheet!F1174)","v":""},{"$f":"Cover_Sheet!G1174","v":0},{"$f":"Cover_Sheet!H1174","v":0}]
[{"$f":"IF(Cover_Sheet!A1175=0,\"N\",\"Y\")","v":"N"},{"$f":"Cover_Sheet!B1175","v":0},{"$f":"Cover_Sheet!C1175","v":0},{"$f":"Cover_Sheet!D1175","v":"00:00:00"},{"$f":"Cover_Sheet!E1175","v":"00:00:00"},{"$f":"IF(Cover_Sheet!F1175=\"\",\"\",Cover_Sheet!F1175)","v":""},{"$f":"Cover_Sheet!G1175","v":0},{"$f":"Cover_Sheet!H1175","v":0}]
[{"$f":"IF(Cover_Sheet!A1176=0,\"N\",\"Y\")","v":"N"},{"$f":"Cover_Sheet!B1176","v":0},{"$f":"Cover_Sheet!C1176","v":0},{"$f":"Cover_Sheet!D1176","v":"00:00:00"},{"$f":"Cover_Sheet!E1176","v":"00:00:00"},{"$f":"IF(Cover_Sheet!F1176=\"\",\"\",Cover_Sheet!F1176)","v":""},{"$f":"Cover_Sheet!G1176","v":0},{"$f":"Cover_Sheet!H1176","v":0}]
[{"$f":"IF(Cover_Sheet!A1177=0,\"N\",\"Y\")","v":"N"},{"$f":"Cover_Sheet!B1177","v":0},{"$f":"Cover_Sheet!C1177","v":0},{"$f":"Cover_Sheet!D1177","v":"00:00:00"},{"$f":"Cover_Sheet!E1177","v":"00:00:00"},{"$f":"IF(Cover_Sheet!F1177=\"\",\"\",Cover_Sheet!F1177)","v":""},{"$f":"Cover_Sheet!G1177","v":0},{"$f":"Cover_Sheet!H1177","v":0}]
[{"$f":"IF(Cover_Sheet!A1178=0,\"N\",\"Y\")","v":"N"},{"$f":"Cover_Sheet!B1178","v":0},{"$f":"Cover_Sheet!C1178","v":0},{"$f":"Cover_Sheet!D1178","v":"00:00:00"},{"$f":"Cover_Sheet!E1178","v":"00:00:00"},{"$f":"IF(Cover_Sheet!F1178=\"\",\"\",Cover_Sheet!F1178)","v":""},{"$f":"Cover_Sheet!G1178","v":0},{"$f":"Cover_Sheet!H1178","v":0}]
[{"$f":"IF(Cover_Sheet!A1179=0,\"N\",\"Y\")","v":"N"},{"$f":"Cover_Sheet!B1179","v":0},{"$f":"Cover_Sheet!C1179","v":0},{"$f":"Cover_Sheet!D1179","v":"00:00:00"},{"$f":"Cover_Sheet!E1179","v":"00:00:00"},{"$f":"IF(Cover_Sheet!F1179=\"\",\"\",Cover_Sheet!F1179)","v":""},{"$f":"Cover_Sheet!G1179","v":0},{"$f":"Cover_Sheet!H1179","v":0}]
[{"$f":"IF(Cover_Sheet!A1180=0,\"N\",\"Y\")","v":"N"},{"$f":"Cover_Sheet!B1180","v":0},{"$f":"Cover_Sheet!C1180","v":0},{"$f":"Cover_Sheet!D1180","v":"00:00:00"},{"$f":"Cover_Sheet!E1180","v":"00:00:00"},{"$f":"IF(Cover_Sheet!F1180=\"\",\"\",Cover_Sheet!F1180)","v":""},{"$f":"Cover_Sheet!G1180","v":0},{"$f":"Cover_Sheet!H1180","v":0}]
[{"$f":"IF(Cover_Sheet!A1181=0,\"N\",\"Y\")","v":"N"},{"$f":"Cover_Sheet!B1181","v":0},{"$f":"Cover_Sheet!C1181","v":0},{"$f":"Cover_Sheet!D1181","v":"00:00:00"},{"$f":"Cover_Sheet!E1181","v":"00:00:00"},{"$f":"IF(Cover_Sheet!F1181=\"\",\"\",Cover_Sheet!F1181)","v":""},{"$f":"Cover_Sheet!G1181","v":0},{"$f":"Cover_Sheet!H1181","v":0}]
[{"$f":"IF(Cover_Sheet!A1182=0,\"N\",\"Y\")","v":"N"},{"$f":"Cover_Sheet!B1182","v":0},{"$f":"Cover_Sheet!C1182","v":0},{"$f":"Cover_Sheet!D1182","v":"00:00:00"},{"$f":"Cover_Sheet!E1182","v":"00:00:00"},{"$f":"IF(Cover_Sheet!F1182=\"\",\"\",Cover_Sheet!F1182)","v":""},{"$f":"Cover_Sheet!G1182","v":0},{"$f":"Cover_Sheet!H1182","v":0}]
[{"$f":"IF(Cover_Sheet!A1183=0,\"N\",\"Y\")","v":"N"},{"$f":"Cover_Sheet!B1183","v":0},{"$f":"Cover_Sheet!C1183","v":0},{"$f":"Cover_Sheet!D1183","v":"00:00:00"},{"$f":"Cover_Sheet!E1183","v":"00:00:00"},{"$f":"IF(Cover_Sheet!F1183=\"\",\"\",Cover_Sheet!F1183)","v":""},{"$f":"Cover_Sheet!G1183","v":0},{"$f":"Cover_Sheet!H1183","v":0}]
[{"$f":"IF(Cover_Sheet!A1184=0,\"N\",\"Y\")","v":"N"},{"$f":"Cover_Sheet!B1184","v":0},{"$f":"Cover_Sheet!C1184","v":0},{"$f":"Cover_Sheet!D1184","v":"00:00:00"},{"$f":"Cover_Sheet!E1184","v":"00:00:00"},{"$f":"IF(Cover_Sheet!F1184=\"\",\"\",Cover_Sheet!F1184)","v":""},{"$f":"Cover_Sheet!G1184","v":0},{"$f":"Cover_Sheet!H1184","v":0}]
[{"$f":"IF(Cover_Sheet!A1185=0,\"N\",\"Y\")","v":"N"},{"$f":"Cover_Sheet!B1185","v":0},{"$f":"Cover_Sheet!C1185","v":0},{"$f":"Cover_Sheet!D1185","v":"00:00:00"},{"$f":"Cover_Sheet!E1185","v":"00:00:00"},{"$f":"IF(Cover_Sheet!F1185=\"\",\"\",Cover_Sheet!F1185)","v":""},{"$f":"Cover_Sheet!G1185","v":0},{"$f":"Cover_Sheet!H1185","v":0}]
[{"$f":"IF(Cover_Sheet!A1186=0,\"N\",\"Y\")","v":"N"},{"$f":"Cover_Sheet!B1186","v":0},{"$f":"Cover_Sheet!C1186","v":0},{"$f":"Cover_Sheet!D1186","v":"00:00:00"},{"$f":"Cover_Sheet!E1186","v":"00:00:00"},{"$f":"IF(Cover_Sheet!F1186=\"\",\"\",Cover_Sheet!F1186)","v":""},{"$f":"Cover_Sheet!G1186","v":0},{"$f":"Cover_Sheet!H1186","v":0}]
[{"$f":"IF(Cover_Sheet!A1187=0,\"N\",\"Y\")","v":"N"},{"$f":"Cover_Sheet!B1187","v":0},{"$f":"Cover_Sheet!C1187","v":0},{"$f":"Cover_Sheet!D1187","v":"00:00:00"},{"$f":"Cover_Sheet!E1187","v":"00:00:00"},{"$f":"IF(Cover_Sheet!F1187=\"\",\"\",Cover_Sheet!F1187)","v":""},{"$f":"Cover_Sheet!G1187","v":0},{"$f":"Cover_Sheet!H1187","v":0}]
[{"$f":"IF(Cover_Sheet!A1188=0,\"N\",\"Y\")","v":"N"},{"$f":"Cover_Sheet!B1188","v":0},{"$f":"Cover_Sheet!C1188","v":0},{"$f":"Cover_Sheet!D1188","v":"00:00:00"},{"$f":"Cover_Sheet!E1188","v":"00:00:00"},{"$f":"IF(Cover_Sheet!F1188=\"\",\"\",Cover_Sheet!F1188)","v":""},{"$f":"Cover_Sheet!G1188","v":0},{"$f":"Cover_Sheet!H1188","v":0}]
[{"$f":"IF(Cover_Sheet!A1189=0,\"N\",\"Y\")","v":"N"},{"$f":"Cover_Sheet!B1189","v":0},{"$f":"Cover_Sheet!C1189","v":0},{"$f":"Cover_Sheet!D1189","v":"00:00:00"},{"$f":"Cover_Sheet!E1189","v":"00:00:00"},{"$f":"IF(Cover_Sheet!F1189=\"\",\"\",Cover_Sheet!F1189)","v":""},{"$f":"Cover_Sheet!G1189","v":0},{"$f":"Cover_Sheet!H1189","v":0}]
[{"$f":"IF(Cover_Sheet!A1190=0,\"N\",\"Y\")","v":"N"},{"$f":"Cover_Sheet!B1190","v":0},{"$f":"Cover_Sheet!C1190","v":0},{"$f":"Cover_Sheet!D1190","v":"00:00:00"},{"$f":"Cover_Sheet!E1190","v":"00:00:00"},{"$f":"IF(Cover_Sheet!F1190=\"\",\"\",Cover_Sheet!F1190)","v":""},{"$f":"Cover_Sheet!G1190","v":0},{"$f":"Cover_Sheet!H1190","v":0}]
[{"$f":"IF(Cover_Sheet!A1191=0,\"N\",\"Y\")","v":"N"},{"$f":"Cover_Sheet!B1191","v":0},{"$f":"Cover_Sheet!C1191","v":0},{"$f":"Cover_Sheet!D1191","v":"00:00:00"},{"$f":"Cover_Sheet!E1191","v":"00:00:00"},{"$f":"IF(Cover_Sheet!F1191=\"\",\"\",Cover_Sheet!F1191)","v":""},{"$f":"Cover_Sheet!G1191","v":0},{"$f":"Cover_Sheet!H1191","v":0}]
[{"$f":"IF(Cover_Sheet!A1192=0,\"N\",\"Y\")","v":"N"},{"$f":"Cover_Sheet!B1192","v":0},{"$f":"Cover_Sheet!C1192","v":0},{"$f":"Cover_Sheet!D1192","v":"00:00:00"},{"$f":"Cover_Sheet!E1192","v":"00:00:00"},{"$f":"IF(Cover_Sheet!F1192=\"\",\"\",Cover_Sheet!F1192)","v":""},{"$f":"Cover_Sheet!G1192","v":0},{"$f":"Cover_Sheet!H1192","v":0}]
[{"$f":"IF(Cover_Sheet!A1193=0,\"N\",\"Y\")","v":"N"},{"$f":"Cover_Sheet!B1193","v":0},{"$f":"Cover_Sheet!C1193","v":0},{"$f":"Cover_Sheet!D1193","v":"00:00:00"},{"$f":"Cover_Sheet!E1193","v":"00:00:00"},{"$f":"IF(Cover_Sheet!F1193=\"\",\"\",Cover_Sheet!F1193)","v":""},{"$f":"Cover_Sheet!G1193","v":0},{"$f":"Cover_Sheet!H1193","v":0}]
[{"$f":"IF(Cover_Sheet!A1194=0,\"N\",\"Y\")","v":"N"},{"$f":"Cover_Sheet!B1194","v":0},{"$f":"Cover_Sheet!C1194","v":0},{"$f":"Cover_Sheet!D1194","v":"00:00:00"},{"$f":"Cover_Sheet!E1194","v":"00:00:00"},{"$f":"IF(Cover_Sheet!F1194=\"\",\"\",Cover_Sheet!F1194)","v":""},{"$f":"Cover_Sheet!G1194","v":0},{"$f":"Cover_Sheet!H1194","v":0}]
[{"$f":"IF(Cover_Sheet!A1195=0,\"N\",\"Y\")","v":"N"},{"$f":"Cover_Sheet!B1195","v":0},{"$f":"Cover_Sheet!C1195","v":0},{"$f":"Cover_Sheet!D1195","v":"00:00:00"},{"$f":"Cover_Sheet!E1195","v":"00:00:00"},{"$f":"IF(Cover_Sheet!F1195=\"\",\"\",Cover_Sheet!F1195)","v":""},{"$f":"Cover_Sheet!G1195","v":0},{"$f":"Cover_Sheet!H1195","v":0}]
[{"$f":"IF(Cover_Sheet!A1196=0,\"N\",\"Y\")","v":"N"},{"$f":"Cover_Sheet!B1196","v":0},{"$f":"Cover_Sheet!C1196","v":0},{"$f":"Cover_Sheet!D1196","v":"00:00:00"},{"$f":"Cover_Sheet!E1196","v":"00:00:00"},{"$f":"IF(Cover_Sheet!F1196=\"\",\"\",Cover_Sheet!F1196)","v":""},{"$f":"Cover_Sheet!G1196","v":0},{"$f":"Cover_Sheet!H1196","v":0}]
[{"$f":"IF(Cover_Sheet!A1197=0,\"N\",\"Y\")","v":"N"},{"$f":"Cover_Sheet!B1197","v":0},{"$f":"Cover_Sheet!C1197","v":0},{"$f":"Cover_Sheet!D1197","v":"00:00:00"},{"$f":"Cover_Sheet!E1197","v":"00:00:00"},{"$f":"IF(Cover_Sheet!F1197=\"\",\"\",Cover_Sheet!F1197)","v":""},{"$f":"Cover_Sheet!G1197","v":0},{"$f":"Cover_Sheet!H1197","v":0}]
[{"$f":"IF(Cover_Sheet!A1198=0,\"N\",\"Y\")","v":"N"},{"$f":"Cover_Sheet!B1198","v":0},{"$f":"Cover_Sheet!C1198","v":0},{"$f":"Cover_Sheet!D1198","v":"00:00:00"},{"$f":"Cover_Sheet!E1198","v":"00:00:00"},{"$f":"IF(Cover_Sheet!F1198=\"\",\"\",Cover_Sheet!F1198)","v":""},{"$f":"Cover_Sheet!G1198","v":0},{"$f":"Cover_Sheet!H1198","v":0}]
[{"$f":"IF(Cover_Sheet!A1199=0,\"N\",\"Y\")","v":"N"},{"$f":"Cover_Sheet!B1199","v":0},{"$f":"Cover_Sheet!C1199","v":0},{"$f":"Cover_Sheet!D1199","v":"00:00:00"},{"$f":"Cover_Sheet!E1199","v":"00:00:00"},{"$f":"IF(Cover_Sheet!F1199=\"\",\"\",Cover_Sheet!F1199)","v":""},{"$f":"Cover_Sheet!G1199","v":0},{"$f":"Cover_Sheet!H1199","v":0}]
[{"$f":"IF(Cover_Sheet!A1200=0,\"N\",\"Y\")","v":"N"},{"$f":"Cover_Sheet!B1200","v":0},{"$f":"Cover_Sheet!C1200","v":0},{"$f":"Cover_Sheet!D1200","v":"00:00:00"},{"$f":"Cover_Sheet!E1200","v":"00:00:00"},{"$f":"IF(Cover_Sheet!F1200=\"\",\"\",Cover_Sheet!F1200)","v":""},{"$f":"Cover_Sheet!G1200","v":0},{"$f":"Cover_Sheet!H1200","v":0}]
[{"$f":"IF(Cover_Sheet!A1201=0,\"N\",\"Y\")","v":"N"},{"$f":"Cover_Sheet!B1201","v":0},{"$f":"Cover_Sheet!C1201","v":0},{"$f":"Cover_Sheet!D1201","v":"00:00:00"},{"$f":"Cover_Sheet!E1201","v":"00:00:00"},{"$f":"IF(Cover_Sheet!F1201=\"\",\"\",Cover_Sheet!F1201)","v":""},{"$f":"Cover_Sheet!G1201","v":0},{"$f":"Cover_Sheet!H1201","v":0}]
[{"$f":"IF(Cover_Sheet!A1202=0,\"N\",\"Y\")","v":"N"},{"$f":"Cover_Sheet!B1202","v":0},{"$f":"Cover_Sheet!C1202","v":0},{"$f":"Cover_Sheet!D1202","v":"00:00:00"},{"$f":"Cover_Sheet!E1202","v":"00:00:00"},{"$f":"IF(Cover_Sheet!F1202=\"\",\"\",Cover_Sheet!F1202)","v":""},{"$f":"Cover_Sheet!G1202","v":0},{"$f":"Cover_Sheet!H1202","v":0}]
[{"$f":"IF(Cover_Sheet!A1203=0,\"N\",\"Y\")","v":"N"},{"$f":"Cover_Sheet!B1203","v":0},{"$f":"Cover_Sheet!C1203","v":0},{"$f":"Cover_Sheet!D1203","v":"00:00:00"},{"$f":"Cover_Sheet!E1203","v":"00:00:00"},{"$f":"IF(Cover_Sheet!F1203=\"\",\"\",Cover_Sheet!F1203)","v":""},{"$f":"Cover_Sheet!G1203","v":0},{"$f":"Cover_Sheet!H1203","v":0}]
[{"$f":"IF(Cover_Sheet!A1204=0,\"N\",\"Y\")","v":"N"},{"$f":"Cover_Sheet!B1204","v":0},{"$f":"Cover_Sheet!C1204","v":0},{"$f":"Cover_Sheet!D1204","v":"00:00:00"},{"$f":"Cover_Sheet!E1204","v":"00:00:00"},{"$f":"IF(Cover_Sheet!F1204=\"\",\"\",Cover_Sheet!F1204)","v":""},{"$f":"Cover_Sheet!G1204","v":0},{"$f":"Cover_Sheet!H1204","v":0}]
[{"$f":"IF(Cover_Sheet!A1205=0,\"N\",\"Y\")","v":"N"},{"$f":"Cover_Sheet!B1205","v":0},{"$f":"Cover_Sheet!C1205","v":0},{"$f":"Cover_Sheet!D1205","v":"00:00:00"},{"$f":"Cover_Sheet!E1205","v":"00:00:00"},{"$f":"IF(Cover_Sheet!F1205=\"\",\"\",Cover_Sheet!F1205)","v":""},{"$f":"Cover_Sheet!G1205","v":0},{"$f":"Cover_Sheet!H1205","v":0}]
[{"$f":"IF(Cover_Sheet!A1206=0,\"N\",\"Y\")","v":"N"},{"$f":"Cover_Sheet!B1206","v":0},{"$f":"Cover_Sheet!C1206","v":0},{"$f":"Cover_Sheet!D1206","v":"00:00:00"},{"$f":"Cover_Sheet!E1206","v":"00:00:00"},{"$f":"IF(Cover_Sheet!F1206=\"\",\"\",Cover_Sheet!F1206)","v":""},{"$f":"Cover_Sheet!G1206","v":0},{"$f":"Cover_Sheet!H1206","v":0}]
[{"$f":"IF(Cover_Sheet!A1207=0,\"N\",\"Y\")","v":"N"},{"$f":"Cover_Sheet!B1207","v":0},{"$f":"Cover_Sheet!C1207","v":0},{"$f":"Cover_Sheet!D1207","v":"00:00:00"},{"$f":"Cover_Sheet!E1207","v":"00:00:00"},{"$f":"IF(Cover_Sheet!F1207=\"\",\"\",Cover_Sheet!F1207)","v":""},{"$f":"Cover_Sheet!G1207","v":0},{"$f":"Cover_Sheet!H1207","v":0}]
[{"$f":"IF(Cover_Sheet!A1208=0,\"N\",\"Y\")","v":"N"},{"$f":"Cover_Sheet!B1208","v":0},{"$f":"Cover_Sheet!C1208","v":0},{"$f":"Cover_Sheet!D1208","v":"00:00:00"},{"$f":"Cover_Sheet!E1208","v":"00:00:00"},{"$f":"IF(Cover_Sheet!F1208=\"\",\"\",Cover_Sheet!F1208)","v":""},{"$f":"Cover_Sheet!G1208","v":0},{"$f":"Cover_Sheet!H1208","v":0}]
[{"$f":"IF(Cover_Sheet!A1209=0,\"N\",\"Y\")","v":"N"},{"$f":"Cover_Sheet!B1209","v":0},{"$f":"Cover_Sheet!C1209","v":0},{"$f":"Cover_Sheet!D1209","v":"00:00:00"},{"$f":"Cover_Sheet!E1209","v":"00:00:00"},{"$f":"IF(Cover_Sheet!F1209=\"\",\"\",Cover_Sheet!F1209)","v":""},{"$f":"Cover_Sheet!G1209","v":0},{"$f":"Cover_Sheet!H1209","v":0}]
[{"$f":"IF(Cover_Sheet!A1210=0,\"N\",\"Y\")","v":"N"},{"$f":"Cover_Sheet!B1210","v":0},{"$f":"Cover_Sheet!C1210","v":0},{"$f":"Cover_Sheet!D1210","v":"00:00:00"},{"$f":"Cover_Sheet!E1210","v":"00:00:00"},{"$f":"IF(Cover_Sheet!F1210=\"\",\"\",Cover_Sheet!F1210)","v":""},{"$f":"Cover_Sheet!G1210","v":0},{"$f":"Cover_Sheet!H1210","v":0}]
[{"$f":"IF(Cover_Sheet!A1211=0,\"N\",\"Y\")","v":"N"},{"$f":"Cover_Sheet!B1211","v":0},{"$f":"Cover_Sheet!C1211","v":0},{"$f":"Cover_Sheet!D1211","v":"00:00:00"},{"$f":"Cover_Sheet!E1211","v":"00:00:00"},{"$f":"IF(Cover_Sheet!F1211=\"\",\"\",Cover_Sheet!F1211)","v":""},{"$f":"Cover_Sheet!G1211","v":0},{"$f":"Cover_Sheet!H1211","v":0}]
[{"$f":"IF(Cover_Sheet!A1212=0,\"N\",\"Y\")","v":"N"},{"$f":"Cover_Sheet!B1212","v":0},{"$f":"Cover_Sheet!C1212","v":0},{"$f":"Cover_Sheet!D1212","v":"00:00:00"},{"$f":"Cover_Sheet!E1212","v":"00:00:00"},{"$f":"IF(Cover_Sheet!F1212=\"\",\"\",Cover_Sheet!F1212)","v":""},{"$f":"Cover_Sheet!G1212","v":0},{"$f":"Cover_Sheet!H1212","v":0}]
[{"$f":"IF(Cover_Sheet!A1213=0,\"N\",\"Y\")","v":"N"},{"$f":"Cover_Sheet!B1213","v":0},{"$f":"Cover_Sheet!C1213","v":0},{"$f":"Cover_Sheet!D1213","v":"00:00:00"},{"$f":"Cover_Sheet!E1213","v":"00:00:00"},{"$f":"IF(Cover_Sheet!F1213=\"\",\"\",Cover_Sheet!F1213)","v":""},{"$f":"Cover_Sheet!G1213","v":0},{"$f":"Cover_Sheet!H1213","v":0}]
[{"$f":"IF(Cover_Sheet!A1214=0,\"N\",\"Y\")","v":"N"},{"$f":"Cover_Sheet!B1214","v":0},{"$f":"Cover_Sheet!C1214","v":0},{"$f":"Cover_Sheet!D1214","v":"00:00:00"},{"$f":"Cover_Sheet!E1214","v":"00:00:00"},{"$f":"IF(Cover_Sheet!F1214=\"\",\"\",Cover_Sheet!F1214)","v":""},{"$f":"Cover_Sheet!G1214","v":0},{"$f":"Cover_Sheet!H1214","v":0}]
[{"$f":"IF(Cover_Sheet!A1215=0,\"N\",\"Y\")","v":"N"},{"$f":"Cover_Sheet!B1215","v":0},{"$f":"Cover_Sheet!C1215","v":0},{"$f":"Cover_Sheet!D1215","v":"00:00:00"},{"$f":"Cover_Sheet!E1215","v":"00:00:00"},{"$f":"IF(Cover_Sheet!F1215=\"\",\"\",Cover_Sheet!F1215)","v":""},{"$f":"Cover_Sheet!G1215","v":0},{"$f":"Cover_Sheet!H1215","v":0}]
[{"$f":"IF(Cover_Sheet!A1216=0,\"N\",\"Y\")","v":"N"},{"$f":"Cover_Sheet!B1216","v":0},{"$f":"Cover_Sheet!C1216","v":0},{"$f":"Cover_Sheet!D1216","v":"00:00:00"},{"$f":"Cover_Sheet!E1216","v":"00:00:00"},{"$f":"IF(Cover_Sheet!F1216=\"\",\"\",Cover_Sheet!F1216)","v":""},{"$f":"Cover_Sheet!G1216","v":0},{"$f":"Cover_Sheet!H1216","v":0}]
[{"$f":"IF(Cover_Sheet!A1217=0,\"N\",\"Y\")","v":"N"},{"$f":"Cover_Sheet!B1217","v":0},{"$f":"Cover_Sheet!C1217","v":0},{"$f":"Cover_Sheet!D1217","v":"00:00:00"},{"$f":"Cover_Sheet!E1217","v":"00:00:00"},{"$f":"IF(Cover_Sheet!F1217=\"\",\"\",Cover_Sheet!F1217)","v":""},{"$f":"Cover_Sheet!G1217","v":0},{"$f":"Cover_Sheet!H1217","v":0}]
[{"$f":"IF(Cover_Sheet!A1218=0,\"N\",\"Y\")","v":"N"},{"$f":"Cover_Sheet!B1218","v":0},{"$f":"Cover_Sheet!C1218","v":0},{"$f":"Cover_Sheet!D1218","v":"00:00:00"},{"$f":"Cover_Sheet!E1218","v":"00:00:00"},{"$f":"IF(Cover_Sheet!F1218=\"\",\"\",Cover_Sheet!F1218)","v":""},{"$f":"Cover_Sheet!G1218","v":0},{"$f":"Cover_Sheet!H1218","v":0}]
[{"$f":"IF(Cover_Sheet!A1219=0,\"N\",\"Y\")","v":"N"},{"$f":"Cover_Sheet!B1219","v":0},{"$f":"Cover_Sheet!C1219","v":0},{"$f":"Cover_Sheet!D1219","v":"00:00:00"},{"$f":"Cover_Sheet!E1219","v":"00:00:00"},{"$f":"IF(Cover_Sheet!F1219=\"\",\"\",Cover_Sheet!F1219)","v":""},{"$f":"Cover_Sheet!G1219","v":0},{"$f":"Cover_Sheet!H1219","v":0}]
[{"$f":"IF(Cover_Sheet!A1220=0,\"N\",\"Y\")","v":"N"},{"$f":"Cover_Sheet!B1220","v":0},{"$f":"Cover_Sheet!C1220","v":0},{"$f":"Cover_Sheet!D1220","v":"00:00:00"},{"$f":"Cover_Sheet!E1220","v":"00:00:00"},{"$f":"IF(Cover_Sheet!F1220=\"\",\"\",Cover_Sheet!F1220)","v":""},{"$f":"Cover_Sheet!G1220","v":0},{"$f":"Cover_Sheet!H1220","v":0}]
[{"$f":"IF(Cover_Sheet!A1221=0,\"N\",\"Y\")","v":"N"},{"$f":"Cover_Sheet!B1221","v":0},{"$f":"Cover_Sheet!C1221","v":0},{"$f":"Cover_Sheet!D1221","v":"00:00:00"},{"$f":"Cover_Sheet!E1221","v":"00:00:00"},{"$f":"IF(Cover_Sheet!F1221=\"\",\"\",Cover_Sheet!F1221)","v":""},{"$f":"Cover_Sheet!G1221","v":0},{"$f":"Cover_Sheet!H1221","v":0}]
[{"$f":"IF(Cover_Sheet!A1222=0,\"N\",\"Y\")","v":"N"},{"$f":"Cover_Sheet!B1222","v":0},{"$f":"Cover_Sheet!C1222","v":0},{"$f":"Cover_Sheet!D1222","v":"00:00:00"},{"$f":"Cover_Sheet!E1222","v":"00:00:00"},{"$f":"IF(Cover_Sheet!F1222=\"\",\"\",Cover_Sheet!F1222)","v":""},{"$f":"Cover_Sheet!G1222","v":0},{"$f":"Cover_Sheet!H1222","v":0}]
[{"$f":"IF(Cover_Sheet!A1223=0,\"N\",\"Y\")","v":"N"},{"$f":"Cover_Sheet!B1223","v":0},{"$f":"Cover_Sheet!C1223","v":0},{"$f":"Cover_Sheet!D1223","v":"00:00:00"},{"$f":"Cover_Sheet!E1223","v":"00:00:00"},{"$f":"IF(Cover_Sheet!F1223=\"\",\"\",Cover_Sheet!F1223)","v":""},{"$f":"Cover_Sheet!G1223","v":0},{"$f":"Cover_Sheet!H1223","v":0}]
[{"$f":"IF(Cover_Sheet!A1224=0,\"N\",\"Y\")","v":"N"},{"$f":"Cover_Sheet!B1224","v":0},{"$f":"Cover_Sheet!C1224","v":0},{"$f":"Cover_Sheet!D1224","v":"00:00:00"},{"$f":"Cover_Sheet!E1224","v":"00:00:00"},{"$f":"IF(Cover_Sheet!F1224=\"\",\"\",Cover_Sheet!F1224)","v":""},{"$f":"Cover_Sheet!G1224","v":0},{"$f":"Cover_Sheet!H1224","v":0}]
[{"$f":"IF(Cover_Sheet!A1225=0,\"N\",\"Y\")","v":"N"},{"$f":"Cover_Sheet!B1225","v":0},{"$f":"Cover_Sheet!C1225","v":0},{"$f":"Cover_Sheet!D1225","v":"00:00:00"},{"$f":"Cover_Sheet!E1225","v":"00:00:00"},{"$f":"IF(Cover_Sheet!F1225=\"\",\"\",Cover_Sheet!F1225)","v":""},{"$f":"Cover_Sheet!G1225","v":0},{"$f":"Cover_Sheet!H1225","v":0}]
[{"$f":"IF(Cover_Sheet!A1226=0,\"N\",\"Y\")","v":"N"},{"$f":"Cover_Sheet!B1226","v":0},{"$f":"Cover_Sheet!C1226","v":0},{"$f":"Cover_Sheet!D1226","v":"00:00:00"},{"$f":"Cover_Sheet!E1226","v":"00:00:00"},{"$f":"IF(Cover_Sheet!F1226=\"\",\"\",Cover_Sheet!F1226)","v":""},{"$f":"Cover_Sheet!G1226","v":0},{"$f":"Cover_Sheet!H1226","v":0}]
[{"$f":"IF(Cover_Sheet!A1227=0,\"N\",\"Y\")","v":"N"},{"$f":"Cover_Sheet!B1227","v":0},{"$f":"Cover_Sheet!C1227","v":0},{"$f":"Cover_Sheet!D1227","v":"00:00:00"},{"$f":"Cover_Sheet!E1227","v":"00:00:00"},{"$f":"IF(Cover_Sheet!F1227=\"\",\"\",Cover_Sheet!F1227)","v":""},{"$f":"Cover_Sheet!G1227","v":0},{"$f":"Cover_Sheet!H1227","v":0}]
[{"$f":"IF(Cover_Sheet!A1228=0,\"N\",\"Y\")","v":"N"},{"$f":"Cover_Sheet!B1228","v":0},{"$f":"Cover_Sheet!C1228","v":0},{"$f":"Cover_Sheet!D1228","v":"00:00:00"},{"$f":"Cover_Sheet!E1228","v":"00:00:00"},{"$f":"IF(Cover_Sheet!F1228=\"\",\"\",Cover_Sheet!F1228)","v":""},{"$f":"Cover_Sheet!G1228","v":0},{"$f":"Cover_Sheet!H1228","v":0}]
[{"$f":"IF(Cover_Sheet!A1229=0,\"N\",\"Y\")","v":"N"},{"$f":"Cover_Sheet!B1229","v":0},{"$f":"Cover_Sheet!C1229","v":0},{"$f":"Cover_Sheet!D1229","v":"00:00:00"},{"$f":"Cover_Sheet!E1229","v":"00:00:00"},{"$f":"IF(Cover_Sheet!F1229=\"\",\"\",Cover_Sheet!F1229)","v":""},{"$f":"Cover_Sheet!G1229","v":0},{"$f":"Cover_Sheet!H1229","v":0}]
[{"$f":"IF(Cover_Sheet!A1230=0,\"N\",\"Y\")","v":"N"},{"$f":"Cover_Sheet!B1230","v":0},{"$f":"Cover_Sheet!C1230","v":0},{"$f":"Cover_Sheet!D1230","v":"00:00:00"},{"$f":"Cover_Sheet!E1230","v":"00:00:00"},{"$f":"IF(Cover_Sheet!F1230=\"\",\"\",Cover_Sheet!F1230)","v":""},{"$f":"Cover_Sheet!G1230","v":0},{"$f":"Cover_Sheet!H1230","v":0}]
[{"$f":"IF(Cover_Sheet!A1231=0,\"N\",\"Y\")","v":"N"},{"$f":"Cover_Sheet!B1231","v":0},{"$f":"Cover_Sheet!C1231","v":0},{"$f":"Cover_Sheet!D1231","v":"00:00:00"},{"$f":"Cover_Sheet!E1231","v":"00:00:00"},{"$f":"IF(Cover_Sheet!F1231=\"\",\"\",Cover_Sheet!F1231)","v":""},{"$f":"Cover_Sheet!G1231","v":0},{"$f":"Cover_Sheet!H1231","v":0}]
[{"$f":"IF(Cover_Sheet!A1232=0,\"N\",\"Y\")","v":"N"},{"$f":"Cover_Sheet!B1232","v":0},{"$f":"Cover_Sheet!C1232","v":0},{"$f":"Cover_Sheet!D1232","v":"00:00:00"},{"$f":"Cover_Sheet!E1232","v":"00:00:00"},{"$f":"IF(Cover_Sheet!F1232=\"\",\"\",Cover_Sheet!F1232)","v":""},{"$f":"Cover_Sheet!G1232","v":0},{"$f":"Cover_Sheet!H1232","v":0}]
[{"$f":"IF(Cover_Sheet!A1233=0,\"N\",\"Y\")","v":"N"},{"$f":"Cover_Sheet!B1233","v":0},{"$f":"Cover_Sheet!C1233","v":0},{"$f":"Cover_Sheet!D1233","v":"00:00:00"},{"$f":"Cover_Sheet!E1233","v":"00:00:00"},{"$f":"IF(Cover_Sheet!F1233=\"\",\"\",Cover_Sheet!F1233)","v":""},{"$f":"Cover_Sheet!G1233","v":0},{"$f":"Cover_Sheet!H1233","v":0}]
[{"$f":"IF(Cover_Sheet!A1234=0,\"N\",\"Y\")","v":"N"},{"$f":"Cover_Sheet!B1234","v":0},{"$f":"Cover_Sheet!C1234","v":0},{"$f":"Cover_Sheet!D1234","v":"00:00:00"},{"$f":"Cover_Sheet!E1234","v":"00:00:00"},{"$f":"IF(Cover_Sheet!F1234=\"\",\"\",Cover_Sheet!F1234)","v":""},{"$f":"Cover_Sheet!G1234","v":0},{"$f":"Cover_Sheet!H1234","v":0}]
[{"$f":"IF(Cover_Sheet!A1235=0,\"N\",\"Y\")","v":"N"},{"$f":"Cover_Sheet!B1235","v":0},{"$f":"Cover_Sheet!C1235","v":0},{"$f":"Cover_Sheet!D1235","v":"00:00:00"},{"$f":"Cover_Sheet!E1235","v":"00:00:00"},{"$f":"IF(Cover_Sheet!F1235=\"\",\"\",Cover_Sheet!F1235)","v":""},{"$f":"Cover_Sheet!G1235","v":0},{"$f":"Cover_Sheet!H1235","v":0}]
[{"$f":"IF(Cover_Sheet!A1236=0,\"N\",\"Y\")","v":"N"},{"$f":"Cover_Sheet!B1236","v":0},{"$f":"Cover_Sheet!C1236","v":0},{"$f":"Cover_Sheet!D1236","v":"00:00:00"},{"$f":"Cover_Sheet!E1236","v":"00:00:00"},{"$f":"IF(Cover_Sheet!F1236=\"\",\"\",Cover_Sheet!F1236)","v":""},{"$f":"Cover_Sheet!G1236","v":0},{"$f":"Cover_Sheet!H1236","v":0}]
[{"$f":"IF(Cover_Sheet!A1237=0,\"N\",\"Y\")","v":"N"},{"$f":"Cover_Sheet!B1237","v":0},{"$f":"Cover_Sheet!C1237","v":0},{"$f":"Cover_Sheet!D1237","v":"00:00:00"},{"$f":"Cover_Sheet!E1237","v":"00:00:00"},{"$f":"IF(Cover_Sheet!F1237=\"\",\"\",Cover_Sheet!F1237)","v":""},{"$f":"Cover_Sheet!G1237","v":0},{"$f":"Cover_Sheet!H1237","v":0}]
[{"$f":"IF(Cover_Sheet!A1238=0,\"N\",\"Y\")","v":"N"},{"$f":"Cover_Sheet!B1238","v":0},{"$f":"Cover_Sheet!C1238","v":0},{"$f":"Cover_Sheet!D1238","v":"00:00:00"},{"$f":"Cover_Sheet!E1238","v":"00:00:00"},{"$f":"IF(Cover_Sheet!F1238=\"\",\"\",Cover_Sheet!F1238)","v":""},{"$f":"Cover_Sheet!G1238","v":0},{"$f":"Cover_Sheet!H1238","v":0}]
[{"$f":"IF(Cover_Sheet!A1239=0,\"N\",\"Y\")","v":"N"},{"$f":"Cover_Sheet!B1239","v":0},{"$f":"Cover_Sheet!C1239","v":0},{"$f":"Cover_Sheet!D1239","v":"00:00:00"},{"$f":"Cover_Sheet!E1239","v":"00:00:00"},{"$f":"IF(Cover_Sheet!F1239=\"\",\"\",Cover_Sheet!F1239)","v":""},{"$f":"Cover_Sheet!G1239","v":0},{"$f":"Cover_Sheet!H1239","v":0}]
[{"$f":"IF(Cover_Sheet!A1240=0,\"N\",\"Y\")","v":"N"},{"$f":"Cover_Sheet!B1240","v":0},{"$f":"Cover_Sheet!C1240","v":0},{"$f":"Cover_Sheet!D1240","v":"00:00:00"},{"$f":"Cover_Sheet!E1240","v":"00:00:00"},{"$f":"IF(Cover_Sheet!F1240=\"\",\"\",Cover_Sheet!F1240)","v":""},{"$f":"Cover_Sheet!G1240","v":0},{"$f":"Cover_Sheet!H1240","v":0}]
[{"$f":"IF(Cover_Sheet!A1241=0,\"N\",\"Y\")","v":"N"},{"$f":"Cover_Sheet!B1241","v":0},{"$f":"Cover_Sheet!C1241","v":0},{"$f":"Cover_Sheet!D1241","v":"00:00:00"},{"$f":"Cover_Sheet!E1241","v":"00:00:00"},{"$f":"IF(Cover_Sheet!F1241=\"\",\"\",Cover_Sheet!F1241)","v":""},{"$f":"Cover_Sheet!G1241","v":0},{"$f":"Cover_Sheet!H1241","v":0}]
[{"$f":"IF(Cover_Sheet!A1242=0,\"N\",\"Y\")","v":"N"},{"$f":"Cover_Sheet!B1242","v":0},{"$f":"Cover_Sheet!C1242","v":0},{"$f":"Cover_Sheet!D1242","v":"00:00:00"},{"$f":"Cover_Sheet!E1242","v":"00:00:00"},{"$f":"IF(Cover_Sheet!F1242=\"\",\"\",Cover_Sheet!F1242)","v":""},{"$f":"Cover_Sheet!G1242","v":0},{"$f":"Cover_Sheet!H1242","v":0}]
[{"$f":"IF(Cover_Sheet!A1243=0,\"N\",\"Y\")","v":"N"},{"$f":"Cover_Sheet!B1243","v":0},{"$f":"Cover_Sheet!C1243","v":0},{"$f":"Cover_Sheet!D1243","v":"00:00:00"},{"$f":"Cover_Sheet!E1243","v":"00:00:00"},{"$f":"IF(Cover_Sheet!F1243=\"\",\"\",Cover_Sheet!F1243)","v":""},{"$f":"Cover_Sheet!G1243","v":0},{"$f":"Cover_Sheet!H1243","v":0}]
[{"$f":"IF(Cover_Sheet!A1244=0,\"N\",\"Y\")","v":"N"},{"$f":"Cover_Sheet!B1244","v":0},{"$f":"Cover_Sheet!C1244","v":0},{"$f":"Cover_Sheet!D1244","v":"00:00:00"},{"$f":"Cover_Sheet!E1244","v":"00:00:00"},{"$f":"IF(Cover_Sheet!F1244=\"\",\"\",Cover_Sheet!F1244)","v":""},{"$f":"Cover_Sheet!G1244","v":0},{"$f":"Cover_Sheet!H1244","v":0}]
[{"$f":"IF(Cover_Sheet!A1245=0,\"N\",\"Y\")","v":"N"},{"$f":"Cover_Sheet!B1245","v":0},{"$f":"Cover_Sheet!C1245","v":0},{"$f":"Cover_Sheet!D1245","v":"00:00:00"},{"$f":"Cover_Sheet!E1245","v":"00:00:00"},{"$f":"IF(Cover_Sheet!F1245=\"\",\"\",Cover_Sheet!F1245)","v":""},{"$f":"Cover_Sheet!G1245","v":0},{"$f":"Cover_Sheet!H1245","v":0}]
[{"$f":"IF(Cover_Sheet!A1246=0,\"N\",\"Y\")","v":"N"},{"$f":"Cover_Sheet!B1246","v":0},{"$f":"Cover_Sheet!C1246","v":0},{"$f":"Cover_Sheet!D1246","v":"00:00:00"},{"$f":"Cover_Sheet!E1246","v":"00:00:00"},{"$f":"IF(Cover_Sheet!F1246=\"\",\"\",Cover_Sheet!F1246)","v":""},{"$f":"Cover_Sheet!G1246","v":0},{"$f":"Cover_Sheet!H1246","v":0}]
[{"$f":"IF(Cover_Sheet!A1247=0,\"N\",\"Y\")","v":"N"},{"$f":"Cover_Sheet!B1247","v":0},{"$f":"Cover_Sheet!C1247","v":0},{"$f":"Cover_Sheet!D1247","v":"00:00:00"},{"$f":"Cover_Sheet!E1247","v":"00:00:00"},{"$f":"IF(Cover_Sheet!F1247=\"\",\"\",Cover_Sheet!F1247)","v":""},{"$f":"Cover_Sheet!G1247","v":0},{"$f":"Cover_Sheet!H1247","v":0}]
[{"$f":"IF(Cover_Sheet!A1248=0,\"N\",\"Y\")","v":"N"},{"$f":"Cover_Sheet!B1248","v":0},{"$f":"Cover_Sheet!C1248","v":0},{"$f":"Cover_Sheet!D1248","v":"00:00:00"},{"$f":"Cover_Sheet!E1248","v":"00:00:00"},{"$f":"IF(Cover_Sheet!F1248=\"\",\"\",Cover_Sheet!F1248)","v":""},{"$f":"Cover_Sheet!G1248","v":0},{"$f":"Cover_Sheet!H1248","v":0}]
[{"$f":"IF(Cover_Sheet!A1249=0,\"N\",\"Y\")","v":"N"},{"$f":"Cover_Sheet!B1249","v":0},{"$f":"Cover_Sheet!C1249","v":0},{"$f":"Cover_Sheet!D1249","v":"00:00:00"},{"$f":"Cover_Sheet!E1249","v":"00:00:00"},{"$f":"IF(Cover_Sheet!F1249=\"\",\"\",Cover_Sheet!F1249)","v":""},{"$f":"Cover_Sheet!G1249","v":0},{"$f":"Cover_Sheet!H1249","v":0}]
[{"$f":"IF(Cover_Sheet!A1250=0,\"N\",\"Y\")","v":"N"},{"$f":"Cover_Sheet!B1250","v":0},{"$f":"Cover_Sheet!C1250","v":0},{"$f":"Cover_Sheet!D1250","v":"00:00:00"},{"$f":"Cover_Sheet!E1250","v":"00:00:00"},{"$f":"IF(Cover_Sheet!F1250=\"\",\"\",Cover_Sheet!F1250)","v":""},{"$f":"Cover_Sheet!G1250","v":0},{"$f":"Cover_Sheet!H1250","v":0}]
[{"$f":"IF(Cover_Sheet!A1251=0,\"N\",\"Y\")","v":"N"},{"$f":"Cover_Sheet!B1251","v":0},{"$f":"Cover_Sheet!C1251","v":0},{"$f":"Cover_Sheet!D1251","v":"00:00:00"},{"$f":"Cover_Sheet!E1251","v":"00:00:00"},{"$f":"IF(Cover_Sheet!F1251=\"\",\"\",Cover_Sheet!F1251)","v":""},{"$f":"Cover_Sheet!G1251","v":0},{"$f":"Cover_Sheet!H1251","v":0}]
[{"$f":"IF(Cover_Sheet!A1252=0,\"N\",\"Y\")","v":"N"},{"$f":"Cover_Sheet!B1252","v":0},{"$f":"Cover_Sheet!C1252","v":0},{"$f":"Cover_Sheet!D1252","v":"00:00:00"},{"$f":"Cover_Sheet!E1252","v":"00:00:00"},{"$f":"IF(Cover_Sheet!F1252=\"\",\"\",Cover_Sheet!F1252)","v":""},{"$f":"Cover_Sheet!G1252","v":0},{"$f":"Cover_Sheet!H1252","v":0}]
[{"$f":"IF(Cover_Sheet!A1253=0,\"N\",\"Y\")","v":"N"},{"$f":"Cover_Sheet!B1253","v":0},{"$f":"Cover_Sheet!C1253","v":0},{"$f":"Cover_Sheet!D1253","v":"00:00:00"},{"$f":"Cover_Sheet!E1253","v":"00:00:00"},{"$f":"IF(Cover_Sheet!F1253=\"\",\"\",Cover_Sheet!F1253)","v":""},{"$f":"Cover_Sheet!G1253","v":0},{"$f":"Cover_Sheet!H1253","v":0}]
[{"$f":"IF(Cover_Sheet!A1254=0,\"N\",\"Y\")","v":"N"},{"$f":"Cover_Sheet!B1254","v":0},{"$f":"Cover_Sheet!C1254","v":0},{"$f":"Cover_Sheet!D1254","v":"00:00:00"},{"$f":"Cover_Sheet!E1254","v":"00:00:00"},{"$f":"IF(Cover_Sheet!F1254=\"\",\"\",Cover_Sheet!F1254)","v":""},{"$f":"Cover_Sheet!G1254","v":0},{"$f":"Cover_Sheet!H1254","v":0}]
[{"$f":"IF(Cover_Sheet!A1255=0,\"N\",\"Y\")","v":"N"},{"$f":"Cover_Sheet!B1255","v":0},{"$f":"Cover_Sheet!C1255","v":0},{"$f":"Cover_Sheet!D1255","v":"00:00:00"},{"$f":"Cover_Sheet!E1255","v":"00:00:00"},{"$f":"IF(Cover_Sheet!F1255=\"\",\"\",Cover_Sheet!F1255)","v":""},{"$f":"Cover_Sheet!G1255","v":0},{"$f":"Cover_Sheet!H1255","v":0}]
[{"$f":"IF(Cover_Sheet!A1256=0,\"N\",\"Y\")","v":"N"},{"$f":"Cover_Sheet!B1256","v":0},{"$f":"Cover_Sheet!C1256","v":0},{"$f":"Cover_Sheet!D1256","v":"00:00:00"},{"$f":"Cover_Sheet!E1256","v":"00:00:00"},{"$f":"IF(Cover_Sheet!F1256=\"\",\"\",Cover_Sheet!F1256)","v":""},{"$f":"Cover_Sheet!G1256","v":0},{"$f":"Cover_Sheet!H1256","v":0}]
[{"$f":"IF(Cover_Sheet!A1257=0,\"N\",\"Y\")","v":"N"},{"$f":"Cover_Sheet!B1257","v":0},{"$f":"Cover_Sheet!C1257","v":0},{"$f":"Cover_Sheet!D1257","v":"00:00:00"},{"$f":"Cover_Sheet!E1257","v":"00:00:00"},{"$f":"IF(Cover_Sheet!F1257=\"\",\"\",Cover_Sheet!F1257)","v":""},{"$f":"Cover_Sheet!G1257","v":0},{"$f":"Cover_Sheet!H1257","v":0}]
[{"$f":"IF(Cover_Sheet!A1258=0,\"N\",\"Y\")","v":"N"},{"$f":"Cover_Sheet!B1258","v":0},{"$f":"Cover_Sheet!C1258","v":0},{"$f":"Cover_Sheet!D1258","v":"00:00:00"},{"$f":"Cover_Sheet!E1258","v":"00:00:00"},{"$f":"IF(Cover_Sheet!F1258=\"\",\"\",Cover_Sheet!F1258)","v":""},{"$f":"Cover_Sheet!G1258","v":0},{"$f":"Cover_Sheet!H1258","v":0}]
[{"$f":"IF(Cover_Sheet!A1259=0,\"N\",\"Y\")","v":"N"},{"$f":"Cover_Sheet!B1259","v":0},{"$f":"Cover_Sheet!C1259","v":0},{"$f":"Cover_Sheet!D1259","v":"00:00:00"},{"$f":"Cover_Sheet!E1259","v":"00:00:00"},{"$f":"IF(Cover_Sheet!F1259=\"\",\"\",Cover_Sheet!F1259)","v":""},{"$f":"Cover_Sheet!G1259","v":0},{"$f":"Cover_Sheet!H1259","v":0}]
[{"$f":"IF(Cover_Sheet!A1260=0,\"N\",\"Y\")","v":"N"},{"$f":"Cover_Sheet!B1260","v":0},{"$f":"Cover_Sheet!C1260","v":0},{"$f":"Cover_Sheet!D1260","v":"00:00:00"},{"$f":"Cover_Sheet!E1260","v":"00:00:00"},{"$f":"IF(Cover_Sheet!F1260=\"\",\"\",Cover_Sheet!F1260)","v":""},{"$f":"Cover_Sheet!G1260","v":0},{"$f":"Cover_Sheet!H1260","v":0}]
[{"$f":"IF(Cover_Sheet!A1261=0,\"N\",\"Y\")","v":"N"},{"$f":"Cover_Sheet!B1261","v":0},{"$f":"Cover_Sheet!C1261","v":0},{"$f":"Cover_Sheet!D1261","v":"00:00:00"},{"$f":"Cover_Sheet!E1261","v":"00:00:00"},{"$f":"IF(Cover_Sheet!F1261=\"\",\"\",Cover_Sheet!F1261)","v":""},{"$f":"Cover_Sheet!G1261","v":0},{"$f":"Cover_Sheet!H1261","v":0}]
[{"$f":"IF(Cover_Sheet!A1262=0,\"N\",\"Y\")","v":"N"},{"$f":"Cover_Sheet!B1262","v":0},{"$f":"Cover_Sheet!C1262","v":0},{"$f":"Cover_Sheet!D1262","v":"00:00:00"},{"$f":"Cover_Sheet!E1262","v":"00:00:00"},{"$f":"IF(Cover_Sheet!F1262=\"\",\"\",Cover_Sheet!F1262)","v":""},{"$f":"Cover_Sheet!G1262","v":0},{"$f":"Cover_Sheet!H1262","v":0}]
[{"$f":"IF(Cover_Sheet!A1263=0,\"N\",\"Y\")","v":"N"},{"$f":"Cover_Sheet!B1263","v":0},{"$f":"Cover_Sheet!C1263","v":0},{"$f":"Cover_Sheet!D1263","v":"00:00:00"},{"$f":"Cover_Sheet!E1263","v":"00:00:00"},{"$f":"IF(Cover_Sheet!F1263=\"\",\"\",Cover_Sheet!F1263)","v":""},{"$f":"Cover_Sheet!G1263","v":0},{"$f":"Cover_Sheet!H1263","v":0}]
[{"$f":"IF(Cover_Sheet!A1264=0,\"N\",\"Y\")","v":"N"},{"$f":"Cover_Sheet!B1264","v":0},{"$f":"Cover_Sheet!C1264","v":0},{"$f":"Cover_Sheet!D1264","v":"00:00:00"},{"$f":"Cover_Sheet!E1264","v":"00:00:00"},{"$f":"IF(Cover_Sheet!F1264=\"\",\"\",Cover_Sheet!F1264)","v":""},{"$f":"Cover_Sheet!G1264","v":0},{"$f":"Cover_Sheet!H1264","v":0}]
[{"$f":"IF(Cover_Sheet!A1265=0,\"N\",\"Y\")","v":"N"},{"$f":"Cover_Sheet!B1265","v":0},{"$f":"Cover_Sheet!C1265","v":0},{"$f":"Cover_Sheet!D1265","v":"00:00:00"},{"$f":"Cover_Sheet!E1265","v":"00:00:00"},{"$f":"IF(Cover_Sheet!F1265=\"\",\"\",Cover_Sheet!F1265)","v":""},{"$f":"Cover_Sheet!G1265","v":0},{"$f":"Cover_Sheet!H1265","v":0}]
[{"$f":"IF(Cover_Sheet!A1266=0,\"N\",\"Y\")","v":"N"},{"$f":"Cover_Sheet!B1266","v":0},{"$f":"Cover_Sheet!C1266","v":0},{"$f":"Cover_Sheet!D1266","v":"00:00:00"},{"$f":"Cover_Sheet!E1266","v":"00:00:00"},{"$f":"IF(Cover_Sheet!F1266=\"\",\"\",Cover_Sheet!F1266)","v":""},{"$f":"Cover_Sheet!G1266","v":0},{"$f":"Cover_Sheet!H1266","v":0}]
[{"$f":"IF(Cover_Sheet!A1267=0,\"N\",\"Y\")","v":"N"},{"$f":"Cover_Sheet!B1267","v":0},{"$f":"Cover_Sheet!C1267","v":0},{"$f":"Cover_Sheet!D1267","v":"00:00:00"},{"$f":"Cover_Sheet!E1267","v":"00:00:00"},{"$f":"IF(Cover_Sheet!F1267=\"\",\"\",Cover_Sheet!F1267)","v":""},{"$f":"Cover_Sheet!G1267","v":0},{"$f":"Cover_Sheet!H1267","v":0}]
[{"$f":"IF(Cover_Sheet!A1268=0,\"N\",\"Y\")","v":"N"},{"$f":"Cover_Sheet!B1268","v":0},{"$f":"Cover_Sheet!C1268","v":0},{"$f":"Cover_Sheet!D1268","v":"00:00:00"},{"$f":"Cover_Sheet!E1268","v":"00:00:00"},{"$f":"IF(Cover_Sheet!F1268=\"\",\"\",Cover_Sheet!F1268)","v":""},{"$f":"Cover_Sheet!G1268","v":0},{"$f":"Cover_Sheet!H1268","v":0}]
[{"$f":"IF(Cover_Sheet!A1269=0,\"N\",\"Y\")","v":"N"},{"$f":"Cover_Sheet!B1269","v":0},{"$f":"Cover_Sheet!C1269","v":0},{"$f":"Cover_Sheet!D1269","v":"00:00:00"},{"$f":"Cover_Sheet!E1269","v":"00:00:00"},{"$f":"IF(Cover_Sheet!F1269=\"\",\"\",Cover_Sheet!F1269)","v":""},{"$f":"Cover_Sheet!G1269","v":0},{"$f":"Cover_Sheet!H1269","v":0}]
[{"$f":"IF(Cover_Sheet!A1270=0,\"N\",\"Y\")","v":"N"},{"$f":"Cover_Sheet!B1270","v":0},{"$f":"Cover_Sheet!C1270","v":0},{"$f":"Cover_Sheet!D1270","v":"00:00:00"},{"$f":"Cover_Sheet!E1270","v":"00:00:00"},{"$f":"IF(Cover_Sheet!F1270=\"\",\"\",Cover_Sheet!F1270)","v":""},{"$f":"Cover_Sheet!G1270","v":0},{"$f":"Cover_Sheet!H1270","v":0}]
[{"$f":"IF(Cover_Sheet!A1271=0,\"N\",\"Y\")","v":"N"},{"$f":"Cover_Sheet!B1271","v":0},{"$f":"Cover_Sheet!C1271","v":0},{"$f":"Cover_Sheet!D1271","v":"00:00:00"},{"$f":"Cover_Sheet!E1271","v":"00:00:00"},{"$f":"IF(Cover_Sheet!F1271=\"\",\"\",Cover_Sheet!F1271)","v":""},{"$f":"Cover_Sheet!G1271","v":0},{"$f":"Cover_Sheet!H1271","v":0}]
[{"$f":"IF(Cover_Sheet!A1272=0,\"N\",\"Y\")","v":"N"},{"$f":"Cover_Sheet!B1272","v":0},{"$f":"Cover_Sheet!C1272","v":0},{"$f":"Cover_Sheet!D1272","v":"00:00:00"},{"$f":"Cover_Sheet!E1272","v":"00:00:00"},{"$f":"IF(Cover_Sheet!F1272=\"\",\"\",Cover_Sheet!F1272)","v":""},{"$f":"Cover_Sheet!G1272","v":0},{"$f":"Cover_Sheet!H1272","v":0}]
[{"$f":"IF(Cover_Sheet!A1273=0,\"N\",\"Y\")","v":"N"},{"$f":"Cover_Sheet!B1273","v":0},{"$f":"Cover_Sheet!C1273","v":0},{"$f":"Cover_Sheet!D1273","v":"00:00:00"},{"$f":"Cover_Sheet!E1273","v":"00:00:00"},{"$f":"IF(Cover_Sheet!F1273=\"\",\"\",Cover_Sheet!F1273)","v":""},{"$f":"Cover_Sheet!G1273","v":0},{"$f":"Cover_Sheet!H1273","v":0}]
[{"$f":"IF(Cover_Sheet!A1274=0,\"N\",\"Y\")","v":"N"},{"$f":"Cover_Sheet!B1274","v":0},{"$f":"Cover_Sheet!C1274","v":0},{"$f":"Cover_Sheet!D1274","v":"00:00:00"},{"$f":"Cover_Sheet!E1274","v":"00:00:00"},{"$f":"IF(Cover_Sheet!F1274=\"\",\"\",Cover_Sheet!F1274)","v":""},{"$f":"Cover_Sheet!G1274","v":0},{"$f":"Cover_Sheet!H1274","v":0}]
[{"$f":"IF(Cover_Sheet!A1275=0,\"N\",\"Y\")","v":"N"},{"$f":"Cover_Sheet!B1275","v":0},{"$f":"Cover_Sheet!C1275","v":0},{"$f":"Cover_Sheet!D1275","v":"00:00:00"},{"$f":"Cover_Sheet!E1275","v":"00:00:00"},{"$f":"IF(Cover_Sheet!F1275=\"\",\"\",Cover_Sheet!F1275)","v":""},{"$f":"Cover_Sheet!G1275","v":0},{"$f":"Cover_Sheet!H1275","v":0}]
[{"$f":"IF(Cover_Sheet!A1276=0,\"N\",\"Y\")","v":"N"},{"$f":"Cover_Sheet!B1276","v":0},{"$f":"Cover_Sheet!C1276","v":0},{"$f":"Cover_Sheet!D1276","v":"00:00:00"},{"$f":"Cover_Sheet!E1276","v":"00:00:00"},{"$f":"IF(Cover_Sheet!F1276=\"\",\"\",Cover_Sheet!F1276)","v":""},{"$f":"Cover_Sheet!G1276","v":0},{"$f":"Cover_Sheet!H1276","v":0}]
[{"$f":"IF(Cover_Sheet!A1277=0,\"N\",\"Y\")","v":"N"},{"$f":"Cover_Sheet!B1277","v":0},{"$f":"Cover_Sheet!C1277","v":0},{"$f":"Cover_Sheet!D1277","v":"00:00:00"},{"$f":"Cover_Sheet!E1277","v":"00:00:00"},{"$f":"IF(Cover_Sheet!F1277=\"\",\"\",Cover_Sheet!F1277)","v":""},{"$f":"Cover_Sheet!G1277","v":0},{"$f":"Cover_Sheet!H1277","v":0}]
[{"$f":"IF(Cover_Sheet!A1278=0,\"N\",\"Y\")","v":"N"},{"$f":"Cover_Sheet!B1278","v":0},{"$f":"Cover_Sheet!C1278","v":0},{"$f":"Cover_Sheet!D1278","v":"00:00:00"},{"$f":"Cover_Sheet!E1278","v":"00:00:00"},{"$f":"IF(Cover_Sheet!F1278=\"\",\"\",Cover_Sheet!F1278)","v":""},{"$f":"Cover_Sheet!G1278","v":0},{"$f":"Cover_Sheet!H1278","v":0}]
[{"$f":"IF(Cover_Sheet!A1279=0,\"N\",\"Y\")","v":"N"},{"$f":"Cover_Sheet!B1279","v":0},{"$f":"Cover_Sheet!C1279","v":0},{"$f":"Cover_Sheet!D1279","v":"00:00:00"},{"$f":"Cover_Sheet!E1279","v":"00:00:00"},{"$f":"IF(Cover_Sheet!F1279=\"\",\"\",Cover_Sheet!F1279)","v":""},{"$f":"Cover_Sheet!G1279","v":0},{"$f":"Cover_Sheet!H1279","v":0}]
[{"$f":"IF(Cover_Sheet!A1280=0,\"N\",\"Y\")","v":"N"},{"$f":"Cover_Sheet!B1280","v":0},{"$f":"Cover_Sheet!C1280","v":0},{"$f":"Cover_Sheet!D1280","v":"00:00:00"},{"$f":"Cover_Sheet!E1280","v":"00:00:00"},{"$f":"IF(Cover_Sheet!F1280=\"\",\"\",Cover_Sheet!F1280)","v":""},{"$f":"Cover_Sheet!G1280","v":0},{"$f":"Cover_Sheet!H1280","v":0}]
[{"$f":"IF(Cover_Sheet!A1281=0,\"N\",\"Y\")","v":"N"},{"$f":"Cover_Sheet!B1281","v":0},{"$f":"Cover_Sheet!C1281","v":0},{"$f":"Cover_Sheet!D1281","v":"00:00:00"},{"$f":"Cover_Sheet!E1281","v":"00:00:00"},{"$f":"IF(Cover_Sheet!F1281=\"\",\"\",Cover_Sheet!F1281)","v":""},{"$f":"Cover_Sheet!G1281","v":0},{"$f":"Cover_Sheet!H1281","v":0}]
[{"$f":"IF(Cover_Sheet!A1282=0,\"N\",\"Y\")","v":"N"},{"$f":"Cover_Sheet!B1282","v":0},{"$f":"Cover_Sheet!C1282","v":0},{"$f":"Cover_Sheet!D1282","v":"00:00:00"},{"$f":"Cover_Sheet!E1282","v":"00:00:00"},{"$f":"IF(Cover_Sheet!F1282=\"\",\"\",Cover_Sheet!F1282)","v":""},{"$f":"Cover_Sheet!G1282","v":0},{"$f":"Cover_Sheet!H1282","v":0}]
[{"$f":"IF(Cover_Sheet!A1283=0,\"N\",\"Y\")","v":"N"},{"$f":"Cover_Sheet!B1283","v":0},{"$f":"Cover_Sheet!C1283","v":0},{"$f":"Cover_Sheet!D1283","v":"00:00:00"},{"$f":"Cover_Sheet!E1283","v":"00:00:00"},{"$f":"IF(Cover_Sheet!F1283=\"\",\"\",Cover_Sheet!F1283)","v":""},{"$f":"Cover_Sheet!G1283","v":0},{"$f":"Cover_Sheet!H1283","v":0}]
[{"$f":"IF(Cover_Sheet!A1284=0,\"N\",\"Y\")","v":"N"},{"$f":"Cover_Sheet!B1284","v":0},{"$f":"Cover_Sheet!C1284","v":0},{"$f":"Cover_Sheet!D1284","v":"00:00:00"},{"$f":"Cover_Sheet!E1284","v":"00:00:00"},{"$f":"IF(Cover_Sheet!F1284=\"\",\"\",Cover_Sheet!F1284)","v":""},{"$f":"Cover_Sheet!G1284","v":0},{"$f":"Cover_Sheet!H1284","v":0}]
[{"$f":"IF(Cover_Sheet!A1285=0,\"N\",\"Y\")","v":"N"},{"$f":"Cover_Sheet!B1285","v":0},{"$f":"Cover_Sheet!C1285","v":0},{"$f":"Cover_Sheet!D1285","v":"00:00:00"},{"$f":"Cover_Sheet!E1285","v":"00:00:00"},{"$f":"IF(Cover_Sheet!F1285=\"\",\"\",Cover_Sheet!F1285)","v":""},{"$f":"Cover_Sheet!G1285","v":0},{"$f":"Cover_Sheet!H1285","v":0}]
[{"$f":"IF(Cover_Sheet!A1286=0,\"N\",\"Y\")","v":"N"},{"$f":"Cover_Sheet!B1286","v":0},{"$f":"Cover_Sheet!C1286","v":0},{"$f":"Cover_Sheet!D1286","v":"00:00:00"},{"$f":"Cover_Sheet!E1286","v":"00:00:00"},{"$f":"IF(Cover_Sheet!F1286=\"\",\"\",Cover_Sheet!F1286)","v":""},{"$f":"Cover_Sheet!G1286","v":0},{"$f":"Cover_Sheet!H1286","v":0}]
[{"$f":"IF(Cover_Sheet!A1287=0,\"N\",\"Y\")","v":"N"},{"$f":"Cover_Sheet!B1287","v":0},{"$f":"Cover_Sheet!C1287","v":0},{"$f":"Cover_Sheet!D1287","v":"00:00:00"},{"$f":"Cover_Sheet!E1287","v":"00:00:00"},{"$f":"IF(Cover_Sheet!F1287=\"\",\"\",Cover_Sheet!F1287)","v":""},{"$f":"Cover_Sheet!G1287","v":0},{"$f":"Cover_Sheet!H1287","v":0}]
[{"$f":"IF(Cover_Sheet!A1288=0,\"N\",\"Y\")","v":"N"},{"$f":"Cover_Sheet!B1288","v":0},{"$f":"Cover_Sheet!C1288","v":0},{"$f":"Cover_Sheet!D1288","v":"00:00:00"},{"$f":"Cover_Sheet!E1288","v":"00:00:00"},{"$f":"IF(Cover_Sheet!F1288=\"\",\"\",Cover_Sheet!F1288)","v":""},{"$f":"Cover_Sheet!G1288","v":0},{"$f":"Cover_Sheet!H1288","v":0}]
[{"$f":"IF(Cover_Sheet!A1289=0,\"N\",\"Y\")","v":"N"},{"$f":"Cover_Sheet!B1289","v":0},{"$f":"Cover_Sheet!C1289","v":0},{"$f":"Cover_Sheet!D1289","v":"00:00:00"},{"$f":"Cover_Sheet!E1289","v":"00:00:00"},{"$f":"IF(Cover_Sheet!F1289=\"\",\"\",Cover_Sheet!F1289)","v":""},{"$f":"Cover_Sheet!G1289","v":0},{"$f":"Cover_Sheet!H1289","v":0}]
[{"$f":"IF(Cover_Sheet!A1290=0,\"N\",\"Y\")","v":"N"},{"$f":"Cover_Sheet!B1290","v":0},{"$f":"Cover_Sheet!C1290","v":0},{"$f":"Cover_Sheet!D1290","v":"00:00:00"},{"$f":"Cover_Sheet!E1290","v":"00:00:00"},{"$f":"IF(Cover_Sheet!F1290=\"\",\"\",Cover_Sheet!F1290)","v":""},{"$f":"Cover_Sheet!G1290","v":0},{"$f":"Cover_Sheet!H1290","v":0}]
[{"$f":"IF(Cover_Sheet!A1291=0,\"N\",\"Y\")","v":"N"},{"$f":"Cover_Sheet!B1291","v":0},{"$f":"Cover_Sheet!C1291","v":0},{"$f":"Cover_Sheet!D1291","v":"00:00:00"},{"$f":"Cover_Sheet!E1291","v":"00:00:00"},{"$f":"IF(Cover_Sheet!F1291=\"\",\"\",Cover_Sheet!F1291)","v":""},{"$f":"Cover_Sheet!G1291","v":0},{"$f":"Cover_Sheet!H1291","v":0}]
[{"$f":"IF(Cover_Sheet!A1292=0,\"N\",\"Y\")","v":"N"},{"$f":"Cover_Sheet!B1292","v":0},{"$f":"Cover_Sheet!C1292","v":0},{"$f":"Cover_Sheet!D1292","v":"00:00:00"},{"$f":"Cover_Sheet!E1292","v":"00:00:00"},{"$f":"IF(Cover_Sheet!F1292=\"\",\"\",Cover_Sheet!F1292)","v":""},{"$f":"Cover_Sheet!G1292","v":0},{"$f":"Cover_Sheet!H1292","v":0}]
[{"$f":"IF(Cover_Sheet!A1293=0,\"N\",\"Y\")","v":"N"},{"$f":"Cover_Sheet!B1293","v":0},{"$f":"Cover_Sheet!C1293","v":0},{"$f":"Cover_Sheet!D1293","v":"00:00:00"},{"$f":"Cover_Sheet!E1293","v":"00:00:00"},{"$f":"IF(Cover_Sheet!F1293=\"\",\"\",Cover_Sheet!F1293)","v":""},{"$f":"Cover_Sheet!G1293","v":0},{"$f":"Cover_Sheet!H1293","v":0}]
[{"$f":"IF(Cover_Sheet!A1294=0,\"N\",\"Y\")","v":"N"},{"$f":"Cover_Sheet!B1294","v":0},{"$f":"Cover_Sheet!C1294","v":0},{"$f":"Cover_Sheet!D1294","v":"00:00:00"},{"$f":"Cover_Sheet!E1294","v":"00:00:00"},{"$f":"IF(Cover_Sheet!F1294=\"\",\"\",Cover_Sheet!F1294)","v":""},{"$f":"Cover_Sheet!G1294","v":0},{"$f":"Cover_Sheet!H1294","v":0}]
[{"$f":"IF(Cover_Sheet!A1295=0,\"N\",\"Y\")","v":"N"},{"$f":"Cover_Sheet!B1295","v":0},{"$f":"Cover_Sheet!C1295","v":0},{"$f":"Cover_Sheet!D1295","v":"00:00:00"},{"$f":"Cover_Sheet!E1295","v":"00:00:00"},{"$f":"IF(Cover_Sheet!F1295=\"\",\"\",Cover_Sheet!F1295)","v":""},{"$f":"Cover_Sheet!G1295","v":0},{"$f":"Cover_Sheet!H1295","v":0}]
[{"$f":"IF(Cover_Sheet!A1296=0,\"N\",\"Y\")","v":"N"},{"$f":"Cover_Sheet!B1296","v":0},{"$f":"Cover_Sheet!C1296","v":0},{"$f":"Cover_Sheet!D1296","v":"00:00:00"},{"$f":"Cover_Sheet!E1296","v":"00:00:00"},{"$f":"IF(Cover_Sheet!F1296=\"\",\"\",Cover_Sheet!F1296)","v":""},{"$f":"Cover_Sheet!G1296","v":0},{"$f":"Cover_Sheet!H1296","v":0}]
[{"$f":"IF(Cover_Sheet!A1297=0,\"N\",\"Y\")","v":"N"},{"$f":"Cover_Sheet!B1297","v":0},{"$f":"Cover_Sheet!C1297","v":0},{"$f":"Cover_Sheet!D1297","v":"00:00:00"},{"$f":"Cover_Sheet!E1297","v":"00:00:00"},{"$f":"IF(Cover_Sheet!F1297=\"\",\"\",Cover_Sheet!F1297)","v":""},{"$f":"Cover_Sheet!G1297","v":0},{"$f":"Cover_Sheet!H1297","v":0}]
[{"$f":"IF(Cover_Sheet!A1298=0,\"N\",\"Y\")","v":"N"},{"$f":"Cover_Sheet!B1298","v":0},{"$f":"Cover_Sheet!C1298","v":0},{"$f":"Cover_Sheet!D1298","v":"00:00:00"},{"$f":"Cover_Sheet!E1298","v":"00:00:00"},{"$f":"IF(Cover_Sheet!F1298=\"\",\"\",Cover_Sheet!F1298)","v":""},{"$f":"Cover_Sheet!G1298","v":0},{"$f":"Cover_Sheet!H1298","v":0}]
[{"$f":"IF(Cover_Sheet!A1299=0,\"N\",\"Y\")","v":"N"},{"$f":"Cover_Sheet!B1299","v":0},{"$f":"Cover_Sheet!C1299","v":0},{"$f":"Cover_Sheet!D1299","v":"00:00:00"},{"$f":"Cover_Sheet!E1299","v":"00:00:00"},{"$f":"IF(Cover_Sheet!F1299=\"\",\"\",Cover_Sheet!F1299)","v":""},{"$f":"Cover_Sheet!G1299","v":0},{"$f":"Cover_Sheet!H1299","v":0}]
[{"$f":"IF(Cover_Sheet!A1300=0,\"N\",\"Y\")","v":"N"},{"$f":"Cover_Sheet!B1300","v":0},{"$f":"Cover_Sheet!C1300","v":0},{"$f":"Cover_Sheet!D1300","v":"00:00:00"},{"$f":"Cover_Sheet!E1300","v":"00:00:00"},{"$f":"IF(Cover_Sheet!F1300=\"\",\"\",Cover_Sheet!F1300)","v":""},{"$f":"Cover_Sheet!G1300","v":0},{"$f":"Cover_Sheet!H1300","v":0}]
[{"$f":"IF(Cover_Sheet!A1301=0,\"N\",\"Y\")","v":"N"},{"$f":"Cover_Sheet!B1301","v":0},{"$f":"Cover_Sheet!C1301","v":0},{"$f":"Cover_Sheet!D1301","v":"00:00:00"},{"$f":"Cover_Sheet!E1301","v":"00:00:00"},{"$f":"IF(Cover_Sheet!F1301=\"\",\"\",Cover_Sheet!F1301)","v":""},{"$f":"Cover_Sheet!G1301","v":0},{"$f":"Cover_Sheet!H1301","v":0}]
[{"$f":"IF(Cover_Sheet!A1302=0,\"N\",\"Y\")","v":"N"},{"$f":"Cover_Sheet!B1302","v":0},{"$f":"Cover_Sheet!C1302","v":0},{"$f":"Cover_Sheet!D1302","v":"00:00:00"},{"$f":"Cover_Sheet!E1302","v":"00:00:00"},{"$f":"IF(Cover_Sheet!F1302=\"\",\"\",Cover_Sheet!F1302)","v":""},{"$f":"Cover_Sheet!G1302","v":0},{"$f":"Cover_Sheet!H1302","v":0}]
[{"$f":"IF(Cover_Sheet!A1303=0,\"N\",\"Y\")","v":"N"},{"$f":"Cover_Sheet!B1303","v":0},{"$f":"Cover_Sheet!C1303","v":0},{"$f":"Cover_Sheet!D1303","v":"00:00:00"},{"$f":"Cover_Sheet!E1303","v":"00:00:00"},{"$f":"IF(Cover_Sheet!F1303=\"\",\"\",Cover_Sheet!F1303)","v":""},{"$f":"Cover_Sheet!G1303","v":0},{"$f":"Cover_Sheet!H1303","v":0}]
[{"$f":"IF(Cover_Sheet!A1304=0,\"N\",\"Y\")","v":"N"},{"$f":"Cover_Sheet!B1304","v":0},{"$f":"Cover_Sheet!C1304","v":0},{"$f":"Cover_Sheet!D1304","v":"00:00:00"},{"$f":"Cover_Sheet!E1304","v":"00:00:00"},{"$f":"IF(Cover_Sheet!F1304=\"\",\"\",Cover_Sheet!F1304)","v":""},{"$f":"Cover_Sheet!G1304","v":0},{"$f":"Cover_Sheet!H1304","v":0}]
[{"$f":"IF(Cover_Sheet!A1305=0,\"N\",\"Y\")","v":"N"},{"$f":"Cover_Sheet!B1305","v":0},{"$f":"Cover_Sheet!C1305","v":0},{"$f":"Cover_Sheet!D1305","v":"00:00:00"},{"$f":"Cover_Sheet!E1305","v":"00:00:00"},{"$f":"IF(Cover_Sheet!F1305=\"\",\"\",Cover_Sheet!F1305)","v":""},{"$f":"Cover_Sheet!G1305","v":0},{"$f":"Cover_Sheet!H1305","v":0}]
[{"$f":"IF(Cover_Sheet!A1306=0,\"N\",\"Y\")","v":"N"},{"$f":"Cover_Sheet!B1306","v":0},{"$f":"Cover_Sheet!C1306","v":0},{"$f":"Cover_Sheet!D1306","v":"00:00:00"},{"$f":"Cover_Sheet!E1306","v":"00:00:00"},{"$f":"IF(Cover_Sheet!F1306=\"\",\"\",Cover_Sheet!F1306)","v":""},{"$f":"Cover_Sheet!G1306","v":0},{"$f":"Cover_Sheet!H1306","v":0}]
[{"$f":"IF(Cover_Sheet!A1307=0,\"N\",\"Y\")","v":"N"},{"$f":"Cover_Sheet!B1307","v":0},{"$f":"Cover_Sheet!C1307","v":0},{"$f":"Cover_Sheet!D1307","v":"00:00:00"},{"$f":"Cover_Sheet!E1307","v":"00:00:00"},{"$f":"IF(Cover_Sheet!F1307=\"\",\"\",Cover_Sheet!F1307)","v":""},{"$f":"Cover_Sheet!G1307","v":0},{"$f":"Cover_Sheet!H1307","v":0}]
[{"$f":"IF(Cover_Sheet!A1308=0,\"N\",\"Y\")","v":"N"},{"$f":"Cover_Sheet!B1308","v":0},{"$f":"Cover_Sheet!C1308","v":0},{"$f":"Cover_Sheet!D1308","v":"00:00:00"},{"$f":"Cover_Sheet!E1308","v":"00:00:00"},{"$f":"IF(Cover_Sheet!F1308=\"\",\"\",Cover_Sheet!F1308)","v":""},{"$f":"Cover_Sheet!G1308","v":0},{"$f":"Cover_Sheet!H1308","v":0}]
[{"$f":"IF(Cover_Sheet!A1309=0,\"N\",\"Y\")","v":"N"},{"$f":"Cover_Sheet!B1309","v":0},{"$f":"Cover_Sheet!C1309","v":0},{"$f":"Cover_Sheet!D1309","v":"00:00:00"},{"$f":"Cover_Sheet!E1309","v":"00:00:00"},{"$f":"IF(Cover_Sheet!F1309=\"\",\"\",Cover_Sheet!F1309)","v":""},{"$f":"Cover_Sheet!G1309","v":0},{"$f":"Cover_Sheet!H1309","v":0}]
[{"$f":"IF(Cover_Sheet!A1310=0,\"N\",\"Y\")","v":"N"},{"$f":"Cover_Sheet!B1310","v":0},{"$f":"Cover_Sheet!C1310","v":0},{"$f":"Cover_Sheet!D1310","v":"00:00:00"},{"$f":"Cover_Sheet!E1310","v":"00:00:00"},{"$f":"IF(Cover_Sheet!F1310=\"\",\"\",Cover_Sheet!F1310)","v":""},{"$f":"Cover_Sheet!G1310","v":0},{"$f":"Cover_Sheet!H1310","v":0}]
[{"$f":"IF(Cover_Sheet!A1311=0,\"N\",\"Y\")","v":"N"},{"$f":"Cover_Sheet!B1311","v":0},{"$f":"Cover_Sheet!C1311","v":0},{"$f":"Cover_Sheet!D1311","v":"00:00:00"},{"$f":"Cover_Sheet!E1311","v":"00:00:00"},{"$f":"IF(Cover_Sheet!F1311=\"\",\"\",Cover_Sheet!F1311)","v":""},{"$f":"Cover_Sheet!G1311","v":0},{"$f":"Cover_Sheet!H1311","v":0}]
[{"$f":"IF(Cover_Sheet!A1312=0,\"N\",\"Y\")","v":"N"},{"$f":"Cover_Sheet!B1312","v":0},{"$f":"Cover_Sheet!C1312","v":0},{"$f":"Cover_Sheet!D1312","v":"00:00:00"},{"$f":"Cover_Sheet!E1312","v":"00:00:00"},{"$f":"IF(Cover_Sheet!F1312=\"\",\"\",Cover_Sheet!F1312)","v":""},{"$f":"Cover_Sheet!G1312","v":0},{"$f":"Cover_Sheet!H1312","v":0}]
[{"$f":"IF(Cover_Sheet!A1313=0,\"N\",\"Y\")","v":"N"},{"$f":"Cover_Sheet!B1313","v":0},{"$f":"Cover_Sheet!C1313","v":0},{"$f":"Cover_Sheet!D1313","v":"00:00:00"},{"$f":"Cover_Sheet!E1313","v":"00:00:00"},{"$f":"IF(Cover_Sheet!F1313=\"\",\"\",Cover_Sheet!F1313)","v":""},{"$f":"Cover_Sheet!G1313","v":0},{"$f":"Cover_Sheet!H1313","v":0}]
[{"$f":"IF(Cover_Sheet!A1314=0,\"N\",\"Y\")","v":"N"},{"$f":"Cover_Sheet!B1314","v":0},{"$f":"Cover_Sheet!C1314","v":0},{"$f":"Cover_Sheet!D1314","v":"00:00:00"},{"$f":"Cover_Sheet!E1314","v":"00:00:00"},{"$f":"IF(Cover_Sheet!F1314=\"\",\"\",Cover_Sheet!F1314)","v":""},{"$f":"Cover_Sheet!G1314","v":0},{"$f":"Cover_Sheet!H1314","v":0}]
[{"$f":"IF(Cover_Sheet!A1315=0,\"N\",\"Y\")","v":"N"},{"$f":"Cover_Sheet!B1315","v":0},{"$f":"Cover_Sheet!C1315","v":0},{"$f":"Cover_Sheet!D1315","v":"00:00:00"},{"$f":"Cover_Sheet!E1315","v":"00:00:00"},{"$f":"IF(Cover_Sheet!F1315=\"\",\"\",Cover_Sheet!F1315)","v":""},{"$f":"Cover_Sheet!G1315","v":0},{"$f":"Cover_Sheet!H1315","v":0}]
[{"$f":"IF(Cover_Sheet!A1316=0,\"N\",\"Y\")","v":"N"},{"$f":"Cover_Sheet!B1316","v":0},{"$f":"Cover_Sheet!C1316","v":0},{"$f":"Cover_Sheet!D1316","v":"00:00:00"},{"$f":"Cover_Sheet!E1316","v":"00:00:00"},{"$f":"IF(Cover_Sheet!F1316=\"\",\"\",Cover_Sheet!F1316)","v":""},{"$f":"Cover_Sheet!G1316","v":0},{"$f":"Cover_Sheet!H1316","v":0}]
[{"$f":"IF(Cover_Sheet!A1317=0,\"N\",\"Y\")","v":"N"},{"$f":"Cover_Sheet!B1317","v":0},{"$f":"Cover_Sheet!C1317","v":0},{"$f":"Cover_Sheet!D1317","v":"00:00:00"},{"$f":"Cover_Sheet!E1317","v":"00:00:00"},{"$f":"IF(Cover_Sheet!F1317=\"\",\"\",Cover_Sheet!F1317)","v":""},{"$f":"Cover_Sheet!G1317","v":0},{"$f":"Cover_Sheet!H1317","v":0}]
[{"$f":"IF(Cover_Sheet!A1318=0,\"N\",\"Y\")","v":"N"},{"$f":"Cover_Sheet!B1318","v":0},{"$f":"Cover_Sheet!C1318","v":0},{"$f":"Cover_Sheet!D1318","v":"00:00:00"},{"$f":"Cover_Sheet!E1318","v":"00:00:00"},{"$f":"IF(Cover_Sheet!F1318=\"\",\"\",Cover_Sheet!F1318)","v":""},{"$f":"Cover_Sheet!G1318","v":0},{"$f":"Cover_Sheet!H1318","v":0}]
[{"$f":"IF(Cover_Sheet!A1319=0,\"N\",\"Y\")","v":"N"},{"$f":"Cover_Sheet!B1319","v":0},{"$f":"Cover_Sheet!C1319","v":0},{"$f":"Cover_Sheet!D1319","v":"00:00:00"},{"$f":"Cover_Sheet!E1319","v":"00:00:00"},{"$f":"IF(Cover_Sheet!F1319=\"\",\"\",Cover_Sheet!F1319)","v":""},{"$f":"Cover_Sheet!G1319","v":0},{"$f":"Cover_Sheet!H1319","v":0}]
[{"$f":"IF(Cover_Sheet!A1320=0,\"N\",\"Y\")","v":"N"},{"$f":"Cover_Sheet!B1320","v":0},{"$f":"Cover_Sheet!C1320","v":0},{"$f":"Cover_Sheet!D1320","v":"00:00:00"},{"$f":"Cover_Sheet!E1320","v":"00:00:00"},{"$f":"IF(Cover_Sheet!F1320=\"\",\"\",Cover_Sheet!F1320)","v":""},{"$f":"Cover_Sheet!G1320","v":0},{"$f":"Cover_Sheet!H1320","v":0}]
[{"$f":"IF(Cover_Sheet!A1321=0,\"N\",\"Y\")","v":"N"},{"$f":"Cover_Sheet!B1321","v":0},{"$f":"Cover_Sheet!C1321","v":0},{"$f":"Cover_Sheet!D1321","v":"00:00:00"},{"$f":"Cover_Sheet!E1321","v":"00:00:00"},{"$f":"IF(Cover_Sheet!F1321=\"\",\"\",Cover_Sheet!F1321)","v":""},{"$f":"Cover_Sheet!G1321","v":0},{"$f":"Cover_Sheet!H1321","v":0}]
[{"$f":"IF(Cover_Sheet!A1322=0,\"N\",\"Y\")","v":"N"},{"$f":"Cover_Sheet!B1322","v":0},{"$f":"Cover_Sheet!C1322","v":0},{"$f":"Cover_Sheet!D1322","v":"00:00:00"},{"$f":"Cover_Sheet!E1322","v":"00:00:00"},{"$f":"IF(Cover_Sheet!F1322=\"\",\"\",Cover_Sheet!F1322)","v":""},{"$f":"Cover_Sheet!G1322","v":0},{"$f":"Cover_Sheet!H1322","v":0}]
[{"$f":"IF(Cover_Sheet!A1323=0,\"N\",\"Y\")","v":"N"},{"$f":"Cover_Sheet!B1323","v":0},{"$f":"Cover_Sheet!C1323","v":0},{"$f":"Cover_Sheet!D1323","v":"00:00:00"},{"$f":"Cover_Sheet!E1323","v":"00:00:00"},{"$f":"IF(Cover_Sheet!F1323=\"\",\"\",Cover_Sheet!F1323)","v":""},{"$f":"Cover_Sheet!G1323","v":0},{"$f":"Cover_Sheet!H1323","v":0}]
[{"$f":"IF(Cover_Sheet!A1324=0,\"N\",\"Y\")","v":"N"},{"$f":"Cover_Sheet!B1324","v":0},{"$f":"Cover_Sheet!C1324","v":0},{"$f":"Cover_Sheet!D1324","v":"00:00:00"},{"$f":"Cover_Sheet!E1324","v":"00:00:00"},{"$f":"IF(Cover_Sheet!F1324=\"\",\"\",Cover_Sheet!F1324)","v":""},{"$f":"Cover_Sheet!G1324","v":0},{"$f":"Cover_Sheet!H1324","v":0}]
[{"$f":"IF(Cover_Sheet!A1325=0,\"N\",\"Y\")","v":"N"},{"$f":"Cover_Sheet!B1325","v":0},{"$f":"Cover_Sheet!C1325","v":0},{"$f":"Cover_Sheet!D1325","v":"00:00:00"},{"$f":"Cover_Sheet!E1325","v":"00:00:00"},{"$f":"IF(Cover_Sheet!F1325=\"\",\"\",Cover_Sheet!F1325)","v":""},{"$f":"Cover_Sheet!G1325","v":0},{"$f":"Cover_Sheet!H1325","v":0}]
[{"$f":"IF(Cover_Sheet!A1326=0,\"N\",\"Y\")","v":"N"},{"$f":"Cover_Sheet!B1326","v":0},{"$f":"Cover_Sheet!C1326","v":0},{"$f":"Cover_Sheet!D1326","v":"00:00:00"},{"$f":"Cover_Sheet!E1326","v":"00:00:00"},{"$f":"IF(Cover_Sheet!F1326=\"\",\"\",Cover_Sheet!F1326)","v":""},{"$f":"Cover_Sheet!G1326","v":0},{"$f":"Cover_Sheet!H1326","v":0}]
[{"$f":"IF(Cover_Sheet!A1327=0,\"N\",\"Y\")","v":"N"},{"$f":"Cover_Sheet!B1327","v":0},{"$f":"Cover_Sheet!C1327","v":0},{"$f":"Cover_Sheet!D1327","v":"00:00:00"},{"$f":"Cover_Sheet!E1327","v":"00:00:00"},{"$f":"IF(Cover_Sheet!F1327=\"\",\"\",Cover_Sheet!F1327)","v":""},{"$f":"Cover_Sheet!G1327","v":0},{"$f":"Cover_Sheet!H1327","v":0}]
[{"$f":"IF(Cover_Sheet!A1328=0,\"N\",\"Y\")","v":"N"},{"$f":"Cover_Sheet!B1328","v":0},{"$f":"Cover_Sheet!C1328","v":0},{"$f":"Cover_Sheet!D1328","v":"00:00:00"},{"$f":"Cover_Sheet!E1328","v":"00:00:00"},{"$f":"IF(Cover_Sheet!F1328=\"\",\"\",Cover_Sheet!F1328)","v":""},{"$f":"Cover_Sheet!G1328","v":0},{"$f":"Cover_Sheet!H1328","v":0}]
[{"$f":"IF(Cover_Sheet!A1329=0,\"N\",\"Y\")","v":"N"},{"$f":"Cover_Sheet!B1329","v":0},{"$f":"Cover_Sheet!C1329","v":0},{"$f":"Cover_Sheet!D1329","v":"00:00:00"},{"$f":"Cover_Sheet!E1329","v":"00:00:00"},{"$f":"IF(Cover_Sheet!F1329=\"\",\"\",Cover_Sheet!F1329)","v":""},{"$f":"Cover_Sheet!G1329","v":0},{"$f":"Cover_Sheet!H1329","v":0}]
[{"$f":"IF(Cover_Sheet!A1330=0,\"N\",\"Y\")","v":"N"},{"$f":"Cover_Sheet!B1330","v":0},{"$f":"Cover_Sheet!C1330","v":0},{"$f":"Cover_Sheet!D1330","v":"00:00:00"},{"$f":"Cover_Sheet!E1330","v":"00:00:00"},{"$f":"IF(Cover_Sheet!F1330=\"\",\"\",Cover_Sheet!F1330)","v":""},{"$f":"Cover_Sheet!G1330","v":0},{"$f":"Cover_Sheet!H1330","v":0}]
[{"$f":"IF(Cover_Sheet!A1331=0,\"N\",\"Y\")","v":"N"},{"$f":"Cover_Sheet!B1331","v":0},{"$f":"Cover_Sheet!C1331","v":0},{"$f":"Cover_Sheet!D1331","v":"00:00:00"},{"$f":"Cover_Sheet!E1331","v":"00:00:00"},{"$f":"IF(Cover_Sheet!F1331=\"\",\"\",Cover_Sheet!F1331)","v":""},{"$f":"Cover_Sheet!G1331","v":0},{"$f":"Cover_Sheet!H1331","v":0}]
[{"$f":"IF(Cover_Sheet!A1332=0,\"N\",\"Y\")","v":"N"},{"$f":"Cover_Sheet!B1332","v":0},{"$f":"Cover_Sheet!C1332","v":0},{"$f":"Cover_Sheet!D1332","v":"00:00:00"},{"$f":"Cover_Sheet!E1332","v":"00:00:00"},{"$f":"IF(Cover_Sheet!F1332=\"\",\"\",Cover_Sheet!F1332)","v":""},{"$f":"Cover_Sheet!G1332","v":0},{"$f":"Cover_Sheet!H1332","v":0}]
[{"$f":"IF(Cover_Sheet!A1333=0,\"N\",\"Y\")","v":"N"},{"$f":"Cover_Sheet!B1333","v":0},{"$f":"Cover_Sheet!C1333","v":0},{"$f":"Cover_Sheet!D1333","v":"00:00:00"},{"$f":"Cover_Sheet!E1333","v":"00:00:00"},{"$f":"IF(Cover_Sheet!F1333=\"\",\"\",Cover_Sheet!F1333)","v":""},{"$f":"Cover_Sheet!G1333","v":0},{"$f":"Cover_Sheet!H1333","v":0}]
[{"$f":"IF(Cover_Sheet!A1334=0,\"N\",\"Y\")","v":"N"},{"$f":"Cover_Sheet!B1334","v":0},{"$f":"Cover_Sheet!C1334","v":0},{"$f":"Cover_Sheet!D1334","v":"00:00:00"},{"$f":"Cover_Sheet!E1334","v":"00:00:00"},{"$f":"IF(Cover_Sheet!F1334=\"\",\"\",Cover_Sheet!F1334)","v":""},{"$f":"Cover_Sheet!G1334","v":0},{"$f":"Cover_Sheet!H1334","v":0}]
[{"$f":"IF(Cover_Sheet!A1335=0,\"N\",\"Y\")","v":"N"},{"$f":"Cover_Sheet!B1335","v":0},{"$f":"Cover_Sheet!C1335","v":0},{"$f":"Cover_Sheet!D1335","v":"00:00:00"},{"$f":"Cover_Sheet!E1335","v":"00:00:00"},{"$f":"IF(Cover_Sheet!F1335=\"\",\"\",Cover_Sheet!F1335)","v":""},{"$f":"Cover_Sheet!G1335","v":0},{"$f":"Cover_Sheet!H1335","v":0}]
[{"$f":"IF(Cover_Sheet!A1336=0,\"N\",\"Y\")","v":"N"},{"$f":"Cover_Sheet!B1336","v":0},{"$f":"Cover_Sheet!C1336","v":0},{"$f":"Cover_Sheet!D1336","v":"00:00:00"},{"$f":"Cover_Sheet!E1336","v":"00:00:00"},{"$f":"IF(Cover_Sheet!F1336=\"\",\"\",Cover_Sheet!F1336)","v":""},{"$f":"Cover_Sheet!G1336","v":0},{"$f":"Cover_Sheet!H1336","v":0}]
[{"$f":"IF(Cover_Sheet!A1337=0,\"N\",\"Y\")","v":"N"},{"$f":"Cover_Sheet!B1337","v":0},{"$f":"Cover_Sheet!C1337","v":0},{"$f":"Cover_Sheet!D1337","v":"00:00:00"},{"$f":"Cover_Sheet!E1337","v":"00:00:00"},{"$f":"IF(Cover_Sheet!F1337=\"\",\"\",Cover_Sheet!F1337)","v":""},{"$f":"Cover_Sheet!G1337","v":0},{"$f":"Cover_Sheet!H1337","v":0}]
[{"$f":"IF(Cover_Sheet!A1338=0,\"N\",\"Y\")","v":"N"},{"$f":"Cover_Sheet!B1338","v":0},{"$f":"Cover_Sheet!C1338","v":0},{"$f":"Cover_Sheet!D1338","v":"00:00:00"},{"$f":"Cover_Sheet!E1338","v":"00:00:00"},{"$f":"IF(Cover_Sheet!F1338=\"\",\"\",Cover_Sheet!F1338)","v":""},{"$f":"Cover_Sheet!G1338","v":0},{"$f":"Cover_Sheet!H1338","v":0}]
[{"$f":"IF(Cover_Sheet!A1339=0,\"N\",\"Y\")","v":"N"},{"$f":"Cover_Sheet!B1339","v":0},{"$f":"Cover_Sheet!C1339","v":0},{"$f":"Cover_Sheet!D1339","v":"00:00:00"},{"$f":"Cover_Sheet!E1339","v":"00:00:00"},{"$f":"IF(Cover_Sheet!F1339=\"\",\"\",Cover_Sheet!F1339)","v":""},{"$f":"Cover_Sheet!G1339","v":0},{"$f":"Cover_Sheet!H1339","v":0}]
[{"$f":"IF(Cover_Sheet!A1340=0,\"N\",\"Y\")","v":"N"},{"$f":"Cover_Sheet!B1340","v":0},{"$f":"Cover_Sheet!C1340","v":0},{"$f":"Cover_Sheet!D1340","v":"00:00:00"},{"$f":"Cover_Sheet!E1340","v":"00:00:00"},{"$f":"IF(Cover_Sheet!F1340=\"\",\"\",Cover_Sheet!F1340)","v":""},{"$f":"Cover_Sheet!G1340","v":0},{"$f":"Cover_Sheet!H1340","v":0}]
[{"$f":"IF(Cover_Sheet!A1341=0,\"N\",\"Y\")","v":"N"},{"$f":"Cover_Sheet!B1341","v":0},{"$f":"Cover_Sheet!C1341","v":0},{"$f":"Cover_Sheet!D1341","v":"00:00:00"},{"$f":"Cover_Sheet!E1341","v":"00:00:00"},{"$f":"IF(Cover_Sheet!F1341=\"\",\"\",Cover_Sheet!F1341)","v":""},{"$f":"Cover_Sheet!G1341","v":0},{"$f":"Cover_Sheet!H1341","v":0}]
[{"$f":"IF(Cover_Sheet!A1342=0,\"N\",\"Y\")","v":"N"},{"$f":"Cover_Sheet!B1342","v":0},{"$f":"Cover_Sheet!C1342","v":0},{"$f":"Cover_Sheet!D1342","v":"00:00:00"},{"$f":"Cover_Sheet!E1342","v":"00:00:00"},{"$f":"IF(Cover_Sheet!F1342=\"\",\"\",Cover_Sheet!F1342)","v":""},{"$f":"Cover_Sheet!G1342","v":0},{"$f":"Cover_Sheet!H1342","v":0}]
[{"$f":"IF(Cover_Sheet!A1343=0,\"N\",\"Y\")","v":"N"},{"$f":"Cover_Sheet!B1343","v":0},{"$f":"Cover_Sheet!C1343","v":0},{"$f":"Cover_Sheet!D1343","v":"00:00:00"},{"$f":"Cover_Sheet!E1343","v":"00:00:00"},{"$f":"IF(Cover_Sheet!F1343=\"\",\"\",Cover_Sheet!F1343)","v":""},{"$f":"Cover_Sheet!G1343","v":0},{"$f":"Cover_Sheet!H1343","v":0}]
[{"$f":"IF(Cover_Sheet!A1344=0,\"N\",\"Y\")","v":"N"},{"$f":"Cover_Sheet!B1344","v":0},{"$f":"Cover_Sheet!C1344","v":0},{"$f":"Cover_Sheet!D1344","v":"00:00:00"},{"$f":"Cover_Sheet!E1344","v":"00:00:00"},{"$f":"IF(Cover_Sheet!F1344=\"\",\"\",Cover_Sheet!F1344)","v":""},{"$f":"Cover_Sheet!G1344","v":0},{"$f":"Cover_Sheet!H1344","v":0}]
[{"$f":"IF(Cover_Sheet!A1345=0,\"N\",\"Y\")","v":"N"},{"$f":"Cover_Sheet!B1345","v":0},{"$f":"Cover_Sheet!C1345","v":0},{"$f":"Cover_Sheet!D1345","v":"00:00:00"},{"$f":"Cover_Sheet!E1345","v":"00:00:00"},{"$f":"IF(Cover_Sheet!F1345=\"\",\"\",Cover_Sheet!F1345)","v":""},{"$f":"Cover_Sheet!G1345","v":0},{"$f":"Cover_Sheet!H1345","v":0}]
[{"$f":"IF(Cover_Sheet!A1346=0,\"N\",\"Y\")","v":"N"},{"$f":"Cover_Sheet!B1346","v":0},{"$f":"Cover_Sheet!C1346","v":0},{"$f":"Cover_Sheet!D1346","v":"00:00:00"},{"$f":"Cover_Sheet!E1346","v":"00:00:00"},{"$f":"IF(Cover_Sheet!F1346=\"\",\"\",Cover_Sheet!F1346)","v":""},{"$f":"Cover_Sheet!G1346","v":0},{"$f":"Cover_Sheet!H1346","v":0}]
[{"$f":"IF(Cover_Sheet!A1347=0,\"N\",\"Y\")","v":"N"},{"$f":"Cover_Sheet!B1347","v":0},{"$f":"Cover_Sheet!C1347","v":0},{"$f":"Cover_Sheet!D1347","v":"00:00:00"},{"$f":"Cover_Sheet!E1347","v":"00:00:00"},{"$f":"IF(Cover_Sheet!F1347=\"\",\"\",Cover_Sheet!F1347)","v":""},{"$f":"Cover_Sheet!G1347","v":0},{"$f":"Cover_Sheet!H1347","v":0}]
[{"$f":"IF(Cover_Sheet!A1348=0,\"N\",\"Y\")","v":"N"},{"$f":"Cover_Sheet!B1348","v":0},{"$f":"Cover_Sheet!C1348","v":0},{"$f":"Cover_Sheet!D1348","v":"00:00:00"},{"$f":"Cover_Sheet!E1348","v":"00:00:00"},{"$f":"IF(Cover_Sheet!F1348=\"\",\"\",Cover_Sheet!F1348)","v":""},{"$f":"Cover_Sheet!G1348","v":0},{"$f":"Cover_Sheet!H1348","v":0}]
[{"$f":"IF(Cover_Sheet!A1349=0,\"N\",\"Y\")","v":"N"},{"$f":"Cover_Sheet!B1349","v":0},{"$f":"Cover_Sheet!C1349","v":0},{"$f":"Cover_Sheet!D1349","v":"00:00:00"},{"$f":"Cover_Sheet!E1349","v":"00:00:00"},{"$f":"IF(Cover_Sheet!F1349=\"\",\"\",Cover_Sheet!F1349)","v":""},{"$f":"Cover_Sheet!G1349","v":0},{"$f":"Cover_Sheet!H1349","v":0}]
[{"$f":"IF(Cover_Sheet!A1350=0,\"N\",\"Y\")","v":"N"},{"$f":"Cover_Sheet!B1350","v":0},{"$f":"Cover_Sheet!C1350","v":0},{"$f":"Cover_Sheet!D1350","v":"00:00:00"},{"$f":"Cover_Sheet!E1350","v":"00:00:00"},{"$f":"IF(Cover_Sheet!F1350=\"\",\"\",Cover_Sheet!F1350)","v":""},{"$f":"Cover_Sheet!G1350","v":0},{"$f":"Cover_Sheet!H1350","v":0}]
[{"$f":"IF(Cover_Sheet!A1351=0,\"N\",\"Y\")","v":"N"},{"$f":"Cover_Sheet!B1351","v":0},{"$f":"Cover_Sheet!C1351","v":0},{"$f":"Cover_Sheet!D1351","v":"00:00:00"},{"$f":"Cover_Sheet!E1351","v":"00:00:00"},{"$f":"IF(Cover_Sheet!F1351=\"\",\"\",Cover_Sheet!F1351)","v":""},{"$f":"Cover_Sheet!G1351","v":0},{"$f":"Cover_Sheet!H1351","v":0}]
[{"$f":"IF(Cover_Sheet!A1352=0,\"N\",\"Y\")","v":"N"},{"$f":"Cover_Sheet!B1352","v":0},{"$f":"Cover_Sheet!C1352","v":0},{"$f":"Cover_Sheet!D1352","v":"00:00:00"},{"$f":"Cover_Sheet!E1352","v":"00:00:00"},{"$f":"IF(Cover_Sheet!F1352=\"\",\"\",Cover_Sheet!F1352)","v":""},{"$f":"Cover_Sheet!G1352","v":0},{"$f":"Cover_Sheet!H1352","v":0}]
[{"$f":"IF(Cover_Sheet!A1353=0,\"N\",\"Y\")","v":"N"},{"$f":"Cover_Sheet!B1353","v":0},{"$f":"Cover_Sheet!C1353","v":0},{"$f":"Cover_Sheet!D1353","v":"00:00:00"},{"$f":"Cover_Sheet!E1353","v":"00:00:00"},{"$f":"IF(Cover_Sheet!F1353=\"\",\"\",Cover_Sheet!F1353)","v":""},{"$f":"Cover_Sheet!G1353","v":0},{"$f":"Cover_Sheet!H1353","v":0}]
[{"$f":"IF(Cover_Sheet!A1354=0,\"N\",\"Y\")","v":"N"},{"$f":"Cover_Sheet!B1354","v":0},{"$f":"Cover_Sheet!C1354","v":0},{"$f":"Cover_Sheet!D1354","v":"00:00:00"},{"$f":"Cover_Sheet!E1354","v":"00:00:00"},{"$f":"IF(Cover_Sheet!F1354=\"\",\"\",Cover_Sheet!F1354)","v":""},{"$f":"Cover_Sheet!G1354","v":0},{"$f":"Cover_Sheet!H1354","v":0}]
[{"$f":"IF(Cover_Sheet!A1355=0,\"N\",\"Y\")","v":"N"},{"$f":"Cover_Sheet!B1355","v":0},{"$f":"Cover_Sheet!C1355","v":0},{"$f":"Cover_Sheet!D1355","v":"00:00:00"},{"$f":"Cover_Sheet!E1355","v":"00:00:00"},{"$f":"IF(Cover_Sheet!F1355=\"\",\"\",Cover_Sheet!F1355)","v":""},{"$f":"Cover_Sheet!G1355","v":0},{"$f":"Cover_Sheet!H1355","v":0}]
[{"$f":"IF(Cover_Sheet!A1356=0,\"N\",\"Y\")","v":"N"},{"$f":"Cover_Sheet!B1356","v":0},{"$f":"Cover_Sheet!C1356","v":0},{"$f":"Cover_Sheet!D1356","v":"00:00:00"},{"$f":"Cover_Sheet!E1356","v":"00:00:00"},{"$f":"IF(Cover_Sheet!F1356=\"\",\"\",Cover_Sheet!F1356)","v":""},{"$f":"Cover_Sheet!G1356","v":0},{"$f":"Cover_Sheet!H1356","v":0}]
[{"$f":"IF(Cover_Sheet!A1357=0,\"N\",\"Y\")","v":"N"},{"$f":"Cover_Sheet!B1357","v":0},{"$f":"Cover_Sheet!C1357","v":0},{"$f":"Cover_Sheet!D1357","v":"00:00:00"},{"$f":"Cover_Sheet!E1357","v":"00:00:00"},{"$f":"IF(Cover_Sheet!F1357=\"\",\"\",Cover_Sheet!F1357)","v":""},{"$f":"Cover_Sheet!G1357","v":0},{"$f":"Cover_Sheet!H1357","v":0}]
[{"$f":"IF(Cover_Sheet!A1358=0,\"N\",\"Y\")","v":"N"},{"$f":"Cover_Sheet!B1358","v":0},{"$f":"Cover_Sheet!C1358","v":0},{"$f":"Cover_Sheet!D1358","v":"00:00:00"},{"$f":"Cover_Sheet!E1358","v":"00:00:00"},{"$f":"IF(Cover_Sheet!F1358=\"\",\"\",Cover_Sheet!F1358)","v":""},{"$f":"Cover_Sheet!G1358","v":0},{"$f":"Cover_Sheet!H1358","v":0}]
[{"$f":"IF(Cover_Sheet!A1359=0,\"N\",\"Y\")","v":"N"},{"$f":"Cover_Sheet!B1359","v":0},{"$f":"Cover_Sheet!C1359","v":0},{"$f":"Cover_Sheet!D1359","v":"00:00:00"},{"$f":"Cover_Sheet!E1359","v":"00:00:00"},{"$f":"IF(Cover_Sheet!F1359=\"\",\"\",Cover_Sheet!F1359)","v":""},{"$f":"Cover_Sheet!G1359","v":0},{"$f":"Cover_Sheet!H1359","v":0}]
[{"$f":"IF(Cover_Sheet!A1360=0,\"N\",\"Y\")","v":"N"},{"$f":"Cover_Sheet!B1360","v":0},{"$f":"Cover_Sheet!C1360","v":0},{"$f":"Cover_Sheet!D1360","v":"00:00:00"},{"$f":"Cover_Sheet!E1360","v":"00:00:00"},{"$f":"IF(Cover_Sheet!F1360=\"\",\"\",Cover_Sheet!F1360)","v":""},{"$f":"Cover_Sheet!G1360","v":0},{"$f":"Cover_Sheet!H1360","v":0}]
[{"$f":"IF(Cover_Sheet!A1361=0,\"N\",\"Y\")","v":"N"},{"$f":"Cover_Sheet!B1361","v":0},{"$f":"Cover_Sheet!C1361","v":0},{"$f":"Cover_Sheet!D1361","v":"00:00:00"},{"$f":"Cover_Sheet!E1361","v":"00:00:00"},{"$f":"IF(Cover_Sheet!F1361=\"\",\"\",Cover_Sheet!F1361)","v":""},{"$f":"Cover_Sheet!G1361","v":0},{"$f":"Cover_Sheet!H1361","v":0}]
[{"$f":"IF(Cover_Sheet!A1362=0,\"N\",\"Y\")","v":"N"},{"$f":"Cover_Sheet!B1362","v":0},{"$f":"Cover_Sheet!C1362","v":0},{"$f":"Cover_Sheet!D1362","v":"00:00:00"},{"$f":"Cover_Sheet!E1362","v":"00:00:00"},{"$f":"IF(Cover_Sheet!F1362=\"\",\"\",Cover_Sheet!F1362)","v":""},{"$f":"Cover_Sheet!G1362","v":0},{"$f":"Cover_Sheet!H1362","v":0}]
[{"$f":"IF(Cover_Sheet!A1363=0,\"N\",\"Y\")","v":"N"},{"$f":"Cover_Sheet!B1363","v":0},{"$f":"Cover_Sheet!C1363","v":0},{"$f":"Cover_Sheet!D1363","v":"00:00:00"},{"$f":"Cover_Sheet!E1363","v":"00:00:00"},{"$f":"IF(Cover_Sheet!F1363=\"\",\"\",Cover_Sheet!F1363)","v":""},{"$f":"Cover_Sheet!G1363","v":0},{"$f":"Cover_Sheet!H1363","v":0}]
[{"$f":"IF(Cover_Sheet!A1364=0,\"N\",\"Y\")","v":"N"},{"$f":"Cover_Sheet!B1364","v":0},{"$f":"Cover_Sheet!C1364","v":0},{"$f":"Cover_Sheet!D1364","v":"00:00:00"},{"$f":"Cover_Sheet!E1364","v":"00:00:00"},{"$f":"IF(Cover_Sheet!F1364=\"\",\"\",Cover_Sheet!F1364)","v":""},{"$f":"Cover_Sheet!G1364","v":0},{"$f":"Cover_Sheet!H1364","v":0}]
[{"$f":"IF(Cover_Sheet!A1365=0,\"N\",\"Y\")","v":"N"},{"$f":"Cover_Sheet!B1365","v":0},{"$f":"Cover_Sheet!C1365","v":0},{"$f":"Cover_Sheet!D1365","v":"00:00:00"},{"$f":"Cover_Sheet!E1365","v":"00:00:00"},{"$f":"IF(Cover_Sheet!F1365=\"\",\"\",Cover_Sheet!F1365)","v":""},{"$f":"Cover_Sheet!G1365","v":0},{"$f":"Cover_Sheet!H1365","v":0}]
[{"$f":"IF(Cover_Sheet!A1366=0,\"N\",\"Y\")","v":"N"},{"$f":"Cover_Sheet!B1366","v":0},{"$f":"Cover_Sheet!C1366","v":0},{"$f":"Cover_Sheet!D1366","v":"00:00:00"},{"$f":"Cover_Sheet!E1366","v":"00:00:00"},{"$f":"IF(Cover_Sheet!F1366=\"\",\"\",Cover_Sheet!F1366)","v":""},{"$f":"Cover_Sheet!G1366","v":0},{"$f":"Cover_Sheet!H1366","v":0}]
[{"$f":"IF(Cover_Sheet!A1367=0,\"N\",\"Y\")","v":"N"},{"$f":"Cover_Sheet!B1367","v":0},{"$f":"Cover_Sheet!C1367","v":0},{"$f":"Cover_Sheet!D1367","v":"00:00:00"},{"$f":"Cover_Sheet!E1367","v":"00:00:00"},{"$f":"IF(Cover_Sheet!F1367=\"\",\"\",Cover_Sheet!F1367)","v":""},{"$f":"Cover_Sheet!G1367","v":0},{"$f":"Cover_Sheet!H1367","v":0}]
[{"$f":"IF(Cover_Sheet!A1368=0,\"N\",\"Y\")","v":"N"},{"$f":"Cover_Sheet!B1368","v":0},{"$f":"Cover_Sheet!C1368","v":0},{"$f":"Cover_Sheet!D1368","v":"00:00:00"},{"$f":"Cover_Sheet!E1368","v":"00:00:00"},{"$f":"IF(Cover_Sheet!F1368=\"\",\"\",Cover_Sheet!F1368)","v":""},{"$f":"Cover_Sheet!G1368","v":0},{"$f":"Cover_Sheet!H1368","v":0}]
[{"$f":"IF(Cover_Sheet!A1369=0,\"N\",\"Y\")","v":"N"},{"$f":"Cover_Sheet!B1369","v":0},{"$f":"Cover_Sheet!C1369","v":0},{"$f":"Cover_Sheet!D1369","v":"00:00:00"},{"$f":"Cover_Sheet!E1369","v":"00:00:00"},{"$f":"IF(Cover_Sheet!F1369=\"\",\"\",Cover_Sheet!F1369)","v":""},{"$f":"Cover_Sheet!G1369","v":0},{"$f":"Cover_Sheet!H1369","v":0}]
[{"$f":"IF(Cover_Sheet!A1370=0,\"N\",\"Y\")","v":"N"},{"$f":"Cover_Sheet!B1370","v":0},{"$f":"Cover_Sheet!C1370","v":0},{"$f":"Cover_Sheet!D1370","v":"00:00:00"},{"$f":"Cover_Sheet!E1370","v":"00:00:00"},{"$f":"IF(Cover_Sheet!F1370=\"\",\"\",Cover_Sheet!F1370)","v":""},{"$f":"Cover_Sheet!G1370","v":0},{"$f":"Cover_Sheet!H1370","v":0}]
[{"$f":"IF(Cover_Sheet!A1371=0,\"N\",\"Y\")","v":"N"},{"$f":"Cover_Sheet!B1371","v":0},{"$f":"Cover_Sheet!C1371","v":0},{"$f":"Cover_Sheet!D1371","v":"00:00:00"},{"$f":"Cover_Sheet!E1371","v":"00:00:00"},{"$f":"IF(Cover_Sheet!F1371=\"\",\"\",Cover_Sheet!F1371)","v":""},{"$f":"Cover_Sheet!G1371","v":0},{"$f":"Cover_Sheet!H1371","v":0}]
[{"$f":"IF(Cover_Sheet!A1372=0,\"N\",\"Y\")","v":"N"},{"$f":"Cover_Sheet!B1372","v":0},{"$f":"Cover_Sheet!C1372","v":0},{"$f":"Cover_Sheet!D1372","v":"00:00:00"},{"$f":"Cover_Sheet!E1372","v":"00:00:00"},{"$f":"IF(Cover_Sheet!F1372=\"\",\"\",Cover_Sheet!F1372)","v":""},{"$f":"Cover_Sheet!G1372","v":0},{"$f":"Cover_Sheet!H1372","v":0}]
[{"$f":"IF(Cover_Sheet!A1373=0,\"N\",\"Y\")","v":"N"},{"$f":"Cover_Sheet!B1373","v":0},{"$f":"Cover_Sheet!C1373","v":0},{"$f":"Cover_Sheet!D1373","v":"00:00:00"},{"$f":"Cover_Sheet!E1373","v":"00:00:00"},{"$f":"IF(Cover_Sheet!F1373=\"\",\"\",Cover_Sheet!F1373)","v":""},{"$f":"Cover_Sheet!G1373","v":0},{"$f":"Cover_Sheet!H1373","v":0}]
[{"$f":"IF(Cover_Sheet!A1374=0,\"N\",\"Y\")","v":"N"},{"$f":"Cover_Sheet!B1374","v":0},{"$f":"Cover_Sheet!C1374","v":0},{"$f":"Cover_Sheet!D1374","v":"00:00:00"},{"$f":"Cover_Sheet!E1374","v":"00:00:00"},{"$f":"IF(Cover_Sheet!F1374=\"\",\"\",Cover_Sheet!F1374)","v":""},{"$f":"Cover_Sheet!G1374","v":0},{"$f":"Cover_Sheet!H1374","v":0}]
[{"$f":"IF(Cover_Sheet!A1375=0,\"N\",\"Y\")","v":"N"},{"$f":"Cover_Sheet!B1375","v":0},{"$f":"Cover_Sheet!C1375","v":0},{"$f":"Cover_Sheet!D1375","v":"00:00:00"},{"$f":"Cover_Sheet!E1375","v":"00:00:00"},{"$f":"IF(Cover_Sheet!F1375=\"\",\"\",Cover_Sheet!F1375)","v":""},{"$f":"Cover_Sheet!G1375","v":0},{"$f":"Cover_Sheet!H1375","v":0}]
[{"$f":"IF(Cover_Sheet!A1376=0,\"N\",\"Y\")","v":"N"},{"$f":"Cover_Sheet!B1376","v":0},{"$f":"Cover_Sheet!C1376","v":0},{"$f":"Cover_Sheet!D1376","v":"00:00:00"},{"$f":"Cover_Sheet!E1376","v":"00:00:00"},{"$f":"IF(Cover_Sheet!F1376=\"\",\"\",Cover_Sheet!F1376)","v":""},{"$f":"Cover_Sheet!G1376","v":0},{"$f":"Cover_Sheet!H1376","v":0}]
[{"$f":"IF(Cover_Sheet!A1377=0,\"N\",\"Y\")","v":"N"},{"$f":"Cover_Sheet!B1377","v":0},{"$f":"Cover_Sheet!C1377","v":0},{"$f":"Cover_Sheet!D1377","v":"00:00:00"},{"$f":"Cover_Sheet!E1377","v":"00:00:00"},{"$f":"IF(Cover_Sheet!F1377=\"\",\"\",Cover_Sheet!F1377)","v":""},{"$f":"Cover_Sheet!G1377","v":0},{"$f":"Cover_Sheet!H1377","v":0}]
[{"$f":"IF(Cover_Sheet!A1378=0,\"N\",\"Y\")","v":"N"},{"$f":"Cover_Sheet!B1378","v":0},{"$f":"Cover_Sheet!C1378","v":0},{"$f":"Cover_Sheet!D1378","v":"00:00:00"},{"$f":"Cover_Sheet!E1378","v":"00:00:00"},{"$f":"IF(Cover_Sheet!F1378=\"\",\"\",Cover_Sheet!F1378)","v":""},{"$f":"Cover_Sheet!G1378","v":0},{"$f":"Cover_Sheet!H1378","v":0}]
[{"$f":"IF(Cover_Sheet!A1379=0,\"N\",\"Y\")","v":"N"},{"$f":"Cover_Sheet!B1379","v":0},{"$f":"Cover_Sheet!C1379","v":0},{"$f":"Cover_Sheet!D1379","v":"00:00:00"},{"$f":"Cover_Sheet!E1379","v":"00:00:00"},{"$f":"IF(Cover_Sheet!F1379=\"\",\"\",Cover_Sheet!F1379)","v":""},{"$f":"Cover_Sheet!G1379","v":0},{"$f":"Cover_Sheet!H1379","v":0}]
[{"$f":"IF(Cover_Sheet!A1380=0,\"N\",\"Y\")","v":"N"},{"$f":"Cover_Sheet!B1380","v":0},{"$f":"Cover_Sheet!C1380","v":0},{"$f":"Cover_Sheet!D1380","v":"00:00:00"},{"$f":"Cover_Sheet!E1380","v":"00:00:00"},{"$f":"IF(Cover_Sheet!F1380=\"\",\"\",Cover_Sheet!F1380)","v":""},{"$f":"Cover_Sheet!G1380","v":0},{"$f":"Cover_Sheet!H1380","v":0}]
[{"$f":"IF(Cover_Sheet!A1381=0,\"N\",\"Y\")","v":"N"},{"$f":"Cover_Sheet!B1381","v":0},{"$f":"Cover_Sheet!C1381","v":0},{"$f":"Cover_Sheet!D1381","v":"00:00:00"},{"$f":"Cover_Sheet!E1381","v":"00:00:00"},{"$f":"IF(Cover_Sheet!F1381=\"\",\"\",Cover_Sheet!F1381)","v":""},{"$f":"Cover_Sheet!G1381","v":0},{"$f":"Cover_Sheet!H1381","v":0}]
[{"$f":"IF(Cover_Sheet!A1382=0,\"N\",\"Y\")","v":"N"},{"$f":"Cover_Sheet!B1382","v":0},{"$f":"Cover_Sheet!C1382","v":0},{"$f":"Cover_Sheet!D1382","v":"00:00:00"},{"$f":"Cover_Sheet!E1382","v":"00:00:00"},{"$f":"IF(Cover_Sheet!F1382=\"\",\"\",Cover_Sheet!F1382)","v":""},{"$f":"Cover_Sheet!G1382","v":0},{"$f":"Cover_Sheet!H1382","v":0}]
[{"$f":"IF(Cover_Sheet!A1383=0,\"N\",\"Y\")","v":"N"},{"$f":"Cover_Sheet!B1383","v":0},{"$f":"Cover_Sheet!C1383","v":0},{"$f":"Cover_Sheet!D1383","v":"00:00:00"},{"$f":"Cover_Sheet!E1383","v":"00:00:00"},{"$f":"IF(Cover_Sheet!F1383=\"\",\"\",Cover_Sheet!F1383)","v":""},{"$f":"Cover_Sheet!G1383","v":0},{"$f":"Cover_Sheet!H1383","v":0}]
[{"$f":"IF(Cover_Sheet!A1384=0,\"N\",\"Y\")","v":"N"},{"$f":"Cover_Sheet!B1384","v":0},{"$f":"Cover_Sheet!C1384","v":0},{"$f":"Cover_Sheet!D1384","v":"00:00:00"},{"$f":"Cover_Sheet!E1384","v":"00:00:00"},{"$f":"IF(Cover_Sheet!F1384=\"\",\"\",Cover_Sheet!F1384)","v":""},{"$f":"Cover_Sheet!G1384","v":0},{"$f":"Cover_Sheet!H1384","v":0}]
[{"$f":"IF(Cover_Sheet!A1385=0,\"N\",\"Y\")","v":"N"},{"$f":"Cover_Sheet!B1385","v":0},{"$f":"Cover_Sheet!C1385","v":0},{"$f":"Cover_Sheet!D1385","v":"00:00:00"},{"$f":"Cover_Sheet!E1385","v":"00:00:00"},{"$f":"IF(Cover_Sheet!F1385=\"\",\"\",Cover_Sheet!F1385)","v":""},{"$f":"Cover_Sheet!G1385","v":0},{"$f":"Cover_Sheet!H1385","v":0}]
[{"$f":"IF(Cover_Sheet!A1386=0,\"N\",\"Y\")","v":"N"},{"$f":"Cover_Sheet!B1386","v":0},{"$f":"Cover_Sheet!C1386","v":0},{"$f":"Cover_Sheet!D1386","v":"00:00:00"},{"$f":"Cover_Sheet!E1386","v":"00:00:00"},{"$f":"IF(Cover_Sheet!F1386=\"\",\"\",Cover_Sheet!F1386)","v":""},{"$f":"Cover_Sheet!G1386","v":0},{"$f":"Cover_Sheet!H1386","v":0}]
[{"$f":"IF(Cover_Sheet!A1387=0,\"N\",\"Y\")","v":"N"},{"$f":"Cover_Sheet!B1387","v":0},{"$f":"Cover_Sheet!C1387","v":0},{"$f":"Cover_Sheet!D1387","v":"00:00:00"},{"$f":"Cover_Sheet!E1387","v":"00:00:00"},{"$f":"IF(Cover_Sheet!F1387=\"\",\"\",Cover_Sheet!F1387)","v":""},{"$f":"Cover_Sheet!G1387","v":0},{"$f":"Cover_Sheet!H1387","v":0}]
[{"$f":"IF(Cover_Sheet!A1388=0,\"N\",\"Y\")","v":"N"},{"$f":"Cover_Sheet!B1388","v":0},{"$f":"Cover_Sheet!C1388","v":0},{"$f":"Cover_Sheet!D1388","v":"00:00:00"},{"$f":"Cover_Sheet!E1388","v":"00:00:00"},{"$f":"IF(Cover_Sheet!F1388=\"\",\"\",Cover_Sheet!F1388)","v":""},{"$f":"Cover_Sheet!G1388","v":0},{"$f":"Cover_Sheet!H1388","v":0}]
[{"$f":"IF(Cover_Sheet!A1389=0,\"N\",\"Y\")","v":"N"},{"$f":"Cover_Sheet!B1389","v":0},{"$f":"Cover_Sheet!C1389","v":0},{"$f":"Cover_Sheet!D1389","v":"00:00:00"},{"$f":"Cover_Sheet!E1389","v":"00:00:00"},{"$f":"IF(Cover_Sheet!F1389=\"\",\"\",Cover_Sheet!F1389)","v":""},{"$f":"Cover_Sheet!G1389","v":0},{"$f":"Cover_Sheet!H1389","v":0}]
[{"$f":"IF(Cover_Sheet!A1390=0,\"N\",\"Y\")","v":"N"},{"$f":"Cover_Sheet!B1390","v":0},{"$f":"Cover_Sheet!C1390","v":0},{"$f":"Cover_Sheet!D1390","v":"00:00:00"},{"$f":"Cover_Sheet!E1390","v":"00:00:00"},{"$f":"IF(Cover_Sheet!F1390=\"\",\"\",Cover_Sheet!F1390)","v":""},{"$f":"Cover_Sheet!G1390","v":0},{"$f":"Cover_Sheet!H1390","v":0}]
[{"$f":"IF(Cover_Sheet!A1391=0,\"N\",\"Y\")","v":"N"},{"$f":"Cover_Sheet!B1391","v":0},{"$f":"Cover_Sheet!C1391","v":0},{"$f":"Cover_Sheet!D1391","v":"00:00:00"},{"$f":"Cover_Sheet!E1391","v":"00:00:00"},{"$f":"IF(Cover_Sheet!F1391=\"\",\"\",Cover_Sheet!F1391)","v":""},{"$f":"Cover_Sheet!G1391","v":0},{"$f":"Cover_Sheet!H1391","v":0}]
[{"$f":"IF(Cover_Sheet!A1392=0,\"N\",\"Y\")","v":"N"},{"$f":"Cover_Sheet!B1392","v":0},{"$f":"Cover_Sheet!C1392","v":0},{"$f":"Cover_Sheet!D1392","v":"00:00:00"},{"$f":"Cover_Sheet!E1392","v":"00:00:00"},{"$f":"IF(Cover_Sheet!F1392=\"\",\"\",Cover_Sheet!F1392)","v":""},{"$f":"Cover_Sheet!G1392","v":0},{"$f":"Cover_Sheet!H1392","v":0}]
[{"$f":"IF(Cover_Sheet!A1393=0,\"N\",\"Y\")","v":"N"},{"$f":"Cover_Sheet!B1393","v":0},{"$f":"Cover_Sheet!C1393","v":0},{"$f":"Cover_Sheet!D1393","v":"00:00:00"},{"$f":"Cover_Sheet!E1393","v":"00:00:00"},{"$f":"IF(Cover_Sheet!F1393=\"\",\"\",Cover_Sheet!F1393)","v":""},{"$f":"Cover_Sheet!G1393","v":0},{"$f":"Cover_Sheet!H1393","v":0}]
[{"$f":"IF(Cover_Sheet!A1394=0,\"N\",\"Y\")","v":"N"},{"$f":"Cover_Sheet!B1394","v":0},{"$f":"Cover_Sheet!C1394","v":0},{"$f":"Cover_Sheet!D1394","v":"00:00:00"},{"$f":"Cover_Sheet!E1394","v":"00:00:00"},{"$f":"IF(Cover_Sheet!F1394=\"\",\"\",Cover_Sheet!F1394)","v":""},{"$f":"Cover_Sheet!G1394","v":0},{"$f":"Cover_Sheet!H1394","v":0}]
[{"$f":"IF(Cover_Sheet!A1395=0,\"N\",\"Y\")","v":"N"},{"$f":"Cover_Sheet!B1395","v":0},{"$f":"Cover_Sheet!C1395","v":0},{"$f":"Cover_Sheet!D1395","v":"00:00:00"},{"$f":"Cover_Sheet!E1395","v":"00:00:00"},{"$f":"IF(Cover_Sheet!F1395=\"\",\"\",Cover_Sheet!F1395)","v":""},{"$f":"Cover_Sheet!G1395","v":0},{"$f":"Cover_Sheet!H1395","v":0}]
[{"$f":"IF(Cover_Sheet!A1396=0,\"N\",\"Y\")","v":"N"},{"$f":"Cover_Sheet!B1396","v":0},{"$f":"Cover_Sheet!C1396","v":0},{"$f":"Cover_Sheet!D1396","v":"00:00:00"},{"$f":"Cover_Sheet!E1396","v":"00:00:00"},{"$f":"IF(Cover_Sheet!F1396=\"\",\"\",Cover_Sheet!F1396)","v":""},{"$f":"Cover_Sheet!G1396","v":0},{"$f":"Cover_Sheet!H1396","v":0}]
[{"$f":"IF(Cover_Sheet!A1397=0,\"N\",\"Y\")","v":"N"},{"$f":"Cover_Sheet!B1397","v":0},{"$f":"Cover_Sheet!C1397","v":0},{"$f":"Cover_Sheet!D1397","v":"00:00:00"},{"$f":"Cover_Sheet!E1397","v":"00:00:00"},{"$f":"IF(Cover_Sheet!F1397=\"\",\"\",Cover_Sheet!F1397)","v":""},{"$f":"Cover_Sheet!G1397","v":0},{"$f":"Cover_Sheet!H1397","v":0}]
[{"$f":"IF(Cover_Sheet!A1398=0,\"N\",\"Y\")","v":"N"},{"$f":"Cover_Sheet!B1398","v":0},{"$f":"Cover_Sheet!C1398","v":0},{"$f":"Cover_Sheet!D1398","v":"00:00:00"},{"$f":"Cover_Sheet!E1398","v":"00:00:00"},{"$f":"IF(Cover_Sheet!F1398=\"\",\"\",Cover_Sheet!F1398)","v":""},{"$f":"Cover_Sheet!G1398","v":0},{"$f":"Cover_Sheet!H1398","v":0}]
[{"$f":"IF(Cover_Sheet!A1399=0,\"N\",\"Y\")","v":"N"},{"$f":"Cover_Sheet!B1399","v":0},{"$f":"Cover_Sheet!C1399","v":0},{"$f":"Cover_Sheet!D1399","v":"00:00:00"},{"$f":"Cover_Sheet!E1399","v":"00:00:00"},{"$f":"IF(Cover_Sheet!F1399=\"\",\"\",Cover_Sheet!F1399)","v":""},{"$f":"Cover_Sheet!G1399","v":0},{"$f":"Cover_Sheet!H1399","v":0}]
[{"$f":"IF(Cover_Sheet!A1400=0,\"N\",\"Y\")","v":"N"},{"$f":"Cover_Sheet!B1400","v":0},{"$f":"Cover_Sheet!C1400","v":0},{"$f":"Cover_Sheet!D1400","v":"00:00:00"},{"$f":"Cover_Sheet!E1400","v":"00:00:00"},{"$f":"IF(Cover_Sheet!F1400=\"\",\"\",Cover_Sheet!F1400)","v":""},{"$f":"Cover_Sheet!G1400","v":0},{"$f":"Cover_Sheet!H1400","v":0}]
[{"$f":"IF(Cover_Sheet!A1401=0,\"N\",\"Y\")","v":"N"},{"$f":"Cover_Sheet!B1401","v":0},{"$f":"Cover_Sheet!C1401","v":0},{"$f":"Cover_Sheet!D1401","v":"00:00:00"},{"$f":"Cover_Sheet!E1401","v":"00:00:00"},{"$f":"IF(Cover_Sheet!F1401=\"\",\"\",Cover_Sheet!F1401)","v":""},{"$f":"Cover_Sheet!G1401","v":0},{"$f":"Cover_Sheet!H1401","v":0}]
[{"$f":"IF(Cover_Sheet!A1402=0,\"N\",\"Y\")","v":"N"},{"$f":"Cover_Sheet!B1402","v":0},{"$f":"Cover_Sheet!C1402","v":0},{"$f":"Cover_Sheet!D1402","v":"00:00:00"},{"$f":"Cover_Sheet!E1402","v":"00:00:00"},{"$f":"IF(Cover_Sheet!F1402=\"\",\"\",Cover_Sheet!F1402)","v":""},{"$f":"Cover_Sheet!G1402","v":0},{"$f":"Cover_Sheet!H1402","v":0}]
[{"$f":"IF(Cover_Sheet!A1403=0,\"N\",\"Y\")","v":"N"},{"$f":"Cover_Sheet!B1403","v":0},{"$f":"Cover_Sheet!C1403","v":0},{"$f":"Cover_Sheet!D1403","v":"00:00:00"},{"$f":"Cover_Sheet!E1403","v":"00:00:00"},{"$f":"IF(Cover_Sheet!F1403=\"\",\"\",Cover_Sheet!F1403)","v":""},{"$f":"Cover_Sheet!G1403","v":0},{"$f":"Cover_Sheet!H1403","v":0}]
[{"$f":"IF(Cover_Sheet!A1404=0,\"N\",\"Y\")","v":"N"},{"$f":"Cover_Sheet!B1404","v":0},{"$f":"Cover_Sheet!C1404","v":0},{"$f":"Cover_Sheet!D1404","v":"00:00:00"},{"$f":"Cover_Sheet!E1404","v":"00:00:00"},{"$f":"IF(Cover_Sheet!F1404=\"\",\"\",Cover_Sheet!F1404)","v":""},{"$f":"Cover_Sheet!G1404","v":0},{"$f":"Cover_Sheet!H1404","v":0}]
[{"$f":"IF(Cover_Sheet!A1405=0,\"N\",\"Y\")","v":"N"},{"$f":"Cover_Sheet!B1405","v":0},{"$f":"Cover_Sheet!C1405","v":0},{"$f":"Cover_Sheet!D1405","v":"00:00:00"},{"$f":"Cover_Sheet!E1405","v":"00:00:00"},{"$f":"IF(Cover_Sheet!F1405=\"\",\"\",Cover_Sheet!F1405)","v":""},{"$f":"Cover_Sheet!G1405","v":0},{"$f":"Cover_Sheet!H1405","v":0}]
[{"$f":"IF(Cover_Sheet!A1406=0,\"N\",\"Y\")","v":"N"},{"$f":"Cover_Sheet!B1406","v":0},{"$f":"Cover_Sheet!C1406","v":0},{"$f":"Cover_Sheet!D1406","v":"00:00:00"},{"$f":"Cover_Sheet!E1406","v":"00:00:00"},{"$f":"IF(Cover_Sheet!F1406=\"\",\"\",Cover_Sheet!F1406)","v":""},{"$f":"Cover_Sheet!G1406","v":0},{"$f":"Cover_Sheet!H1406","v":0}]
[{"$f":"IF(Cover_Sheet!A1407=0,\"N\",\"Y\")","v":"N"},{"$f":"Cover_Sheet!B1407","v":0},{"$f":"Cover_Sheet!C1407","v":0},{"$f":"Cover_Sheet!D1407","v":"00:00:00"},{"$f":"Cover_Sheet!E1407","v":"00:00:00"},{"$f":"IF(Cover_Sheet!F1407=\"\",\"\",Cover_Sheet!F1407)","v":""},{"$f":"Cover_Sheet!G1407","v":0},{"$f":"Cover_Sheet!H1407","v":0}]
[{"$f":"IF(Cover_Sheet!A1408=0,\"N\",\"Y\")","v":"N"},{"$f":"Cover_Sheet!B1408","v":0},{"$f":"Cover_Sheet!C1408","v":0},{"$f":"Cover_Sheet!D1408","v":"00:00:00"},{"$f":"Cover_Sheet!E1408","v":"00:00:00"},{"$f":"IF(Cover_Sheet!F1408=\"\",\"\",Cover_Sheet!F1408)","v":""},{"$f":"Cover_Sheet!G1408","v":0},{"$f":"Cover_Sheet!H1408","v":0}]
[{"$f":"IF(Cover_Sheet!A1409=0,\"N\",\"Y\")","v":"N"},{"$f":"Cover_Sheet!B1409","v":0},{"$f":"Cover_Sheet!C1409","v":0},{"$f":"Cover_Sheet!D1409","v":"00:00:00"},{"$f":"Cover_Sheet!E1409","v":"00:00:00"},{"$f":"IF(Cover_Sheet!F1409=\"\",\"\",Cover_Sheet!F1409)","v":""},{"$f":"Cover_Sheet!G1409","v":0},{"$f":"Cover_Sheet!H1409","v":0}]
[{"$f":"IF(Cover_Sheet!A1410=0,\"N\",\"Y\")","v":"N"},{"$f":"Cover_Sheet!B1410","v":0},{"$f":"Cover_Sheet!C1410","v":0},{"$f":"Cover_Sheet!D1410","v":"00:00:00"},{"$f":"Cover_Sheet!E1410","v":"00:00:00"},{"$f":"IF(Cover_Sheet!F1410=\"\",\"\",Cover_Sheet!F1410)","v":""},{"$f":"Cover_Sheet!G1410","v":0},{"$f":"Cover_Sheet!H1410","v":0}]
[{"$f":"IF(Cover_Sheet!A1411=0,\"N\",\"Y\")","v":"N"},{"$f":"Cover_Sheet!B1411","v":0},{"$f":"Cover_Sheet!C1411","v":0},{"$f":"Cover_Sheet!D1411","v":"00:00:00"},{"$f":"Cover_Sheet!E1411","v":"00:00:00"},{"$f":"IF(Cover_Sheet!F1411=\"\",\"\",Cover_Sheet!F1411)","v":""},{"$f":"Cover_Sheet!G1411","v":0},{"$f":"Cover_Sheet!H1411","v":0}]
[{"$f":"IF(Cover_Sheet!A1412=0,\"N\",\"Y\")","v":"N"},{"$f":"Cover_Sheet!B1412","v":0},{"$f":"Cover_Sheet!C1412","v":0},{"$f":"Cover_Sheet!D1412","v":"00:00:00"},{"$f":"Cover_Sheet!E1412","v":"00:00:00"},{"$f":"IF(Cover_Sheet!F1412=\"\",\"\",Cover_Sheet!F1412)","v":""},{"$f":"Cover_Sheet!G1412","v":0},{"$f":"Cover_Sheet!H1412","v":0}]
[{"$f":"IF(Cover_Sheet!A1413=0,\"N\",\"Y\")","v":"N"},{"$f":"Cover_Sheet!B1413","v":0},{"$f":"Cover_Sheet!C1413","v":0},{"$f":"Cover_Sheet!D1413","v":"00:00:00"},{"$f":"Cover_Sheet!E1413","v":"00:00:00"},{"$f":"IF(Cover_Sheet!F1413=\"\",\"\",Cover_Sheet!F1413)","v":""},{"$f":"Cover_Sheet!G1413","v":0},{"$f":"Cover_Sheet!H1413","v":0}]
[{"$f":"IF(Cover_Sheet!A1414=0,\"N\",\"Y\")","v":"N"},{"$f":"Cover_Sheet!B1414","v":0},{"$f":"Cover_Sheet!C1414","v":0},{"$f":"Cover_Sheet!D1414","v":"00:00:00"},{"$f":"Cover_Sheet!E1414","v":"00:00:00"},{"$f":"IF(Cover_Sheet!F1414=\"\",\"\",Cover_Sheet!F1414)","v":""},{"$f":"Cover_Sheet!G1414","v":0},{"$f":"Cover_Sheet!H1414","v":0}]
[{"$f":"IF(Cover_Sheet!A1415=0,\"N\",\"Y\")","v":"N"},{"$f":"Cover_Sheet!B1415","v":0},{"$f":"Cover_Sheet!C1415","v":0},{"$f":"Cover_Sheet!D1415","v":"00:00:00"},{"$f":"Cover_Sheet!E1415","v":"00:00:00"},{"$f":"IF(Cover_Sheet!F1415=\"\",\"\",Cover_Sheet!F1415)","v":""},{"$f":"Cover_Sheet!G1415","v":0},{"$f":"Cover_Sheet!H1415","v":0}]
[{"$f":"IF(Cover_Sheet!A1416=0,\"N\",\"Y\")","v":"N"},{"$f":"Cover_Sheet!B1416","v":0},{"$f":"Cover_Sheet!C1416","v":0},{"$f":"Cover_Sheet!D1416","v":"00:00:00"},{"$f":"Cover_Sheet!E1416","v":"00:00:00"},{"$f":"IF(Cover_Sheet!F1416=\"\",\"\",Cover_Sheet!F1416)","v":""},{"$f":"Cover_Sheet!G1416","v":0},{"$f":"Cover_Sheet!H1416","v":0}]
[{"$f":"IF(Cover_Sheet!A1417=0,\"N\",\"Y\")","v":"N"},{"$f":"Cover_Sheet!B1417","v":0},{"$f":"Cover_Sheet!C1417","v":0},{"$f":"Cover_Sheet!D1417","v":"00:00:00"},{"$f":"Cover_Sheet!E1417","v":"00:00:00"},{"$f":"IF(Cover_Sheet!F1417=\"\",\"\",Cover_Sheet!F1417)","v":""},{"$f":"Cover_Sheet!G1417","v":0},{"$f":"Cover_Sheet!H1417","v":0}]
[{"$f":"IF(Cover_Sheet!A1418=0,\"N\",\"Y\")","v":"N"},{"$f":"Cover_Sheet!B1418","v":0},{"$f":"Cover_Sheet!C1418","v":0},{"$f":"Cover_Sheet!D1418","v":"00:00:00"},{"$f":"Cover_Sheet!E1418","v":"00:00:00"},{"$f":"IF(Cover_Sheet!F1418=\"\",\"\",Cover_Sheet!F1418)","v":""},{"$f":"Cover_Sheet!G1418","v":0},{"$f":"Cover_Sheet!H1418","v":0}]
[{"$f":"IF(Cover_Sheet!A1419=0,\"N\",\"Y\")","v":"N"},{"$f":"Cover_Sheet!B1419","v":0},{"$f":"Cover_Sheet!C1419","v":0},{"$f":"Cover_Sheet!D1419","v":"00:00:00"},{"$f":"Cover_Sheet!E1419","v":"00:00:00"},{"$f":"IF(Cover_Sheet!F1419=\"\",\"\",Cover_Sheet!F1419)","v":""},{"$f":"Cover_Sheet!G1419","v":0},{"$f":"Cover_Sheet!H1419","v":0}]
[{"$f":"IF(Cover_Sheet!A1420=0,\"N\",\"Y\")","v":"N"},{"$f":"Cover_Sheet!B1420","v":0},{"$f":"Cover_Sheet!C1420","v":0},{"$f":"Cover_Sheet!D1420","v":"00:00:00"},{"$f":"Cover_Sheet!E1420","v":"00:00:00"},{"$f":"IF(Cover_Sheet!F1420=\"\",\"\",Cover_Sheet!F1420)","v":""},{"$f":"Cover_Sheet!G1420","v":0},{"$f":"Cover_Sheet!H1420","v":0}]
[{"$f":"IF(Cover_Sheet!A1421=0,\"N\",\"Y\")","v":"N"},{"$f":"Cover_Sheet!B1421","v":0},{"$f":"Cover_Sheet!C1421","v":0},{"$f":"Cover_Sheet!D1421","v":"00:00:00"},{"$f":"Cover_Sheet!E1421","v":"00:00:00"},{"$f":"IF(Cover_Sheet!F1421=\"\",\"\",Cover_Sheet!F1421)","v":""},{"$f":"Cover_Sheet!G1421","v":0},{"$f":"Cover_Sheet!H1421","v":0}]
[{"$f":"IF(Cover_Sheet!A1422=0,\"N\",\"Y\")","v":"N"},{"$f":"Cover_Sheet!B1422","v":0},{"$f":"Cover_Sheet!C1422","v":0},{"$f":"Cover_Sheet!D1422","v":"00:00:00"},{"$f":"Cover_Sheet!E1422","v":"00:00:00"},{"$f":"IF(Cover_Sheet!F1422=\"\",\"\",Cover_Sheet!F1422)","v":""},{"$f":"Cover_Sheet!G1422","v":0},{"$f":"Cover_Sheet!H1422","v":0}]
[{"$f":"IF(Cover_Sheet!A1423=0,\"N\",\"Y\")","v":"N"},{"$f":"Cover_Sheet!B1423","v":0},{"$f":"Cover_Sheet!C1423","v":0},{"$f":"Cover_Sheet!D1423","v":"00:00:00"},{"$f":"Cover_Sheet!E1423","v":"00:00:00"},{"$f":"IF(Cover_Sheet!F1423=\"\",\"\",Cover_Sheet!F1423)","v":""},{"$f":"Cover_Sheet!G1423","v":0},{"$f":"Cover_Sheet!H1423","v":0}]
[{"$f":"IF(Cover_Sheet!A1424=0,\"N\",\"Y\")","v":"N"},{"$f":"Cover_Sheet!B1424","v":0},{"$f":"Cover_Sheet!C1424","v":0},{"$f":"Cover_Sheet!D1424","v":"00:00:00"},{"$f":"Cover_Sheet!E1424","v":"00:00:00"},{"$f":"IF(Cover_Sheet!F1424=\"\",\"\",Cover_Sheet!F1424)","v":""},{"$f":"Cover_Sheet!G1424","v":0},{"$f":"Cover_Sheet!H1424","v":0}]
[{"$f":"IF(Cover_Sheet!A1425=0,\"N\",\"Y\")","v":"N"},{"$f":"Cover_Sheet!B1425","v":0},{"$f":"Cover_Sheet!C1425","v":0},{"$f":"Cover_Sheet!D1425","v":"00:00:00"},{"$f":"Cover_Sheet!E1425","v":"00:00:00"},{"$f":"IF(Cover_Sheet!F1425=\"\",\"\",Cover_Sheet!F1425)","v":""},{"$f":"Cover_Sheet!G1425","v":0},{"$f":"Cover_Sheet!H1425","v":0}]
[{"$f":"IF(Cover_Sheet!A1426=0,\"N\",\"Y\")","v":"N"},{"$f":"Cover_Sheet!B1426","v":0},{"$f":"Cover_Sheet!C1426","v":0},{"$f":"Cover_Sheet!D1426","v":"00:00:00"},{"$f":"Cover_Sheet!E1426","v":"00:00:00"},{"$f":"IF(Cover_Sheet!F1426=\"\",\"\",Cover_Sheet!F1426)","v":""},{"$f":"Cover_Sheet!G1426","v":0},{"$f":"Cover_Sheet!H1426","v":0}]
[{"$f":"IF(Cover_Sheet!A1427=0,\"N\",\"Y\")","v":"N"},{"$f":"Cover_Sheet!B1427","v":0},{"$f":"Cover_Sheet!C1427","v":0},{"$f":"Cover_Sheet!D1427","v":"00:00:00"},{"$f":"Cover_Sheet!E1427","v":"00:00:00"},{"$f":"IF(Cover_Sheet!F1427=\"\",\"\",Cover_Sheet!F1427)","v":""},{"$f":"Cover_Sheet!G1427","v":0},{"$f":"Cover_Sheet!H1427","v":0}]
[{"$f":"IF(Cover_Sheet!A1428=0,\"N\",\"Y\")","v":"N"},{"$f":"Cover_Sheet!B1428","v":0},{"$f":"Cover_Sheet!C1428","v":0},{"$f":"Cover_Sheet!D1428","v":"00:00:00"},{"$f":"Cover_Sheet!E1428","v":"00:00:00"},{"$f":"IF(Cover_Sheet!F1428=\"\",\"\",Cover_Sheet!F1428)","v":""},{"$f":"Cover_Sheet!G1428","v":0},{"$f":"Cover_Sheet!H1428","v":0}]
[{"$f":"IF(Cover_Sheet!A1429=0,\"N\",\"Y\")","v":"N"},{"$f":"Cover_Sheet!B1429","v":0},{"$f":"Cover_Sheet!C1429","v":0},{"$f":"Cover_Sheet!D1429","v":"00:00:00"},{"$f":"Cover_Sheet!E1429","v":"00:00:00"},{"$f":"IF(Cover_Sheet!F1429=\"\",\"\",Cover_Sheet!F1429)","v":""},{"$f":"Cover_Sheet!G1429","v":0},{"$f":"Cover_Sheet!H1429","v":0}]
[{"$f":"IF(Cover_Sheet!A1430=0,\"N\",\"Y\")","v":"N"},{"$f":"Cover_Sheet!B1430","v":0},{"$f":"Cover_Sheet!C1430","v":0},{"$f":"Cover_Sheet!D1430","v":"00:00:00"},{"$f":"Cover_Sheet!E1430","v":"00:00:00"},{"$f":"IF(Cover_Sheet!F1430=\"\",\"\",Cover_Sheet!F1430)","v":""},{"$f":"Cover_Sheet!G1430","v":0},{"$f":"Cover_Sheet!H1430","v":0}]
[{"$f":"IF(Cover_Sheet!A1431=0,\"N\",\"Y\")","v":"N"},{"$f":"Cover_Sheet!B1431","v":0},{"$f":"Cover_Sheet!C1431","v":0},{"$f":"Cover_Sheet!D1431","v":"00:00:00"},{"$f":"Cover_Sheet!E1431","v":"00:00:00"},{"$f":"IF(Cover_Sheet!F1431=\"\",\"\",Cover_Sheet!F1431)","v":""},{"$f":"Cover_Sheet!G1431","v":0},{"$f":"Cover_Sheet!H1431","v":0}]
[{"$f":"IF(Cover_Sheet!A1432=0,\"N\",\"Y\")","v":"N"},{"$f":"Cover_Sheet!B1432","v":0},{"$f":"Cover_Sheet!C1432","v":0},{"$f":"Cover_Sheet!D1432","v":"00:00:00"},{"$f":"Cover_Sheet!E1432","v":"00:00:00"},{"$f":"IF(Cover_Sheet!F1432=\"\",\"\",Cover_Sheet!F1432)","v":""},{"$f":"Cover_Sheet!G1432","v":0},{"$f":"Cover_Sheet!H1432","v":0}]
[{"$f":"IF(Cover_Sheet!A1433=0,\"N\",\"Y\")","v":"N"},{"$f":"Cover_Sheet!B1433","v":0},{"$f":"Cover_Sheet!C1433","v":0},{"$f":"Cover_Sheet!D1433","v":"00:00:00"},{"$f":"Cover_Sheet!E1433","v":"00:00:00"},{"$f":"IF(Cover_Sheet!F1433=\"\",\"\",Cover_Sheet!F1433)","v":""},{"$f":"Cover_Sheet!G1433","v":0},{"$f":"Cover_Sheet!H1433","v":0}]
[{"$f":"IF(Cover_Sheet!A1434=0,\"N\",\"Y\")","v":"N"},{"$f":"Cover_Sheet!B1434","v":0},{"$f":"Cover_Sheet!C1434","v":0},{"$f":"Cover_Sheet!D1434","v":"00:00:00"},{"$f":"Cover_Sheet!E1434","v":"00:00:00"},{"$f":"IF(Cover_Sheet!F1434=\"\",\"\",Cover_Sheet!F1434)","v":""},{"$f":"Cover_Sheet!G1434","v":0},{"$f":"Cover_Sheet!H1434","v":0}]
[{"$f":"IF(Cover_Sheet!A1435=0,\"N\",\"Y\")","v":"N"},{"$f":"Cover_Sheet!B1435","v":0},{"$f":"Cover_Sheet!C1435","v":0},{"$f":"Cover_Sheet!D1435","v":"00:00:00"},{"$f":"Cover_Sheet!E1435","v":"00:00:00"},{"$f":"IF(Cover_Sheet!F1435=\"\",\"\",Cover_Sheet!F1435)","v":""},{"$f":"Cover_Sheet!G1435","v":0},{"$f":"Cover_Sheet!H1435","v":0}]
[{"$f":"IF(Cover_Sheet!A1436=0,\"N\",\"Y\")","v":"N"},{"$f":"Cover_Sheet!B1436","v":0},{"$f":"Cover_Sheet!C1436","v":0},{"$f":"Cover_Sheet!D1436","v":"00:00:00"},{"$f":"Cover_Sheet!E1436","v":"00:00:00"},{"$f":"IF(Cover_Sheet!F1436=\"\",\"\",Cover_Sheet!F1436)","v":""},{"$f":"Cover_Sheet!G1436","v":0},{"$f":"Cover_Sheet!H1436","v":0}]
[{"$f":"IF(Cover_Sheet!A1437=0,\"N\",\"Y\")","v":"N"},{"$f":"Cover_Sheet!B1437","v":0},{"$f":"Cover_Sheet!C1437","v":0},{"$f":"Cover_Sheet!D1437","v":"00:00:00"},{"$f":"Cover_Sheet!E1437","v":"00:00:00"},{"$f":"IF(Cover_Sheet!F1437=\"\",\"\",Cover_Sheet!F1437)","v":""},{"$f":"Cover_Sheet!G1437","v":0},{"$f":"Cover_Sheet!H1437","v":0}]
[{"$f":"IF(Cover_Sheet!A1438=0,\"N\",\"Y\")","v":"N"},{"$f":"Cover_Sheet!B1438","v":0},{"$f":"Cover_Sheet!C1438","v":0},{"$f":"Cover_Sheet!D1438","v":"00:00:00"},{"$f":"Cover_Sheet!E1438","v":"00:00:00"},{"$f":"IF(Cover_Sheet!F1438=\"\",\"\",Cover_Sheet!F1438)","v":""},{"$f":"Cover_Sheet!G1438","v":0},{"$f":"Cover_Sheet!H1438","v":0}]
[{"$f":"IF(Cover_Sheet!A1439=0,\"N\",\"Y\")","v":"N"},{"$f":"Cover_Sheet!B1439","v":0},{"$f":"Cover_Sheet!C1439","v":0},{"$f":"Cover_Sheet!D1439","v":"00:00:00"},{"$f":"Cover_Sheet!E1439","v":"00:00:00"},{"$f":"IF(Cover_Sheet!F1439=\"\",\"\",Cover_Sheet!F1439)","v":""},{"$f":"Cover_Sheet!G1439","v":0},{"$f":"Cover_Sheet!H1439","v":0}]
[{"$f":"IF(Cover_Sheet!A1440=0,\"N\",\"Y\")","v":"N"},{"$f":"Cover_Sheet!B1440","v":0},{"$f":"Cover_Sheet!C1440","v":0},{"$f":"Cover_Sheet!D1440","v":"00:00:00"},{"$f":"Cover_Sheet!E1440","v":"00:00:00"},{"$f":"IF(Cover_Sheet!F1440=\"\",\"\",Cover_Sheet!F1440)","v":""},{"$f":"Cover_Sheet!G1440","v":0},{"$f":"Cover_Sheet!H1440","v":0}]
[{"$f":"IF(Cover_Sheet!A1441=0,\"N\",\"Y\")","v":"N"},{"$f":"Cover_Sheet!B1441","v":0},{"$f":"Cover_Sheet!C1441","v":0},{"$f":"Cover_Sheet!D1441","v":"00:00:00"},{"$f":"Cover_Sheet!E1441","v":"00:00:00"},{"$f":"IF(Cover_Sheet!F1441=\"\",\"\",Cover_Sheet!F1441)","v":""},{"$f":"Cover_Sheet!G1441","v":0},{"$f":"Cover_Sheet!H1441","v":0}]
[{"$f":"IF(Cover_Sheet!A1442=0,\"N\",\"Y\")","v":"N"},{"$f":"Cover_Sheet!B1442","v":0},{"$f":"Cover_Sheet!C1442","v":0},{"$f":"Cover_Sheet!D1442","v":"00:00:00"},{"$f":"Cover_Sheet!E1442","v":"00:00:00"},{"$f":"IF(Cover_Sheet!F1442=\"\",\"\",Cover_Sheet!F1442)","v":""},{"$f":"Cover_Sheet!G1442","v":0},{"$f":"Cover_Sheet!H1442","v":0}]
[{"$f":"IF(Cover_Sheet!A1443=0,\"N\",\"Y\")","v":"N"},{"$f":"Cover_Sheet!B1443","v":0},{"$f":"Cover_Sheet!C1443","v":0},{"$f":"Cover_Sheet!D1443","v":"00:00:00"},{"$f":"Cover_Sheet!E1443","v":"00:00:00"},{"$f":"IF(Cover_Sheet!F1443=\"\",\"\",Cover_Sheet!F1443)","v":""},{"$f":"Cover_Sheet!G1443","v":0},{"$f":"Cover_Sheet!H1443","v":0}]
[{"$f":"IF(Cover_Sheet!A1444=0,\"N\",\"Y\")","v":"N"},{"$f":"Cover_Sheet!B1444","v":0},{"$f":"Cover_Sheet!C1444","v":0},{"$f":"Cover_Sheet!D1444","v":"00:00:00"},{"$f":"Cover_Sheet!E1444","v":"00:00:00"},{"$f":"IF(Cover_Sheet!F1444=\"\",\"\",Cover_Sheet!F1444)","v":""},{"$f":"Cover_Sheet!G1444","v":0},{"$f":"Cover_Sheet!H1444","v":0}]
[{"$f":"IF(Cover_Sheet!A1445=0,\"N\",\"Y\")","v":"N"},{"$f":"Cover_Sheet!B1445","v":0},{"$f":"Cover_Sheet!C1445","v":0},{"$f":"Cover_Sheet!D1445","v":"00:00:00"},{"$f":"Cover_Sheet!E1445","v":"00:00:00"},{"$f":"IF(Cover_Sheet!F1445=\"\",\"\",Cover_Sheet!F1445)","v":""},{"$f":"Cover_Sheet!G1445","v":0},{"$f":"Cover_Sheet!H1445","v":0}]
[{"$f":"IF(Cover_Sheet!A1446=0,\"N\",\"Y\")","v":"N"},{"$f":"Cover_Sheet!B1446","v":0},{"$f":"Cover_Sheet!C1446","v":0},{"$f":"Cover_Sheet!D1446","v":"00:00:00"},{"$f":"Cover_Sheet!E1446","v":"00:00:00"},{"$f":"IF(Cover_Sheet!F1446=\"\",\"\",Cover_Sheet!F1446)","v":""},{"$f":"Cover_Sheet!G1446","v":0},{"$f":"Cover_Sheet!H1446","v":0}]
[{"$f":"IF(Cover_Sheet!A1447=0,\"N\",\"Y\")","v":"N"},{"$f":"Cover_Sheet!B1447","v":0},{"$f":"Cover_Sheet!C1447","v":0},{"$f":"Cover_Sheet!D1447","v":"00:00:00"},{"$f":"Cover_Sheet!E1447","v":"00:00:00"},{"$f":"IF(Cover_Sheet!F1447=\"\",\"\",Cover_Sheet!F1447)","v":""},{"$f":"Cover_Sheet!G1447","v":0},{"$f":"Cover_Sheet!H1447","v":0}]
[{"$f":"IF(Cover_Sheet!A1448=0,\"N\",\"Y\")","v":"N"},{"$f":"Cover_Sheet!B1448","v":0},{"$f":"Cover_Sheet!C1448","v":0},{"$f":"Cover_Sheet!D1448","v":"00:00:00"},{"$f":"Cover_Sheet!E1448","v":"00:00:00"},{"$f":"IF(Cover_Sheet!F1448=\"\",\"\",Cover_Sheet!F1448)","v":""},{"$f":"Cover_Sheet!G1448","v":0},{"$f":"Cover_Sheet!H1448","v":0}]
[{"$f":"IF(Cover_Sheet!A1449=0,\"N\",\"Y\")","v":"N"},{"$f":"Cover_Sheet!B1449","v":0},{"$f":"Cover_Sheet!C1449","v":0},{"$f":"Cover_Sheet!D1449","v":"00:00:00"},{"$f":"Cover_Sheet!E1449","v":"00:00:00"},{"$f":"IF(Cover_Sheet!F1449=\"\",\"\",Cover_Sheet!F1449)","v":""},{"$f":"Cover_Sheet!G1449","v":0},{"$f":"Cover_Sheet!H1449","v":0}]
[{"$f":"IF(Cover_Sheet!A1450=0,\"N\",\"Y\")","v":"N"},{"$f":"Cover_Sheet!B1450","v":0},{"$f":"Cover_Sheet!C1450","v":0},{"$f":"Cover_Sheet!D1450","v":"00:00:00"},{"$f":"Cover_Sheet!E1450","v":"00:00:00"},{"$f":"IF(Cover_Sheet!F1450=\"\",\"\",Cover_Sheet!F1450)","v":""},{"$f":"Cover_Sheet!G1450","v":0},{"$f":"Cover_Sheet!H1450","v":0}]
[{"$f":"IF(Cover_Sheet!A1451=0,\"N\",\"Y\")","v":"N"},{"$f":"Cover_Sheet!B1451","v":0},{"$f":"Cover_Sheet!C1451","v":0},{"$f":"Cover_Sheet!D1451","v":"00:00:00"},{"$f":"Cover_Sheet!E1451","v":"00:00:00"},{"$f":"IF(Cover_Sheet!F1451=\"\",\"\",Cover_Sheet!F1451)","v":""},{"$f":"Cover_Sheet!G1451","v":0},{"$f":"Cover_Sheet!H1451","v":0}]
[{"$f":"IF(Cover_Sheet!A1452=0,\"N\",\"Y\")","v":"N"},{"$f":"Cover_Sheet!B1452","v":0},{"$f":"Cover_Sheet!C1452","v":0},{"$f":"Cover_Sheet!D1452","v":"00:00:00"},{"$f":"Cover_Sheet!E1452","v":"00:00:00"},{"$f":"IF(Cover_Sheet!F1452=\"\",\"\",Cover_Sheet!F1452)","v":""},{"$f":"Cover_Sheet!G1452","v":0},{"$f":"Cover_Sheet!H1452","v":0}]
[{"$f":"IF(Cover_Sheet!A1453=0,\"N\",\"Y\")","v":"N"},{"$f":"Cover_Sheet!B1453","v":0},{"$f":"Cover_Sheet!C1453","v":0},{"$f":"Cover_Sheet!D1453","v":"00:00:00"},{"$f":"Cover_Sheet!E1453","v":"00:00:00"},{"$f":"IF(Cover_Sheet!F1453=\"\",\"\",Cover_Sheet!F1453)","v":""},{"$f":"Cover_Sheet!G1453","v":0},{"$f":"Cover_Sheet!H1453","v":0}]
[{"$f":"IF(Cover_Sheet!A1454=0,\"N\",\"Y\")","v":"N"},{"$f":"Cover_Sheet!B1454","v":0},{"$f":"Cover_Sheet!C1454","v":0},{"$f":"Cover_Sheet!D1454","v":"00:00:00"},{"$f":"Cover_Sheet!E1454","v":"00:00:00"},{"$f":"IF(Cover_Sheet!F1454=\"\",\"\",Cover_Sheet!F1454)","v":""},{"$f":"Cover_Sheet!G1454","v":0},{"$f":"Cover_Sheet!H1454","v":0}]
[{"$f":"IF(Cover_Sheet!A1455=0,\"N\",\"Y\")","v":"N"},{"$f":"Cover_Sheet!B1455","v":0},{"$f":"Cover_Sheet!C1455","v":0},{"$f":"Cover_Sheet!D1455","v":"00:00:00"},{"$f":"Cover_Sheet!E1455","v":"00:00:00"},{"$f":"IF(Cover_Sheet!F1455=\"\",\"\",Cover_Sheet!F1455)","v":""},{"$f":"Cover_Sheet!G1455","v":0},{"$f":"Cover_Sheet!H1455","v":0}]
[{"$f":"IF(Cover_Sheet!A1456=0,\"N\",\"Y\")","v":"N"},{"$f":"Cover_Sheet!B1456","v":0},{"$f":"Cover_Sheet!C1456","v":0},{"$f":"Cover_Sheet!D1456","v":"00:00:00"},{"$f":"Cover_Sheet!E1456","v":"00:00:00"},{"$f":"IF(Cover_Sheet!F1456=\"\",\"\",Cover_Sheet!F1456)","v":""},{"$f":"Cover_Sheet!G1456","v":0},{"$f":"Cover_Sheet!H1456","v":0}]
[{"$f":"IF(Cover_Sheet!A1457=0,\"N\",\"Y\")","v":"N"},{"$f":"Cover_Sheet!B1457","v":0},{"$f":"Cover_Sheet!C1457","v":0},{"$f":"Cover_Sheet!D1457","v":"00:00:00"},{"$f":"Cover_Sheet!E1457","v":"00:00:00"},{"$f":"IF(Cover_Sheet!F1457=\"\",\"\",Cover_Sheet!F1457)","v":""},{"$f":"Cover_Sheet!G1457","v":0},{"$f":"Cover_Sheet!H1457","v":0}]
[{"$f":"IF(Cover_Sheet!A1458=0,\"N\",\"Y\")","v":"N"},{"$f":"Cover_Sheet!B1458","v":0},{"$f":"Cover_Sheet!C1458","v":0},{"$f":"Cover_Sheet!D1458","v":"00:00:00"},{"$f":"Cover_Sheet!E1458","v":"00:00:00"},{"$f":"IF(Cover_Sheet!F1458=\"\",\"\",Cover_Sheet!F1458)","v":""},{"$f":"Cover_Sheet!G1458","v":0},{"$f":"Cover_Sheet!H1458","v":0}]
[{"$f":"IF(Cover_Sheet!A1459=0,\"N\",\"Y\")","v":"N"},{"$f":"Cover_Sheet!B1459","v":0},{"$f":"Cover_Sheet!C1459","v":0},{"$f":"Cover_Sheet!D1459","v":"00:00:00"},{"$f":"Cover_Sheet!E1459","v":"00:00:00"},{"$f":"IF(Cover_Sheet!F1459=\"\",\"\",Cover_Sheet!F1459)","v":""},{"$f":"Cover_Sheet!G1459","v":0},{"$f":"Cover_Sheet!H1459","v":0}]
[{"$f":"IF(Cover_Sheet!A1460=0,\"N\",\"Y\")","v":"N"},{"$f":"Cover_Sheet!B1460","v":0},{"$f":"Cover_Sheet!C1460","v":0},{"$f":"Cover_Sheet!D1460","v":"00:00:00"},{"$f":"Cover_Sheet!E1460","v":"00:00:00"},{"$f":"IF(Cover_Sheet!F1460=\"\",\"\",Cover_Sheet!F1460)","v":""},{"$f":"Cover_Sheet!G1460","v":0},{"$f":"Cover_Sheet!H1460","v":0}]
[{"$f":"IF(Cover_Sheet!A1461=0,\"N\",\"Y\")","v":"N"},{"$f":"Cover_Sheet!B1461","v":0},{"$f":"Cover_Sheet!C1461","v":0},{"$f":"Cover_Sheet!D1461","v":"00:00:00"},{"$f":"Cover_Sheet!E1461","v":"00:00:00"},{"$f":"IF(Cover_Sheet!F1461=\"\",\"\",Cover_Sheet!F1461)","v":""},{"$f":"Cover_Sheet!G1461","v":0},{"$f":"Cover_Sheet!H1461","v":0}]
[{"$f":"IF(Cover_Sheet!A1462=0,\"N\",\"Y\")","v":"N"},{"$f":"Cover_Sheet!B1462","v":0},{"$f":"Cover_Sheet!C1462","v":0},{"$f":"Cover_Sheet!D1462","v":"00:00:00"},{"$f":"Cover_Sheet!E1462","v":"00:00:00"},{"$f":"IF(Cover_Sheet!F1462=\"\",\"\",Cover_Sheet!F1462)","v":""},{"$f":"Cover_Sheet!G1462","v":0},{"$f":"Cover_Sheet!H1462","v":0}]
[{"$f":"IF(Cover_Sheet!A1463=0,\"N\",\"Y\")","v":"N"},{"$f":"Cover_Sheet!B1463","v":0},{"$f":"Cover_Sheet!C1463","v":0},{"$f":"Cover_Sheet!D1463","v":"00:00:00"},{"$f":"Cover_Sheet!E1463","v":"00:00:00"},{"$f":"IF(Cover_Sheet!F1463=\"\",\"\",Cover_Sheet!F1463)","v":""},{"$f":"Cover_Sheet!G1463","v":0},{"$f":"Cover_Sheet!H1463","v":0}]
[{"$f":"IF(Cover_Sheet!A1464=0,\"N\",\"Y\")","v":"N"},{"$f":"Cover_Sheet!B1464","v":0},{"$f":"Cover_Sheet!C1464","v":0},{"$f":"Cover_Sheet!D1464","v":"00:00:00"},{"$f":"Cover_Sheet!E1464","v":"00:00:00"},{"$f":"IF(Cover_Sheet!F1464=\"\",\"\",Cover_Sheet!F1464)","v":""},{"$f":"Cover_Sheet!G1464","v":0},{"$f":"Cover_Sheet!H1464","v":0}]
[{"$f":"IF(Cover_Sheet!A1465=0,\"N\",\"Y\")","v":"N"},{"$f":"Cover_Sheet!B1465","v":0},{"$f":"Cover_Sheet!C1465","v":0},{"$f":"Cover_Sheet!D1465","v":"00:00:00"},{"$f":"Cover_Sheet!E1465","v":"00:00:00"},{"$f":"IF(Cover_Sheet!F1465=\"\",\"\",Cover_Sheet!F1465)","v":""},{"$f":"Cover_Sheet!G1465","v":0},{"$f":"Cover_Sheet!H1465","v":0}]
[{"$f":"IF(Cover_Sheet!A1466=0,\"N\",\"Y\")","v":"N"},{"$f":"Cover_Sheet!B1466","v":0},{"$f":"Cover_Sheet!C1466","v":0},{"$f":"Cover_Sheet!D1466","v":"00:00:00"},{"$f":"Cover_Sheet!E1466","v":"00:00:00"},{"$f":"IF(Cover_Sheet!F1466=\"\",\"\",Cover_Sheet!F1466)","v":""},{"$f":"Cover_Sheet!G1466","v":0},{"$f":"Cover_Sheet!H1466","v":0}]
[{"$f":"IF(Cover_Sheet!A1467=0,\"N\",\"Y\")","v":"N"},{"$f":"Cover_Sheet!B1467","v":0},{"$f":"Cover_Sheet!C1467","v":0},{"$f":"Cover_Sheet!D1467","v":"00:00:00"},{"$f":"Cover_Sheet!E1467","v":"00:00:00"},{"$f":"IF(Cover_Sheet!F1467=\"\",\"\",Cover_Sheet!F1467)","v":""},{"$f":"Cover_Sheet!G1467","v":0},{"$f":"Cover_Sheet!H1467","v":0}]
[{"$f":"IF(Cover_Sheet!A1468=0,\"N\",\"Y\")","v":"N"},{"$f":"Cover_Sheet!B1468","v":0},{"$f":"Cover_Sheet!C1468","v":0},{"$f":"Cover_Sheet!D1468","v":"00:00:00"},{"$f":"Cover_Sheet!E1468","v":"00:00:00"},{"$f":"IF(Cover_Sheet!F1468=\"\",\"\",Cover_Sheet!F1468)","v":""},{"$f":"Cover_Sheet!G1468","v":0},{"$f":"Cover_Sheet!H1468","v":0}]
[{"$f":"IF(Cover_Sheet!A1469=0,\"N\",\"Y\")","v":"N"},{"$f":"Cover_Sheet!B1469","v":0},{"$f":"Cover_Sheet!C1469","v":0},{"$f":"Cover_Sheet!D1469","v":"00:00:00"},{"$f":"Cover_Sheet!E1469","v":"00:00:00"},{"$f":"IF(Cover_Sheet!F1469=\"\",\"\",Cover_Sheet!F1469)","v":""},{"$f":"Cover_Sheet!G1469","v":0},{"$f":"Cover_Sheet!H1469","v":0}]
[{"$f":"IF(Cover_Sheet!A1470=0,\"N\",\"Y\")","v":"N"},{"$f":"Cover_Sheet!B1470","v":0},{"$f":"Cover_Sheet!C1470","v":0},{"$f":"Cover_Sheet!D1470","v":"00:00:00"},{"$f":"Cover_Sheet!E1470","v":"00:00:00"},{"$f":"IF(Cover_Sheet!F1470=\"\",\"\",Cover_Sheet!F1470)","v":""},{"$f":"Cover_Sheet!G1470","v":0},{"$f":"Cover_Sheet!H1470","v":0}]
[{"$f":"IF(Cover_Sheet!A1471=0,\"N\",\"Y\")","v":"N"},{"$f":"Cover_Sheet!B1471","v":0},{"$f":"Cover_Sheet!C1471","v":0},{"$f":"Cover_Sheet!D1471","v":"00:00:00"},{"$f":"Cover_Sheet!E1471","v":"00:00:00"},{"$f":"IF(Cover_Sheet!F1471=\"\",\"\",Cover_Sheet!F1471)","v":""},{"$f":"Cover_Sheet!G1471","v":0},{"$f":"Cover_Sheet!H1471","v":0}]
[{"$f":"IF(Cover_Sheet!A1472=0,\"N\",\"Y\")","v":"N"},{"$f":"Cover_Sheet!B1472","v":0},{"$f":"Cover_Sheet!C1472","v":0},{"$f":"Cover_Sheet!D1472","v":"00:00:00"},{"$f":"Cover_Sheet!E1472","v":"00:00:00"},{"$f":"IF(Cover_Sheet!F1472=\"\",\"\",Cover_Sheet!F1472)","v":""},{"$f":"Cover_Sheet!G1472","v":0},{"$f":"Cover_Sheet!H1472","v":0}]
[{"$f":"IF(Cover_Sheet!A1473=0,\"N\",\"Y\")","v":"N"},{"$f":"Cover_Sheet!B1473","v":0},{"$f":"Cover_Sheet!C1473","v":0},{"$f":"Cover_Sheet!D1473","v":"00:00:00"},{"$f":"Cover_Sheet!E1473","v":"00:00:00"},{"$f":"IF(Cover_Sheet!F1473=\"\",\"\",Cover_Sheet!F1473)","v":""},{"$f":"Cover_Sheet!G1473","v":0},{"$f":"Cover_Sheet!H1473","v":0}]
[{"$f":"IF(Cover_Sheet!A1474=0,\"N\",\"Y\")","v":"N"},{"$f":"Cover_Sheet!B1474","v":0},{"$f":"Cover_Sheet!C1474","v":0},{"$f":"Cover_Sheet!D1474","v":"00:00:00"},{"$f":"Cover_Sheet!E1474","v":"00:00:00"},{"$f":"IF(Cover_Sheet!F1474=\"\",\"\",Cover_Sheet!F1474)","v":""},{"$f":"Cover_Sheet!G1474","v":0},{"$f":"Cover_Sheet!H1474","v":0}]
[{"$f":"IF(Cover_Sheet!A1475=0,\"N\",\"Y\")","v":"N"},{"$f":"Cover_Sheet!B1475","v":0},{"$f":"Cover_Sheet!C1475","v":0},{"$f":"Cover_Sheet!D1475","v":"00:00:00"},{"$f":"Cover_Sheet!E1475","v":"00:00:00"},{"$f":"IF(Cover_Sheet!F1475=\"\",\"\",Cover_Sheet!F1475)","v":""},{"$f":"Cover_Sheet!G1475","v":0},{"$f":"Cover_Sheet!H1475","v":0}]
[{"$f":"IF(Cover_Sheet!A1476=0,\"N\",\"Y\")","v":"N"},{"$f":"Cover_Sheet!B1476","v":0},{"$f":"Cover_Sheet!C1476","v":0},{"$f":"Cover_Sheet!D1476","v":"00:00:00"},{"$f":"Cover_Sheet!E1476","v":"00:00:00"},{"$f":"IF(Cover_Sheet!F1476=\"\",\"\",Cover_Sheet!F1476)","v":""},{"$f":"Cover_Sheet!G1476","v":0},{"$f":"Cover_Sheet!H1476","v":0}]
[{"$f":"IF(Cover_Sheet!A1477=0,\"N\",\"Y\")","v":"N"},{"$f":"Cover_Sheet!B1477","v":0},{"$f":"Cover_Sheet!C1477","v":0},{"$f":"Cover_Sheet!D1477","v":"00:00:00"},{"$f":"Cover_Sheet!E1477","v":"00:00:00"},{"$f":"IF(Cover_Sheet!F1477=\"\",\"\",Cover_Sheet!F1477)","v":""},{"$f":"Cover_Sheet!G1477","v":0},{"$f":"Cover_Sheet!H1477","v":0}]
[{"$f":"IF(Cover_Sheet!A1478=0,\"N\",\"Y\")","v":"N"},{"$f":"Cover_Sheet!B1478","v":0},{"$f":"Cover_Sheet!C1478","v":0},{"$f":"Cover_Sheet!D1478","v":"00:00:00"},{"$f":"Cover_Sheet!E1478","v":"00:00:00"},{"$f":"IF(Cover_Sheet!F1478=\"\",\"\",Cover_Sheet!F1478)","v":""},{"$f":"Cover_Sheet!G1478","v":0},{"$f":"Cover_Sheet!H1478","v":0}]
[{"$f":"IF(Cover_Sheet!A1479=0,\"N\",\"Y\")","v":"N"},{"$f":"Cover_Sheet!B1479","v":0},{"$f":"Cover_Sheet!C1479","v":0},{"$f":"Cover_Sheet!D1479","v":"00:00:00"},{"$f":"Cover_Sheet!E1479","v":"00:00:00"},{"$f":"IF(Cover_Sheet!F1479=\"\",\"\",Cover_Sheet!F1479)","v":""},{"$f":"Cover_Sheet!G1479","v":0},{"$f":"Cover_Sheet!H1479","v":0}]
[{"$f":"IF(Cover_Sheet!A1480=0,\"N\",\"Y\")","v":"N"},{"$f":"Cover_Sheet!B1480","v":0},{"$f":"Cover_Sheet!C1480","v":0},{"$f":"Cover_Sheet!D1480","v":"00:00:00"},{"$f":"Cover_Sheet!E1480","v":"00:00:00"},{"$f":"IF(Cover_Sheet!F1480=\"\",\"\",Cover_Sheet!F1480)","v":""},{"$f":"Cover_Sheet!G1480","v":0},{"$f":"Cover_Sheet!H1480","v":0}]
[{"$f":"IF(Cover_Sheet!A1481=0,\"N\",\"Y\")","v":"N"},{"$f":"Cover_Sheet!B1481","v":0},{"$f":"Cover_Sheet!C1481","v":0},{"$f":"Cover_Sheet!D1481","v":"00:00:00"},{"$f":"Cover_Sheet!E1481","v":"00:00:00"},{"$f":"IF(Cover_Sheet!F1481=\"\",\"\",Cover_Sheet!F1481)","v":""},{"$f":"Cover_Sheet!G1481","v":0},{"$f":"Cover_Sheet!H1481","v":0}]
[{"$f":"IF(Cover_Sheet!A1482=0,\"N\",\"Y\")","v":"N"},{"$f":"Cover_Sheet!B1482","v":0},{"$f":"Cover_Sheet!C1482","v":0},{"$f":"Cover_Sheet!D1482","v":"00:00:00"},{"$f":"Cover_Sheet!E1482","v":"00:00:00"},{"$f":"IF(Cover_Sheet!F1482=\"\",\"\",Cover_Sheet!F1482)","v":""},{"$f":"Cover_Sheet!G1482","v":0},{"$f":"Cover_Sheet!H1482","v":0}]
[{"$f":"IF(Cover_Sheet!A1483=0,\"N\",\"Y\")","v":"N"},{"$f":"Cover_Sheet!B1483","v":0},{"$f":"Cover_Sheet!C1483","v":0},{"$f":"Cover_Sheet!D1483","v":"00:00:00"},{"$f":"Cover_Sheet!E1483","v":"00:00:00"},{"$f":"IF(Cover_Sheet!F1483=\"\",\"\",Cover_Sheet!F1483)","v":""},{"$f":"Cover_Sheet!G1483","v":0},{"$f":"Cover_Sheet!H1483","v":0}]
[{"$f":"IF(Cover_Sheet!A1484=0,\"N\",\"Y\")","v":"N"},{"$f":"Cover_Sheet!B1484","v":0},{"$f":"Cover_Sheet!C1484","v":0},{"$f":"Cover_Sheet!D1484","v":"00:00:00"},{"$f":"Cover_Sheet!E1484","v":"00:00:00"},{"$f":"IF(Cover_Sheet!F1484=\"\",\"\",Cover_Sheet!F1484)","v":""},{"$f":"Cover_Sheet!G1484","v":0},{"$f":"Cover_Sheet!H1484","v":0}]
[{"$f":"IF(Cover_Sheet!A1485=0,\"N\",\"Y\")","v":"N"},{"$f":"Cover_Sheet!B1485","v":0},{"$f":"Cover_Sheet!C1485","v":0},{"$f":"Cover_Sheet!D1485","v":"00:00:00"},{"$f":"Cover_Sheet!E1485","v":"00:00:00"},{"$f":"IF(Cover_Sheet!F1485=\"\",\"\",Cover_Sheet!F1485)","v":""},{"$f":"Cover_Sheet!G1485","v":0},{"$f":"Cover_Sheet!H1485","v":0}]
[{"$f":"IF(Cover_Sheet!A1486=0,\"N\",\"Y\")","v":"N"},{"$f":"Cover_Sheet!B1486","v":0},{"$f":"Cover_Sheet!C1486","v":0},{"$f":"Cover_Sheet!D1486","v":"00:00:00"},{"$f":"Cover_Sheet!E1486","v":"00:00:00"},{"$f":"IF(Cover_Sheet!F1486=\"\",\"\",Cover_Sheet!F1486)","v":""},{"$f":"Cover_Sheet!G1486","v":0},{"$f":"Cover_Sheet!H1486","v":0}]
[{"$f":"IF(Cover_Sheet!A1487=0,\"N\",\"Y\")","v":"N"},{"$f":"Cover_Sheet!B1487","v":0},{"$f":"Cover_Sheet!C1487","v":0},{"$f":"Cover_Sheet!D1487","v":"00:00:00"},{"$f":"Cover_Sheet!E1487","v":"00:00:00"},{"$f":"IF(Cover_Sheet!F1487=\"\",\"\",Cover_Sheet!F1487)","v":""},{"$f":"Cover_Sheet!G1487","v":0},{"$f":"Cover_Sheet!H1487","v":0}]
[{"$f":"IF(Cover_Sheet!A1488=0,\"N\",\"Y\")","v":"N"},{"$f":"Cover_Sheet!B1488","v":0},{"$f":"Cover_Sheet!C1488","v":0},{"$f":"Cover_Sheet!D1488","v":"00:00:00"},{"$f":"Cover_Sheet!E1488","v":"00:00:00"},{"$f":"IF(Cover_Sheet!F1488=\"\",\"\",Cover_Sheet!F1488)","v":""},{"$f":"Cover_Sheet!G1488","v":0},{"$f":"Cover_Sheet!H1488","v":0}]
[{"$f":"IF(Cover_Sheet!A1489=0,\"N\",\"Y\")","v":"N"},{"$f":"Cover_Sheet!B1489","v":0},{"$f":"Cover_Sheet!C1489","v":0},{"$f":"Cover_Sheet!D1489","v":"00:00:00"},{"$f":"Cover_Sheet!E1489","v":"00:00:00"},{"$f":"IF(Cover_Sheet!F1489=\"\",\"\",Cover_Sheet!F1489)","v":""},{"$f":"Cover_Sheet!G1489","v":0},{"$f":"Cover_Sheet!H1489","v":0}]
[{"$f":"IF(Cover_Sheet!A1490=0,\"N\",\"Y\")","v":"N"},{"$f":"Cover_Sheet!B1490","v":0},{"$f":"Cover_Sheet!C1490","v":0},{"$f":"Cover_Sheet!D1490","v":"00:00:00"},{"$f":"Cover_Sheet!E1490","v":"00:00:00"},{"$f":"IF(Cover_Sheet!F1490=\"\",\"\",Cover_Sheet!F1490)","v":""},{"$f":"Cover_Sheet!G1490","v":0},{"$f":"Cover_Sheet!H1490","v":0}]
[{"$f":"IF(Cover_Sheet!A1491=0,\"N\",\"Y\")","v":"N"},{"$f":"Cover_Sheet!B1491","v":0},{"$f":"Cover_Sheet!C1491","v":0},{"$f":"Cover_Sheet!D1491","v":"00:00:00"},{"$f":"Cover_Sheet!E1491","v":"00:00:00"},{"$f":"IF(Cover_Sheet!F1491=\"\",\"\",Cover_Sheet!F1491)","v":""},{"$f":"Cover_Sheet!G1491","v":0},{"$f":"Cover_Sheet!H1491","v":0}]
[{"$f":"IF(Cover_Sheet!A1492=0,\"N\",\"Y\")","v":"N"},{"$f":"Cover_Sheet!B1492","v":0},{"$f":"Cover_Sheet!C1492","v":0},{"$f":"Cover_Sheet!D1492","v":"00:00:00"},{"$f":"Cover_Sheet!E1492","v":"00:00:00"},{"$f":"IF(Cover_Sheet!F1492=\"\",\"\",Cover_Sheet!F1492)","v":""},{"$f":"Cover_Sheet!G1492","v":0},{"$f":"Cover_Sheet!H1492","v":0}]
[{"$f":"IF(Cover_Sheet!A1493=0,\"N\",\"Y\")","v":"N"},{"$f":"Cover_Sheet!B1493","v":0},{"$f":"Cover_Sheet!C1493","v":0},{"$f":"Cover_Sheet!D1493","v":"00:00:00"},{"$f":"Cover_Sheet!E1493","v":"00:00:00"},{"$f":"IF(Cover_Sheet!F1493=\"\",\"\",Cover_Sheet!F1493)","v":""},{"$f":"Cover_Sheet!G1493","v":0},{"$f":"Cover_Sheet!H1493","v":0}]
[{"$f":"IF(Cover_Sheet!A1494=0,\"N\",\"Y\")","v":"N"},{"$f":"Cover_Sheet!B1494","v":0},{"$f":"Cover_Sheet!C1494","v":0},{"$f":"Cover_Sheet!D1494","v":"00:00:00"},{"$f":"Cover_Sheet!E1494","v":"00:00:00"},{"$f":"IF(Cover_Sheet!F1494=\"\",\"\",Cover_Sheet!F1494)","v":""},{"$f":"Cover_Sheet!G1494","v":0},{"$f":"Cover_Sheet!H1494","v":0}]
[{"$f":"IF(Cover_Sheet!A1495=0,\"N\",\"Y\")","v":"N"},{"$f":"Cover_Sheet!B1495","v":0},{"$f":"Cover_Sheet!C1495","v":0},{"$f":"Cover_Sheet!D1495","v":"00:00:00"},{"$f":"Cover_Sheet!E1495","v":"00:00:00"},{"$f":"IF(Cover_Sheet!F1495=\"\",\"\",Cover_Sheet!F1495)","v":""},{"$f":"Cover_Sheet!G1495","v":0},{"$f":"Cover_Sheet!H1495","v":0}]
[{"$f":"IF(Cover_Sheet!A1496=0,\"N\",\"Y\")","v":"N"},{"$f":"Cover_Sheet!B1496","v":0},{"$f":"Cover_Sheet!C1496","v":0},{"$f":"Cover_Sheet!D1496","v":"00:00:00"},{"$f":"Cover_Sheet!E1496","v":"00:00:00"},{"$f":"IF(Cover_Sheet!F1496=\"\",\"\",Cover_Sheet!F1496)","v":""},{"$f":"Cover_Sheet!G1496","v":0},{"$f":"Cover_Sheet!H1496","v":0}]
[{"$f":"IF(Cover_Sheet!A1497=0,\"N\",\"Y\")","v":"N"},{"$f":"Cover_Sheet!B1497","v":0},{"$f":"Cover_Sheet!C1497","v":0},{"$f":"Cover_Sheet!D1497","v":"00:00:00"},{"$f":"Cover_Sheet!E1497","v":"00:00:00"},{"$f":"IF(Cover_Sheet!F1497=\"\",\"\",Cover_Sheet!F1497)","v":""},{"$f":"Cover_Sheet!G1497","v":0},{"$f":"Cover_Sheet!H1497","v":0}]
[{"$f":"IF(Cover_Sheet!A1498=0,\"N\",\"Y\")","v":"N"},{"$f":"Cover_Sheet!B1498","v":0},{"$f":"Cover_Sheet!C1498","v":0},{"$f":"Cover_Sheet!D1498","v":"00:00:00"},{"$f":"Cover_Sheet!E1498","v":"00:00:00"},{"$f":"IF(Cover_Sheet!F1498=\"\",\"\",Cover_Sheet!F1498)","v":""},{"$f":"Cover_Sheet!G1498","v":0},{"$f":"Cover_Sheet!H1498","v":0}]
[{"$f":"IF(Cover_Sheet!A1499=0,\"N\",\"Y\")","v":"N"},{"$f":"Cover_Sheet!B1499","v":0},{"$f":"Cover_Sheet!C1499","v":0},{"$f":"Cover_Sheet!D1499","v":"00:00:00"},{"$f":"Cover_Sheet!E1499","v":"00:00:00"},{"$f":"IF(Cover_Sheet!F1499=\"\",\"\",Cover_Sheet!F1499)","v":""},{"$f":"Cover_Sheet!G1499","v":0},{"$f":"Cover_Sheet!H1499","v":0}]
[{"$f":"IF(Cover_Sheet!A1500=0,\"N\",\"Y\")","v":"N"},{"$f":"Cover_Sheet!B1500","v":0},{"$f":"Cover_Sheet!C1500","v":0},{"$f":"Cover_Sheet!D1500","v":"00:00:00"},{"$f":"Cover_Sheet!E1500","v":"00:00:00"},{"$f":"IF(Cover_Sheet!F1500=\"\",\"\",Cover_Sheet!F1500)","v":""},{"$f":"Cover_Sheet!G1500","v":0},{"$f":"Cover_Sheet!H1500","v":0}]
[{"$f":"IF(Cover_Sheet!A1501=0,\"N\",\"Y\")","v":"N"},{"$f":"Cover_Sheet!B1501","v":0},{"$f":"Cover_Sheet!C1501","v":0},{"$f":"Cover_Sheet!D1501","v":"00:00:00"},{"$f":"Cover_Sheet!E1501","v":"00:00:00"},{"$f":"IF(Cover_Sheet!F1501=\"\",\"\",Cover_Sheet!F1501)","v":""},{"$f":"Cover_Sheet!G1501","v":0},{"$f":"Cover_Sheet!H1501","v":0}]
[{"$f":"IF(Cover_Sheet!A1502=0,\"N\",\"Y\")","v":"N"},{"$f":"Cover_Sheet!B1502","v":0},{"$f":"Cover_Sheet!C1502","v":0},{"$f":"Cover_Sheet!D1502","v":"00:00:00"},{"$f":"Cover_Sheet!E1502","v":"00:00:00"},{"$f":"IF(Cover_Sheet!F1502=\"\",\"\",Cover_Sheet!F1502)","v":""},{"$f":"Cover_Sheet!G1502","v":0},{"$f":"Cover_Sheet!H1502","v":0}]
[{"$f":"IF(Cover_Sheet!A1503=0,\"N\",\"Y\")","v":"N"},{"$f":"Cover_Sheet!B1503","v":0},{"$f":"Cover_Sheet!C1503","v":0},{"$f":"Cover_Sheet!D1503","v":"00:00:00"},{"$f":"Cover_Sheet!E1503","v":"00:00:00"},{"$f":"IF(Cover_Sheet!F1503=\"\",\"\",Cover_Sheet!F1503)","v":""},{"$f":"Cover_Sheet!G1503","v":0},{"$f":"Cover_Sheet!H1503","v":0}]
[{"$f":"IF(Cover_Sheet!A1504=0,\"N\",\"Y\")","v":"N"},{"$f":"Cover_Sheet!B1504","v":0},{"$f":"Cover_Sheet!C1504","v":0},{"$f":"Cover_Sheet!D1504","v":"00:00:00"},{"$f":"Cover_Sheet!E1504","v":"00:00:00"},{"$f":"IF(Cover_Sheet!F1504=\"\",\"\",Cover_Sheet!F1504)","v":""},{"$f":"Cover_Sheet!G1504","v":0},{"$f":"Cover_Sheet!H1504","v":0}]
[{"$f":"IF(Cover_Sheet!A1505=0,\"N\",\"Y\")","v":"N"},{"$f":"Cover_Sheet!B1505","v":0},{"$f":"Cover_Sheet!C1505","v":0},{"$f":"Cover_Sheet!D1505","v":"00:00:00"},{"$f":"Cover_Sheet!E1505","v":"00:00:00"},{"$f":"IF(Cover_Sheet!F1505=\"\",\"\",Cover_Sheet!F1505)","v":""},{"$f":"Cover_Sheet!G1505","v":0},{"$f":"Cover_Sheet!H1505","v":0}]
[{"$f":"IF(Cover_Sheet!A1506=0,\"N\",\"Y\")","v":"N"},{"$f":"Cover_Sheet!B1506","v":0},{"$f":"Cover_Sheet!C1506","v":0},{"$f":"Cover_Sheet!D1506","v":"00:00:00"},{"$f":"Cover_Sheet!E1506","v":"00:00:00"},{"$f":"IF(Cover_Sheet!F1506=\"\",\"\",Cover_Sheet!F1506)","v":""},{"$f":"Cover_Sheet!G1506","v":0},{"$f":"Cover_Sheet!H1506","v":0}]
[{"$f":"IF(Cover_Sheet!A1507=0,\"N\",\"Y\")","v":"N"},{"$f":"Cover_Sheet!B1507","v":0},{"$f":"Cover_Sheet!C1507","v":0},{"$f":"Cover_Sheet!D1507","v":"00:00:00"},{"$f":"Cover_Sheet!E1507","v":"00:00:00"},{"$f":"IF(Cover_Sheet!F1507=\"\",\"\",Cover_Sheet!F1507)","v":""},{"$f":"Cover_Sheet!G1507","v":0},{"$f":"Cover_Sheet!H1507","v":0}]
[{"$f":"IF(Cover_Sheet!A1508=0,\"N\",\"Y\")","v":"N"},{"$f":"Cover_Sheet!B1508","v":0},{"$f":"Cover_Sheet!C1508","v":0},{"$f":"Cover_Sheet!D1508","v":"00:00:00"},{"$f":"Cover_Sheet!E1508","v":"00:00:00"},{"$f":"IF(Cover_Sheet!F1508=\"\",\"\",Cover_Sheet!F1508)","v":""},{"$f":"Cover_Sheet!G1508","v":0},{"$f":"Cover_Sheet!H1508","v":0}]
[{"$f":"IF(Cover_Sheet!A1509=0,\"N\",\"Y\")","v":"N"},{"$f":"Cover_Sheet!B1509","v":0},{"$f":"Cover_Sheet!C1509","v":0},{"$f":"Cover_Sheet!D1509","v":"00:00:00"},{"$f":"Cover_Sheet!E1509","v":"00:00:00"},{"$f":"IF(Cover_Sheet!F1509=\"\",\"\",Cover_Sheet!F1509)","v":""},{"$f":"Cover_Sheet!G1509","v":0},{"$f":"Cover_Sheet!H1509","v":0}]
[{"$f":"IF(Cover_Sheet!A1510=0,\"N\",\"Y\")","v":"N"},{"$f":"Cover_Sheet!B1510","v":0},{"$f":"Cover_Sheet!C1510","v":0},{"$f":"Cover_Sheet!D1510","v":"00:00:00"},{"$f":"Cover_Sheet!E1510","v":"00:00:00"},{"$f":"IF(Cover_Sheet!F1510=\"\",\"\",Cover_Sheet!F1510)","v":""},{"$f":"Cover_Sheet!G1510","v":0},{"$f":"Cover_Sheet!H1510","v":0}]
[{"$f":"IF(Cover_Sheet!A1511=0,\"N\",\"Y\")","v":"N"},{"$f":"Cover_Sheet!B1511","v":0},{"$f":"Cover_Sheet!C1511","v":0},{"$f":"Cover_Sheet!D1511","v":"00:00:00"},{"$f":"Cover_Sheet!E1511","v":"00:00:00"},{"$f":"IF(Cover_Sheet!F1511=\"\",\"\",Cover_Sheet!F1511)","v":""},{"$f":"Cover_Sheet!G1511","v":0},{"$f":"Cover_Sheet!H1511","v":0}]
[{"$f":"IF(Cover_Sheet!A1512=0,\"N\",\"Y\")","v":"N"},{"$f":"Cover_Sheet!B1512","v":0},{"$f":"Cover_Sheet!C1512","v":0},{"$f":"Cover_Sheet!D1512","v":"00:00:00"},{"$f":"Cover_Sheet!E1512","v":"00:00:00"},{"$f":"IF(Cover_Sheet!F1512=\"\",\"\",Cover_Sheet!F1512)","v":""},{"$f":"Cover_Sheet!G1512","v":0},{"$f":"Cover_Sheet!H1512","v":0}]
[{"$f":"IF(Cover_Sheet!A1513=0,\"N\",\"Y\")","v":"N"},{"$f":"Cover_Sheet!B1513","v":0},{"$f":"Cover_Sheet!C1513","v":0},{"$f":"Cover_Sheet!D1513","v":"00:00:00"},{"$f":"Cover_Sheet!E1513","v":"00:00:00"},{"$f":"IF(Cover_Sheet!F1513=\"\",\"\",Cover_Sheet!F1513)","v":""},{"$f":"Cover_Sheet!G1513","v":0},{"$f":"Cover_Sheet!H1513","v":0}]
[{"$f":"IF(Cover_Sheet!A1514=0,\"N\",\"Y\")","v":"N"},{"$f":"Cover_Sheet!B1514","v":0},{"$f":"Cover_Sheet!C1514","v":0},{"$f":"Cover_Sheet!D1514","v":"00:00:00"},{"$f":"Cover_Sheet!E1514","v":"00:00:00"},{"$f":"IF(Cover_Sheet!F1514=\"\",\"\",Cover_Sheet!F1514)","v":""},{"$f":"Cover_Sheet!G1514","v":0},{"$f":"Cover_Sheet!H1514","v":0}]
[{"$f":"IF(Cover_Sheet!A1515=0,\"N\",\"Y\")","v":"N"},{"$f":"Cover_Sheet!B1515","v":0},{"$f":"Cover_Sheet!C1515","v":0},{"$f":"Cover_Sheet!D1515","v":"00:00:00"},{"$f":"Cover_Sheet!E1515","v":"00:00:00"},{"$f":"IF(Cover_Sheet!F1515=\"\",\"\",Cover_Sheet!F1515)","v":""},{"$f":"Cover_Sheet!G1515","v":0},{"$f":"Cover_Sheet!H1515","v":0}]
[{"$f":"IF(Cover_Sheet!A1516=0,\"N\",\"Y\")","v":"N"},{"$f":"Cover_Sheet!B1516","v":0},{"$f":"Cover_Sheet!C1516","v":0},{"$f":"Cover_Sheet!D1516","v":"00:00:00"},{"$f":"Cover_Sheet!E1516","v":"00:00:00"},{"$f":"IF(Cover_Sheet!F1516=\"\",\"\",Cover_Sheet!F1516)","v":""},{"$f":"Cover_Sheet!G1516","v":0},{"$f":"Cover_Sheet!H1516","v":0}]
[{"$f":"IF(Cover_Sheet!A1517=0,\"N\",\"Y\")","v":"N"},{"$f":"Cover_Sheet!B1517","v":0},{"$f":"Cover_Sheet!C1517","v":0},{"$f":"Cover_Sheet!D1517","v":"00:00:00"},{"$f":"Cover_Sheet!E1517","v":"00:00:00"},{"$f":"IF(Cover_Sheet!F1517=\"\",\"\",Cover_Sheet!F1517)","v":""},{"$f":"Cover_Sheet!G1517","v":0},{"$f":"Cover_Sheet!H1517","v":0}]
[{"$f":"IF(Cover_Sheet!A1518=0,\"N\",\"Y\")","v":"N"},{"$f":"Cover_Sheet!B1518","v":0},{"$f":"Cover_Sheet!C1518","v":0},{"$f":"Cover_Sheet!D1518","v":"00:00:00"},{"$f":"Cover_Sheet!E1518","v":"00:00:00"},{"$f":"IF(Cover_Sheet!F1518=\"\",\"\",Cover_Sheet!F1518)","v":""},{"$f":"Cover_Sheet!G1518","v":0},{"$f":"Cover_Sheet!H1518","v":0}]
[{"$f":"IF(Cover_Sheet!A1519=0,\"N\",\"Y\")","v":"N"},{"$f":"Cover_Sheet!B1519","v":0},{"$f":"Cover_Sheet!C1519","v":0},{"$f":"Cover_Sheet!D1519","v":"00:00:00"},{"$f":"Cover_Sheet!E1519","v":"00:00:00"},{"$f":"IF(Cover_Sheet!F1519=\"\",\"\",Cover_Sheet!F1519)","v":""},{"$f":"Cover_Sheet!G1519","v":0},{"$f":"Cover_Sheet!H1519","v":0}]
[{"$f":"IF(Cover_Sheet!A1520=0,\"N\",\"Y\")","v":"N"},{"$f":"Cover_Sheet!B1520","v":0},{"$f":"Cover_Sheet!C1520","v":0},{"$f":"Cover_Sheet!D1520","v":"00:00:00"},{"$f":"Cover_Sheet!E1520","v":"00:00:00"},{"$f":"IF(Cover_Sheet!F1520=\"\",\"\",Cover_Sheet!F1520)","v":""},{"$f":"Cover_Sheet!G1520","v":0},{"$f":"Cover_Sheet!H1520","v":0}]
[{"$f":"IF(Cover_Sheet!A1521=0,\"N\",\"Y\")","v":"N"},{"$f":"Cover_Sheet!B1521","v":0},{"$f":"Cover_Sheet!C1521","v":0},{"$f":"Cover_Sheet!D1521","v":"00:00:00"},{"$f":"Cover_Sheet!E1521","v":"00:00:00"},{"$f":"IF(Cover_Sheet!F1521=\"\",\"\",Cover_Sheet!F1521)","v":""},{"$f":"Cover_Sheet!G1521","v":0},{"$f":"Cover_Sheet!H1521","v":0}]
[{"$f":"IF(Cover_Sheet!A1522=0,\"N\",\"Y\")","v":"N"},{"$f":"Cover_Sheet!B1522","v":0},{"$f":"Cover_Sheet!C1522","v":0},{"$f":"Cover_Sheet!D1522","v":"00:00:00"},{"$f":"Cover_Sheet!E1522","v":"00:00:00"},{"$f":"IF(Cover_Sheet!F1522=\"\",\"\",Cover_Sheet!F1522)","v":""},{"$f":"Cover_Sheet!G1522","v":0},{"$f":"Cover_Sheet!H1522","v":0}]
[{"$f":"IF(Cover_Sheet!A1523=0,\"N\",\"Y\")","v":"N"},{"$f":"Cover_Sheet!B1523","v":0},{"$f":"Cover_Sheet!C1523","v":0},{"$f":"Cover_Sheet!D1523","v":"00:00:00"},{"$f":"Cover_Sheet!E1523","v":"00:00:00"},{"$f":"IF(Cover_Sheet!F1523=\"\",\"\",Cover_Sheet!F1523)","v":""},{"$f":"Cover_Sheet!G1523","v":0},{"$f":"Cover_Sheet!H1523","v":0}]
[{"$f":"IF(Cover_Sheet!A1524=0,\"N\",\"Y\")","v":"N"},{"$f":"Cover_Sheet!B1524","v":0},{"$f":"Cover_Sheet!C1524","v":0},{"$f":"Cover_Sheet!D1524","v":"00:00:00"},{"$f":"Cover_Sheet!E1524","v":"00:00:00"},{"$f":"IF(Cover_Sheet!F1524=\"\",\"\",Cover_Sheet!F1524)","v":""},{"$f":"Cover_Sheet!G1524","v":0},{"$f":"Cover_Sheet!H1524","v":0}]
[{"$f":"IF(Cover_Sheet!A1525=0,\"N\",\"Y\")","v":"N"},{"$f":"Cover_Sheet!B1525","v":0},{"$f":"Cover_Sheet!C1525","v":0},{"$f":"Cover_Sheet!D1525","v":"00:00:00"},{"$f":"Cover_Sheet!E1525","v":"00:00:00"},{"$f":"IF(Cover_Sheet!F1525=\"\",\"\",Cover_Sheet!F1525)","v":""},{"$f":"Cover_Sheet!G1525","v":0},{"$f":"Cover_Sheet!H1525","v":0}]
[{"$f":"IF(Cover_Sheet!A1526=0,\"N\",\"Y\")","v":"N"},{"$f":"Cover_Sheet!B1526","v":0},{"$f":"Cover_Sheet!C1526","v":0},{"$f":"Cover_Sheet!D1526","v":"00:00:00"},{"$f":"Cover_Sheet!E1526","v":"00:00:00"},{"$f":"IF(Cover_Sheet!F1526=\"\",\"\",Cover_Sheet!F1526)","v":""},{"$f":"Cover_Sheet!G1526","v":0},{"$f":"Cover_Sheet!H1526","v":0}]
[{"$f":"IF(Cover_Sheet!A1527=0,\"N\",\"Y\")","v":"N"},{"$f":"Cover_Sheet!B1527","v":0},{"$f":"Cover_Sheet!C1527","v":0},{"$f":"Cover_Sheet!D1527","v":"00:00:00"},{"$f":"Cover_Sheet!E1527","v":"00:00:00"},{"$f":"IF(Cover_Sheet!F1527=\"\",\"\",Cover_Sheet!F1527)","v":""},{"$f":"Cover_Sheet!G1527","v":0},{"$f":"Cover_Sheet!H1527","v":0}]
[{"$f":"IF(Cover_Sheet!A1528=0,\"N\",\"Y\")","v":"N"},{"$f":"Cover_Sheet!B1528","v":0},{"$f":"Cover_Sheet!C1528","v":0},{"$f":"Cover_Sheet!D1528","v":"00:00:00"},{"$f":"Cover_Sheet!E1528","v":"00:00:00"},{"$f":"IF(Cover_Sheet!F1528=\"\",\"\",Cover_Sheet!F1528)","v":""},{"$f":"Cover_Sheet!G1528","v":0},{"$f":"Cover_Sheet!H1528","v":0}]
[{"$f":"IF(Cover_Sheet!A1529=0,\"N\",\"Y\")","v":"N"},{"$f":"Cover_Sheet!B1529","v":0},{"$f":"Cover_Sheet!C1529","v":0},{"$f":"Cover_Sheet!D1529","v":"00:00:00"},{"$f":"Cover_Sheet!E1529","v":"00:00:00"},{"$f":"IF(Cover_Sheet!F1529=\"\",\"\",Cover_Sheet!F1529)","v":""},{"$f":"Cover_Sheet!G1529","v":0},{"$f":"Cover_Sheet!H1529","v":0}]
[{"$f":"IF(Cover_Sheet!A1530=0,\"N\",\"Y\")","v":"N"},{"$f":"Cover_Sheet!B1530","v":0},{"$f":"Cover_Sheet!C1530","v":0},{"$f":"Cover_Sheet!D1530","v":"00:00:00"},{"$f":"Cover_Sheet!E1530","v":"00:00:00"},{"$f":"IF(Cover_Sheet!F1530=\"\",\"\",Cover_Sheet!F1530)","v":""},{"$f":"Cover_Sheet!G1530","v":0},{"$f":"Cover_Sheet!H1530","v":0}]
[{"$f":"IF(Cover_Sheet!A1531=0,\"N\",\"Y\")","v":"N"},{"$f":"Cover_Sheet!B1531","v":0},{"$f":"Cover_Sheet!C1531","v":0},{"$f":"Cover_Sheet!D1531","v":"00:00:00"},{"$f":"Cover_Sheet!E1531","v":"00:00:00"},{"$f":"IF(Cover_Sheet!F1531=\"\",\"\",Cover_Sheet!F1531)","v":""},{"$f":"Cover_Sheet!G1531","v":0},{"$f":"Cover_Sheet!H1531","v":0}]
[{"$f":"IF(Cover_Sheet!A1532=0,\"N\",\"Y\")","v":"N"},{"$f":"Cover_Sheet!B1532","v":0},{"$f":"Cover_Sheet!C1532","v":0},{"$f":"Cover_Sheet!D1532","v":"00:00:00"},{"$f":"Cover_Sheet!E1532","v":"00:00:00"},{"$f":"IF(Cover_Sheet!F1532=\"\",\"\",Cover_Sheet!F1532)","v":""},{"$f":"Cover_Sheet!G1532","v":0},{"$f":"Cover_Sheet!H1532","v":0}]
[{"$f":"IF(Cover_Sheet!A1533=0,\"N\",\"Y\")","v":"N"},{"$f":"Cover_Sheet!B1533","v":0},{"$f":"Cover_Sheet!C1533","v":0},{"$f":"Cover_Sheet!D1533","v":"00:00:00"},{"$f":"Cover_Sheet!E1533","v":"00:00:00"},{"$f":"IF(Cover_Sheet!F1533=\"\",\"\",Cover_Sheet!F1533)","v":""},{"$f":"Cover_Sheet!G1533","v":0},{"$f":"Cover_Sheet!H1533","v":0}]
[{"$f":"IF(Cover_Sheet!A1534=0,\"N\",\"Y\")","v":"N"},{"$f":"Cover_Sheet!B1534","v":0},{"$f":"Cover_Sheet!C1534","v":0},{"$f":"Cover_Sheet!D1534","v":"00:00:00"},{"$f":"Cover_Sheet!E1534","v":"00:00:00"},{"$f":"IF(Cover_Sheet!F1534=\"\",\"\",Cover_Sheet!F1534)","v":""},{"$f":"Cover_Sheet!G1534","v":0},{"$f":"Cover_Sheet!H1534","v":0}]
[{"$f":"IF(Cover_Sheet!A1535=0,\"N\",\"Y\")","v":"N"},{"$f":"Cover_Sheet!B1535","v":0},{"$f":"Cover_Sheet!C1535","v":0},{"$f":"Cover_Sheet!D1535","v":"00:00:00"},{"$f":"Cover_Sheet!E1535","v":"00:00:00"},{"$f":"IF(Cover_Sheet!F1535=\"\",\"\",Cover_Sheet!F1535)","v":""},{"$f":"Cover_Sheet!G1535","v":0},{"$f":"Cover_Sheet!H1535","v":0}]
[{"$f":"IF(Cover_Sheet!A1536=0,\"N\",\"Y\")","v":"N"},{"$f":"Cover_Sheet!B1536","v":0},{"$f":"Cover_Sheet!C1536","v":0},{"$f":"Cover_Sheet!D1536","v":"00:00:00"},{"$f":"Cover_Sheet!E1536","v":"00:00:00"},{"$f":"IF(Cover_Sheet!F1536=\"\",\"\",Cover_Sheet!F1536)","v":""},{"$f":"Cover_Sheet!G1536","v":0},{"$f":"Cover_Sheet!H1536","v":0}]
[{"$f":"IF(Cover_Sheet!A1537=0,\"N\",\"Y\")","v":"N"},{"$f":"Cover_Sheet!B1537","v":0},{"$f":"Cover_Sheet!C1537","v":0},{"$f":"Cover_Sheet!D1537","v":"00:00:00"},{"$f":"Cover_Sheet!E1537","v":"00:00:00"},{"$f":"IF(Cover_Sheet!F1537=\"\",\"\",Cover_Sheet!F1537)","v":""},{"$f":"Cover_Sheet!G1537","v":0},{"$f":"Cover_Sheet!H1537","v":0}]
[{"$f":"IF(Cover_Sheet!A1538=0,\"N\",\"Y\")","v":"N"},{"$f":"Cover_Sheet!B1538","v":0},{"$f":"Cover_Sheet!C1538","v":0},{"$f":"Cover_Sheet!D1538","v":"00:00:00"},{"$f":"Cover_Sheet!E1538","v":"00:00:00"},{"$f":"IF(Cover_Sheet!F1538=\"\",\"\",Cover_Sheet!F1538)","v":""},{"$f":"Cover_Sheet!G1538","v":0},{"$f":"Cover_Sheet!H1538","v":0}]
[{"$f":"IF(Cover_Sheet!A1539=0,\"N\",\"Y\")","v":"N"},{"$f":"Cover_Sheet!B1539","v":0},{"$f":"Cover_Sheet!C1539","v":0},{"$f":"Cover_Sheet!D1539","v":"00:00:00"},{"$f":"Cover_Sheet!E1539","v":"00:00:00"},{"$f":"IF(Cover_Sheet!F1539=\"\",\"\",Cover_Sheet!F1539)","v":""},{"$f":"Cover_Sheet!G1539","v":0},{"$f":"Cover_Sheet!H1539","v":0}]
[{"$f":"IF(Cover_Sheet!A1540=0,\"N\",\"Y\")","v":"N"},{"$f":"Cover_Sheet!B1540","v":0},{"$f":"Cover_Sheet!C1540","v":0},{"$f":"Cover_Sheet!D1540","v":"00:00:00"},{"$f":"Cover_Sheet!E1540","v":"00:00:00"},{"$f":"IF(Cover_Sheet!F1540=\"\",\"\",Cover_Sheet!F1540)","v":""},{"$f":"Cover_Sheet!G1540","v":0},{"$f":"Cover_Sheet!H1540","v":0}]
[{"$f":"IF(Cover_Sheet!A1541=0,\"N\",\"Y\")","v":"N"},{"$f":"Cover_Sheet!B1541","v":0},{"$f":"Cover_Sheet!C1541","v":0},{"$f":"Cover_Sheet!D1541","v":"00:00:00"},{"$f":"Cover_Sheet!E1541","v":"00:00:00"},{"$f":"IF(Cover_Sheet!F1541=\"\",\"\",Cover_Sheet!F1541)","v":""},{"$f":"Cover_Sheet!G1541","v":0},{"$f":"Cover_Sheet!H1541","v":0}]
[{"$f":"IF(Cover_Sheet!A1542=0,\"N\",\"Y\")","v":"N"},{"$f":"Cover_Sheet!B1542","v":0},{"$f":"Cover_Sheet!C1542","v":0},{"$f":"Cover_Sheet!D1542","v":"00:00:00"},{"$f":"Cover_Sheet!E1542","v":"00:00:00"},{"$f":"IF(Cover_Sheet!F1542=\"\",\"\",Cover_Sheet!F1542)","v":""},{"$f":"Cover_Sheet!G1542","v":0},{"$f":"Cover_Sheet!H1542","v":0}]
[{"$f":"IF(Cover_Sheet!A1543=0,\"N\",\"Y\")","v":"N"},{"$f":"Cover_Sheet!B1543","v":0},{"$f":"Cover_Sheet!C1543","v":0},{"$f":"Cover_Sheet!D1543","v":"00:00:00"},{"$f":"Cover_Sheet!E1543","v":"00:00:00"},{"$f":"IF(Cover_Sheet!F1543=\"\",\"\",Cover_Sheet!F1543)","v":""},{"$f":"Cover_Sheet!G1543","v":0},{"$f":"Cover_Sheet!H1543","v":0}]
[{"$f":"IF(Cover_Sheet!A1544=0,\"N\",\"Y\")","v":"N"},{"$f":"Cover_Sheet!B1544","v":0},{"$f":"Cover_Sheet!C1544","v":0},{"$f":"Cover_Sheet!D1544","v":"00:00:00"},{"$f":"Cover_Sheet!E1544","v":"00:00:00"},{"$f":"IF(Cover_Sheet!F1544=\"\",\"\",Cover_Sheet!F1544)","v":""},{"$f":"Cover_Sheet!G1544","v":0},{"$f":"Cover_Sheet!H1544","v":0}]
[{"$f":"IF(Cover_Sheet!A1545=0,\"N\",\"Y\")","v":"N"},{"$f":"Cover_Sheet!B1545","v":0},{"$f":"Cover_Sheet!C1545","v":0},{"$f":"Cover_Sheet!D1545","v":"00:00:00"},{"$f":"Cover_Sheet!E1545","v":"00:00:00"},{"$f":"IF(Cover_Sheet!F1545=\"\",\"\",Cover_Sheet!F1545)","v":""},{"$f":"Cover_Sheet!G1545","v":0},{"$f":"Cover_Sheet!H1545","v":0}]
[{"$f":"IF(Cover_Sheet!A1546=0,\"N\",\"Y\")","v":"N"},{"$f":"Cover_Sheet!B1546","v":0},{"$f":"Cover_Sheet!C1546","v":0},{"$f":"Cover_Sheet!D1546","v":"00:00:00"},{"$f":"Cover_Sheet!E1546","v":"00:00:00"},{"$f":"IF(Cover_Sheet!F1546=\"\",\"\",Cover_Sheet!F1546)","v":""},{"$f":"Cover_Sheet!G1546","v":0},{"$f":"Cover_Sheet!H1546","v":0}]
[{"$f":"IF(Cover_Sheet!A1547=0,\"N\",\"Y\")","v":"N"},{"$f":"Cover_Sheet!B1547","v":0},{"$f":"Cover_Sheet!C1547","v":0},{"$f":"Cover_Sheet!D1547","v":"00:00:00"},{"$f":"Cover_Sheet!E1547","v":"00:00:00"},{"$f":"IF(Cover_Sheet!F1547=\"\",\"\",Cover_Sheet!F1547)","v":""},{"$f":"Cover_Sheet!G1547","v":0},{"$f":"Cover_Sheet!H1547","v":0}]
[{"$f":"IF(Cover_Sheet!A1548=0,\"N\",\"Y\")","v":"N"},{"$f":"Cover_Sheet!B1548","v":0},{"$f":"Cover_Sheet!C1548","v":0},{"$f":"Cover_Sheet!D1548","v":"00:00:00"},{"$f":"Cover_Sheet!E1548","v":"00:00:00"},{"$f":"IF(Cover_Sheet!F1548=\"\",\"\",Cover_Sheet!F1548)","v":""},{"$f":"Cover_Sheet!G1548","v":0},{"$f":"Cover_Sheet!H1548","v":0}]
[{"$f":"IF(Cover_Sheet!A1549=0,\"N\",\"Y\")","v":"N"},{"$f":"Cover_Sheet!B1549","v":0},{"$f":"Cover_Sheet!C1549","v":0},{"$f":"Cover_Sheet!D1549","v":"00:00:00"},{"$f":"Cover_Sheet!E1549","v":"00:00:00"},{"$f":"IF(Cover_Sheet!F1549=\"\",\"\",Cover_Sheet!F1549)","v":""},{"$f":"Cover_Sheet!G1549","v":0},{"$f":"Cover_Sheet!H1549","v":0}]
[{"$f":"IF(Cover_Sheet!A1550=0,\"N\",\"Y\")","v":"N"},{"$f":"Cover_Sheet!B1550","v":0},{"$f":"Cover_Sheet!C1550","v":0},{"$f":"Cover_Sheet!D1550","v":"00:00:00"},{"$f":"Cover_Sheet!E1550","v":"00:00:00"},{"$f":"IF(Cover_Sheet!F1550=\"\",\"\",Cover_Sheet!F1550)","v":""},{"$f":"Cover_Sheet!G1550","v":0},{"$f":"Cover_Sheet!H1550","v":0}]
[{"$f":"IF(Cover_Sheet!A1551=0,\"N\",\"Y\")","v":"N"},{"$f":"Cover_Sheet!B1551","v":0},{"$f":"Cover_Sheet!C1551","v":0},{"$f":"Cover_Sheet!D1551","v":"00:00:00"},{"$f":"Cover_Sheet!E1551","v":"00:00:00"},{"$f":"IF(Cover_Sheet!F1551=\"\",\"\",Cover_Sheet!F1551)","v":""},{"$f":"Cover_Sheet!G1551","v":0},{"$f":"Cover_Sheet!H1551","v":0}]
[{"$f":"IF(Cover_Sheet!A1552=0,\"N\",\"Y\")","v":"N"},{"$f":"Cover_Sheet!B1552","v":0},{"$f":"Cover_Sheet!C1552","v":0},{"$f":"Cover_Sheet!D1552","v":"00:00:00"},{"$f":"Cover_Sheet!E1552","v":"00:00:00"},{"$f":"IF(Cover_Sheet!F1552=\"\",\"\",Cover_Sheet!F1552)","v":""},{"$f":"Cover_Sheet!G1552","v":0},{"$f":"Cover_Sheet!H1552","v":0}]
[{"$f":"IF(Cover_Sheet!A1553=0,\"N\",\"Y\")","v":"N"},{"$f":"Cover_Sheet!B1553","v":0},{"$f":"Cover_Sheet!C1553","v":0},{"$f":"Cover_Sheet!D1553","v":"00:00:00"},{"$f":"Cover_Sheet!E1553","v":"00:00:00"},{"$f":"IF(Cover_Sheet!F1553=\"\",\"\",Cover_Sheet!F1553)","v":""},{"$f":"Cover_Sheet!G1553","v":0},{"$f":"Cover_Sheet!H1553","v":0}]
[{"$f":"IF(Cover_Sheet!A1554=0,\"N\",\"Y\")","v":"N"},{"$f":"Cover_Sheet!B1554","v":0},{"$f":"Cover_Sheet!C1554","v":0},{"$f":"Cover_Sheet!D1554","v":"00:00:00"},{"$f":"Cover_Sheet!E1554","v":"00:00:00"},{"$f":"IF(Cover_Sheet!F1554=\"\",\"\",Cover_Sheet!F1554)","v":""},{"$f":"Cover_Sheet!G1554","v":0},{"$f":"Cover_Sheet!H1554","v":0}]
[{"$f":"IF(Cover_Sheet!A1555=0,\"N\",\"Y\")","v":"N"},{"$f":"Cover_Sheet!B1555","v":0},{"$f":"Cover_Sheet!C1555","v":0},{"$f":"Cover_Sheet!D1555","v":"00:00:00"},{"$f":"Cover_Sheet!E1555","v":"00:00:00"},{"$f":"IF(Cover_Sheet!F1555=\"\",\"\",Cover_Sheet!F1555)","v":""},{"$f":"Cover_Sheet!G1555","v":0},{"$f":"Cover_Sheet!H1555","v":0}]
[{"$f":"IF(Cover_Sheet!A1556=0,\"N\",\"Y\")","v":"N"},{"$f":"Cover_Sheet!B1556","v":0},{"$f":"Cover_Sheet!C1556","v":0},{"$f":"Cover_Sheet!D1556","v":"00:00:00"},{"$f":"Cover_Sheet!E1556","v":"00:00:00"},{"$f":"IF(Cover_Sheet!F1556=\"\",\"\",Cover_Sheet!F1556)","v":""},{"$f":"Cover_Sheet!G1556","v":0},{"$f":"Cover_Sheet!H1556","v":0}]
[{"$f":"IF(Cover_Sheet!A1557=0,\"N\",\"Y\")","v":"N"},{"$f":"Cover_Sheet!B1557","v":0},{"$f":"Cover_Sheet!C1557","v":0},{"$f":"Cover_Sheet!D1557","v":"00:00:00"},{"$f":"Cover_Sheet!E1557","v":"00:00:00"},{"$f":"IF(Cover_Sheet!F1557=\"\",\"\",Cover_Sheet!F1557)","v":""},{"$f":"Cover_Sheet!G1557","v":0},{"$f":"Cover_Sheet!H1557","v":0}]
[{"$f":"IF(Cover_Sheet!A1558=0,\"N\",\"Y\")","v":"N"},{"$f":"Cover_Sheet!B1558","v":0},{"$f":"Cover_Sheet!C1558","v":0},{"$f":"Cover_Sheet!D1558","v":"00:00:00"},{"$f":"Cover_Sheet!E1558","v":"00:00:00"},{"$f":"IF(Cover_Sheet!F1558=\"\",\"\",Cover_Sheet!F1558)","v":""},{"$f":"Cover_Sheet!G1558","v":0},{"$f":"Cover_Sheet!H1558","v":0}]
[{"$f":"IF(Cover_Sheet!A1559=0,\"N\",\"Y\")","v":"N"},{"$f":"Cover_Sheet!B1559","v":0},{"$f":"Cover_Sheet!C1559","v":0},{"$f":"Cover_Sheet!D1559","v":"00:00:00"},{"$f":"Cover_Sheet!E1559","v":"00:00:00"},{"$f":"IF(Cover_Sheet!F1559=\"\",\"\",Cover_Sheet!F1559)","v":""},{"$f":"Cover_Sheet!G1559","v":0},{"$f":"Cover_Sheet!H1559","v":0}]
[{"$f":"IF(Cover_Sheet!A1560=0,\"N\",\"Y\")","v":"N"},{"$f":"Cover_Sheet!B1560","v":0},{"$f":"Cover_Sheet!C1560","v":0},{"$f":"Cover_Sheet!D1560","v":"00:00:00"},{"$f":"Cover_Sheet!E1560","v":"00:00:00"},{"$f":"IF(Cover_Sheet!F1560=\"\",\"\",Cover_Sheet!F1560)","v":""},{"$f":"Cover_Sheet!G1560","v":0},{"$f":"Cover_Sheet!H1560","v":0}]
[{"$f":"IF(Cover_Sheet!A1561=0,\"N\",\"Y\")","v":"N"},{"$f":"Cover_Sheet!B1561","v":0},{"$f":"Cover_Sheet!C1561","v":0},{"$f":"Cover_Sheet!D1561","v":"00:00:00"},{"$f":"Cover_Sheet!E1561","v":"00:00:00"},{"$f":"IF(Cover_Sheet!F1561=\"\",\"\",Cover_Sheet!F1561)","v":""},{"$f":"Cover_Sheet!G1561","v":0},{"$f":"Cover_Sheet!H1561","v":0}]
[{"$f":"IF(Cover_Sheet!A1562=0,\"N\",\"Y\")","v":"N"},{"$f":"Cover_Sheet!B1562","v":0},{"$f":"Cover_Sheet!C1562","v":0},{"$f":"Cover_Sheet!D1562","v":"00:00:00"},{"$f":"Cover_Sheet!E1562","v":"00:00:00"},{"$f":"IF(Cover_Sheet!F1562=\"\",\"\",Cover_Sheet!F1562)","v":""},{"$f":"Cover_Sheet!G1562","v":0},{"$f":"Cover_Sheet!H1562","v":0}]
[{"$f":"IF(Cover_Sheet!A1563=0,\"N\",\"Y\")","v":"N"},{"$f":"Cover_Sheet!B1563","v":0},{"$f":"Cover_Sheet!C1563","v":0},{"$f":"Cover_Sheet!D1563","v":"00:00:00"},{"$f":"Cover_Sheet!E1563","v":"00:00:00"},{"$f":"IF(Cover_Sheet!F1563=\"\",\"\",Cover_Sheet!F1563)","v":""},{"$f":"Cover_Sheet!G1563","v":0},{"$f":"Cover_Sheet!H1563","v":0}]
[{"$f":"IF(Cover_Sheet!A1564=0,\"N\",\"Y\")","v":"N"},{"$f":"Cover_Sheet!B1564","v":0},{"$f":"Cover_Sheet!C1564","v":0},{"$f":"Cover_Sheet!D1564","v":"00:00:00"},{"$f":"Cover_Sheet!E1564","v":"00:00:00"},{"$f":"IF(Cover_Sheet!F1564=\"\",\"\",Cover_Sheet!F1564)","v":""},{"$f":"Cover_Sheet!G1564","v":0},{"$f":"Cover_Sheet!H1564","v":0}]
[{"$f":"IF(Cover_Sheet!A1565=0,\"N\",\"Y\")","v":"N"},{"$f":"Cover_Sheet!B1565","v":0},{"$f":"Cover_Sheet!C1565","v":0},{"$f":"Cover_Sheet!D1565","v":"00:00:00"},{"$f":"Cover_Sheet!E1565","v":"00:00:00"},{"$f":"IF(Cover_Sheet!F1565=\"\",\"\",Cover_Sheet!F1565)","v":""},{"$f":"Cover_Sheet!G1565","v":0},{"$f":"Cover_Sheet!H1565","v":0}]
[{"$f":"IF(Cover_Sheet!A1566=0,\"N\",\"Y\")","v":"N"},{"$f":"Cover_Sheet!B1566","v":0},{"$f":"Cover_Sheet!C1566","v":0},{"$f":"Cover_Sheet!D1566","v":"00:00:00"},{"$f":"Cover_Sheet!E1566","v":"00:00:00"},{"$f":"IF(Cover_Sheet!F1566=\"\",\"\",Cover_Sheet!F1566)","v":""},{"$f":"Cover_Sheet!G1566","v":0},{"$f":"Cover_Sheet!H1566","v":0}]
[{"$f":"IF(Cover_Sheet!A1567=0,\"N\",\"Y\")","v":"N"},{"$f":"Cover_Sheet!B1567","v":0},{"$f":"Cover_Sheet!C1567","v":0},{"$f":"Cover_Sheet!D1567","v":"00:00:00"},{"$f":"Cover_Sheet!E1567","v":"00:00:00"},{"$f":"IF(Cover_Sheet!F1567=\"\",\"\",Cover_Sheet!F1567)","v":""},{"$f":"Cover_Sheet!G1567","v":0},{"$f":"Cover_Sheet!H1567","v":0}]
[{"$f":"IF(Cover_Sheet!A1568=0,\"N\",\"Y\")","v":"N"},{"$f":"Cover_Sheet!B1568","v":0},{"$f":"Cover_Sheet!C1568","v":0},{"$f":"Cover_Sheet!D1568","v":"00:00:00"},{"$f":"Cover_Sheet!E1568","v":"00:00:00"},{"$f":"IF(Cover_Sheet!F1568=\"\",\"\",Cover_Sheet!F1568)","v":""},{"$f":"Cover_Sheet!G1568","v":0},{"$f":"Cover_Sheet!H1568","v":0}]
[{"$f":"IF(Cover_Sheet!A1569=0,\"N\",\"Y\")","v":"N"},{"$f":"Cover_Sheet!B1569","v":0},{"$f":"Cover_Sheet!C1569","v":0},{"$f":"Cover_Sheet!D1569","v":"00:00:00"},{"$f":"Cover_Sheet!E1569","v":"00:00:00"},{"$f":"IF(Cover_Sheet!F1569=\"\",\"\",Cover_Sheet!F1569)","v":""},{"$f":"Cover_Sheet!G1569","v":0},{"$f":"Cover_Sheet!H1569","v":0}]
[{"$f":"IF(Cover_Sheet!A1570=0,\"N\",\"Y\")","v":"N"},{"$f":"Cover_Sheet!B1570","v":0},{"$f":"Cover_Sheet!C1570","v":0},{"$f":"Cover_Sheet!D1570","v":"00:00:00"},{"$f":"Cover_Sheet!E1570","v":"00:00:00"},{"$f":"IF(Cover_Sheet!F1570=\"\",\"\",Cover_Sheet!F1570)","v":""},{"$f":"Cover_Sheet!G1570","v":0},{"$f":"Cover_Sheet!H1570","v":0}]
[{"$f":"IF(Cover_Sheet!A1571=0,\"N\",\"Y\")","v":"N"},{"$f":"Cover_Sheet!B1571","v":0},{"$f":"Cover_Sheet!C1571","v":0},{"$f":"Cover_Sheet!D1571","v":"00:00:00"},{"$f":"Cover_Sheet!E1571","v":"00:00:00"},{"$f":"IF(Cover_Sheet!F1571=\"\",\"\",Cover_Sheet!F1571)","v":""},{"$f":"Cover_Sheet!G1571","v":0},{"$f":"Cover_Sheet!H1571","v":0}]
[{"$f":"IF(Cover_Sheet!A1572=0,\"N\",\"Y\")","v":"N"},{"$f":"Cover_Sheet!B1572","v":0},{"$f":"Cover_Sheet!C1572","v":0},{"$f":"Cover_Sheet!D1572","v":"00:00:00"},{"$f":"Cover_Sheet!E1572","v":"00:00:00"},{"$f":"IF(Cover_Sheet!F1572=\"\",\"\",Cover_Sheet!F1572)","v":""},{"$f":"Cover_Sheet!G1572","v":0},{"$f":"Cover_Sheet!H1572","v":0}]
[{"$f":"IF(Cover_Sheet!A1573=0,\"N\",\"Y\")","v":"N"},{"$f":"Cover_Sheet!B1573","v":0},{"$f":"Cover_Sheet!C1573","v":0},{"$f":"Cover_Sheet!D1573","v":"00:00:00"},{"$f":"Cover_Sheet!E1573","v":"00:00:00"},{"$f":"IF(Cover_Sheet!F1573=\"\",\"\",Cover_Sheet!F1573)","v":""},{"$f":"Cover_Sheet!G1573","v":0},{"$f":"Cover_Sheet!H1573","v":0}]
[{"$f":"IF(Cover_Sheet!A1574=0,\"N\",\"Y\")","v":"N"},{"$f":"Cover_Sheet!B1574","v":0},{"$f":"Cover_Sheet!C1574","v":0},{"$f":"Cover_Sheet!D1574","v":"00:00:00"},{"$f":"Cover_Sheet!E1574","v":"00:00:00"},{"$f":"IF(Cover_Sheet!F1574=\"\",\"\",Cover_Sheet!F1574)","v":""},{"$f":"Cover_Sheet!G1574","v":0},{"$f":"Cover_Sheet!H1574","v":0}]
[{"$f":"IF(Cover_Sheet!A1575=0,\"N\",\"Y\")","v":"N"},{"$f":"Cover_Sheet!B1575","v":0},{"$f":"Cover_Sheet!C1575","v":0},{"$f":"Cover_Sheet!D1575","v":"00:00:00"},{"$f":"Cover_Sheet!E1575","v":"00:00:00"},{"$f":"IF(Cover_Sheet!F1575=\"\",\"\",Cover_Sheet!F1575)","v":""},{"$f":"Cover_Sheet!G1575","v":0},{"$f":"Cover_Sheet!H1575","v":0}]
[{"$f":"IF(Cover_Sheet!A1576=0,\"N\",\"Y\")","v":"N"},{"$f":"Cover_Sheet!B1576","v":0},{"$f":"Cover_Sheet!C1576","v":0},{"$f":"Cover_Sheet!D1576","v":"00:00:00"},{"$f":"Cover_Sheet!E1576","v":"00:00:00"},{"$f":"IF(Cover_Sheet!F1576=\"\",\"\",Cover_Sheet!F1576)","v":""},{"$f":"Cover_Sheet!G1576","v":0},{"$f":"Cover_Sheet!H1576","v":0}]
[{"$f":"IF(Cover_Sheet!A1577=0,\"N\",\"Y\")","v":"N"},{"$f":"Cover_Sheet!B1577","v":0},{"$f":"Cover_Sheet!C1577","v":0},{"$f":"Cover_Sheet!D1577","v":"00:00:00"},{"$f":"Cover_Sheet!E1577","v":"00:00:00"},{"$f":"IF(Cover_Sheet!F1577=\"\",\"\",Cover_Sheet!F1577)","v":""},{"$f":"Cover_Sheet!G1577","v":0},{"$f":"Cover_Sheet!H1577","v":0}]
[{"$f":"IF(Cover_Sheet!A1578=0,\"N\",\"Y\")","v":"N"},{"$f":"Cover_Sheet!B1578","v":0},{"$f":"Cover_Sheet!C1578","v":0},{"$f":"Cover_Sheet!D1578","v":"00:00:00"},{"$f":"Cover_Sheet!E1578","v":"00:00:00"},{"$f":"IF(Cover_Sheet!F1578=\"\",\"\",Cover_Sheet!F1578)","v":""},{"$f":"Cover_Sheet!G1578","v":0},{"$f":"Cover_Sheet!H1578","v":0}]
[{"$f":"IF(Cover_Sheet!A1579=0,\"N\",\"Y\")","v":"N"},{"$f":"Cover_Sheet!B1579","v":0},{"$f":"Cover_Sheet!C1579","v":0},{"$f":"Cover_Sheet!D1579","v":"00:00:00"},{"$f":"Cover_Sheet!E1579","v":"00:00:00"},{"$f":"IF(Cover_Sheet!F1579=\"\",\"\",Cover_Sheet!F1579)","v":""},{"$f":"Cover_Sheet!G1579","v":0},{"$f":"Cover_Sheet!H1579","v":0}]
[{"$f":"IF(Cover_Sheet!A1580=0,\"N\",\"Y\")","v":"N"},{"$f":"Cover_Sheet!B1580","v":0},{"$f":"Cover_Sheet!C1580","v":0},{"$f":"Cover_Sheet!D1580","v":"00:00:00"},{"$f":"Cover_Sheet!E1580","v":"00:00:00"},{"$f":"IF(Cover_Sheet!F1580=\"\",\"\",Cover_Sheet!F1580)","v":""},{"$f":"Cover_Sheet!G1580","v":0},{"$f":"Cover_Sheet!H1580","v":0}]
[{"$f":"IF(Cover_Sheet!A1581=0,\"N\",\"Y\")","v":"N"},{"$f":"Cover_Sheet!B1581","v":0},{"$f":"Cover_Sheet!C1581","v":0},{"$f":"Cover_Sheet!D1581","v":"00:00:00"},{"$f":"Cover_Sheet!E1581","v":"00:00:00"},{"$f":"IF(Cover_Sheet!F1581=\"\",\"\",Cover_Sheet!F1581)","v":""},{"$f":"Cover_Sheet!G1581","v":0},{"$f":"Cover_Sheet!H1581","v":0}]
[{"$f":"IF(Cover_Sheet!A1582=0,\"N\",\"Y\")","v":"N"},{"$f":"Cover_Sheet!B1582","v":0},{"$f":"Cover_Sheet!C1582","v":0},{"$f":"Cover_Sheet!D1582","v":"00:00:00"},{"$f":"Cover_Sheet!E1582","v":"00:00:00"},{"$f":"IF(Cover_Sheet!F1582=\"\",\"\",Cover_Sheet!F1582)","v":""},{"$f":"Cover_Sheet!G1582","v":0},{"$f":"Cover_Sheet!H1582","v":0}]
[{"$f":"IF(Cover_Sheet!A1583=0,\"N\",\"Y\")","v":"N"},{"$f":"Cover_Sheet!B1583","v":0},{"$f":"Cover_Sheet!C1583","v":0},{"$f":"Cover_Sheet!D1583","v":"00:00:00"},{"$f":"Cover_Sheet!E1583","v":"00:00:00"},{"$f":"IF(Cover_Sheet!F1583=\"\",\"\",Cover_Sheet!F1583)","v":""},{"$f":"Cover_Sheet!G1583","v":0},{"$f":"Cover_Sheet!H1583","v":0}]
[{"$f":"IF(Cover_Sheet!A1584=0,\"N\",\"Y\")","v":"N"},{"$f":"Cover_Sheet!B1584","v":0},{"$f":"Cover_Sheet!C1584","v":0},{"$f":"Cover_Sheet!D1584","v":"00:00:00"},{"$f":"Cover_Sheet!E1584","v":"00:00:00"},{"$f":"IF(Cover_Sheet!F1584=\"\",\"\",Cover_Sheet!F1584)","v":""},{"$f":"Cover_Sheet!G1584","v":0},{"$f":"Cover_Sheet!H1584","v":0}]
[{"$f":"IF(Cover_Sheet!A1585=0,\"N\",\"Y\")","v":"N"},{"$f":"Cover_Sheet!B1585","v":0},{"$f":"Cover_Sheet!C1585","v":0},{"$f":"Cover_Sheet!D1585","v":"00:00:00"},{"$f":"Cover_Sheet!E1585","v":"00:00:00"},{"$f":"IF(Cover_Sheet!F1585=\"\",\"\",Cover_Sheet!F1585)","v":""},{"$f":"Cover_Sheet!G1585","v":0},{"$f":"Cover_Sheet!H1585","v":0}]
[{"$f":"IF(Cover_Sheet!A1586=0,\"N\",\"Y\")","v":"N"},{"$f":"Cover_Sheet!B1586","v":0},{"$f":"Cover_Sheet!C1586","v":0},{"$f":"Cover_Sheet!D1586","v":"00:00:00"},{"$f":"Cover_Sheet!E1586","v":"00:00:00"},{"$f":"IF(Cover_Sheet!F1586=\"\",\"\",Cover_Sheet!F1586)","v":""},{"$f":"Cover_Sheet!G1586","v":0},{"$f":"Cover_Sheet!H1586","v":0}]
[{"$f":"IF(Cover_Sheet!A1587=0,\"N\",\"Y\")","v":"N"},{"$f":"Cover_Sheet!B1587","v":0},{"$f":"Cover_Sheet!C1587","v":0},{"$f":"Cover_Sheet!D1587","v":"00:00:00"},{"$f":"Cover_Sheet!E1587","v":"00:00:00"},{"$f":"IF(Cover_Sheet!F1587=\"\",\"\",Cover_Sheet!F1587)","v":""},{"$f":"Cover_Sheet!G1587","v":0},{"$f":"Cover_Sheet!H1587","v":0}]
[{"$f":"IF(Cover_Sheet!A1588=0,\"N\",\"Y\")","v":"N"},{"$f":"Cover_Sheet!B1588","v":0},{"$f":"Cover_Sheet!C1588","v":0},{"$f":"Cover_Sheet!D1588","v":"00:00:00"},{"$f":"Cover_Sheet!E1588","v":"00:00:00"},{"$f":"IF(Cover_Sheet!F1588=\"\",\"\",Cover_Sheet!F1588)","v":""},{"$f":"Cover_Sheet!G1588","v":0},{"$f":"Cover_Sheet!H1588","v":0}]
[{"$f":"IF(Cover_Sheet!A1589=0,\"N\",\"Y\")","v":"N"},{"$f":"Cover_Sheet!B1589","v":0},{"$f":"Cover_Sheet!C1589","v":0},{"$f":"Cover_Sheet!D1589","v":"00:00:00"},{"$f":"Cover_Sheet!E1589","v":"00:00:00"},{"$f":"IF(Cover_Sheet!F1589=\"\",\"\",Cover_Sheet!F1589)","v":""},{"$f":"Cover_Sheet!G1589","v":0},{"$f":"Cover_Sheet!H1589","v":0}]
[{"$f":"IF(Cover_Sheet!A1590=0,\"N\",\"Y\")","v":"N"},{"$f":"Cover_Sheet!B1590","v":0},{"$f":"Cover_Sheet!C1590","v":0},{"$f":"Cover_Sheet!D1590","v":"00:00:00"},{"$f":"Cover_Sheet!E1590","v":"00:00:00"},{"$f":"IF(Cover_Sheet!F1590=\"\",\"\",Cover_Sheet!F1590)","v":""},{"$f":"Cover_Sheet!G1590","v":0},{"$f":"Cover_Sheet!H1590","v":0}]
[{"$f":"IF(Cover_Sheet!A1591=0,\"N\",\"Y\")","v":"N"},{"$f":"Cover_Sheet!B1591","v":0},{"$f":"Cover_Sheet!C1591","v":0},{"$f":"Cover_Sheet!D1591","v":"00:00:00"},{"$f":"Cover_Sheet!E1591","v":"00:00:00"},{"$f":"IF(Cover_Sheet!F1591=\"\",\"\",Cover_Sheet!F1591)","v":""},{"$f":"Cover_Sheet!G1591","v":0},{"$f":"Cover_Sheet!H1591","v":0}]
[{"$f":"IF(Cover_Sheet!A1592=0,\"N\",\"Y\")","v":"N"},{"$f":"Cover_Sheet!B1592","v":0},{"$f":"Cover_Sheet!C1592","v":0},{"$f":"Cover_Sheet!D1592","v":"00:00:00"},{"$f":"Cover_Sheet!E1592","v":"00:00:00"},{"$f":"IF(Cover_Sheet!F1592=\"\",\"\",Cover_Sheet!F1592)","v":""},{"$f":"Cover_Sheet!G1592","v":0},{"$f":"Cover_Sheet!H1592","v":0}]
[{"$f":"IF(Cover_Sheet!A1593=0,\"N\",\"Y\")","v":"N"},{"$f":"Cover_Sheet!B1593","v":0},{"$f":"Cover_Sheet!C1593","v":0},{"$f":"Cover_Sheet!D1593","v":"00:00:00"},{"$f":"Cover_Sheet!E1593","v":"00:00:00"},{"$f":"IF(Cover_Sheet!F1593=\"\",\"\",Cover_Sheet!F1593)","v":""},{"$f":"Cover_Sheet!G1593","v":0},{"$f":"Cover_Sheet!H1593","v":0}]
[{"$f":"IF(Cover_Sheet!A1594=0,\"N\",\"Y\")","v":"N"},{"$f":"Cover_Sheet!B1594","v":0},{"$f":"Cover_Sheet!C1594","v":0},{"$f":"Cover_Sheet!D1594","v":"00:00:00"},{"$f":"Cover_Sheet!E1594","v":"00:00:00"},{"$f":"IF(Cover_Sheet!F1594=\"\",\"\",Cover_Sheet!F1594)","v":""},{"$f":"Cover_Sheet!G1594","v":0},{"$f":"Cover_Sheet!H1594","v":0}]
[{"$f":"IF(Cover_Sheet!A1595=0,\"N\",\"Y\")","v":"N"},{"$f":"Cover_Sheet!B1595","v":0},{"$f":"Cover_Sheet!C1595","v":0},{"$f":"Cover_Sheet!D1595","v":"00:00:00"},{"$f":"Cover_Sheet!E1595","v":"00:00:00"},{"$f":"IF(Cover_Sheet!F1595=\"\",\"\",Cover_Sheet!F1595)","v":""},{"$f":"Cover_Sheet!G1595","v":0},{"$f":"Cover_Sheet!H1595","v":0}]
[{"$f":"IF(Cover_Sheet!A1596=0,\"N\",\"Y\")","v":"N"},{"$f":"Cover_Sheet!B1596","v":0},{"$f":"Cover_Sheet!C1596","v":0},{"$f":"Cover_Sheet!D1596","v":"00:00:00"},{"$f":"Cover_Sheet!E1596","v":"00:00:00"},{"$f":"IF(Cover_Sheet!F1596=\"\",\"\",Cover_Sheet!F1596)","v":""},{"$f":"Cover_Sheet!G1596","v":0},{"$f":"Cover_Sheet!H1596","v":0}]
[{"$f":"IF(Cover_Sheet!A1597=0,\"N\",\"Y\")","v":"N"},{"$f":"Cover_Sheet!B1597","v":0},{"$f":"Cover_Sheet!C1597","v":0},{"$f":"Cover_Sheet!D1597","v":"00:00:00"},{"$f":"Cover_Sheet!E1597","v":"00:00:00"},{"$f":"IF(Cover_Sheet!F1597=\"\",\"\",Cover_Sheet!F1597)","v":""},{"$f":"Cover_Sheet!G1597","v":0},{"$f":"Cover_Sheet!H1597","v":0}]
[{"$f":"IF(Cover_Sheet!A1598=0,\"N\",\"Y\")","v":"N"},{"$f":"Cover_Sheet!B1598","v":0},{"$f":"Cover_Sheet!C1598","v":0},{"$f":"Cover_Sheet!D1598","v":"00:00:00"},{"$f":"Cover_Sheet!E1598","v":"00:00:00"},{"$f":"IF(Cover_Sheet!F1598=\"\",\"\",Cover_Sheet!F1598)","v":""},{"$f":"Cover_Sheet!G1598","v":0},{"$f":"Cover_Sheet!H1598","v":0}]
[{"$f":"IF(Cover_Sheet!A1599=0,\"N\",\"Y\")","v":"N"},{"$f":"Cover_Sheet!B1599","v":0},{"$f":"Cover_Sheet!C1599","v":0},{"$f":"Cover_Sheet!D1599","v":"00:00:00"},{"$f":"Cover_Sheet!E1599","v":"00:00:00"},{"$f":"IF(Cover_Sheet!F1599=\"\",\"\",Cover_Sheet!F1599)","v":""},{"$f":"Cover_Sheet!G1599","v":0},{"$f":"Cover_Sheet!H1599","v":0}]
[{"$f":"IF(Cover_Sheet!A1600=0,\"N\",\"Y\")","v":"N"},{"$f":"Cover_Sheet!B1600","v":0},{"$f":"Cover_Sheet!C1600","v":0},{"$f":"Cover_Sheet!D1600","v":"00:00:00"},{"$f":"Cover_Sheet!E1600","v":"00:00:00"},{"$f":"IF(Cover_Sheet!F1600=\"\",\"\",Cover_Sheet!F1600)","v":""},{"$f":"Cover_Sheet!G1600","v":0},{"$f":"Cover_Sheet!H1600","v":0}]
[{"$f":"IF(Cover_Sheet!A1601=0,\"N\",\"Y\")","v":"N"},{"$f":"Cover_Sheet!B1601","v":0},{"$f":"Cover_Sheet!C1601","v":0},{"$f":"Cover_Sheet!D1601","v":"00:00:00"},{"$f":"Cover_Sheet!E1601","v":"00:00:00"},{"$f":"IF(Cover_Sheet!F1601=\"\",\"\",Cover_Sheet!F1601)","v":""},{"$f":"Cover_Sheet!G1601","v":0},{"$f":"Cover_Sheet!H1601","v":0}]
[{"$f":"IF(Cover_Sheet!A1602=0,\"N\",\"Y\")","v":"N"},{"$f":"Cover_Sheet!B1602","v":0},{"$f":"Cover_Sheet!C1602","v":0},{"$f":"Cover_Sheet!D1602","v":"00:00:00"},{"$f":"Cover_Sheet!E1602","v":"00:00:00"},{"$f":"IF(Cover_Sheet!F1602=\"\",\"\",Cover_Sheet!F1602)","v":""},{"$f":"Cover_Sheet!G1602","v":0},{"$f":"Cover_Sheet!H1602","v":0}]
[{"$f":"IF(Cover_Sheet!A1603=0,\"N\",\"Y\")","v":"N"},{"$f":"Cover_Sheet!B1603","v":0},{"$f":"Cover_Sheet!C1603","v":0},{"$f":"Cover_Sheet!D1603","v":"00:00:00"},{"$f":"Cover_Sheet!E1603","v":"00:00:00"},{"$f":"IF(Cover_Sheet!F1603=\"\",\"\",Cover_Sheet!F1603)","v":""},{"$f":"Cover_Sheet!G1603","v":0},{"$f":"Cover_Sheet!H1603","v":0}]
[{"$f":"IF(Cover_Sheet!A1604=0,\"N\",\"Y\")","v":"N"},{"$f":"Cover_Sheet!B1604","v":0},{"$f":"Cover_Sheet!C1604","v":0},{"$f":"Cover_Sheet!D1604","v":"00:00:00"},{"$f":"Cover_Sheet!E1604","v":"00:00:00"},{"$f":"IF(Cover_Sheet!F1604=\"\",\"\",Cover_Sheet!F1604)","v":""},{"$f":"Cover_Sheet!G1604","v":0},{"$f":"Cover_Sheet!H1604","v":0}]
[{"$f":"IF(Cover_Sheet!A1605=0,\"N\",\"Y\")","v":"N"},{"$f":"Cover_Sheet!B1605","v":0},{"$f":"Cover_Sheet!C1605","v":0},{"$f":"Cover_Sheet!D1605","v":"00:00:00"},{"$f":"Cover_Sheet!E1605","v":"00:00:00"},{"$f":"IF(Cover_Sheet!F1605=\"\",\"\",Cover_Sheet!F1605)","v":""},{"$f":"Cover_Sheet!G1605","v":0},{"$f":"Cover_Sheet!H1605","v":0}]
[{"$f":"IF(Cover_Sheet!A1606=0,\"N\",\"Y\")","v":"N"},{"$f":"Cover_Sheet!B1606","v":0},{"$f":"Cover_Sheet!C1606","v":0},{"$f":"Cover_Sheet!D1606","v":"00:00:00"},{"$f":"Cover_Sheet!E1606","v":"00:00:00"},{"$f":"IF(Cover_Sheet!F1606=\"\",\"\",Cover_Sheet!F1606)","v":""},{"$f":"Cover_Sheet!G1606","v":0},{"$f":"Cover_Sheet!H1606","v":0}]
[{"$f":"IF(Cover_Sheet!A1607=0,\"N\",\"Y\")","v":"N"},{"$f":"Cover_Sheet!B1607","v":0},{"$f":"Cover_Sheet!C1607","v":0},{"$f":"Cover_Sheet!D1607","v":"00:00:00"},{"$f":"Cover_Sheet!E1607","v":"00:00:00"},{"$f":"IF(Cover_Sheet!F1607=\"\",\"\",Cover_Sheet!F1607)","v":""},{"$f":"Cover_Sheet!G1607","v":0},{"$f":"Cover_Sheet!H1607","v":0}]
[{"$f":"IF(Cover_Sheet!A1608=0,\"N\",\"Y\")","v":"N"},{"$f":"Cover_Sheet!B1608","v":0},{"$f":"Cover_Sheet!C1608","v":0},{"$f":"Cover_Sheet!D1608","v":"00:00:00"},{"$f":"Cover_Sheet!E1608","v":"00:00:00"},{"$f":"IF(Cover_Sheet!F1608=\"\",\"\",Cover_Sheet!F1608)","v":""},{"$f":"Cover_Sheet!G1608","v":0},{"$f":"Cover_Sheet!H1608","v":0}]
[{"$f":"IF(Cover_Sheet!A1609=0,\"N\",\"Y\")","v":"N"},{"$f":"Cover_Sheet!B1609","v":0},{"$f":"Cover_Sheet!C1609","v":0},{"$f":"Cover_Sheet!D1609","v":"00:00:00"},{"$f":"Cover_Sheet!E1609","v":"00:00:00"},{"$f":"IF(Cover_Sheet!F1609=\"\",\"\",Cover_Sheet!F1609)","v":""},{"$f":"Cover_Sheet!G1609","v":0},{"$f":"Cover_Sheet!H1609","v":0}]
[{"$f":"IF(Cover_Sheet!A1610=0,\"N\",\"Y\")","v":"N"},{"$f":"Cover_Sheet!B1610","v":0},{"$f":"Cover_Sheet!C1610","v":0},{"$f":"Cover_Sheet!D1610","v":"00:00:00"},{"$f":"Cover_Sheet!E1610","v":"00:00:00"},{"$f":"IF(Cover_Sheet!F1610=\"\",\"\",Cover_Sheet!F1610)","v":""},{"$f":"Cover_Sheet!G1610","v":0},{"$f":"Cover_Sheet!H1610","v":0}]
[{"$f":"IF(Cover_Sheet!A1611=0,\"N\",\"Y\")","v":"N"},{"$f":"Cover_Sheet!B1611","v":0},{"$f":"Cover_Sheet!C1611","v":0},{"$f":"Cover_Sheet!D1611","v":"00:00:00"},{"$f":"Cover_Sheet!E1611","v":"00:00:00"},{"$f":"IF(Cover_Sheet!F1611=\"\",\"\",Cover_Sheet!F1611)","v":""},{"$f":"Cover_Sheet!G1611","v":0},{"$f":"Cover_Sheet!H1611","v":0}]
[{"$f":"IF(Cover_Sheet!A1612=0,\"N\",\"Y\")","v":"N"},{"$f":"Cover_Sheet!B1612","v":0},{"$f":"Cover_Sheet!C1612","v":0},{"$f":"Cover_Sheet!D1612","v":"00:00:00"},{"$f":"Cover_Sheet!E1612","v":"00:00:00"},{"$f":"IF(Cover_Sheet!F1612=\"\",\"\",Cover_Sheet!F1612)","v":""},{"$f":"Cover_Sheet!G1612","v":0},{"$f":"Cover_Sheet!H1612","v":0}]
[{"$f":"IF(Cover_Sheet!A1613=0,\"N\",\"Y\")","v":"N"},{"$f":"Cover_Sheet!B1613","v":0},{"$f":"Cover_Sheet!C1613","v":0},{"$f":"Cover_Sheet!D1613","v":"00:00:00"},{"$f":"Cover_Sheet!E1613","v":"00:00:00"},{"$f":"IF(Cover_Sheet!F1613=\"\",\"\",Cover_Sheet!F1613)","v":""},{"$f":"Cover_Sheet!G1613","v":0},{"$f":"Cover_Sheet!H1613","v":0}]
[{"$f":"IF(Cover_Sheet!A1614=0,\"N\",\"Y\")","v":"N"},{"$f":"Cover_Sheet!B1614","v":0},{"$f":"Cover_Sheet!C1614","v":0},{"$f":"Cover_Sheet!D1614","v":"00:00:00"},{"$f":"Cover_Sheet!E1614","v":"00:00:00"},{"$f":"IF(Cover_Sheet!F1614=\"\",\"\",Cover_Sheet!F1614)","v":""},{"$f":"Cover_Sheet!G1614","v":0},{"$f":"Cover_Sheet!H1614","v":0}]
[{"$f":"IF(Cover_Sheet!A1615=0,\"N\",\"Y\")","v":"N"},{"$f":"Cover_Sheet!B1615","v":0},{"$f":"Cover_Sheet!C1615","v":0},{"$f":"Cover_Sheet!D1615","v":"00:00:00"},{"$f":"Cover_Sheet!E1615","v":"00:00:00"},{"$f":"IF(Cover_Sheet!F1615=\"\",\"\",Cover_Sheet!F1615)","v":""},{"$f":"Cover_Sheet!G1615","v":0},{"$f":"Cover_Sheet!H1615","v":0}]
[{"$f":"IF(Cover_Sheet!A1616=0,\"N\",\"Y\")","v":"N"},{"$f":"Cover_Sheet!B1616","v":0},{"$f":"Cover_Sheet!C1616","v":0},{"$f":"Cover_Sheet!D1616","v":"00:00:00"},{"$f":"Cover_Sheet!E1616","v":"00:00:00"},{"$f":"IF(Cover_Sheet!F1616=\"\",\"\",Cover_Sheet!F1616)","v":""},{"$f":"Cover_Sheet!G1616","v":0},{"$f":"Cover_Sheet!H1616","v":0}]
[{"$f":"IF(Cover_Sheet!A1617=0,\"N\",\"Y\")","v":"N"},{"$f":"Cover_Sheet!B1617","v":0},{"$f":"Cover_Sheet!C1617","v":0},{"$f":"Cover_Sheet!D1617","v":"00:00:00"},{"$f":"Cover_Sheet!E1617","v":"00:00:00"},{"$f":"IF(Cover_Sheet!F1617=\"\",\"\",Cover_Sheet!F1617)","v":""},{"$f":"Cover_Sheet!G1617","v":0},{"$f":"Cover_Sheet!H1617","v":0}]
[{"$f":"IF(Cover_Sheet!A1618=0,\"N\",\"Y\")","v":"N"},{"$f":"Cover_Sheet!B1618","v":0},{"$f":"Cover_Sheet!C1618","v":0},{"$f":"Cover_Sheet!D1618","v":"00:00:00"},{"$f":"Cover_Sheet!E1618","v":"00:00:00"},{"$f":"IF(Cover_Sheet!F1618=\"\",\"\",Cover_Sheet!F1618)","v":""},{"$f":"Cover_Sheet!G1618","v":0},{"$f":"Cover_Sheet!H1618","v":0}]
[{"$f":"IF(Cover_Sheet!A1619=0,\"N\",\"Y\")","v":"N"},{"$f":"Cover_Sheet!B1619","v":0},{"$f":"Cover_Sheet!C1619","v":0},{"$f":"Cover_Sheet!D1619","v":"00:00:00"},{"$f":"Cover_Sheet!E1619","v":"00:00:00"},{"$f":"IF(Cover_Sheet!F1619=\"\",\"\",Cover_Sheet!F1619)","v":""},{"$f":"Cover_Sheet!G1619","v":0},{"$f":"Cover_Sheet!H1619","v":0}]
[{"$f":"IF(Cover_Sheet!A1620=0,\"N\",\"Y\")","v":"N"},{"$f":"Cover_Sheet!B1620","v":0},{"$f":"Cover_Sheet!C1620","v":0},{"$f":"Cover_Sheet!D1620","v":"00:00:00"},{"$f":"Cover_Sheet!E1620","v":"00:00:00"},{"$f":"IF(Cover_Sheet!F1620=\"\",\"\",Cover_Sheet!F1620)","v":""},{"$f":"Cover_Sheet!G1620","v":0},{"$f":"Cover_Sheet!H1620","v":0}]
[{"$f":"IF(Cover_Sheet!A1621=0,\"N\",\"Y\")","v":"N"},{"$f":"Cover_Sheet!B1621","v":0},{"$f":"Cover_Sheet!C1621","v":0},{"$f":"Cover_Sheet!D1621","v":"00:00:00"},{"$f":"Cover_Sheet!E1621","v":"00:00:00"},{"$f":"IF(Cover_Sheet!F1621=\"\",\"\",Cover_Sheet!F1621)","v":""},{"$f":"Cover_Sheet!G1621","v":0},{"$f":"Cover_Sheet!H1621","v":0}]
[{"$f":"IF(Cover_Sheet!A1622=0,\"N\",\"Y\")","v":"N"},{"$f":"Cover_Sheet!B1622","v":0},{"$f":"Cover_Sheet!C1622","v":0},{"$f":"Cover_Sheet!D1622","v":"00:00:00"},{"$f":"Cover_Sheet!E1622","v":"00:00:00"},{"$f":"IF(Cover_Sheet!F1622=\"\",\"\",Cover_Sheet!F1622)","v":""},{"$f":"Cover_Sheet!G1622","v":0},{"$f":"Cover_Sheet!H1622","v":0}]
[{"$f":"IF(Cover_Sheet!A1623=0,\"N\",\"Y\")","v":"N"},{"$f":"Cover_Sheet!B1623","v":0},{"$f":"Cover_Sheet!C1623","v":0},{"$f":"Cover_Sheet!D1623","v":"00:00:00"},{"$f":"Cover_Sheet!E1623","v":"00:00:00"},{"$f":"IF(Cover_Sheet!F1623=\"\",\"\",Cover_Sheet!F1623)","v":""},{"$f":"Cover_Sheet!G1623","v":0},{"$f":"Cover_Sheet!H1623","v":0}]
[{"$f":"IF(Cover_Sheet!A1624=0,\"N\",\"Y\")","v":"N"},{"$f":"Cover_Sheet!B1624","v":0},{"$f":"Cover_Sheet!C1624","v":0},{"$f":"Cover_Sheet!D1624","v":"00:00:00"},{"$f":"Cover_Sheet!E1624","v":"00:00:00"},{"$f":"IF(Cover_Sheet!F1624=\"\",\"\",Cover_Sheet!F1624)","v":""},{"$f":"Cover_Sheet!G1624","v":0},{"$f":"Cover_Sheet!H1624","v":0}]
[{"$f":"IF(Cover_Sheet!A1625=0,\"N\",\"Y\")","v":"N"},{"$f":"Cover_Sheet!B1625","v":0},{"$f":"Cover_Sheet!C1625","v":0},{"$f":"Cover_Sheet!D1625","v":"00:00:00"},{"$f":"Cover_Sheet!E1625","v":"00:00:00"},{"$f":"IF(Cover_Sheet!F1625=\"\",\"\",Cover_Sheet!F1625)","v":""},{"$f":"Cover_Sheet!G1625","v":0},{"$f":"Cover_Sheet!H1625","v":0}]
[{"$f":"IF(Cover_Sheet!A1626=0,\"N\",\"Y\")","v":"N"},{"$f":"Cover_Sheet!B1626","v":0},{"$f":"Cover_Sheet!C1626","v":0},{"$f":"Cover_Sheet!D1626","v":"00:00:00"},{"$f":"Cover_Sheet!E1626","v":"00:00:00"},{"$f":"IF(Cover_Sheet!F1626=\"\",\"\",Cover_Sheet!F1626)","v":""},{"$f":"Cover_Sheet!G1626","v":0},{"$f":"Cover_Sheet!H1626","v":0}]
[{"$f":"IF(Cover_Sheet!A1627=0,\"N\",\"Y\")","v":"N"},{"$f":"Cover_Sheet!B1627","v":0},{"$f":"Cover_Sheet!C1627","v":0},{"$f":"Cover_Sheet!D1627","v":"00:00:00"},{"$f":"Cover_Sheet!E1627","v":"00:00:00"},{"$f":"IF(Cover_Sheet!F1627=\"\",\"\",Cover_Sheet!F1627)","v":""},{"$f":"Cover_Sheet!G1627","v":0},{"$f":"Cover_Sheet!H1627","v":0}]
[{"$f":"IF(Cover_Sheet!A1628=0,\"N\",\"Y\")","v":"N"},{"$f":"Cover_Sheet!B1628","v":0},{"$f":"Cover_Sheet!C1628","v":0},{"$f":"Cover_Sheet!D1628","v":"00:00:00"},{"$f":"Cover_Sheet!E1628","v":"00:00:00"},{"$f":"IF(Cover_Sheet!F1628=\"\",\"\",Cover_Sheet!F1628)","v":""},{"$f":"Cover_Sheet!G1628","v":0},{"$f":"Cover_Sheet!H1628","v":0}]
[{"$f":"IF(Cover_Sheet!A1629=0,\"N\",\"Y\")","v":"N"},{"$f":"Cover_Sheet!B1629","v":0},{"$f":"Cover_Sheet!C1629","v":0},{"$f":"Cover_Sheet!D1629","v":"00:00:00"},{"$f":"Cover_Sheet!E1629","v":"00:00:00"},{"$f":"IF(Cover_Sheet!F1629=\"\",\"\",Cover_Sheet!F1629)","v":""},{"$f":"Cover_Sheet!G1629","v":0},{"$f":"Cover_Sheet!H1629","v":0}]
[{"$f":"IF(Cover_Sheet!A1630=0,\"N\",\"Y\")","v":"N"},{"$f":"Cover_Sheet!B1630","v":0},{"$f":"Cover_Sheet!C1630","v":0},{"$f":"Cover_Sheet!D1630","v":"00:00:00"},{"$f":"Cover_Sheet!E1630","v":"00:00:00"},{"$f":"IF(Cover_Sheet!F1630=\"\",\"\",Cover_Sheet!F1630)","v":""},{"$f":"Cover_Sheet!G1630","v":0},{"$f":"Cover_Sheet!H1630","v":0}]
[{"$f":"IF(Cover_Sheet!A1631=0,\"N\",\"Y\")","v":"N"},{"$f":"Cover_Sheet!B1631","v":0},{"$f":"Cover_Sheet!C1631","v":0},{"$f":"Cover_Sheet!D1631","v":"00:00:00"},{"$f":"Cover_Sheet!E1631","v":"00:00:00"},{"$f":"IF(Cover_Sheet!F1631=\"\",\"\",Cover_Sheet!F1631)","v":""},{"$f":"Cover_Sheet!G1631","v":0},{"$f":"Cover_Sheet!H1631","v":0}]
[{"$f":"IF(Cover_Sheet!A1632=0,\"N\",\"Y\")","v":"N"},{"$f":"Cover_Sheet!B1632","v":0},{"$f":"Cover_Sheet!C1632","v":0},{"$f":"Cover_Sheet!D1632","v":"00:00:00"},{"$f":"Cover_Sheet!E1632","v":"00:00:00"},{"$f":"IF(Cover_Sheet!F1632=\"\",\"\",Cover_Sheet!F1632)","v":""},{"$f":"Cover_Sheet!G1632","v":0},{"$f":"Cover_Sheet!H1632","v":0}]
[{"$f":"IF(Cover_Sheet!A1633=0,\"N\",\"Y\")","v":"N"},{"$f":"Cover_Sheet!B1633","v":0},{"$f":"Cover_Sheet!C1633","v":0},{"$f":"Cover_Sheet!D1633","v":"00:00:00"},{"$f":"Cover_Sheet!E1633","v":"00:00:00"},{"$f":"IF(Cover_Sheet!F1633=\"\",\"\",Cover_Sheet!F1633)","v":""},{"$f":"Cover_Sheet!G1633","v":0},{"$f":"Cover_Sheet!H1633","v":0}]
[{"$f":"IF(Cover_Sheet!A1634=0,\"N\",\"Y\")","v":"N"},{"$f":"Cover_Sheet!B1634","v":0},{"$f":"Cover_Sheet!C1634","v":0},{"$f":"Cover_Sheet!D1634","v":"00:00:00"},{"$f":"Cover_Sheet!E1634","v":"00:00:00"},{"$f":"IF(Cover_Sheet!F1634=\"\",\"\",Cover_Sheet!F1634)","v":""},{"$f":"Cover_Sheet!G1634","v":0},{"$f":"Cover_Sheet!H1634","v":0}]
[{"$f":"IF(Cover_Sheet!A1635=0,\"N\",\"Y\")","v":"N"},{"$f":"Cover_Sheet!B1635","v":0},{"$f":"Cover_Sheet!C1635","v":0},{"$f":"Cover_Sheet!D1635","v":"00:00:00"},{"$f":"Cover_Sheet!E1635","v":"00:00:00"},{"$f":"IF(Cover_Sheet!F1635=\"\",\"\",Cover_Sheet!F1635)","v":""},{"$f":"Cover_Sheet!G1635","v":0},{"$f":"Cover_Sheet!H1635","v":0}]
[{"$f":"IF(Cover_Sheet!A1636=0,\"N\",\"Y\")","v":"N"},{"$f":"Cover_Sheet!B1636","v":0},{"$f":"Cover_Sheet!C1636","v":0},{"$f":"Cover_Sheet!D1636","v":"00:00:00"},{"$f":"Cover_Sheet!E1636","v":"00:00:00"},{"$f":"IF(Cover_Sheet!F1636=\"\",\"\",Cover_Sheet!F1636)","v":""},{"$f":"Cover_Sheet!G1636","v":0},{"$f":"Cover_Sheet!H1636","v":0}]
[{"$f":"IF(Cover_Sheet!A1637=0,\"N\",\"Y\")","v":"N"},{"$f":"Cover_Sheet!B1637","v":0},{"$f":"Cover_Sheet!C1637","v":0},{"$f":"Cover_Sheet!D1637","v":"00:00:00"},{"$f":"Cover_Sheet!E1637","v":"00:00:00"},{"$f":"IF(Cover_Sheet!F1637=\"\",\"\",Cover_Sheet!F1637)","v":""},{"$f":"Cover_Sheet!G1637","v":0},{"$f":"Cover_Sheet!H1637","v":0}]
[{"$f":"IF(Cover_Sheet!A1638=0,\"N\",\"Y\")","v":"N"},{"$f":"Cover_Sheet!B1638","v":0},{"$f":"Cover_Sheet!C1638","v":0},{"$f":"Cover_Sheet!D1638","v":"00:00:00"},{"$f":"Cover_Sheet!E1638","v":"00:00:00"},{"$f":"IF(Cover_Sheet!F1638=\"\",\"\",Cover_Sheet!F1638)","v":""},{"$f":"Cover_Sheet!G1638","v":0},{"$f":"Cover_Sheet!H1638","v":0}]
[{"$f":"IF(Cover_Sheet!A1639=0,\"N\",\"Y\")","v":"N"},{"$f":"Cover_Sheet!B1639","v":0},{"$f":"Cover_Sheet!C1639","v":0},{"$f":"Cover_Sheet!D1639","v":"00:00:00"},{"$f":"Cover_Sheet!E1639","v":"00:00:00"},{"$f":"IF(Cover_Sheet!F1639=\"\",\"\",Cover_Sheet!F1639)","v":""},{"$f":"Cover_Sheet!G1639","v":0},{"$f":"Cover_Sheet!H1639","v":0}]
[{"$f":"IF(Cover_Sheet!A1640=0,\"N\",\"Y\")","v":"N"},{"$f":"Cover_Sheet!B1640","v":0},{"$f":"Cover_Sheet!C1640","v":0},{"$f":"Cover_Sheet!D1640","v":"00:00:00"},{"$f":"Cover_Sheet!E1640","v":"00:00:00"},{"$f":"IF(Cover_Sheet!F1640=\"\",\"\",Cover_Sheet!F1640)","v":""},{"$f":"Cover_Sheet!G1640","v":0},{"$f":"Cover_Sheet!H1640","v":0}]
[{"$f":"IF(Cover_Sheet!A1641=0,\"N\",\"Y\")","v":"N"},{"$f":"Cover_Sheet!B1641","v":0},{"$f":"Cover_Sheet!C1641","v":0},{"$f":"Cover_Sheet!D1641","v":"00:00:00"},{"$f":"Cover_Sheet!E1641","v":"00:00:00"},{"$f":"IF(Cover_Sheet!F1641=\"\",\"\",Cover_Sheet!F1641)","v":""},{"$f":"Cover_Sheet!G1641","v":0},{"$f":"Cover_Sheet!H1641","v":0}]
[{"$f":"IF(Cover_Sheet!A1642=0,\"N\",\"Y\")","v":"N"},{"$f":"Cover_Sheet!B1642","v":0},{"$f":"Cover_Sheet!C1642","v":0},{"$f":"Cover_Sheet!D1642","v":"00:00:00"},{"$f":"Cover_Sheet!E1642","v":"00:00:00"},{"$f":"IF(Cover_Sheet!F1642=\"\",\"\",Cover_Sheet!F1642)","v":""},{"$f":"Cover_Sheet!G1642","v":0},{"$f":"Cover_Sheet!H1642","v":0}]
[{"$f":"IF(Cover_Sheet!A1643=0,\"N\",\"Y\")","v":"N"},{"$f":"Cover_Sheet!B1643","v":0},{"$f":"Cover_Sheet!C1643","v":0},{"$f":"Cover_Sheet!D1643","v":"00:00:00"},{"$f":"Cover_Sheet!E1643","v":"00:00:00"},{"$f":"IF(Cover_Sheet!F1643=\"\",\"\",Cover_Sheet!F1643)","v":""},{"$f":"Cover_Sheet!G1643","v":0},{"$f":"Cover_Sheet!H1643","v":0}]
[{"$f":"IF(Cover_Sheet!A1644=0,\"N\",\"Y\")","v":"N"},{"$f":"Cover_Sheet!B1644","v":0},{"$f":"Cover_Sheet!C1644","v":0},{"$f":"Cover_Sheet!D1644","v":"00:00:00"},{"$f":"Cover_Sheet!E1644","v":"00:00:00"},{"$f":"IF(Cover_Sheet!F1644=\"\",\"\",Cover_Sheet!F1644)","v":""},{"$f":"Cover_Sheet!G1644","v":0},{"$f":"Cover_Sheet!H1644","v":0}]
[{"$f":"IF(Cover_Sheet!A1645=0,\"N\",\"Y\")","v":"N"},{"$f":"Cover_Sheet!B1645","v":0},{"$f":"Cover_Sheet!C1645","v":0},{"$f":"Cover_Sheet!D1645","v":"00:00:00"},{"$f":"Cover_Sheet!E1645","v":"00:00:00"},{"$f":"IF(Cover_Sheet!F1645=\"\",\"\",Cover_Sheet!F1645)","v":""},{"$f":"Cover_Sheet!G1645","v":0},{"$f":"Cover_Sheet!H1645","v":0}]
[{"$f":"IF(Cover_Sheet!A1646=0,\"N\",\"Y\")","v":"N"},{"$f":"Cover_Sheet!B1646","v":0},{"$f":"Cover_Sheet!C1646","v":0},{"$f":"Cover_Sheet!D1646","v":"00:00:00"},{"$f":"Cover_Sheet!E1646","v":"00:00:00"},{"$f":"IF(Cover_Sheet!F1646=\"\",\"\",Cover_Sheet!F1646)","v":""},{"$f":"Cover_Sheet!G1646","v":0},{"$f":"Cover_Sheet!H1646","v":0}]
[{"$f":"IF(Cover_Sheet!A1647=0,\"N\",\"Y\")","v":"N"},{"$f":"Cover_Sheet!B1647","v":0},{"$f":"Cover_Sheet!C1647","v":0},{"$f":"Cover_Sheet!D1647","v":"00:00:00"},{"$f":"Cover_Sheet!E1647","v":"00:00:00"},{"$f":"IF(Cover_Sheet!F1647=\"\",\"\",Cover_Sheet!F1647)","v":""},{"$f":"Cover_Sheet!G1647","v":0},{"$f":"Cover_Sheet!H1647","v":0}]
[{"$f":"IF(Cover_Sheet!A1648=0,\"N\",\"Y\")","v":"N"},{"$f":"Cover_Sheet!B1648","v":0},{"$f":"Cover_Sheet!C1648","v":0},{"$f":"Cover_Sheet!D1648","v":"00:00:00"},{"$f":"Cover_Sheet!E1648","v":"00:00:00"},{"$f":"IF(Cover_Sheet!F1648=\"\",\"\",Cover_Sheet!F1648)","v":""},{"$f":"Cover_Sheet!G1648","v":0},{"$f":"Cover_Sheet!H1648","v":0}]
[{"$f":"IF(Cover_Sheet!A1649=0,\"N\",\"Y\")","v":"N"},{"$f":"Cover_Sheet!B1649","v":0},{"$f":"Cover_Sheet!C1649","v":0},{"$f":"Cover_Sheet!D1649","v":"00:00:00"},{"$f":"Cover_Sheet!E1649","v":"00:00:00"},{"$f":"IF(Cover_Sheet!F1649=\"\",\"\",Cover_Sheet!F1649)","v":""},{"$f":"Cover_Sheet!G1649","v":0},{"$f":"Cover_Sheet!H1649","v":0}]
[{"$f":"IF(Cover_Sheet!A1650=0,\"N\",\"Y\")","v":"N"},{"$f":"Cover_Sheet!B1650","v":0},{"$f":"Cover_Sheet!C1650","v":0},{"$f":"Cover_Sheet!D1650","v":"00:00:00"},{"$f":"Cover_Sheet!E1650","v":"00:00:00"},{"$f":"IF(Cover_Sheet!F1650=\"\",\"\",Cover_Sheet!F1650)","v":""},{"$f":"Cover_Sheet!G1650","v":0},{"$f":"Cover_Sheet!H1650","v":0}]
[{"$f":"IF(Cover_Sheet!A1651=0,\"N\",\"Y\")","v":"N"},{"$f":"Cover_Sheet!B1651","v":0},{"$f":"Cover_Sheet!C1651","v":0},{"$f":"Cover_Sheet!D1651","v":"00:00:00"},{"$f":"Cover_Sheet!E1651","v":"00:00:00"},{"$f":"IF(Cover_Sheet!F1651=\"\",\"\",Cover_Sheet!F1651)","v":""},{"$f":"Cover_Sheet!G1651","v":0},{"$f":"Cover_Sheet!H1651","v":0}]
[{"$f":"IF(Cover_Sheet!A1652=0,\"N\",\"Y\")","v":"N"},{"$f":"Cover_Sheet!B1652","v":0},{"$f":"Cover_Sheet!C1652","v":0},{"$f":"Cover_Sheet!D1652","v":"00:00:00"},{"$f":"Cover_Sheet!E1652","v":"00:00:00"},{"$f":"IF(Cover_Sheet!F1652=\"\",\"\",Cover_Sheet!F1652)","v":""},{"$f":"Cover_Sheet!G1652","v":0},{"$f":"Cover_Sheet!H1652","v":0}]
[{"$f":"IF(Cover_Sheet!A1653=0,\"N\",\"Y\")","v":"N"},{"$f":"Cover_Sheet!B1653","v":0},{"$f":"Cover_Sheet!C1653","v":0},{"$f":"Cover_Sheet!D1653","v":"00:00:00"},{"$f":"Cover_Sheet!E1653","v":"00:00:00"},{"$f":"IF(Cover_Sheet!F1653=\"\",\"\",Cover_Sheet!F1653)","v":""},{"$f":"Cover_Sheet!G1653","v":0},{"$f":"Cover_Sheet!H1653","v":0}]
[{"$f":"IF(Cover_Sheet!A1654=0,\"N\",\"Y\")","v":"N"},{"$f":"Cover_Sheet!B1654","v":0},{"$f":"Cover_Sheet!C1654","v":0},{"$f":"Cover_Sheet!D1654","v":"00:00:00"},{"$f":"Cover_Sheet!E1654","v":"00:00:00"},{"$f":"IF(Cover_Sheet!F1654=\"\",\"\",Cover_Sheet!F1654)","v":""},{"$f":"Cover_Sheet!G1654","v":0},{"$f":"Cover_Sheet!H1654","v":0}]
[{"$f":"IF(Cover_Sheet!A1655=0,\"N\",\"Y\")","v":"N"},{"$f":"Cover_Sheet!B1655","v":0},{"$f":"Cover_Sheet!C1655","v":0},{"$f":"Cover_Sheet!D1655","v":"00:00:00"},{"$f":"Cover_Sheet!E1655","v":"00:00:00"},{"$f":"IF(Cover_Sheet!F1655=\"\",\"\",Cover_Sheet!F1655)","v":""},{"$f":"Cover_Sheet!G1655","v":0},{"$f":"Cover_Sheet!H1655","v":0}]
[{"$f":"IF(Cover_Sheet!A1656=0,\"N\",\"Y\")","v":"N"},{"$f":"Cover_Sheet!B1656","v":0},{"$f":"Cover_Sheet!C1656","v":0},{"$f":"Cover_Sheet!D1656","v":"00:00:00"},{"$f":"Cover_Sheet!E1656","v":"00:00:00"},{"$f":"IF(Cover_Sheet!F1656=\"\",\"\",Cover_Sheet!F1656)","v":""},{"$f":"Cover_Sheet!G1656","v":0},{"$f":"Cover_Sheet!H1656","v":0}]
[{"$f":"IF(Cover_Sheet!A1657=0,\"N\",\"Y\")","v":"N"},{"$f":"Cover_Sheet!B1657","v":0},{"$f":"Cover_Sheet!C1657","v":0},{"$f":"Cover_Sheet!D1657","v":"00:00:00"},{"$f":"Cover_Sheet!E1657","v":"00:00:00"},{"$f":"IF(Cover_Sheet!F1657=\"\",\"\",Cover_Sheet!F1657)","v":""},{"$f":"Cover_Sheet!G1657","v":0},{"$f":"Cover_Sheet!H1657","v":0}]
[{"$f":"IF(Cover_Sheet!A1658=0,\"N\",\"Y\")","v":"N"},{"$f":"Cover_Sheet!B1658","v":0},{"$f":"Cover_Sheet!C1658","v":0},{"$f":"Cover_Sheet!D1658","v":"00:00:00"},{"$f":"Cover_Sheet!E1658","v":"00:00:00"},{"$f":"IF(Cover_Sheet!F1658=\"\",\"\",Cover_Sheet!F1658)","v":""},{"$f":"Cover_Sheet!G1658","v":0},{"$f":"Cover_Sheet!H1658","v":0}]
[{"$f":"IF(Cover_Sheet!A1659=0,\"N\",\"Y\")","v":"N"},{"$f":"Cover_Sheet!B1659","v":0},{"$f":"Cover_Sheet!C1659","v":0},{"$f":"Cover_Sheet!D1659","v":"00:00:00"},{"$f":"Cover_Sheet!E1659","v":"00:00:00"},{"$f":"IF(Cover_Sheet!F1659=\"\",\"\",Cover_Sheet!F1659)","v":""},{"$f":"Cover_Sheet!G1659","v":0},{"$f":"Cover_Sheet!H1659","v":0}]
[{"$f":"IF(Cover_Sheet!A1660=0,\"N\",\"Y\")","v":"N"},{"$f":"Cover_Sheet!B1660","v":0},{"$f":"Cover_Sheet!C1660","v":0},{"$f":"Cover_Sheet!D1660","v":"00:00:00"},{"$f":"Cover_Sheet!E1660","v":"00:00:00"},{"$f":"IF(Cover_Sheet!F1660=\"\",\"\",Cover_Sheet!F1660)","v":""},{"$f":"Cover_Sheet!G1660","v":0},{"$f":"Cover_Sheet!H1660","v":0}]
[{"$f":"IF(Cover_Sheet!A1661=0,\"N\",\"Y\")","v":"N"},{"$f":"Cover_Sheet!B1661","v":0},{"$f":"Cover_Sheet!C1661","v":0},{"$f":"Cover_Sheet!D1661","v":"00:00:00"},{"$f":"Cover_Sheet!E1661","v":"00:00:00"},{"$f":"IF(Cover_Sheet!F1661=\"\",\"\",Cover_Sheet!F1661)","v":""},{"$f":"Cover_Sheet!G1661","v":0},{"$f":"Cover_Sheet!H1661","v":0}]
[{"$f":"IF(Cover_Sheet!A1662=0,\"N\",\"Y\")","v":"N"},{"$f":"Cover_Sheet!B1662","v":0},{"$f":"Cover_Sheet!C1662","v":0},{"$f":"Cover_Sheet!D1662","v":"00:00:00"},{"$f":"Cover_Sheet!E1662","v":"00:00:00"},{"$f":"IF(Cover_Sheet!F1662=\"\",\"\",Cover_Sheet!F1662)","v":""},{"$f":"Cover_Sheet!G1662","v":0},{"$f":"Cover_Sheet!H1662","v":0}]
[{"$f":"IF(Cover_Sheet!A1663=0,\"N\",\"Y\")","v":"N"},{"$f":"Cover_Sheet!B1663","v":0},{"$f":"Cover_Sheet!C1663","v":0},{"$f":"Cover_Sheet!D1663","v":"00:00:00"},{"$f":"Cover_Sheet!E1663","v":"00:00:00"},{"$f":"IF(Cover_Sheet!F1663=\"\",\"\",Cover_Sheet!F1663)","v":""},{"$f":"Cover_Sheet!G1663","v":0},{"$f":"Cover_Sheet!H1663","v":0}]
[{"$f":"IF(Cover_Sheet!A1664=0,\"N\",\"Y\")","v":"N"},{"$f":"Cover_Sheet!B1664","v":0},{"$f":"Cover_Sheet!C1664","v":0},{"$f":"Cover_Sheet!D1664","v":"00:00:00"},{"$f":"Cover_Sheet!E1664","v":"00:00:00"},{"$f":"IF(Cover_Sheet!F1664=\"\",\"\",Cover_Sheet!F1664)","v":""},{"$f":"Cover_Sheet!G1664","v":0},{"$f":"Cover_Sheet!H1664","v":0}]
[{"$f":"IF(Cover_Sheet!A1665=0,\"N\",\"Y\")","v":"N"},{"$f":"Cover_Sheet!B1665","v":0},{"$f":"Cover_Sheet!C1665","v":0},{"$f":"Cover_Sheet!D1665","v":"00:00:00"},{"$f":"Cover_Sheet!E1665","v":"00:00:00"},{"$f":"IF(Cover_Sheet!F1665=\"\",\"\",Cover_Sheet!F1665)","v":""},{"$f":"Cover_Sheet!G1665","v":0},{"$f":"Cover_Sheet!H1665","v":0}]
[{"$f":"IF(Cover_Sheet!A1666=0,\"N\",\"Y\")","v":"N"},{"$f":"Cover_Sheet!B1666","v":0},{"$f":"Cover_Sheet!C1666","v":0},{"$f":"Cover_Sheet!D1666","v":"00:00:00"},{"$f":"Cover_Sheet!E1666","v":"00:00:00"},{"$f":"IF(Cover_Sheet!F1666=\"\",\"\",Cover_Sheet!F1666)","v":""},{"$f":"Cover_Sheet!G1666","v":0},{"$f":"Cover_Sheet!H1666","v":0}]
[{"$f":"IF(Cover_Sheet!A1667=0,\"N\",\"Y\")","v":"N"},{"$f":"Cover_Sheet!B1667","v":0},{"$f":"Cover_Sheet!C1667","v":0},{"$f":"Cover_Sheet!D1667","v":"00:00:00"},{"$f":"Cover_Sheet!E1667","v":"00:00:00"},{"$f":"IF(Cover_Sheet!F1667=\"\",\"\",Cover_Sheet!F1667)","v":""},{"$f":"Cover_Sheet!G1667","v":0},{"$f":"Cover_Sheet!H1667","v":0}]
[{"$f":"IF(Cover_Sheet!A1668=0,\"N\",\"Y\")","v":"N"},{"$f":"Cover_Sheet!B1668","v":0},{"$f":"Cover_Sheet!C1668","v":0},{"$f":"Cover_Sheet!D1668","v":"00:00:00"},{"$f":"Cover_Sheet!E1668","v":"00:00:00"},{"$f":"IF(Cover_Sheet!F1668=\"\",\"\",Cover_Sheet!F1668)","v":""},{"$f":"Cover_Sheet!G1668","v":0},{"$f":"Cover_Sheet!H1668","v":0}]
[{"$f":"IF(Cover_Sheet!A1669=0,\"N\",\"Y\")","v":"N"},{"$f":"Cover_Sheet!B1669","v":0},{"$f":"Cover_Sheet!C1669","v":0},{"$f":"Cover_Sheet!D1669","v":"00:00:00"},{"$f":"Cover_Sheet!E1669","v":"00:00:00"},{"$f":"IF(Cover_Sheet!F1669=\"\",\"\",Cover_Sheet!F1669)","v":""},{"$f":"Cover_Sheet!G1669","v":0},{"$f":"Cover_Sheet!H1669","v":0}]
[{"$f":"IF(Cover_Sheet!A1670=0,\"N\",\"Y\")","v":"N"},{"$f":"Cover_Sheet!B1670","v":0},{"$f":"Cover_Sheet!C1670","v":0},{"$f":"Cover_Sheet!D1670","v":"00:00:00"},{"$f":"Cover_Sheet!E1670","v":"00:00:00"},{"$f":"IF(Cover_Sheet!F1670=\"\",\"\",Cover_Sheet!F1670)","v":""},{"$f":"Cover_Sheet!G1670","v":0},{"$f":"Cover_Sheet!H1670","v":0}]
[{"$f":"IF(Cover_Sheet!A1671=0,\"N\",\"Y\")","v":"N"},{"$f":"Cover_Sheet!B1671","v":0},{"$f":"Cover_Sheet!C1671","v":0},{"$f":"Cover_Sheet!D1671","v":"00:00:00"},{"$f":"Cover_Sheet!E1671","v":"00:00:00"},{"$f":"IF(Cover_Sheet!F1671=\"\",\"\",Cover_Sheet!F1671)","v":""},{"$f":"Cover_Sheet!G1671","v":0},{"$f":"Cover_Sheet!H1671","v":0}]
[{"$f":"IF(Cover_Sheet!A1672=0,\"N\",\"Y\")","v":"N"},{"$f":"Cover_Sheet!B1672","v":0},{"$f":"Cover_Sheet!C1672","v":0},{"$f":"Cover_Sheet!D1672","v":"00:00:00"},{"$f":"Cover_Sheet!E1672","v":"00:00:00"},{"$f":"IF(Cover_Sheet!F1672=\"\",\"\",Cover_Sheet!F1672)","v":""},{"$f":"Cover_Sheet!G1672","v":0},{"$f":"Cover_Sheet!H1672","v":0}]
[{"$f":"IF(Cover_Sheet!A1673=0,\"N\",\"Y\")","v":"N"},{"$f":"Cover_Sheet!B1673","v":0},{"$f":"Cover_Sheet!C1673","v":0},{"$f":"Cover_Sheet!D1673","v":"00:00:00"},{"$f":"Cover_Sheet!E1673","v":"00:00:00"},{"$f":"IF(Cover_Sheet!F1673=\"\",\"\",Cover_Sheet!F1673)","v":""},{"$f":"Cover_Sheet!G1673","v":0},{"$f":"Cover_Sheet!H1673","v":0}]
[{"$f":"IF(Cover_Sheet!A1674=0,\"N\",\"Y\")","v":"N"},{"$f":"Cover_Sheet!B1674","v":0},{"$f":"Cover_Sheet!C1674","v":0},{"$f":"Cover_Sheet!D1674","v":"00:00:00"},{"$f":"Cover_Sheet!E1674","v":"00:00:00"},{"$f":"IF(Cover_Sheet!F1674=\"\",\"\",Cover_Sheet!F1674)","v":""},{"$f":"Cover_Sheet!G1674","v":0},{"$f":"Cover_Sheet!H1674","v":0}]
[{"$f":"IF(Cover_Sheet!A1675=0,\"N\",\"Y\")","v":"N"},{"$f":"Cover_Sheet!B1675","v":0},{"$f":"Cover_Sheet!C1675","v":0},{"$f":"Cover_Sheet!D1675","v":"00:00:00"},{"$f":"Cover_Sheet!E1675","v":"00:00:00"},{"$f":"IF(Cover_Sheet!F1675=\"\",\"\",Cover_Sheet!F1675)","v":""},{"$f":"Cover_Sheet!G1675","v":0},{"$f":"Cover_Sheet!H1675","v":0}]
[{"$f":"IF(Cover_Sheet!A1676=0,\"N\",\"Y\")","v":"N"},{"$f":"Cover_Sheet!B1676","v":0},{"$f":"Cover_Sheet!C1676","v":0},{"$f":"Cover_Sheet!D1676","v":"00:00:00"},{"$f":"Cover_Sheet!E1676","v":"00:00:00"},{"$f":"IF(Cover_Sheet!F1676=\"\",\"\",Cover_Sheet!F1676)","v":""},{"$f":"Cover_Sheet!G1676","v":0},{"$f":"Cover_Sheet!H1676","v":0}]
[{"$f":"IF(Cover_Sheet!A1677=0,\"N\",\"Y\")","v":"N"},{"$f":"Cover_Sheet!B1677","v":0},{"$f":"Cover_Sheet!C1677","v":0},{"$f":"Cover_Sheet!D1677","v":"00:00:00"},{"$f":"Cover_Sheet!E1677","v":"00:00:00"},{"$f":"IF(Cover_Sheet!F1677=\"\",\"\",Cover_Sheet!F1677)","v":""},{"$f":"Cover_Sheet!G1677","v":0},{"$f":"Cover_Sheet!H1677","v":0}]
[{"$f":"IF(Cover_Sheet!A1678=0,\"N\",\"Y\")","v":"N"},{"$f":"Cover_Sheet!B1678","v":0},{"$f":"Cover_Sheet!C1678","v":0},{"$f":"Cover_Sheet!D1678","v":"00:00:00"},{"$f":"Cover_Sheet!E1678","v":"00:00:00"},{"$f":"IF(Cover_Sheet!F1678=\"\",\"\",Cover_Sheet!F1678)","v":""},{"$f":"Cover_Sheet!G1678","v":0},{"$f":"Cover_Sheet!H1678","v":0}]
[{"$f":"IF(Cover_Sheet!A1679=0,\"N\",\"Y\")","v":"N"},{"$f":"Cover_Sheet!B1679","v":0},{"$f":"Cover_Sheet!C1679","v":0},{"$f":"Cover_Sheet!D1679","v":"00:00:00"},{"$f":"Cover_Sheet!E1679","v":"00:00:00"},{"$f":"IF(Cover_Sheet!F1679=\"\",\"\",Cover_Sheet!F1679)","v":""},{"$f":"Cover_Sheet!G1679","v":0},{"$f":"Cover_Sheet!H1679","v":0}]
[{"$f":"IF(Cover_Sheet!A1680=0,\"N\",\"Y\")","v":"N"},{"$f":"Cover_Sheet!B1680","v":0},{"$f":"Cover_Sheet!C1680","v":0},{"$f":"Cover_Sheet!D1680","v":"00:00:00"},{"$f":"Cover_Sheet!E1680","v":"00:00:00"},{"$f":"IF(Cover_Sheet!F1680=\"\",\"\",Cover_Sheet!F1680)","v":""},{"$f":"Cover_Sheet!G1680","v":0},{"$f":"Cover_Sheet!H1680","v":0}]
[{"$f":"IF(Cover_Sheet!A1681=0,\"N\",\"Y\")","v":"N"},{"$f":"Cover_Sheet!B1681","v":0},{"$f":"Cover_Sheet!C1681","v":0},{"$f":"Cover_Sheet!D1681","v":"00:00:00"},{"$f":"Cover_Sheet!E1681","v":"00:00:00"},{"$f":"IF(Cover_Sheet!F1681=\"\",\"\",Cover_Sheet!F1681)","v":""},{"$f":"Cover_Sheet!G1681","v":0},{"$f":"Cover_Sheet!H1681","v":0}]
[{"$f":"IF(Cover_Sheet!A1682=0,\"N\",\"Y\")","v":"N"},{"$f":"Cover_Sheet!B1682","v":0},{"$f":"Cover_Sheet!C1682","v":0},{"$f":"Cover_Sheet!D1682","v":"00:00:00"},{"$f":"Cover_Sheet!E1682","v":"00:00:00"},{"$f":"IF(Cover_Sheet!F1682=\"\",\"\",Cover_Sheet!F1682)","v":""},{"$f":"Cover_Sheet!G1682","v":0},{"$f":"Cover_Sheet!H1682","v":0}]
[{"$f":"IF(Cover_Sheet!A1683=0,\"N\",\"Y\")","v":"N"},{"$f":"Cover_Sheet!B1683","v":0},{"$f":"Cover_Sheet!C1683","v":0},{"$f":"Cover_Sheet!D1683","v":"00:00:00"},{"$f":"Cover_Sheet!E1683","v":"00:00:00"},{"$f":"IF(Cover_Sheet!F1683=\"\",\"\",Cover_Sheet!F1683)","v":""},{"$f":"Cover_Sheet!G1683","v":0},{"$f":"Cover_Sheet!H1683","v":0}]
[{"$f":"IF(Cover_Sheet!A1684=0,\"N\",\"Y\")","v":"N"},{"$f":"Cover_Sheet!B1684","v":0},{"$f":"Cover_Sheet!C1684","v":0},{"$f":"Cover_Sheet!D1684","v":"00:00:00"},{"$f":"Cover_Sheet!E1684","v":"00:00:00"},{"$f":"IF(Cover_Sheet!F1684=\"\",\"\",Cover_Sheet!F1684)","v":""},{"$f":"Cover_Sheet!G1684","v":0},{"$f":"Cover_Sheet!H1684","v":0}]
[{"$f":"IF(Cover_Sheet!A1685=0,\"N\",\"Y\")","v":"N"},{"$f":"Cover_Sheet!B1685","v":0},{"$f":"Cover_Sheet!C1685","v":0},{"$f":"Cover_Sheet!D1685","v":"00:00:00"},{"$f":"Cover_Sheet!E1685","v":"00:00:00"},{"$f":"IF(Cover_Sheet!F1685=\"\",\"\",Cover_Sheet!F1685)","v":""},{"$f":"Cover_Sheet!G1685","v":0},{"$f":"Cover_Sheet!H1685","v":0}]
[{"$f":"IF(Cover_Sheet!A1686=0,\"N\",\"Y\")","v":"N"},{"$f":"Cover_Sheet!B1686","v":0},{"$f":"Cover_Sheet!C1686","v":0},{"$f":"Cover_Sheet!D1686","v":"00:00:00"},{"$f":"Cover_Sheet!E1686","v":"00:00:00"},{"$f":"IF(Cover_Sheet!F1686=\"\",\"\",Cover_Sheet!F1686)","v":""},{"$f":"Cover_Sheet!G1686","v":0},{"$f":"Cover_Sheet!H1686","v":0}]
[{"$f":"IF(Cover_Sheet!A1687=0,\"N\",\"Y\")","v":"N"},{"$f":"Cover_Sheet!B1687","v":0},{"$f":"Cover_Sheet!C1687","v":0},{"$f":"Cover_Sheet!D1687","v":"00:00:00"},{"$f":"Cover_Sheet!E1687","v":"00:00:00"},{"$f":"IF(Cover_Sheet!F1687=\"\",\"\",Cover_Sheet!F1687)","v":""},{"$f":"Cover_Sheet!G1687","v":0},{"$f":"Cover_Sheet!H1687","v":0}]
[{"$f":"IF(Cover_Sheet!A1688=0,\"N\",\"Y\")","v":"N"},{"$f":"Cover_Sheet!B1688","v":0},{"$f":"Cover_Sheet!C1688","v":0},{"$f":"Cover_Sheet!D1688","v":"00:00:00"},{"$f":"Cover_Sheet!E1688","v":"00:00:00"},{"$f":"IF(Cover_Sheet!F1688=\"\",\"\",Cover_Sheet!F1688)","v":""},{"$f":"Cover_Sheet!G1688","v":0},{"$f":"Cover_Sheet!H1688","v":0}]
[{"$f":"IF(Cover_Sheet!A1689=0,\"N\",\"Y\")","v":"N"},{"$f":"Cover_Sheet!B1689","v":0},{"$f":"Cover_Sheet!C1689","v":0},{"$f":"Cover_Sheet!D1689","v":"00:00:00"},{"$f":"Cover_Sheet!E1689","v":"00:00:00"},{"$f":"IF(Cover_Sheet!F1689=\"\",\"\",Cover_Sheet!F1689)","v":""},{"$f":"Cover_Sheet!G1689","v":0},{"$f":"Cover_Sheet!H1689","v":0}]
[{"$f":"IF(Cover_Sheet!A1690=0,\"N\",\"Y\")","v":"N"},{"$f":"Cover_Sheet!B1690","v":0},{"$f":"Cover_Sheet!C1690","v":0},{"$f":"Cover_Sheet!D1690","v":"00:00:00"},{"$f":"Cover_Sheet!E1690","v":"00:00:00"},{"$f":"IF(Cover_Sheet!F1690=\"\",\"\",Cover_Sheet!F1690)","v":""},{"$f":"Cover_Sheet!G1690","v":0},{"$f":"Cover_Sheet!H1690","v":0}]
[{"$f":"IF(Cover_Sheet!A1691=0,\"N\",\"Y\")","v":"N"},{"$f":"Cover_Sheet!B1691","v":0},{"$f":"Cover_Sheet!C1691","v":0},{"$f":"Cover_Sheet!D1691","v":"00:00:00"},{"$f":"Cover_Sheet!E1691","v":"00:00:00"},{"$f":"IF(Cover_Sheet!F1691=\"\",\"\",Cover_Sheet!F1691)","v":""},{"$f":"Cover_Sheet!G1691","v":0},{"$f":"Cover_Sheet!H1691","v":0}]
[{"$f":"IF(Cover_Sheet!A1692=0,\"N\",\"Y\")","v":"N"},{"$f":"Cover_Sheet!B1692","v":0},{"$f":"Cover_Sheet!C1692","v":0},{"$f":"Cover_Sheet!D1692","v":"00:00:00"},{"$f":"Cover_Sheet!E1692","v":"00:00:00"},{"$f":"IF(Cover_Sheet!F1692=\"\",\"\",Cover_Sheet!F1692)","v":""},{"$f":"Cover_Sheet!G1692","v":0},{"$f":"Cover_Sheet!H1692","v":0}]
[{"$f":"IF(Cover_Sheet!A1693=0,\"N\",\"Y\")","v":"N"},{"$f":"Cover_Sheet!B1693","v":0},{"$f":"Cover_Sheet!C1693","v":0},{"$f":"Cover_Sheet!D1693","v":"00:00:00"},{"$f":"Cover_Sheet!E1693","v":"00:00:00"},{"$f":"IF(Cover_Sheet!F1693=\"\",\"\",Cover_Sheet!F1693)","v":""},{"$f":"Cover_Sheet!G1693","v":0},{"$f":"Cover_Sheet!H1693","v":0}]
[{"$f":"IF(Cover_Sheet!A1694=0,\"N\",\"Y\")","v":"N"},{"$f":"Cover_Sheet!B1694","v":0},{"$f":"Cover_Sheet!C1694","v":0},{"$f":"Cover_Sheet!D1694","v":"00:00:00"},{"$f":"Cover_Sheet!E1694","v":"00:00:00"},{"$f":"IF(Cover_Sheet!F1694=\"\",\"\",Cover_Sheet!F1694)","v":""},{"$f":"Cover_Sheet!G1694","v":0},{"$f":"Cover_Sheet!H1694","v":0}]
[{"$f":"IF(Cover_Sheet!A1695=0,\"N\",\"Y\")","v":"N"},{"$f":"Cover_Sheet!B1695","v":0},{"$f":"Cover_Sheet!C1695","v":0},{"$f":"Cover_Sheet!D1695","v":"00:00:00"},{"$f":"Cover_Sheet!E1695","v":"00:00:00"},{"$f":"IF(Cover_Sheet!F1695=\"\",\"\",Cover_Sheet!F1695)","v":""},{"$f":"Cover_Sheet!G1695","v":0},{"$f":"Cover_Sheet!H1695","v":0}]
[{"$f":"IF(Cover_Sheet!A1696=0,\"N\",\"Y\")","v":"N"},{"$f":"Cover_Sheet!B1696","v":0},{"$f":"Cover_Sheet!C1696","v":0},{"$f":"Cover_Sheet!D1696","v":"00:00:00"},{"$f":"Cover_Sheet!E1696","v":"00:00:00"},{"$f":"IF(Cover_Sheet!F1696=\"\",\"\",Cover_Sheet!F1696)","v":""},{"$f":"Cover_Sheet!G1696","v":0},{"$f":"Cover_Sheet!H1696","v":0}]
[{"$f":"IF(Cover_Sheet!A1697=0,\"N\",\"Y\")","v":"N"},{"$f":"Cover_Sheet!B1697","v":0},{"$f":"Cover_Sheet!C1697","v":0},{"$f":"Cover_Sheet!D1697","v":"00:00:00"},{"$f":"Cover_Sheet!E1697","v":"00:00:00"},{"$f":"IF(Cover_Sheet!F1697=\"\",\"\",Cover_Sheet!F1697)","v":""},{"$f":"Cover_Sheet!G1697","v":0},{"$f":"Cover_Sheet!H1697","v":0}]
[{"$f":"IF(Cover_Sheet!A1698=0,\"N\",\"Y\")","v":"N"},{"$f":"Cover_Sheet!B1698","v":0},{"$f":"Cover_Sheet!C1698","v":0},{"$f":"Cover_Sheet!D1698","v":"00:00:00"},{"$f":"Cover_Sheet!E1698","v":"00:00:00"},{"$f":"IF(Cover_Sheet!F1698=\"\",\"\",Cover_Sheet!F1698)","v":""},{"$f":"Cover_Sheet!G1698","v":0},{"$f":"Cover_Sheet!H1698","v":0}]
[{"$f":"IF(Cover_Sheet!A1699=0,\"N\",\"Y\")","v":"N"},{"$f":"Cover_Sheet!B1699","v":0},{"$f":"Cover_Sheet!C1699","v":0},{"$f":"Cover_Sheet!D1699","v":"00:00:00"},{"$f":"Cover_Sheet!E1699","v":"00:00:00"},{"$f":"IF(Cover_Sheet!F1699=\"\",\"\",Cover_Sheet!F1699)","v":""},{"$f":"Cover_Sheet!G1699","v":0},{"$f":"Cover_Sheet!H1699","v":0}]
[{"$f":"IF(Cover_Sheet!A1700=0,\"N\",\"Y\")","v":"N"},{"$f":"Cover_Sheet!B1700","v":0},{"$f":"Cover_Sheet!C1700","v":0},{"$f":"Cover_Sheet!D1700","v":"00:00:00"},{"$f":"Cover_Sheet!E1700","v":"00:00:00"},{"$f":"IF(Cover_Sheet!F1700=\"\",\"\",Cover_Sheet!F1700)","v":""},{"$f":"Cover_Sheet!G1700","v":0},{"$f":"Cover_Sheet!H1700","v":0}]
[{"$f":"IF(Cover_Sheet!A1701=0,\"N\",\"Y\")","v":"N"},{"$f":"Cover_Sheet!B1701","v":0},{"$f":"Cover_Sheet!C1701","v":0},{"$f":"Cover_Sheet!D1701","v":"00:00:00"},{"$f":"Cover_Sheet!E1701","v":"00:00:00"},{"$f":"IF(Cover_Sheet!F1701=\"\",\"\",Cover_Sheet!F1701)","v":""},{"$f":"Cover_Sheet!G1701","v":0},{"$f":"Cover_Sheet!H1701","v":0}]
[{"$f":"IF(Cover_Sheet!A1702=0,\"N\",\"Y\")","v":"N"},{"$f":"Cover_Sheet!B1702","v":0},{"$f":"Cover_Sheet!C1702","v":0},{"$f":"Cover_Sheet!D1702","v":"00:00:00"},{"$f":"Cover_Sheet!E1702","v":"00:00:00"},{"$f":"IF(Cover_Sheet!F1702=\"\",\"\",Cover_Sheet!F1702)","v":""},{"$f":"Cover_Sheet!G1702","v":0},{"$f":"Cover_Sheet!H1702","v":0}]
[{"$f":"IF(Cover_Sheet!A1703=0,\"N\",\"Y\")","v":"N"},{"$f":"Cover_Sheet!B1703","v":0},{"$f":"Cover_Sheet!C1703","v":0},{"$f":"Cover_Sheet!D1703","v":"00:00:00"},{"$f":"Cover_Sheet!E1703","v":"00:00:00"},{"$f":"IF(Cover_Sheet!F1703=\"\",\"\",Cover_Sheet!F1703)","v":""},{"$f":"Cover_Sheet!G1703","v":0},{"$f":"Cover_Sheet!H1703","v":0}]
[{"$f":"IF(Cover_Sheet!A1704=0,\"N\",\"Y\")","v":"N"},{"$f":"Cover_Sheet!B1704","v":0},{"$f":"Cover_Sheet!C1704","v":0},{"$f":"Cover_Sheet!D1704","v":"00:00:00"},{"$f":"Cover_Sheet!E1704","v":"00:00:00"},{"$f":"IF(Cover_Sheet!F1704=\"\",\"\",Cover_Sheet!F1704)","v":""},{"$f":"Cover_Sheet!G1704","v":0},{"$f":"Cover_Sheet!H1704","v":0}]
[{"$f":"IF(Cover_Sheet!A1705=0,\"N\",\"Y\")","v":"N"},{"$f":"Cover_Sheet!B1705","v":0},{"$f":"Cover_Sheet!C1705","v":0},{"$f":"Cover_Sheet!D1705","v":"00:00:00"},{"$f":"Cover_Sheet!E1705","v":"00:00:00"},{"$f":"IF(Cover_Sheet!F1705=\"\",\"\",Cover_Sheet!F1705)","v":""},{"$f":"Cover_Sheet!G1705","v":0},{"$f":"Cover_Sheet!H1705","v":0}]
[{"$f":"IF(Cover_Sheet!A1706=0,\"N\",\"Y\")","v":"N"},{"$f":"Cover_Sheet!B1706","v":0},{"$f":"Cover_Sheet!C1706","v":0},{"$f":"Cover_Sheet!D1706","v":"00:00:00"},{"$f":"Cover_Sheet!E1706","v":"00:00:00"},{"$f":"IF(Cover_Sheet!F1706=\"\",\"\",Cover_Sheet!F1706)","v":""},{"$f":"Cover_Sheet!G1706","v":0},{"$f":"Cover_Sheet!H1706","v":0}]
[{"$f":"IF(Cover_Sheet!A1707=0,\"N\",\"Y\")","v":"N"},{"$f":"Cover_Sheet!B1707","v":0},{"$f":"Cover_Sheet!C1707","v":0},{"$f":"Cover_Sheet!D1707","v":"00:00:00"},{"$f":"Cover_Sheet!E1707","v":"00:00:00"},{"$f":"IF(Cover_Sheet!F1707=\"\",\"\",Cover_Sheet!F1707)","v":""},{"$f":"Cover_Sheet!G1707","v":0},{"$f":"Cover_Sheet!H1707","v":0}]
[{"$f":"IF(Cover_Sheet!A1708=0,\"N\",\"Y\")","v":"N"},{"$f":"Cover_Sheet!B1708","v":0},{"$f":"Cover_Sheet!C1708","v":0},{"$f":"Cover_Sheet!D1708","v":"00:00:00"},{"$f":"Cover_Sheet!E1708","v":"00:00:00"},{"$f":"IF(Cover_Sheet!F1708=\"\",\"\",Cover_Sheet!F1708)","v":""},{"$f":"Cover_Sheet!G1708","v":0},{"$f":"Cover_Sheet!H1708","v":0}]
[{"$f":"IF(Cover_Sheet!A1709=0,\"N\",\"Y\")","v":"N"},{"$f":"Cover_Sheet!B1709","v":0},{"$f":"Cover_Sheet!C1709","v":0},{"$f":"Cover_Sheet!D1709","v":"00:00:00"},{"$f":"Cover_Sheet!E1709","v":"00:00:00"},{"$f":"IF(Cover_Sheet!F1709=\"\",\"\",Cover_Sheet!F1709)","v":""},{"$f":"Cover_Sheet!G1709","v":0},{"$f":"Cover_Sheet!H1709","v":0}]
[{"$f":"IF(Cover_Sheet!A1710=0,\"N\",\"Y\")","v":"N"},{"$f":"Cover_Sheet!B1710","v":0},{"$f":"Cover_Sheet!C1710","v":0},{"$f":"Cover_Sheet!D1710","v":"00:00:00"},{"$f":"Cover_Sheet!E1710","v":"00:00:00"},{"$f":"IF(Cover_Sheet!F1710=\"\",\"\",Cover_Sheet!F1710)","v":""},{"$f":"Cover_Sheet!G1710","v":0},{"$f":"Cover_Sheet!H1710","v":0}]
[{"$f":"IF(Cover_Sheet!A1711=0,\"N\",\"Y\")","v":"N"},{"$f":"Cover_Sheet!B1711","v":0},{"$f":"Cover_Sheet!C1711","v":0},{"$f":"Cover_Sheet!D1711","v":"00:00:00"},{"$f":"Cover_Sheet!E1711","v":"00:00:00"},{"$f":"IF(Cover_Sheet!F1711=\"\",\"\",Cover_Sheet!F1711)","v":""},{"$f":"Cover_Sheet!G1711","v":0},{"$f":"Cover_Sheet!H1711","v":0}]
[{"$f":"IF(Cover_Sheet!A1712=0,\"N\",\"Y\")","v":"N"},{"$f":"Cover_Sheet!B1712","v":0},{"$f":"Cover_Sheet!C1712","v":0},{"$f":"Cover_Sheet!D1712","v":"00:00:00"},{"$f":"Cover_Sheet!E1712","v":"00:00:00"},{"$f":"IF(Cover_Sheet!F1712=\"\",\"\",Cover_Sheet!F1712)","v":""},{"$f":"Cover_Sheet!G1712","v":0},{"$f":"Cover_Sheet!H1712","v":0}]
[{"$f":"IF(Cover_Sheet!A1713=0,\"N\",\"Y\")","v":"N"},{"$f":"Cover_Sheet!B1713","v":0},{"$f":"Cover_Sheet!C1713","v":0},{"$f":"Cover_Sheet!D1713","v":"00:00:00"},{"$f":"Cover_Sheet!E1713","v":"00:00:00"},{"$f":"IF(Cover_Sheet!F1713=\"\",\"\",Cover_Sheet!F1713)","v":""},{"$f":"Cover_Sheet!G1713","v":0},{"$f":"Cover_Sheet!H1713","v":0}]
[{"$f":"IF(Cover_Sheet!A1714=0,\"N\",\"Y\")","v":"N"},{"$f":"Cover_Sheet!B1714","v":0},{"$f":"Cover_Sheet!C1714","v":0},{"$f":"Cover_Sheet!D1714","v":"00:00:00"},{"$f":"Cover_Sheet!E1714","v":"00:00:00"},{"$f":"IF(Cover_Sheet!F1714=\"\",\"\",Cover_Sheet!F1714)","v":""},{"$f":"Cover_Sheet!G1714","v":0},{"$f":"Cover_Sheet!H1714","v":0}]
[{"$f":"IF(Cover_Sheet!A1715=0,\"N\",\"Y\")","v":"N"},{"$f":"Cover_Sheet!B1715","v":0},{"$f":"Cover_Sheet!C1715","v":0},{"$f":"Cover_Sheet!D1715","v":"00:00:00"},{"$f":"Cover_Sheet!E1715","v":"00:00:00"},{"$f":"IF(Cover_Sheet!F1715=\"\",\"\",Cover_Sheet!F1715)","v":""},{"$f":"Cover_Sheet!G1715","v":0},{"$f":"Cover_Sheet!H1715","v":0}]
[{"$f":"IF(Cover_Sheet!A1716=0,\"N\",\"Y\")","v":"N"},{"$f":"Cover_Sheet!B1716","v":0},{"$f":"Cover_Sheet!C1716","v":0},{"$f":"Cover_Sheet!D1716","v":"00:00:00"},{"$f":"Cover_Sheet!E1716","v":"00:00:00"},{"$f":"IF(Cover_Sheet!F1716=\"\",\"\",Cover_Sheet!F1716)","v":""},{"$f":"Cover_Sheet!G1716","v":0},{"$f":"Cover_Sheet!H1716","v":0}]
[{"$f":"IF(Cover_Sheet!A1717=0,\"N\",\"Y\")","v":"N"},{"$f":"Cover_Sheet!B1717","v":0},{"$f":"Cover_Sheet!C1717","v":0},{"$f":"Cover_Sheet!D1717","v":"00:00:00"},{"$f":"Cover_Sheet!E1717","v":"00:00:00"},{"$f":"IF(Cover_Sheet!F1717=\"\",\"\",Cover_Sheet!F1717)","v":""},{"$f":"Cover_Sheet!G1717","v":0},{"$f":"Cover_Sheet!H1717","v":0}]
[{"$f":"IF(Cover_Sheet!A1718=0,\"N\",\"Y\")","v":"N"},{"$f":"Cover_Sheet!B1718","v":0},{"$f":"Cover_Sheet!C1718","v":0},{"$f":"Cover_Sheet!D1718","v":"00:00:00"},{"$f":"Cover_Sheet!E1718","v":"00:00:00"},{"$f":"IF(Cover_Sheet!F1718=\"\",\"\",Cover_Sheet!F1718)","v":""},{"$f":"Cover_Sheet!G1718","v":0},{"$f":"Cover_Sheet!H1718","v":0}]
[{"$f":"IF(Cover_Sheet!A1719=0,\"N\",\"Y\")","v":"N"},{"$f":"Cover_Sheet!B1719","v":0},{"$f":"Cover_Sheet!C1719","v":0},{"$f":"Cover_Sheet!D1719","v":"00:00:00"},{"$f":"Cover_Sheet!E1719","v":"00:00:00"},{"$f":"IF(Cover_Sheet!F1719=\"\",\"\",Cover_Sheet!F1719)","v":""},{"$f":"Cover_Sheet!G1719","v":0},{"$f":"Cover_Sheet!H1719","v":0}]
[{"$f":"IF(Cover_Sheet!A1720=0,\"N\",\"Y\")","v":"N"},{"$f":"Cover_Sheet!B1720","v":0},{"$f":"Cover_Sheet!C1720","v":0},{"$f":"Cover_Sheet!D1720","v":"00:00:00"},{"$f":"Cover_Sheet!E1720","v":"00:00:00"},{"$f":"IF(Cover_Sheet!F1720=\"\",\"\",Cover_Sheet!F1720)","v":""},{"$f":"Cover_Sheet!G1720","v":0},{"$f":"Cover_Sheet!H1720","v":0}]
[{"$f":"IF(Cover_Sheet!A1721=0,\"N\",\"Y\")","v":"N"},{"$f":"Cover_Sheet!B1721","v":0},{"$f":"Cover_Sheet!C1721","v":0},{"$f":"Cover_Sheet!D1721","v":"00:00:00"},{"$f":"Cover_Sheet!E1721","v":"00:00:00"},{"$f":"IF(Cover_Sheet!F1721=\"\",\"\",Cover_Sheet!F1721)","v":""},{"$f":"Cover_Sheet!G1721","v":0},{"$f":"Cover_Sheet!H1721","v":0}]
[{"$f":"IF(Cover_Sheet!A1722=0,\"N\",\"Y\")","v":"N"},{"$f":"Cover_Sheet!B1722","v":0},{"$f":"Cover_Sheet!C1722","v":0},{"$f":"Cover_Sheet!D1722","v":"00:00:00"},{"$f":"Cover_Sheet!E1722","v":"00:00:00"},{"$f":"IF(Cover_Sheet!F1722=\"\",\"\",Cover_Sheet!F1722)","v":""},{"$f":"Cover_Sheet!G1722","v":0},{"$f":"Cover_Sheet!H1722","v":0}]
[{"$f":"IF(Cover_Sheet!A1723=0,\"N\",\"Y\")","v":"N"},{"$f":"Cover_Sheet!B1723","v":0},{"$f":"Cover_Sheet!C1723","v":0},{"$f":"Cover_Sheet!D1723","v":"00:00:00"},{"$f":"Cover_Sheet!E1723","v":"00:00:00"},{"$f":"IF(Cover_Sheet!F1723=\"\",\"\",Cover_Sheet!F1723)","v":""},{"$f":"Cover_Sheet!G1723","v":0},{"$f":"Cover_Sheet!H1723","v":0}]
[{"$f":"IF(Cover_Sheet!A1724=0,\"N\",\"Y\")","v":"N"},{"$f":"Cover_Sheet!B1724","v":0},{"$f":"Cover_Sheet!C1724","v":0},{"$f":"Cover_Sheet!D1724","v":"00:00:00"},{"$f":"Cover_Sheet!E1724","v":"00:00:00"},{"$f":"IF(Cover_Sheet!F1724=\"\",\"\",Cover_Sheet!F1724)","v":""},{"$f":"Cover_Sheet!G1724","v":0},{"$f":"Cover_Sheet!H1724","v":0}]
[{"$f":"IF(Cover_Sheet!A1725=0,\"N\",\"Y\")","v":"N"},{"$f":"Cover_Sheet!B1725","v":0},{"$f":"Cover_Sheet!C1725","v":0},{"$f":"Cover_Sheet!D1725","v":"00:00:00"},{"$f":"Cover_Sheet!E1725","v":"00:00:00"},{"$f":"IF(Cover_Sheet!F1725=\"\",\"\",Cover_Sheet!F1725)","v":""},{"$f":"Cover_Sheet!G1725","v":0},{"$f":"Cover_Sheet!H1725","v":0}]
[{"$f":"IF(Cover_Sheet!A1726=0,\"N\",\"Y\")","v":"N"},{"$f":"Cover_Sheet!B1726","v":0},{"$f":"Cover_Sheet!C1726","v":0},{"$f":"Cover_Sheet!D1726","v":"00:00:00"},{"$f":"Cover_Sheet!E1726","v":"00:00:00"},{"$f":"IF(Cover_Sheet!F1726=\"\",\"\",Cover_Sheet!F1726)","v":""},{"$f":"Cover_Sheet!G1726","v":0},{"$f":"Cover_Sheet!H1726","v":0}]
[{"$f":"IF(Cover_Sheet!A1727=0,\"N\",\"Y\")","v":"N"},{"$f":"Cover_Sheet!B1727","v":0},{"$f":"Cover_Sheet!C1727","v":0},{"$f":"Cover_Sheet!D1727","v":"00:00:00"},{"$f":"Cover_Sheet!E1727","v":"00:00:00"},{"$f":"IF(Cover_Sheet!F1727=\"\",\"\",Cover_Sheet!F1727)","v":""},{"$f":"Cover_Sheet!G1727","v":0},{"$f":"Cover_Sheet!H1727","v":0}]
[{"$f":"IF(Cover_Sheet!A1728=0,\"N\",\"Y\")","v":"N"},{"$f":"Cover_Sheet!B1728","v":0},{"$f":"Cover_Sheet!C1728","v":0},{"$f":"Cover_Sheet!D1728","v":"00:00:00"},{"$f":"Cover_Sheet!E1728","v":"00:00:00"},{"$f":"IF(Cover_Sheet!F1728=\"\",\"\",Cover_Sheet!F1728)","v":""},{"$f":"Cover_Sheet!G1728","v":0},{"$f":"Cover_Sheet!H1728","v":0}]
[{"$f":"IF(Cover_Sheet!A1729=0,\"N\",\"Y\")","v":"N"},{"$f":"Cover_Sheet!B1729","v":0},{"$f":"Cover_Sheet!C1729","v":0},{"$f":"Cover_Sheet!D1729","v":"00:00:00"},{"$f":"Cover_Sheet!E1729","v":"00:00:00"},{"$f":"IF(Cover_Sheet!F1729=\"\",\"\",Cover_Sheet!F1729)","v":""},{"$f":"Cover_Sheet!G1729","v":0},{"$f":"Cover_Sheet!H1729","v":0}]
[{"$f":"IF(Cover_Sheet!A1730=0,\"N\",\"Y\")","v":"N"},{"$f":"Cover_Sheet!B1730","v":0},{"$f":"Cover_Sheet!C1730","v":0},{"$f":"Cover_Sheet!D1730","v":"00:00:00"},{"$f":"Cover_Sheet!E1730","v":"00:00:00"},{"$f":"IF(Cover_Sheet!F1730=\"\",\"\",Cover_Sheet!F1730)","v":""},{"$f":"Cover_Sheet!G1730","v":0},{"$f":"Cover_Sheet!H1730","v":0}]
[{"$f":"IF(Cover_Sheet!A1731=0,\"N\",\"Y\")","v":"N"},{"$f":"Cover_Sheet!B1731","v":0},{"$f":"Cover_Sheet!C1731","v":0},{"$f":"Cover_Sheet!D1731","v":"00:00:00"},{"$f":"Cover_Sheet!E1731","v":"00:00:00"},{"$f":"IF(Cover_Sheet!F1731=\"\",\"\",Cover_Sheet!F1731)","v":""},{"$f":"Cover_Sheet!G1731","v":0},{"$f":"Cover_Sheet!H1731","v":0}]
[{"$f":"IF(Cover_Sheet!A1732=0,\"N\",\"Y\")","v":"N"},{"$f":"Cover_Sheet!B1732","v":0},{"$f":"Cover_Sheet!C1732","v":0},{"$f":"Cover_Sheet!D1732","v":"00:00:00"},{"$f":"Cover_Sheet!E1732","v":"00:00:00"},{"$f":"IF(Cover_Sheet!F1732=\"\",\"\",Cover_Sheet!F1732)","v":""},{"$f":"Cover_Sheet!G1732","v":0},{"$f":"Cover_Sheet!H1732","v":0}]
[{"$f":"IF(Cover_Sheet!A1733=0,\"N\",\"Y\")","v":"N"},{"$f":"Cover_Sheet!B1733","v":0},{"$f":"Cover_Sheet!C1733","v":0},{"$f":"Cover_Sheet!D1733","v":"00:00:00"},{"$f":"Cover_Sheet!E1733","v":"00:00:00"},{"$f":"IF(Cover_Sheet!F1733=\"\",\"\",Cover_Sheet!F1733)","v":""},{"$f":"Cover_Sheet!G1733","v":0},{"$f":"Cover_Sheet!H1733","v":0}]
[{"$f":"IF(Cover_Sheet!A1734=0,\"N\",\"Y\")","v":"N"},{"$f":"Cover_Sheet!B1734","v":0},{"$f":"Cover_Sheet!C1734","v":0},{"$f":"Cover_Sheet!D1734","v":"00:00:00"},{"$f":"Cover_Sheet!E1734","v":"00:00:00"},{"$f":"IF(Cover_Sheet!F1734=\"\",\"\",Cover_Sheet!F1734)","v":""},{"$f":"Cover_Sheet!G1734","v":0},{"$f":"Cover_Sheet!H1734","v":0}]
[{"$f":"IF(Cover_Sheet!A1735=0,\"N\",\"Y\")","v":"N"},{"$f":"Cover_Sheet!B1735","v":0},{"$f":"Cover_Sheet!C1735","v":0},{"$f":"Cover_Sheet!D1735","v":"00:00:00"},{"$f":"Cover_Sheet!E1735","v":"00:00:00"},{"$f":"IF(Cover_Sheet!F1735=\"\",\"\",Cover_Sheet!F1735)","v":""},{"$f":"Cover_Sheet!G1735","v":0},{"$f":"Cover_Sheet!H1735","v":0}]
[{"$f":"IF(Cover_Sheet!A1736=0,\"N\",\"Y\")","v":"N"},{"$f":"Cover_Sheet!B1736","v":0},{"$f":"Cover_Sheet!C1736","v":0},{"$f":"Cover_Sheet!D1736","v":"00:00:00"},{"$f":"Cover_Sheet!E1736","v":"00:00:00"},{"$f":"IF(Cover_Sheet!F1736=\"\",\"\",Cover_Sheet!F1736)","v":""},{"$f":"Cover_Sheet!G1736","v":0},{"$f":"Cover_Sheet!H1736","v":0}]
[{"$f":"IF(Cover_Sheet!A1737=0,\"N\",\"Y\")","v":"N"},{"$f":"Cover_Sheet!B1737","v":0},{"$f":"Cover_Sheet!C1737","v":0},{"$f":"Cover_Sheet!D1737","v":"00:00:00"},{"$f":"Cover_Sheet!E1737","v":"00:00:00"},{"$f":"IF(Cover_Sheet!F1737=\"\",\"\",Cover_Sheet!F1737)","v":""},{"$f":"Cover_Sheet!G1737","v":0},{"$f":"Cover_Sheet!H1737","v":0}]
[{"$f":"IF(Cover_Sheet!A1738=0,\"N\",\"Y\")","v":"N"},{"$f":"Cover_Sheet!B1738","v":0},{"$f":"Cover_Sheet!C1738","v":0},{"$f":"Cover_Sheet!D1738","v":"00:00:00"},{"$f":"Cover_Sheet!E1738","v":"00:00:00"},{"$f":"IF(Cover_Sheet!F1738=\"\",\"\",Cover_Sheet!F1738)","v":""},{"$f":"Cover_Sheet!G1738","v":0},{"$f":"Cover_Sheet!H1738","v":0}]
[{"$f":"IF(Cover_Sheet!A1739=0,\"N\",\"Y\")","v":"N"},{"$f":"Cover_Sheet!B1739","v":0},{"$f":"Cover_Sheet!C1739","v":0},{"$f":"Cover_Sheet!D1739","v":"00:00:00"},{"$f":"Cover_Sheet!E1739","v":"00:00:00"},{"$f":"IF(Cover_Sheet!F1739=\"\",\"\",Cover_Sheet!F1739)","v":""},{"$f":"Cover_Sheet!G1739","v":0},{"$f":"Cover_Sheet!H1739","v":0}]
[{"$f":"IF(Cover_Sheet!A1740=0,\"N\",\"Y\")","v":"N"},{"$f":"Cover_Sheet!B1740","v":0},{"$f":"Cover_Sheet!C1740","v":0},{"$f":"Cover_Sheet!D1740","v":"00:00:00"},{"$f":"Cover_Sheet!E1740","v":"00:00:00"},{"$f":"IF(Cover_Sheet!F1740=\"\",\"\",Cover_Sheet!F1740)","v":""},{"$f":"Cover_Sheet!G1740","v":0},{"$f":"Cover_Sheet!H1740","v":0}]
[{"$f":"IF(Cover_Sheet!A1741=0,\"N\",\"Y\")","v":"N"},{"$f":"Cover_Sheet!B1741","v":0},{"$f":"Cover_Sheet!C1741","v":0},{"$f":"Cover_Sheet!D1741","v":"00:00:00"},{"$f":"Cover_Sheet!E1741","v":"00:00:00"},{"$f":"IF(Cover_Sheet!F1741=\"\",\"\",Cover_Sheet!F1741)","v":""},{"$f":"Cover_Sheet!G1741","v":0},{"$f":"Cover_Sheet!H1741","v":0}]
[{"$f":"IF(Cover_Sheet!A1742=0,\"N\",\"Y\")","v":"N"},{"$f":"Cover_Sheet!B1742","v":0},{"$f":"Cover_Sheet!C1742","v":0},{"$f":"Cover_Sheet!D1742","v":"00:00:00"},{"$f":"Cover_Sheet!E1742","v":"00:00:00"},{"$f":"IF(Cover_Sheet!F1742=\"\",\"\",Cover_Sheet!F1742)","v":""},{"$f":"Cover_Sheet!G1742","v":0},{"$f":"Cover_Sheet!H1742","v":0}]
[{"$f":"IF(Cover_Sheet!A1743=0,\"N\",\"Y\")","v":"N"},{"$f":"Cover_Sheet!B1743","v":0},{"$f":"Cover_Sheet!C1743","v":0},{"$f":"Cover_Sheet!D1743","v":"00:00:00"},{"$f":"Cover_Sheet!E1743","v":"00:00:00"},{"$f":"IF(Cover_Sheet!F1743=\"\",\"\",Cover_Sheet!F1743)","v":""},{"$f":"Cover_Sheet!G1743","v":0},{"$f":"Cover_Sheet!H1743","v":0}]
[{"$f":"IF(Cover_Sheet!A1744=0,\"N\",\"Y\")","v":"N"},{"$f":"Cover_Sheet!B1744","v":0},{"$f":"Cover_Sheet!C1744","v":0},{"$f":"Cover_Sheet!D1744","v":"00:00:00"},{"$f":"Cover_Sheet!E1744","v":"00:00:00"},{"$f":"IF(Cover_Sheet!F1744=\"\",\"\",Cover_Sheet!F1744)","v":""},{"$f":"Cover_Sheet!G1744","v":0},{"$f":"Cover_Sheet!H1744","v":0}]
[{"$f":"IF(Cover_Sheet!A1745=0,\"N\",\"Y\")","v":"N"},{"$f":"Cover_Sheet!B1745","v":0},{"$f":"Cover_Sheet!C1745","v":0},{"$f":"Cover_Sheet!D1745","v":"00:00:00"},{"$f":"Cover_Sheet!E1745","v":"00:00:00"},{"$f":"IF(Cover_Sheet!F1745=\"\",\"\",Cover_Sheet!F1745)","v":""},{"$f":"Cover_Sheet!G1745","v":0},{"$f":"Cover_Sheet!H1745","v":0}]
[{"$f":"IF(Cover_Sheet!A1746=0,\"N\",\"Y\")","v":"N"},{"$f":"Cover_Sheet!B1746","v":0},{"$f":"Cover_Sheet!C1746","v":0},{"$f":"Cover_Sheet!D1746","v":"00:00:00"},{"$f":"Cover_Sheet!E1746","v":"00:00:00"},{"$f":"IF(Cover_Sheet!F1746=\"\",\"\",Cover_Sheet!F1746)","v":""},{"$f":"Cover_Sheet!G1746","v":0},{"$f":"Cover_Sheet!H1746","v":0}]
[{"$f":"IF(Cover_Sheet!A1747=0,\"N\",\"Y\")","v":"N"},{"$f":"Cover_Sheet!B1747","v":0},{"$f":"Cover_Sheet!C1747","v":0},{"$f":"Cover_Sheet!D1747","v":"00:00:00"},{"$f":"Cover_Sheet!E1747","v":"00:00:00"},{"$f":"IF(Cover_Sheet!F1747=\"\",\"\",Cover_Sheet!F1747)","v":""},{"$f":"Cover_Sheet!G1747","v":0},{"$f":"Cover_Sheet!H1747","v":0}]
[{"$f":"IF(Cover_Sheet!A1748=0,\"N\",\"Y\")","v":"N"},{"$f":"Cover_Sheet!B1748","v":0},{"$f":"Cover_Sheet!C1748","v":0},{"$f":"Cover_Sheet!D1748","v":"00:00:00"},{"$f":"Cover_Sheet!E1748","v":"00:00:00"},{"$f":"IF(Cover_Sheet!F1748=\"\",\"\",Cover_Sheet!F1748)","v":""},{"$f":"Cover_Sheet!G1748","v":0},{"$f":"Cover_Sheet!H1748","v":0}]
[{"$f":"IF(Cover_Sheet!A1749=0,\"N\",\"Y\")","v":"N"},{"$f":"Cover_Sheet!B1749","v":0},{"$f":"Cover_Sheet!C1749","v":0},{"$f":"Cover_Sheet!D1749","v":"00:00:00"},{"$f":"Cover_Sheet!E1749","v":"00:00:00"},{"$f":"IF(Cover_Sheet!F1749=\"\",\"\",Cover_Sheet!F1749)","v":""},{"$f":"Cover_Sheet!G1749","v":0},{"$f":"Cover_Sheet!H1749","v":0}]
[{"$f":"IF(Cover_Sheet!A1750=0,\"N\",\"Y\")","v":"N"},{"$f":"Cover_Sheet!B1750","v":0},{"$f":"Cover_Sheet!C1750","v":0},{"$f":"Cover_Sheet!D1750","v":"00:00:00"},{"$f":"Cover_Sheet!E1750","v":"00:00:00"},{"$f":"IF(Cover_Sheet!F1750=\"\",\"\",Cover_Sheet!F1750)","v":""},{"$f":"Cover_Sheet!G1750","v":0},{"$f":"Cover_Sheet!H1750","v":0}]
[{"$f":"IF(Cover_Sheet!A1751=0,\"N\",\"Y\")","v":"N"},{"$f":"Cover_Sheet!B1751","v":0},{"$f":"Cover_Sheet!C1751","v":0},{"$f":"Cover_Sheet!D1751","v":"00:00:00"},{"$f":"Cover_Sheet!E1751","v":"00:00:00"},{"$f":"IF(Cover_Sheet!F1751=\"\",\"\",Cover_Sheet!F1751)","v":""},{"$f":"Cover_Sheet!G1751","v":0},{"$f":"Cover_Sheet!H1751","v":0}]
[{"$f":"IF(Cover_Sheet!A1752=0,\"N\",\"Y\")","v":"N"},{"$f":"Cover_Sheet!B1752","v":0},{"$f":"Cover_Sheet!C1752","v":0},{"$f":"Cover_Sheet!D1752","v":"00:00:00"},{"$f":"Cover_Sheet!E1752","v":"00:00:00"},{"$f":"IF(Cover_Sheet!F1752=\"\",\"\",Cover_Sheet!F1752)","v":""},{"$f":"Cover_Sheet!G1752","v":0},{"$f":"Cover_Sheet!H1752","v":0}]
[{"$f":"IF(Cover_Sheet!A1753=0,\"N\",\"Y\")","v":"N"},{"$f":"Cover_Sheet!B1753","v":0},{"$f":"Cover_Sheet!C1753","v":0},{"$f":"Cover_Sheet!D1753","v":"00:00:00"},{"$f":"Cover_Sheet!E1753","v":"00:00:00"},{"$f":"IF(Cover_Sheet!F1753=\"\",\"\",Cover_Sheet!F1753)","v":""},{"$f":"Cover_Sheet!G1753","v":0},{"$f":"Cover_Sheet!H1753","v":0}]
[{"$f":"IF(Cover_Sheet!A1754=0,\"N\",\"Y\")","v":"N"},{"$f":"Cover_Sheet!B1754","v":0},{"$f":"Cover_Sheet!C1754","v":0},{"$f":"Cover_Sheet!D1754","v":"00:00:00"},{"$f":"Cover_Sheet!E1754","v":"00:00:00"},{"$f":"IF(Cover_Sheet!F1754=\"\",\"\",Cover_Sheet!F1754)","v":""},{"$f":"Cover_Sheet!G1754","v":0},{"$f":"Cover_Sheet!H1754","v":0}]
[{"$f":"IF(Cover_Sheet!A1755=0,\"N\",\"Y\")","v":"N"},{"$f":"Cover_Sheet!B1755","v":0},{"$f":"Cover_Sheet!C1755","v":0},{"$f":"Cover_Sheet!D1755","v":"00:00:00"},{"$f":"Cover_Sheet!E1755","v":"00:00:00"},{"$f":"IF(Cover_Sheet!F1755=\"\",\"\",Cover_Sheet!F1755)","v":""},{"$f":"Cover_Sheet!G1755","v":0},{"$f":"Cover_Sheet!H1755","v":0}]
[{"$f":"IF(Cover_Sheet!A1756=0,\"N\",\"Y\")","v":"N"},{"$f":"Cover_Sheet!B1756","v":0},{"$f":"Cover_Sheet!C1756","v":0},{"$f":"Cover_Sheet!D1756","v":"00:00:00"},{"$f":"Cover_Sheet!E1756","v":"00:00:00"},{"$f":"IF(Cover_Sheet!F1756=\"\",\"\",Cover_Sheet!F1756)","v":""},{"$f":"Cover_Sheet!G1756","v":0},{"$f":"Cover_Sheet!H1756","v":0}]
[{"$f":"IF(Cover_Sheet!A1757=0,\"N\",\"Y\")","v":"N"},{"$f":"Cover_Sheet!B1757","v":0},{"$f":"Cover_Sheet!C1757","v":0},{"$f":"Cover_Sheet!D1757","v":"00:00:00"},{"$f":"Cover_Sheet!E1757","v":"00:00:00"},{"$f":"IF(Cover_Sheet!F1757=\"\",\"\",Cover_Sheet!F1757)","v":""},{"$f":"Cover_Sheet!G1757","v":0},{"$f":"Cover_Sheet!H1757","v":0}]
[{"$f":"IF(Cover_Sheet!A1758=0,\"N\",\"Y\")","v":"N"},{"$f":"Cover_Sheet!B1758","v":0},{"$f":"Cover_Sheet!C1758","v":0},{"$f":"Cover_Sheet!D1758","v":"00:00:00"},{"$f":"Cover_Sheet!E1758","v":"00:00:00"},{"$f":"IF(Cover_Sheet!F1758=\"\",\"\",Cover_Sheet!F1758)","v":""},{"$f":"Cover_Sheet!G1758","v":0},{"$f":"Cover_Sheet!H1758","v":0}]
[{"$f":"IF(Cover_Sheet!A1759=0,\"N\",\"Y\")","v":"N"},{"$f":"Cover_Sheet!B1759","v":0},{"$f":"Cover_Sheet!C1759","v":0},{"$f":"Cover_Sheet!D1759","v":"00:00:00"},{"$f":"Cover_Sheet!E1759","v":"00:00:00"},{"$f":"IF(Cover_Sheet!F1759=\"\",\"\",Cover_Sheet!F1759)","v":""},{"$f":"Cover_Sheet!G1759","v":0},{"$f":"Cover_Sheet!H1759","v":0}]
[{"$f":"IF(Cover_Sheet!A1760=0,\"N\",\"Y\")","v":"N"},{"$f":"Cover_Sheet!B1760","v":0},{"$f":"Cover_Sheet!C1760","v":0},{"$f":"Cover_Sheet!D1760","v":"00:00:00"},{"$f":"Cover_Sheet!E1760","v":"00:00:00"},{"$f":"IF(Cover_Sheet!F1760=\"\",\"\",Cover_Sheet!F1760)","v":""},{"$f":"Cover_Sheet!G1760","v":0},{"$f":"Cover_Sheet!H1760","v":0}]
[{"$f":"IF(Cover_Sheet!A1761=0,\"N\",\"Y\")","v":"N"},{"$f":"Cover_Sheet!B1761","v":0},{"$f":"Cover_Sheet!C1761","v":0},{"$f":"Cover_Sheet!D1761","v":"00:00:00"},{"$f":"Cover_Sheet!E1761","v":"00:00:00"},{"$f":"IF(Cover_Sheet!F1761=\"\",\"\",Cover_Sheet!F1761)","v":""},{"$f":"Cover_Sheet!G1761","v":0},{"$f":"Cover_Sheet!H1761","v":0}]
[{"$f":"IF(Cover_Sheet!A1762=0,\"N\",\"Y\")","v":"N"},{"$f":"Cover_Sheet!B1762","v":0},{"$f":"Cover_Sheet!C1762","v":0},{"$f":"Cover_Sheet!D1762","v":"00:00:00"},{"$f":"Cover_Sheet!E1762","v":"00:00:00"},{"$f":"IF(Cover_Sheet!F1762=\"\",\"\",Cover_Sheet!F1762)","v":""},{"$f":"Cover_Sheet!G1762","v":0},{"$f":"Cover_Sheet!H1762","v":0}]
[{"$f":"IF(Cover_Sheet!A1763=0,\"N\",\"Y\")","v":"N"},{"$f":"Cover_Sheet!B1763","v":0},{"$f":"Cover_Sheet!C1763","v":0},{"$f":"Cover_Sheet!D1763","v":"00:00:00"},{"$f":"Cover_Sheet!E1763","v":"00:00:00"},{"$f":"IF(Cover_Sheet!F1763=\"\",\"\",Cover_Sheet!F1763)","v":""},{"$f":"Cover_Sheet!G1763","v":0},{"$f":"Cover_Sheet!H1763","v":0}]
[{"$f":"IF(Cover_Sheet!A1764=0,\"N\",\"Y\")","v":"N"},{"$f":"Cover_Sheet!B1764","v":0},{"$f":"Cover_Sheet!C1764","v":0},{"$f":"Cover_Sheet!D1764","v":"00:00:00"},{"$f":"Cover_Sheet!E1764","v":"00:00:00"},{"$f":"IF(Cover_Sheet!F1764=\"\",\"\",Cover_Sheet!F1764)","v":""},{"$f":"Cover_Sheet!G1764","v":0},{"$f":"Cover_Sheet!H1764","v":0}]
[{"$f":"IF(Cover_Sheet!A1765=0,\"N\",\"Y\")","v":"N"},{"$f":"Cover_Sheet!B1765","v":0},{"$f":"Cover_Sheet!C1765","v":0},{"$f":"Cover_Sheet!D1765","v":"00:00:00"},{"$f":"Cover_Sheet!E1765","v":"00:00:00"},{"$f":"IF(Cover_Sheet!F1765=\"\",\"\",Cover_Sheet!F1765)","v":""},{"$f":"Cover_Sheet!G1765","v":0},{"$f":"Cover_Sheet!H1765","v":0}]
[{"$f":"IF(Cover_Sheet!A1766=0,\"N\",\"Y\")","v":"N"},{"$f":"Cover_Sheet!B1766","v":0},{"$f":"Cover_Sheet!C1766","v":0},{"$f":"Cover_Sheet!D1766","v":"00:00:00"},{"$f":"Cover_Sheet!E1766","v":"00:00:00"},{"$f":"IF(Cover_Sheet!F1766=\"\",\"\",Cover_Sheet!F1766)","v":""},{"$f":"Cover_Sheet!G1766","v":0},{"$f":"Cover_Sheet!H1766","v":0}]
[{"$f":"IF(Cover_Sheet!A1767=0,\"N\",\"Y\")","v":"N"},{"$f":"Cover_Sheet!B1767","v":0},{"$f":"Cover_Sheet!C1767","v":0},{"$f":"Cover_Sheet!D1767","v":"00:00:00"},{"$f":"Cover_Sheet!E1767","v":"00:00:00"},{"$f":"IF(Cover_Sheet!F1767=\"\",\"\",Cover_Sheet!F1767)","v":""},{"$f":"Cover_Sheet!G1767","v":0},{"$f":"Cover_Sheet!H1767","v":0}]
[{"$f":"IF(Cover_Sheet!A1768=0,\"N\",\"Y\")","v":"N"},{"$f":"Cover_Sheet!B1768","v":0},{"$f":"Cover_Sheet!C1768","v":0},{"$f":"Cover_Sheet!D1768","v":"00:00:00"},{"$f":"Cover_Sheet!E1768","v":"00:00:00"},{"$f":"IF(Cover_Sheet!F1768=\"\",\"\",Cover_Sheet!F1768)","v":""},{"$f":"Cover_Sheet!G1768","v":0},{"$f":"Cover_Sheet!H1768","v":0}]
[{"$f":"IF(Cover_Sheet!A1769=0,\"N\",\"Y\")","v":"N"},{"$f":"Cover_Sheet!B1769","v":0},{"$f":"Cover_Sheet!C1769","v":0},{"$f":"Cover_Sheet!D1769","v":"00:00:00"},{"$f":"Cover_Sheet!E1769","v":"00:00:00"},{"$f":"IF(Cover_Sheet!F1769=\"\",\"\",Cover_Sheet!F1769)","v":""},{"$f":"Cover_Sheet!G1769","v":0},{"$f":"Cover_Sheet!H1769","v":0}]
[{"$f":"IF(Cover_Sheet!A1770=0,\"N\",\"Y\")","v":"N"},{"$f":"Cover_Sheet!B1770","v":0},{"$f":"Cover_Sheet!C1770","v":0},{"$f":"Cover_Sheet!D1770","v":"00:00:00"},{"$f":"Cover_Sheet!E1770","v":"00:00:00"},{"$f":"IF(Cover_Sheet!F1770=\"\",\"\",Cover_Sheet!F1770)","v":""},{"$f":"Cover_Sheet!G1770","v":0},{"$f":"Cover_Sheet!H1770","v":0}]
[{"$f":"IF(Cover_Sheet!A1771=0,\"N\",\"Y\")","v":"N"},{"$f":"Cover_Sheet!B1771","v":0},{"$f":"Cover_Sheet!C1771","v":0},{"$f":"Cover_Sheet!D1771","v":"00:00:00"},{"$f":"Cover_Sheet!E1771","v":"00:00:00"},{"$f":"IF(Cover_Sheet!F1771=\"\",\"\",Cover_Sheet!F1771)","v":""},{"$f":"Cover_Sheet!G1771","v":0},{"$f":"Cover_Sheet!H1771","v":0}]
[{"$f":"IF(Cover_Sheet!A1772=0,\"N\",\"Y\")","v":"N"},{"$f":"Cover_Sheet!B1772","v":0},{"$f":"Cover_Sheet!C1772","v":0},{"$f":"Cover_Sheet!D1772","v":"00:00:00"},{"$f":"Cover_Sheet!E1772","v":"00:00:00"},{"$f":"IF(Cover_Sheet!F1772=\"\",\"\",Cover_Sheet!F1772)","v":""},{"$f":"Cover_Sheet!G1772","v":0},{"$f":"Cover_Sheet!H1772","v":0}]
[{"$f":"IF(Cover_Sheet!A1773=0,\"N\",\"Y\")","v":"N"},{"$f":"Cover_Sheet!B1773","v":0},{"$f":"Cover_Sheet!C1773","v":0},{"$f":"Cover_Sheet!D1773","v":"00:00:00"},{"$f":"Cover_Sheet!E1773","v":"00:00:00"},{"$f":"IF(Cover_Sheet!F1773=\"\",\"\",Cover_Sheet!F1773)","v":""},{"$f":"Cover_Sheet!G1773","v":0},{"$f":"Cover_Sheet!H1773","v":0}]
[{"$f":"IF(Cover_Sheet!A1774=0,\"N\",\"Y\")","v":"N"},{"$f":"Cover_Sheet!B1774","v":0},{"$f":"Cover_Sheet!C1774","v":0},{"$f":"Cover_Sheet!D1774","v":"00:00:00"},{"$f":"Cover_Sheet!E1774","v":"00:00:00"},{"$f":"IF(Cover_Sheet!F1774=\"\",\"\",Cover_Sheet!F1774)","v":""},{"$f":"Cover_Sheet!G1774","v":0},{"$f":"Cover_Sheet!H1774","v":0}]
[{"$f":"IF(Cover_Sheet!A1775=0,\"N\",\"Y\")","v":"N"},{"$f":"Cover_Sheet!B1775","v":0},{"$f":"Cover_Sheet!C1775","v":0},{"$f":"Cover_Sheet!D1775","v":"00:00:00"},{"$f":"Cover_Sheet!E1775","v":"00:00:00"},{"$f":"IF(Cover_Sheet!F1775=\"\",\"\",Cover_Sheet!F1775)","v":""},{"$f":"Cover_Sheet!G1775","v":0},{"$f":"Cover_Sheet!H1775","v":0}]
[{"$f":"IF(Cover_Sheet!A1776=0,\"N\",\"Y\")","v":"N"},{"$f":"Cover_Sheet!B1776","v":0},{"$f":"Cover_Sheet!C1776","v":0},{"$f":"Cover_Sheet!D1776","v":"00:00:00"},{"$f":"Cover_Sheet!E1776","v":"00:00:00"},{"$f":"IF(Cover_Sheet!F1776=\"\",\"\",Cover_Sheet!F1776)","v":""},{"$f":"Cover_Sheet!G1776","v":0},{"$f":"Cover_Sheet!H1776","v":0}]
[{"$f":"IF(Cover_Sheet!A1777=0,\"N\",\"Y\")","v":"N"},{"$f":"Cover_Sheet!B1777","v":0},{"$f":"Cover_Sheet!C1777","v":0},{"$f":"Cover_Sheet!D1777","v":"00:00:00"},{"$f":"Cover_Sheet!E1777","v":"00:00:00"},{"$f":"IF(Cover_Sheet!F1777=\"\",\"\",Cover_Sheet!F1777)","v":""},{"$f":"Cover_Sheet!G1777","v":0},{"$f":"Cover_Sheet!H1777","v":0}]
[{"$f":"IF(Cover_Sheet!A1778=0,\"N\",\"Y\")","v":"N"},{"$f":"Cover_Sheet!B1778","v":0},{"$f":"Cover_Sheet!C1778","v":0},{"$f":"Cover_Sheet!D1778","v":"00:00:00"},{"$f":"Cover_Sheet!E1778","v":"00:00:00"},{"$f":"IF(Cover_Sheet!F1778=\"\",\"\",Cover_Sheet!F1778)","v":""},{"$f":"Cover_Sheet!G1778","v":0},{"$f":"Cover_Sheet!H1778","v":0}]
[{"$f":"IF(Cover_Sheet!A1779=0,\"N\",\"Y\")","v":"N"},{"$f":"Cover_Sheet!B1779","v":0},{"$f":"Cover_Sheet!C1779","v":0},{"$f":"Cover_Sheet!D1779","v":"00:00:00"},{"$f":"Cover_Sheet!E1779","v":"00:00:00"},{"$f":"IF(Cover_Sheet!F1779=\"\",\"\",Cover_Sheet!F1779)","v":""},{"$f":"Cover_Sheet!G1779","v":0},{"$f":"Cover_Sheet!H1779","v":0}]
[{"$f":"IF(Cover_Sheet!A1780=0,\"N\",\"Y\")","v":"N"},{"$f":"Cover_Sheet!B1780","v":0},{"$f":"Cover_Sheet!C1780","v":0},{"$f":"Cover_Sheet!D1780","v":"00:00:00"},{"$f":"Cover_Sheet!E1780","v":"00:00:00"},{"$f":"IF(Cover_Sheet!F1780=\"\",\"\",Cover_Sheet!F1780)","v":""},{"$f":"Cover_Sheet!G1780","v":0},{"$f":"Cover_Sheet!H1780","v":0}]
[{"$f":"IF(Cover_Sheet!A1781=0,\"N\",\"Y\")","v":"N"},{"$f":"Cover_Sheet!B1781","v":0},{"$f":"Cover_Sheet!C1781","v":0},{"$f":"Cover_Sheet!D1781","v":"00:00:00"},{"$f":"Cover_Sheet!E1781","v":"00:00:00"},{"$f":"IF(Cover_Sheet!F1781=\"\",\"\",Cover_Sheet!F1781)","v":""},{"$f":"Cover_Sheet!G1781","v":0},{"$f":"Cover_Sheet!H1781","v":0}]
[{"$f":"IF(Cover_Sheet!A1782=0,\"N\",\"Y\")","v":"N"},{"$f":"Cover_Sheet!B1782","v":0},{"$f":"Cover_Sheet!C1782","v":0},{"$f":"Cover_Sheet!D1782","v":"00:00:00"},{"$f":"Cover_Sheet!E1782","v":"00:00:00"},{"$f":"IF(Cover_Sheet!F1782=\"\",\"\",Cover_Sheet!F1782)","v":""},{"$f":"Cover_Sheet!G1782","v":0},{"$f":"Cover_Sheet!H1782","v":0}]
[{"$f":"IF(Cover_Sheet!A1783=0,\"N\",\"Y\")","v":"N"},{"$f":"Cover_Sheet!B1783","v":0},{"$f":"Cover_Sheet!C1783","v":0},{"$f":"Cover_Sheet!D1783","v":"00:00:00"},{"$f":"Cover_Sheet!E1783","v":"00:00:00"},{"$f":"IF(Cover_Sheet!F1783=\"\",\"\",Cover_Sheet!F1783)","v":""},{"$f":"Cover_Sheet!G1783","v":0},{"$f":"Cover_Sheet!H1783","v":0}]
[{"$f":"IF(Cover_Sheet!A1784=0,\"N\",\"Y\")","v":"N"},{"$f":"Cover_Sheet!B1784","v":0},{"$f":"Cover_Sheet!C1784","v":0},{"$f":"Cover_Sheet!D1784","v":"00:00:00"},{"$f":"Cover_Sheet!E1784","v":"00:00:00"},{"$f":"IF(Cover_Sheet!F1784=\"\",\"\",Cover_Sheet!F1784)","v":""},{"$f":"Cover_Sheet!G1784","v":0},{"$f":"Cover_Sheet!H1784","v":0}]
[{"$f":"IF(Cover_Sheet!A1785=0,\"N\",\"Y\")","v":"N"},{"$f":"Cover_Sheet!B1785","v":0},{"$f":"Cover_Sheet!C1785","v":0},{"$f":"Cover_Sheet!D1785","v":"00:00:00"},{"$f":"Cover_Sheet!E1785","v":"00:00:00"},{"$f":"IF(Cover_Sheet!F1785=\"\",\"\",Cover_Sheet!F1785)","v":""},{"$f":"Cover_Sheet!G1785","v":0},{"$f":"Cover_Sheet!H1785","v":0}]
[{"$f":"IF(Cover_Sheet!A1786=0,\"N\",\"Y\")","v":"N"},{"$f":"Cover_Sheet!B1786","v":0},{"$f":"Cover_Sheet!C1786","v":0},{"$f":"Cover_Sheet!D1786","v":"00:00:00"},{"$f":"Cover_Sheet!E1786","v":"00:00:00"},{"$f":"IF(Cover_Sheet!F1786=\"\",\"\",Cover_Sheet!F1786)","v":""},{"$f":"Cover_Sheet!G1786","v":0},{"$f":"Cover_Sheet!H1786","v":0}]
[{"$f":"IF(Cover_Sheet!A1787=0,\"N\",\"Y\")","v":"N"},{"$f":"Cover_Sheet!B1787","v":0},{"$f":"Cover_Sheet!C1787","v":0},{"$f":"Cover_Sheet!D1787","v":"00:00:00"},{"$f":"Cover_Sheet!E1787","v":"00:00:00"},{"$f":"IF(Cover_Sheet!F1787=\"\",\"\",Cover_Sheet!F1787)","v":""},{"$f":"Cover_Sheet!G1787","v":0},{"$f":"Cover_Sheet!H1787","v":0}]
[{"$f":"IF(Cover_Sheet!A1788=0,\"N\",\"Y\")","v":"N"},{"$f":"Cover_Sheet!B1788","v":0},{"$f":"Cover_Sheet!C1788","v":0},{"$f":"Cover_Sheet!D1788","v":"00:00:00"},{"$f":"Cover_Sheet!E1788","v":"00:00:00"},{"$f":"IF(Cover_Sheet!F1788=\"\",\"\",Cover_Sheet!F1788)","v":""},{"$f":"Cover_Sheet!G1788","v":0},{"$f":"Cover_Sheet!H1788","v":0}]
[{"$f":"IF(Cover_Sheet!A1789=0,\"N\",\"Y\")","v":"N"},{"$f":"Cover_Sheet!B1789","v":0},{"$f":"Cover_Sheet!C1789","v":0},{"$f":"Cover_Sheet!D1789","v":"00:00:00"},{"$f":"Cover_Sheet!E1789","v":"00:00:00"},{"$f":"IF(Cover_Sheet!F1789=\"\",\"\",Cover_Sheet!F1789)","v":""},{"$f":"Cover_Sheet!G1789","v":0},{"$f":"Cover_Sheet!H1789","v":0}]
[{"$f":"IF(Cover_Sheet!A1790=0,\"N\",\"Y\")","v":"N"},{"$f":"Cover_Sheet!B1790","v":0},{"$f":"Cover_Sheet!C1790","v":0},{"$f":"Cover_Sheet!D1790","v":"00:00:00"},{"$f":"Cover_Sheet!E1790","v":"00:00:00"},{"$f":"IF(Cover_Sheet!F1790=\"\",\"\",Cover_Sheet!F1790)","v":""},{"$f":"Cover_Sheet!G1790","v":0},{"$f":"Cover_Sheet!H1790","v":0}]
[{"$f":"IF(Cover_Sheet!A1791=0,\"N\",\"Y\")","v":"N"},{"$f":"Cover_Sheet!B1791","v":0},{"$f":"Cover_Sheet!C1791","v":0},{"$f":"Cover_Sheet!D1791","v":"00:00:00"},{"$f":"Cover_Sheet!E1791","v":"00:00:00"},{"$f":"IF(Cover_Sheet!F1791=\"\",\"\",Cover_Sheet!F1791)","v":""},{"$f":"Cover_Sheet!G1791","v":0},{"$f":"Cover_Sheet!H1791","v":0}]
[{"$f":"IF(Cover_Sheet!A1792=0,\"N\",\"Y\")","v":"N"},{"$f":"Cover_Sheet!B1792","v":0},{"$f":"Cover_Sheet!C1792","v":0},{"$f":"Cover_Sheet!D1792","v":"00:00:00"},{"$f":"Cover_Sheet!E1792","v":"00:00:00"},{"$f":"IF(Cover_Sheet!F1792=\"\",\"\",Cover_Sheet!F1792)","v":""},{"$f":"Cover_Sheet!G1792","v":0},{"$f":"Cover_Sheet!H1792","v":0}]
[{"$f":"IF(Cover_Sheet!A1793=0,\"N\",\"Y\")","v":"N"},{"$f":"Cover_Sheet!B1793","v":0},{"$f":"Cover_Sheet!C1793","v":0},{"$f":"Cover_Sheet!D1793","v":"00:00:00"},{"$f":"Cover_Sheet!E1793","v":"00:00:00"},{"$f":"IF(Cover_Sheet!F1793=\"\",\"\",Cover_Sheet!F1793)","v":""},{"$f":"Cover_Sheet!G1793","v":0},{"$f":"Cover_Sheet!H1793","v":0}]
[{"$f":"IF(Cover_Sheet!A1794=0,\"N\",\"Y\")","v":"N"},{"$f":"Cover_Sheet!B1794","v":0},{"$f":"Cover_Sheet!C1794","v":0},{"$f":"Cover_Sheet!D1794","v":"00:00:00"},{"$f":"Cover_Sheet!E1794","v":"00:00:00"},{"$f":"IF(Cover_Sheet!F1794=\"\",\"\",Cover_Sheet!F1794)","v":""},{"$f":"Cover_Sheet!G1794","v":0},{"$f":"Cover_Sheet!H1794","v":0}]
[{"$f":"IF(Cover_Sheet!A1795=0,\"N\",\"Y\")","v":"N"},{"$f":"Cover_Sheet!B1795","v":0},{"$f":"Cover_Sheet!C1795","v":0},{"$f":"Cover_Sheet!D1795","v":"00:00:00"},{"$f":"Cover_Sheet!E1795","v":"00:00:00"},{"$f":"IF(Cover_Sheet!F1795=\"\",\"\",Cover_Sheet!F1795)","v":""},{"$f":"Cover_Sheet!G1795","v":0},{"$f":"Cover_Sheet!H1795","v":0}]
[{"$f":"IF(Cover_Sheet!A1796=0,\"N\",\"Y\")","v":"N"},{"$f":"Cover_Sheet!B1796","v":0},{"$f":"Cover_Sheet!C1796","v":0},{"$f":"Cover_Sheet!D1796","v":"00:00:00"},{"$f":"Cover_Sheet!E1796","v":"00:00:00"},{"$f":"IF(Cover_Sheet!F1796=\"\",\"\",Cover_Sheet!F1796)","v":""},{"$f":"Cover_Sheet!G1796","v":0},{"$f":"Cover_Sheet!H1796","v":0}]
[{"$f":"IF(Cover_Sheet!A1797=0,\"N\",\"Y\")","v":"N"},{"$f":"Cover_Sheet!B1797","v":0},{"$f":"Cover_Sheet!C1797","v":0},{"$f":"Cover_Sheet!D1797","v":"00:00:00"},{"$f":"Cover_Sheet!E1797","v":"00:00:00"},{"$f":"IF(Cover_Sheet!F1797=\"\",\"\",Cover_Sheet!F1797)","v":""},{"$f":"Cover_Sheet!G1797","v":0},{"$f":"Cover_Sheet!H1797","v":0}]
[{"$f":"IF(Cover_Sheet!A1798=0,\"N\",\"Y\")","v":"N"},{"$f":"Cover_Sheet!B1798","v":0},{"$f":"Cover_Sheet!C1798","v":0},{"$f":"Cover_Sheet!D1798","v":"00:00:00"},{"$f":"Cover_Sheet!E1798","v":"00:00:00"},{"$f":"IF(Cover_Sheet!F1798=\"\",\"\",Cover_Sheet!F1798)","v":""},{"$f":"Cover_Sheet!G1798","v":0},{"$f":"Cover_Sheet!H1798","v":0}]
[{"$f":"IF(Cover_Sheet!A1799=0,\"N\",\"Y\")","v":"N"},{"$f":"Cover_Sheet!B1799","v":0},{"$f":"Cover_Sheet!C1799","v":0},{"$f":"Cover_Sheet!D1799","v":"00:00:00"},{"$f":"Cover_Sheet!E1799","v":"00:00:00"},{"$f":"IF(Cover_Sheet!F1799=\"\",\"\",Cover_Sheet!F1799)","v":""},{"$f":"Cover_Sheet!G1799","v":0},{"$f":"Cover_Sheet!H1799","v":0}]
[{"$f":"IF(Cover_Sheet!A1800=0,\"N\",\"Y\")","v":"N"},{"$f":"Cover_Sheet!B1800","v":0},{"$f":"Cover_Sheet!C1800","v":0},{"$f":"Cover_Sheet!D1800","v":"00:00:00"},{"$f":"Cover_Sheet!E1800","v":"00:00:00"},{"$f":"IF(Cover_Sheet!F1800=\"\",\"\",Cover_Sheet!F1800)","v":""},{"$f":"Cover_Sheet!G1800","v":0},{"$f":"Cover_Sheet!H1800","v":0}]
[{"$f":"IF(Cover_Sheet!A1801=0,\"N\",\"Y\")","v":"N"},{"$f":"Cover_Sheet!B1801","v":0},{"$f":"Cover_Sheet!C1801","v":0},{"$f":"Cover_Sheet!D1801","v":"00:00:00"},{"$f":"Cover_Sheet!E1801","v":"00:00:00"},{"$f":"IF(Cover_Sheet!F1801=\"\",\"\",Cover_Sheet!F1801)","v":""},{"$f":"Cover_Sheet!G1801","v":0},{"$f":"Cover_Sheet!H1801","v":0}]
[{"$f":"IF(Cover_Sheet!A1802=0,\"N\",\"Y\")","v":"N"},{"$f":"Cover_Sheet!B1802","v":0},{"$f":"Cover_Sheet!C1802","v":0},{"$f":"Cover_Sheet!D1802","v":"00:00:00"},{"$f":"Cover_Sheet!E1802","v":"00:00:00"},{"$f":"IF(Cover_Sheet!F1802=\"\",\"\",Cover_Sheet!F1802)","v":""},{"$f":"Cover_Sheet!G1802","v":0},{"$f":"Cover_Sheet!H1802","v":0}]
[{"$f":"IF(Cover_Sheet!A1803=0,\"N\",\"Y\")","v":"N"},{"$f":"Cover_Sheet!B1803","v":0},{"$f":"Cover_Sheet!C1803","v":0},{"$f":"Cover_Sheet!D1803","v":"00:00:00"},{"$f":"Cover_Sheet!E1803","v":"00:00:00"},{"$f":"IF(Cover_Sheet!F1803=\"\",\"\",Cover_Sheet!F1803)","v":""},{"$f":"Cover_Sheet!G1803","v":0},{"$f":"Cover_Sheet!H1803","v":0}]
[{"$f":"IF(Cover_Sheet!A1804=0,\"N\",\"Y\")","v":"N"},{"$f":"Cover_Sheet!B1804","v":0},{"$f":"Cover_Sheet!C1804","v":0},{"$f":"Cover_Sheet!D1804","v":"00:00:00"},{"$f":"Cover_Sheet!E1804","v":"00:00:00"},{"$f":"IF(Cover_Sheet!F1804=\"\",\"\",Cover_Sheet!F1804)","v":""},{"$f":"Cover_Sheet!G1804","v":0},{"$f":"Cover_Sheet!H1804","v":0}]
[{"$f":"IF(Cover_Sheet!A1805=0,\"N\",\"Y\")","v":"N"},{"$f":"Cover_Sheet!B1805","v":0},{"$f":"Cover_Sheet!C1805","v":0},{"$f":"Cover_Sheet!D1805","v":"00:00:00"},{"$f":"Cover_Sheet!E1805","v":"00:00:00"},{"$f":"IF(Cover_Sheet!F1805=\"\",\"\",Cover_Sheet!F1805)","v":""},{"$f":"Cover_Sheet!G1805","v":0},{"$f":"Cover_Sheet!H1805","v":0}]
[{"$f":"IF(Cover_Sheet!A1806=0,\"N\",\"Y\")","v":"N"},{"$f":"Cover_Sheet!B1806","v":0},{"$f":"Cover_Sheet!C1806","v":0},{"$f":"Cover_Sheet!D1806","v":"00:00:00"},{"$f":"Cover_Sheet!E1806","v":"00:00:00"},{"$f":"IF(Cover_Sheet!F1806=\"\",\"\",Cover_Sheet!F1806)","v":""},{"$f":"Cover_Sheet!G1806","v":0},{"$f":"Cover_Sheet!H1806","v":0}]
[{"$f":"IF(Cover_Sheet!A1807=0,\"N\",\"Y\")","v":"N"},{"$f":"Cover_Sheet!B1807","v":0},{"$f":"Cover_Sheet!C1807","v":0},{"$f":"Cover_Sheet!D1807","v":"00:00:00"},{"$f":"Cover_Sheet!E1807","v":"00:00:00"},{"$f":"IF(Cover_Sheet!F1807=\"\",\"\",Cover_Sheet!F1807)","v":""},{"$f":"Cover_Sheet!G1807","v":0},{"$f":"Cover_Sheet!H1807","v":0}]
[{"$f":"IF(Cover_Sheet!A1808=0,\"N\",\"Y\")","v":"N"},{"$f":"Cover_Sheet!B1808","v":0},{"$f":"Cover_Sheet!C1808","v":0},{"$f":"Cover_Sheet!D1808","v":"00:00:00"},{"$f":"Cover_Sheet!E1808","v":"00:00:00"},{"$f":"IF(Cover_Sheet!F1808=\"\",\"\",Cover_Sheet!F1808)","v":""},{"$f":"Cover_Sheet!G1808","v":0},{"$f":"Cover_Sheet!H1808","v":0}]
[{"$f":"IF(Cover_Sheet!A1809=0,\"N\",\"Y\")","v":"N"},{"$f":"Cover_Sheet!B1809","v":0},{"$f":"Cover_Sheet!C1809","v":0},{"$f":"Cover_Sheet!D1809","v":"00:00:00"},{"$f":"Cover_Sheet!E1809","v":"00:00:00"},{"$f":"IF(Cover_Sheet!F1809=\"\",\"\",Cover_Sheet!F1809)","v":""},{"$f":"Cover_Sheet!G1809","v":0},{"$f":"Cover_Sheet!H1809","v":0}]
[{"$f":"IF(Cover_Sheet!A1810=0,\"N\",\"Y\")","v":"N"},{"$f":"Cover_Sheet!B1810","v":0},{"$f":"Cover_Sheet!C1810","v":0},{"$f":"Cover_Sheet!D1810","v":"00:00:00"},{"$f":"Cover_Sheet!E1810","v":"00:00:00"},{"$f":"IF(Cover_Sheet!F1810=\"\",\"\",Cover_Sheet!F1810)","v":""},{"$f":"Cover_Sheet!G1810","v":0},{"$f":"Cover_Sheet!H1810","v":0}]
[{"$f":"IF(Cover_Sheet!A1811=0,\"N\",\"Y\")","v":"N"},{"$f":"Cover_Sheet!B1811","v":0},{"$f":"Cover_Sheet!C1811","v":0},{"$f":"Cover_Sheet!D1811","v":"00:00:00"},{"$f":"Cover_Sheet!E1811","v":"00:00:00"},{"$f":"IF(Cover_Sheet!F1811=\"\",\"\",Cover_Sheet!F1811)","v":""},{"$f":"Cover_Sheet!G1811","v":0},{"$f":"Cover_Sheet!H1811","v":0}]
[{"$f":"IF(Cover_Sheet!A1812=0,\"N\",\"Y\")","v":"N"},{"$f":"Cover_Sheet!B1812","v":0},{"$f":"Cover_Sheet!C1812","v":0},{"$f":"Cover_Sheet!D1812","v":"00:00:00"},{"$f":"Cover_Sheet!E1812","v":"00:00:00"},{"$f":"IF(Cover_Sheet!F1812=\"\",\"\",Cover_Sheet!F1812)","v":""},{"$f":"Cover_Sheet!G1812","v":0},{"$f":"Cover_Sheet!H1812","v":0}]
[{"$f":"IF(Cover_Sheet!A1813=0,\"N\",\"Y\")","v":"N"},{"$f":"Cover_Sheet!B1813","v":0},{"$f":"Cover_Sheet!C1813","v":0},{"$f":"Cover_Sheet!D1813","v":"00:00:00"},{"$f":"Cover_Sheet!E1813","v":"00:00:00"},{"$f":"IF(Cover_Sheet!F1813=\"\",\"\",Cover_Sheet!F1813)","v":""},{"$f":"Cover_Sheet!G1813","v":0},{"$f":"Cover_Sheet!H1813","v":0}]
[{"$f":"IF(Cover_Sheet!A1814=0,\"N\",\"Y\")","v":"N"},{"$f":"Cover_Sheet!B1814","v":0},{"$f":"Cover_Sheet!C1814","v":0},{"$f":"Cover_Sheet!D1814","v":"00:00:00"},{"$f":"Cover_Sheet!E1814","v":"00:00:00"},{"$f":"IF(Cover_Sheet!F1814=\"\",\"\",Cover_Sheet!F1814)","v":""},{"$f":"Cover_Sheet!G1814","v":0},{"$f":"Cover_Sheet!H1814","v":0}]
[{"$f":"IF(Cover_Sheet!A1815=0,\"N\",\"Y\")","v":"N"},{"$f":"Cover_Sheet!B1815","v":0},{"$f":"Cover_Sheet!C1815","v":0},{"$f":"Cover_Sheet!D1815","v":"00:00:00"},{"$f":"Cover_Sheet!E1815","v":"00:00:00"},{"$f":"IF(Cover_Sheet!F1815=\"\",\"\",Cover_Sheet!F1815)","v":""},{"$f":"Cover_Sheet!G1815","v":0},{"$f":"Cover_Sheet!H1815","v":0}]
[{"$f":"IF(Cover_Sheet!A1816=0,\"N\",\"Y\")","v":"N"},{"$f":"Cover_Sheet!B1816","v":0},{"$f":"Cover_Sheet!C1816","v":0},{"$f":"Cover_Sheet!D1816","v":"00:00:00"},{"$f":"Cover_Sheet!E1816","v":"00:00:00"},{"$f":"IF(Cover_Sheet!F1816=\"\",\"\",Cover_Sheet!F1816)","v":""},{"$f":"Cover_Sheet!G1816","v":0},{"$f":"Cover_Sheet!H1816","v":0}]
[{"$f":"IF(Cover_Sheet!A1817=0,\"N\",\"Y\")","v":"N"},{"$f":"Cover_Sheet!B1817","v":0},{"$f":"Cover_Sheet!C1817","v":0},{"$f":"Cover_Sheet!D1817","v":"00:00:00"},{"$f":"Cover_Sheet!E1817","v":"00:00:00"},{"$f":"IF(Cover_Sheet!F1817=\"\",\"\",Cover_Sheet!F1817)","v":""},{"$f":"Cover_Sheet!G1817","v":0},{"$f":"Cover_Sheet!H1817","v":0}]
[{"$f":"IF(Cover_Sheet!A1818=0,\"N\",\"Y\")","v":"N"},{"$f":"Cover_Sheet!B1818","v":0},{"$f":"Cover_Sheet!C1818","v":0},{"$f":"Cover_Sheet!D1818","v":"00:00:00"},{"$f":"Cover_Sheet!E1818","v":"00:00:00"},{"$f":"IF(Cover_Sheet!F1818=\"\",\"\",Cover_Sheet!F1818)","v":""},{"$f":"Cover_Sheet!G1818","v":0},{"$f":"Cover_Sheet!H1818","v":0}]
[{"$f":"IF(Cover_Sheet!A1819=0,\"N\",\"Y\")","v":"N"},{"$f":"Cover_Sheet!B1819","v":0},{"$f":"Cover_Sheet!C1819","v":0},{"$f":"Cover_Sheet!D1819","v":"00:00:00"},{"$f":"Cover_Sheet!E1819","v":"00:00:00"},{"$f":"IF(Cover_Sheet!F1819=\"\",\"\",Cover_Sheet!F1819)","v":""},{"$f":"Cover_Sheet!G1819","v":0},{"$f":"Cover_Sheet!H1819","v":0}]
[{"$f":"IF(Cover_Sheet!A1820=0,\"N\",\"Y\")","v":"N"},{"$f":"Cover_Sheet!B1820","v":0},{"$f":"Cover_Sheet!C1820","v":0},{"$f":"Cover_Sheet!D1820","v":"00:00:00"},{"$f":"Cover_Sheet!E1820","v":"00:00:00"},{"$f":"IF(Cover_Sheet!F1820=\"\",\"\",Cover_Sheet!F1820)","v":""},{"$f":"Cover_Sheet!G1820","v":0},{"$f":"Cover_Sheet!H1820","v":0}]
[{"$f":"IF(Cover_Sheet!A1821=0,\"N\",\"Y\")","v":"N"},{"$f":"Cover_Sheet!B1821","v":0},{"$f":"Cover_Sheet!C1821","v":0},{"$f":"Cover_Sheet!D1821","v":"00:00:00"},{"$f":"Cover_Sheet!E1821","v":"00:00:00"},{"$f":"IF(Cover_Sheet!F1821=\"\",\"\",Cover_Sheet!F1821)","v":""},{"$f":"Cover_Sheet!G1821","v":0},{"$f":"Cover_Sheet!H1821","v":0}]
[{"$f":"IF(Cover_Sheet!A1822=0,\"N\",\"Y\")","v":"N"},{"$f":"Cover_Sheet!B1822","v":0},{"$f":"Cover_Sheet!C1822","v":0},{"$f":"Cover_Sheet!D1822","v":"00:00:00"},{"$f":"Cover_Sheet!E1822","v":"00:00:00"},{"$f":"IF(Cover_Sheet!F1822=\"\",\"\",Cover_Sheet!F1822)","v":""},{"$f":"Cover_Sheet!G1822","v":0},{"$f":"Cover_Sheet!H1822","v":0}]
[{"$f":"IF(Cover_Sheet!A1823=0,\"N\",\"Y\")","v":"N"},{"$f":"Cover_Sheet!B1823","v":0},{"$f":"Cover_Sheet!C1823","v":0},{"$f":"Cover_Sheet!D1823","v":"00:00:00"},{"$f":"Cover_Sheet!E1823","v":"00:00:00"},{"$f":"IF(Cover_Sheet!F1823=\"\",\"\",Cover_Sheet!F1823)","v":""},{"$f":"Cover_Sheet!G1823","v":0},{"$f":"Cover_Sheet!H1823","v":0}]
[{"$f":"IF(Cover_Sheet!A1824=0,\"N\",\"Y\")","v":"N"},{"$f":"Cover_Sheet!B1824","v":0},{"$f":"Cover_Sheet!C1824","v":0},{"$f":"Cover_Sheet!D1824","v":"00:00:00"},{"$f":"Cover_Sheet!E1824","v":"00:00:00"},{"$f":"IF(Cover_Sheet!F1824=\"\",\"\",Cover_Sheet!F1824)","v":""},{"$f":"Cover_Sheet!G1824","v":0},{"$f":"Cover_Sheet!H1824","v":0}]
[{"$f":"IF(Cover_Sheet!A1825=0,\"N\",\"Y\")","v":"N"},{"$f":"Cover_Sheet!B1825","v":0},{"$f":"Cover_Sheet!C1825","v":0},{"$f":"Cover_Sheet!D1825","v":"00:00:00"},{"$f":"Cover_Sheet!E1825","v":"00:00:00"},{"$f":"IF(Cover_Sheet!F1825=\"\",\"\",Cover_Sheet!F1825)","v":""},{"$f":"Cover_Sheet!G1825","v":0},{"$f":"Cover_Sheet!H1825","v":0}]
[{"$f":"IF(Cover_Sheet!A1826=0,\"N\",\"Y\")","v":"N"},{"$f":"Cover_Sheet!B1826","v":0},{"$f":"Cover_Sheet!C1826","v":0},{"$f":"Cover_Sheet!D1826","v":"00:00:00"},{"$f":"Cover_Sheet!E1826","v":"00:00:00"},{"$f":"IF(Cover_Sheet!F1826=\"\",\"\",Cover_Sheet!F1826)","v":""},{"$f":"Cover_Sheet!G1826","v":0},{"$f":"Cover_Sheet!H1826","v":0}]
[{"$f":"IF(Cover_Sheet!A1827=0,\"N\",\"Y\")","v":"N"},{"$f":"Cover_Sheet!B1827","v":0},{"$f":"Cover_Sheet!C1827","v":0},{"$f":"Cover_Sheet!D1827","v":"00:00:00"},{"$f":"Cover_Sheet!E1827","v":"00:00:00"},{"$f":"IF(Cover_Sheet!F1827=\"\",\"\",Cover_Sheet!F1827)","v":""},{"$f":"Cover_Sheet!G1827","v":0},{"$f":"Cover_Sheet!H1827","v":0}]
[{"$f":"IF(Cover_Sheet!A1828=0,\"N\",\"Y\")","v":"N"},{"$f":"Cover_Sheet!B1828","v":0},{"$f":"Cover_Sheet!C1828","v":0},{"$f":"Cover_Sheet!D1828","v":"00:00:00"},{"$f":"Cover_Sheet!E1828","v":"00:00:00"},{"$f":"IF(Cover_Sheet!F1828=\"\",\"\",Cover_Sheet!F1828)","v":""},{"$f":"Cover_Sheet!G1828","v":0},{"$f":"Cover_Sheet!H1828","v":0}]
[{"$f":"IF(Cover_Sheet!A1829=0,\"N\",\"Y\")","v":"N"},{"$f":"Cover_Sheet!B1829","v":0},{"$f":"Cover_Sheet!C1829","v":0},{"$f":"Cover_Sheet!D1829","v":"00:00:00"},{"$f":"Cover_Sheet!E1829","v":"00:00:00"},{"$f":"IF(Cover_Sheet!F1829=\"\",\"\",Cover_Sheet!F1829)","v":""},{"$f":"Cover_Sheet!G1829","v":0},{"$f":"Cover_Sheet!H1829","v":0}]
[{"$f":"IF(Cover_Sheet!A1830=0,\"N\",\"Y\")","v":"N"},{"$f":"Cover_Sheet!B1830","v":0},{"$f":"Cover_Sheet!C1830","v":0},{"$f":"Cover_Sheet!D1830","v":"00:00:00"},{"$f":"Cover_Sheet!E1830","v":"00:00:00"},{"$f":"IF(Cover_Sheet!F1830=\"\",\"\",Cover_Sheet!F1830)","v":""},{"$f":"Cover_Sheet!G1830","v":0},{"$f":"Cover_Sheet!H1830","v":0}]
[{"$f":"IF(Cover_Sheet!A1831=0,\"N\",\"Y\")","v":"N"},{"$f":"Cover_Sheet!B1831","v":0},{"$f":"Cover_Sheet!C1831","v":0},{"$f":"Cover_Sheet!D1831","v":"00:00:00"},{"$f":"Cover_Sheet!E1831","v":"00:00:00"},{"$f":"IF(Cover_Sheet!F1831=\"\",\"\",Cover_Sheet!F1831)","v":""},{"$f":"Cover_Sheet!G1831","v":0},{"$f":"Cover_Sheet!H1831","v":0}]
[{"$f":"IF(Cover_Sheet!A1832=0,\"N\",\"Y\")","v":"N"},{"$f":"Cover_Sheet!B1832","v":0},{"$f":"Cover_Sheet!C1832","v":0},{"$f":"Cover_Sheet!D1832","v":"00:00:00"},{"$f":"Cover_Sheet!E1832","v":"00:00:00"},{"$f":"IF(Cover_Sheet!F1832=\"\",\"\",Cover_Sheet!F1832)","v":""},{"$f":"Cover_Sheet!G1832","v":0},{"$f":"Cover_Sheet!H1832","v":0}]
[{"$f":"IF(Cover_Sheet!A1833=0,\"N\",\"Y\")","v":"N"},{"$f":"Cover_Sheet!B1833","v":0},{"$f":"Cover_Sheet!C1833","v":0},{"$f":"Cover_Sheet!D1833","v":"00:00:00"},{"$f":"Cover_Sheet!E1833","v":"00:00:00"},{"$f":"IF(Cover_Sheet!F1833=\"\",\"\",Cover_Sheet!F1833)","v":""},{"$f":"Cover_Sheet!G1833","v":0},{"$f":"Cover_Sheet!H1833","v":0}]
[{"$f":"IF(Cover_Sheet!A1834=0,\"N\",\"Y\")","v":"N"},{"$f":"Cover_Sheet!B1834","v":0},{"$f":"Cover_Sheet!C1834","v":0},{"$f":"Cover_Sheet!D1834","v":"00:00:00"},{"$f":"Cover_Sheet!E1834","v":"00:00:00"},{"$f":"IF(Cover_Sheet!F1834=\"\",\"\",Cover_Sheet!F1834)","v":""},{"$f":"Cover_Sheet!G1834","v":0},{"$f":"Cover_Sheet!H1834","v":0}]
[{"$f":"IF(Cover_Sheet!A1835=0,\"N\",\"Y\")","v":"N"},{"$f":"Cover_Sheet!B1835","v":0},{"$f":"Cover_Sheet!C1835","v":0},{"$f":"Cover_Sheet!D1835","v":"00:00:00"},{"$f":"Cover_Sheet!E1835","v":"00:00:00"},{"$f":"IF(Cover_Sheet!F1835=\"\",\"\",Cover_Sheet!F1835)","v":""},{"$f":"Cover_Sheet!G1835","v":0},{"$f":"Cover_Sheet!H1835","v":0}]
[{"$f":"IF(Cover_Sheet!A1836=0,\"N\",\"Y\")","v":"N"},{"$f":"Cover_Sheet!B1836","v":0},{"$f":"Cover_Sheet!C1836","v":0},{"$f":"Cover_Sheet!D1836","v":"00:00:00"},{"$f":"Cover_Sheet!E1836","v":"00:00:00"},{"$f":"IF(Cover_Sheet!F1836=\"\",\"\",Cover_Sheet!F1836)","v":""},{"$f":"Cover_Sheet!G1836","v":0},{"$f":"Cover_Sheet!H1836","v":0}]
[{"$f":"IF(Cover_Sheet!A1837=0,\"N\",\"Y\")","v":"N"},{"$f":"Cover_Sheet!B1837","v":0},{"$f":"Cover_Sheet!C1837","v":0},{"$f":"Cover_Sheet!D1837","v":"00:00:00"},{"$f":"Cover_Sheet!E1837","v":"00:00:00"},{"$f":"IF(Cover_Sheet!F1837=\"\",\"\",Cover_Sheet!F1837)","v":""},{"$f":"Cover_Sheet!G1837","v":0},{"$f":"Cover_Sheet!H1837","v":0}]
[{"$f":"IF(Cover_Sheet!A1838=0,\"N\",\"Y\")","v":"N"},{"$f":"Cover_Sheet!B1838","v":0},{"$f":"Cover_Sheet!C1838","v":0},{"$f":"Cover_Sheet!D1838","v":"00:00:00"},{"$f":"Cover_Sheet!E1838","v":"00:00:00"},{"$f":"IF(Cover_Sheet!F1838=\"\",\"\",Cover_Sheet!F1838)","v":""},{"$f":"Cover_Sheet!G1838","v":0},{"$f":"Cover_Sheet!H1838","v":0}]
[{"$f":"IF(Cover_Sheet!A1839=0,\"N\",\"Y\")","v":"N"},{"$f":"Cover_Sheet!B1839","v":0},{"$f":"Cover_Sheet!C1839","v":0},{"$f":"Cover_Sheet!D1839","v":"00:00:00"},{"$f":"Cover_Sheet!E1839","v":"00:00:00"},{"$f":"IF(Cover_Sheet!F1839=\"\",\"\",Cover_Sheet!F1839)","v":""},{"$f":"Cover_Sheet!G1839","v":0},{"$f":"Cover_Sheet!H1839","v":0}]
[{"$f":"IF(Cover_Sheet!A1840=0,\"N\",\"Y\")","v":"N"},{"$f":"Cover_Sheet!B1840","v":0},{"$f":"Cover_Sheet!C1840","v":0},{"$f":"Cover_Sheet!D1840","v":"00:00:00"},{"$f":"Cover_Sheet!E1840","v":"00:00:00"},{"$f":"IF(Cover_Sheet!F1840=\"\",\"\",Cover_Sheet!F1840)","v":""},{"$f":"Cover_Sheet!G1840","v":0},{"$f":"Cover_Sheet!H1840","v":0}]
[{"$f":"IF(Cover_Sheet!A1841=0,\"N\",\"Y\")","v":"N"},{"$f":"Cover_Sheet!B1841","v":0},{"$f":"Cover_Sheet!C1841","v":0},{"$f":"Cover_Sheet!D1841","v":"00:00:00"},{"$f":"Cover_Sheet!E1841","v":"00:00:00"},{"$f":"IF(Cover_Sheet!F1841=\"\",\"\",Cover_Sheet!F1841)","v":""},{"$f":"Cover_Sheet!G1841","v":0},{"$f":"Cover_Sheet!H1841","v":0}]
[{"$f":"IF(Cover_Sheet!A1842=0,\"N\",\"Y\")","v":"N"},{"$f":"Cover_Sheet!B1842","v":0},{"$f":"Cover_Sheet!C1842","v":0},{"$f":"Cover_Sheet!D1842","v":"00:00:00"},{"$f":"Cover_Sheet!E1842","v":"00:00:00"},{"$f":"IF(Cover_Sheet!F1842=\"\",\"\",Cover_Sheet!F1842)","v":""},{"$f":"Cover_Sheet!G1842","v":0},{"$f":"Cover_Sheet!H1842","v":0}]
[{"$f":"IF(Cover_Sheet!A1843=0,\"N\",\"Y\")","v":"N"},{"$f":"Cover_Sheet!B1843","v":0},{"$f":"Cover_Sheet!C1843","v":0},{"$f":"Cover_Sheet!D1843","v":"00:00:00"},{"$f":"Cover_Sheet!E1843","v":"00:00:00"},{"$f":"IF(Cover_Sheet!F1843=\"\",\"\",Cover_Sheet!F1843)","v":""},{"$f":"Cover_Sheet!G1843","v":0},{"$f":"Cover_Sheet!H1843","v":0}]
[{"$f":"IF(Cover_Sheet!A1844=0,\"N\",\"Y\")","v":"N"},{"$f":"Cover_Sheet!B1844","v":0},{"$f":"Cover_Sheet!C1844","v":0},{"$f":"Cover_Sheet!D1844","v":"00:00:00"},{"$f":"Cover_Sheet!E1844","v":"00:00:00"},{"$f":"IF(Cover_Sheet!F1844=\"\",\"\",Cover_Sheet!F1844)","v":""},{"$f":"Cover_Sheet!G1844","v":0},{"$f":"Cover_Sheet!H1844","v":0}]
[{"$f":"IF(Cover_Sheet!A1845=0,\"N\",\"Y\")","v":"N"},{"$f":"Cover_Sheet!B1845","v":0},{"$f":"Cover_Sheet!C1845","v":0},{"$f":"Cover_Sheet!D1845","v":"00:00:00"},{"$f":"Cover_Sheet!E1845","v":"00:00:00"},{"$f":"IF(Cover_Sheet!F1845=\"\",\"\",Cover_Sheet!F1845)","v":""},{"$f":"Cover_Sheet!G1845","v":0},{"$f":"Cover_Sheet!H1845","v":0}]
[{"$f":"IF(Cover_Sheet!A1846=0,\"N\",\"Y\")","v":"N"},{"$f":"Cover_Sheet!B1846","v":0},{"$f":"Cover_Sheet!C1846","v":0},{"$f":"Cover_Sheet!D1846","v":"00:00:00"},{"$f":"Cover_Sheet!E1846","v":"00:00:00"},{"$f":"IF(Cover_Sheet!F1846=\"\",\"\",Cover_Sheet!F1846)","v":""},{"$f":"Cover_Sheet!G1846","v":0},{"$f":"Cover_Sheet!H1846","v":0}]
[{"$f":"IF(Cover_Sheet!A1847=0,\"N\",\"Y\")","v":"N"},{"$f":"Cover_Sheet!B1847","v":0},{"$f":"Cover_Sheet!C1847","v":0},{"$f":"Cover_Sheet!D1847","v":"00:00:00"},{"$f":"Cover_Sheet!E1847","v":"00:00:00"},{"$f":"IF(Cover_Sheet!F1847=\"\",\"\",Cover_Sheet!F1847)","v":""},{"$f":"Cover_Sheet!G1847","v":0},{"$f":"Cover_Sheet!H1847","v":0}]
[{"$f":"IF(Cover_Sheet!A1848=0,\"N\",\"Y\")","v":"N"},{"$f":"Cover_Sheet!B1848","v":0},{"$f":"Cover_Sheet!C1848","v":0},{"$f":"Cover_Sheet!D1848","v":"00:00:00"},{"$f":"Cover_Sheet!E1848","v":"00:00:00"},{"$f":"IF(Cover_Sheet!F1848=\"\",\"\",Cover_Sheet!F1848)","v":""},{"$f":"Cover_Sheet!G1848","v":0},{"$f":"Cover_Sheet!H1848","v":0}]
[{"$f":"IF(Cover_Sheet!A1849=0,\"N\",\"Y\")","v":"N"},{"$f":"Cover_Sheet!B1849","v":0},{"$f":"Cover_Sheet!C1849","v":0},{"$f":"Cover_Sheet!D1849","v":"00:00:00"},{"$f":"Cover_Sheet!E1849","v":"00:00:00"},{"$f":"IF(Cover_Sheet!F1849=\"\",\"\",Cover_Sheet!F1849)","v":""},{"$f":"Cover_Sheet!G1849","v":0},{"$f":"Cover_Sheet!H1849","v":0}]
[{"$f":"IF(Cover_Sheet!A1850=0,\"N\",\"Y\")","v":"N"},{"$f":"Cover_Sheet!B1850","v":0},{"$f":"Cover_Sheet!C1850","v":0},{"$f":"Cover_Sheet!D1850","v":"00:00:00"},{"$f":"Cover_Sheet!E1850","v":"00:00:00"},{"$f":"IF(Cover_Sheet!F1850=\"\",\"\",Cover_Sheet!F1850)","v":""},{"$f":"Cover_Sheet!G1850","v":0},{"$f":"Cover_Sheet!H1850","v":0}]
[{"$f":"IF(Cover_Sheet!A1851=0,\"N\",\"Y\")","v":"N"},{"$f":"Cover_Sheet!B1851","v":0},{"$f":"Cover_Sheet!C1851","v":0},{"$f":"Cover_Sheet!D1851","v":"00:00:00"},{"$f":"Cover_Sheet!E1851","v":"00:00:00"},{"$f":"IF(Cover_Sheet!F1851=\"\",\"\",Cover_Sheet!F1851)","v":""},{"$f":"Cover_Sheet!G1851","v":0},{"$f":"Cover_Sheet!H1851","v":0}]
[{"$f":"IF(Cover_Sheet!A1852=0,\"N\",\"Y\")","v":"N"},{"$f":"Cover_Sheet!B1852","v":0},{"$f":"Cover_Sheet!C1852","v":0},{"$f":"Cover_Sheet!D1852","v":"00:00:00"},{"$f":"Cover_Sheet!E1852","v":"00:00:00"},{"$f":"IF(Cover_Sheet!F1852=\"\",\"\",Cover_Sheet!F1852)","v":""},{"$f":"Cover_Sheet!G1852","v":0},{"$f":"Cover_Sheet!H1852","v":0}]
[{"$f":"IF(Cover_Sheet!A1853=0,\"N\",\"Y\")","v":"N"},{"$f":"Cover_Sheet!B1853","v":0},{"$f":"Cover_Sheet!C1853","v":0},{"$f":"Cover_Sheet!D1853","v":"00:00:00"},{"$f":"Cover_Sheet!E1853","v":"00:00:00"},{"$f":"IF(Cover_Sheet!F1853=\"\",\"\",Cover_Sheet!F1853)","v":""},{"$f":"Cover_Sheet!G1853","v":0},{"$f":"Cover_Sheet!H1853","v":0}]
[{"$f":"IF(Cover_Sheet!A1854=0,\"N\",\"Y\")","v":"N"},{"$f":"Cover_Sheet!B1854","v":0},{"$f":"Cover_Sheet!C1854","v":0},{"$f":"Cover_Sheet!D1854","v":"00:00:00"},{"$f":"Cover_Sheet!E1854","v":"00:00:00"},{"$f":"IF(Cover_Sheet!F1854=\"\",\"\",Cover_Sheet!F1854)","v":""},{"$f":"Cover_Sheet!G1854","v":0},{"$f":"Cover_Sheet!H1854","v":0}]
[{"$f":"IF(Cover_Sheet!A1855=0,\"N\",\"Y\")","v":"N"},{"$f":"Cover_Sheet!B1855","v":0},{"$f":"Cover_Sheet!C1855","v":0},{"$f":"Cover_Sheet!D1855","v":"00:00:00"},{"$f":"Cover_Sheet!E1855","v":"00:00:00"},{"$f":"IF(Cover_Sheet!F1855=\"\",\"\",Cover_Sheet!F1855)","v":""},{"$f":"Cover_Sheet!G1855","v":0},{"$f":"Cover_Sheet!H1855","v":0}]
[{"$f":"IF(Cover_Sheet!A1856=0,\"N\",\"Y\")","v":"N"},{"$f":"Cover_Sheet!B1856","v":0},{"$f":"Cover_Sheet!C1856","v":0},{"$f":"Cover_Sheet!D1856","v":"00:00:00"},{"$f":"Cover_Sheet!E1856","v":"00:00:00"},{"$f":"IF(Cover_Sheet!F1856=\"\",\"\",Cover_Sheet!F1856)","v":""},{"$f":"Cover_Sheet!G1856","v":0},{"$f":"Cover_Sheet!H1856","v":0}]
[{"$f":"IF(Cover_Sheet!A1857=0,\"N\",\"Y\")","v":"N"},{"$f":"Cover_Sheet!B1857","v":0},{"$f":"Cover_Sheet!C1857","v":0},{"$f":"Cover_Sheet!D1857","v":"00:00:00"},{"$f":"Cover_Sheet!E1857","v":"00:00:00"},{"$f":"IF(Cover_Sheet!F1857=\"\",\"\",Cover_Sheet!F1857)","v":""},{"$f":"Cover_Sheet!G1857","v":0},{"$f":"Cover_Sheet!H1857","v":0}]
[{"$f":"IF(Cover_Sheet!A1858=0,\"N\",\"Y\")","v":"N"},{"$f":"Cover_Sheet!B1858","v":0},{"$f":"Cover_Sheet!C1858","v":0},{"$f":"Cover_Sheet!D1858","v":"00:00:00"},{"$f":"Cover_Sheet!E1858","v":"00:00:00"},{"$f":"IF(Cover_Sheet!F1858=\"\",\"\",Cover_Sheet!F1858)","v":""},{"$f":"Cover_Sheet!G1858","v":0},{"$f":"Cover_Sheet!H1858","v":0}]
[{"$f":"IF(Cover_Sheet!A1859=0,\"N\",\"Y\")","v":"N"},{"$f":"Cover_Sheet!B1859","v":0},{"$f":"Cover_Sheet!C1859","v":0},{"$f":"Cover_Sheet!D1859","v":"00:00:00"},{"$f":"Cover_Sheet!E1859","v":"00:00:00"},{"$f":"IF(Cover_Sheet!F1859=\"\",\"\",Cover_Sheet!F1859)","v":""},{"$f":"Cover_Sheet!G1859","v":0},{"$f":"Cover_Sheet!H1859","v":0}]
[{"$f":"IF(Cover_Sheet!A1860=0,\"N\",\"Y\")","v":"N"},{"$f":"Cover_Sheet!B1860","v":0},{"$f":"Cover_Sheet!C1860","v":0},{"$f":"Cover_Sheet!D1860","v":"00:00:00"},{"$f":"Cover_Sheet!E1860","v":"00:00:00"},{"$f":"IF(Cover_Sheet!F1860=\"\",\"\",Cover_Sheet!F1860)","v":""},{"$f":"Cover_Sheet!G1860","v":0},{"$f":"Cover_Sheet!H1860","v":0}]
[{"$f":"IF(Cover_Sheet!A1861=0,\"N\",\"Y\")","v":"N"},{"$f":"Cover_Sheet!B1861","v":0},{"$f":"Cover_Sheet!C1861","v":0},{"$f":"Cover_Sheet!D1861","v":"00:00:00"},{"$f":"Cover_Sheet!E1861","v":"00:00:00"},{"$f":"IF(Cover_Sheet!F1861=\"\",\"\",Cover_Sheet!F1861)","v":""},{"$f":"Cover_Sheet!G1861","v":0},{"$f":"Cover_Sheet!H1861","v":0}]
[{"$f":"IF(Cover_Sheet!A1862=0,\"N\",\"Y\")","v":"N"},{"$f":"Cover_Sheet!B1862","v":0},{"$f":"Cover_Sheet!C1862","v":0},{"$f":"Cover_Sheet!D1862","v":"00:00:00"},{"$f":"Cover_Sheet!E1862","v":"00:00:00"},{"$f":"IF(Cover_Sheet!F1862=\"\",\"\",Cover_Sheet!F1862)","v":""},{"$f":"Cover_Sheet!G1862","v":0},{"$f":"Cover_Sheet!H1862","v":0}]
[{"$f":"IF(Cover_Sheet!A1863=0,\"N\",\"Y\")","v":"N"},{"$f":"Cover_Sheet!B1863","v":0},{"$f":"Cover_Sheet!C1863","v":0},{"$f":"Cover_Sheet!D1863","v":"00:00:00"},{"$f":"Cover_Sheet!E1863","v":"00:00:00"},{"$f":"IF(Cover_Sheet!F1863=\"\",\"\",Cover_Sheet!F1863)","v":""},{"$f":"Cover_Sheet!G1863","v":0},{"$f":"Cover_Sheet!H1863","v":0}]
[{"$f":"IF(Cover_Sheet!A1864=0,\"N\",\"Y\")","v":"N"},{"$f":"Cover_Sheet!B1864","v":0},{"$f":"Cover_Sheet!C1864","v":0},{"$f":"Cover_Sheet!D1864","v":"00:00:00"},{"$f":"Cover_Sheet!E1864","v":"00:00:00"},{"$f":"IF(Cover_Sheet!F1864=\"\",\"\",Cover_Sheet!F1864)","v":""},{"$f":"Cover_Sheet!G1864","v":0},{"$f":"Cover_Sheet!H1864","v":0}]
[{"$f":"IF(Cover_Sheet!A1865=0,\"N\",\"Y\")","v":"N"},{"$f":"Cover_Sheet!B1865","v":0},{"$f":"Cover_Sheet!C1865","v":0},{"$f":"Cover_Sheet!D1865","v":"00:00:00"},{"$f":"Cover_Sheet!E1865","v":"00:00:00"},{"$f":"IF(Cover_Sheet!F1865=\"\",\"\",Cover_Sheet!F1865)","v":""},{"$f":"Cover_Sheet!G1865","v":0},{"$f":"Cover_Sheet!H1865","v":0}]
[{"$f":"IF(Cover_Sheet!A1866=0,\"N\",\"Y\")","v":"N"},{"$f":"Cover_Sheet!B1866","v":0},{"$f":"Cover_Sheet!C1866","v":0},{"$f":"Cover_Sheet!D1866","v":"00:00:00"},{"$f":"Cover_Sheet!E1866","v":"00:00:00"},{"$f":"IF(Cover_Sheet!F1866=\"\",\"\",Cover_Sheet!F1866)","v":""},{"$f":"Cover_Sheet!G1866","v":0},{"$f":"Cover_Sheet!H1866","v":0}]
[{"$f":"IF(Cover_Sheet!A1867=0,\"N\",\"Y\")","v":"N"},{"$f":"Cover_Sheet!B1867","v":0},{"$f":"Cover_Sheet!C1867","v":0},{"$f":"Cover_Sheet!D1867","v":"00:00:00"},{"$f":"Cover_Sheet!E1867","v":"00:00:00"},{"$f":"IF(Cover_Sheet!F1867=\"\",\"\",Cover_Sheet!F1867)","v":""},{"$f":"Cover_Sheet!G1867","v":0},{"$f":"Cover_Sheet!H1867","v":0}]
[{"$f":"IF(Cover_Sheet!A1868=0,\"N\",\"Y\")","v":"N"},{"$f":"Cover_Sheet!B1868","v":0},{"$f":"Cover_Sheet!C1868","v":0},{"$f":"Cover_Sheet!D1868","v":"00:00:00"},{"$f":"Cover_Sheet!E1868","v":"00:00:00"},{"$f":"IF(Cover_Sheet!F1868=\"\",\"\",Cover_Sheet!F1868)","v":""},{"$f":"Cover_Sheet!G1868","v":0},{"$f":"Cover_Sheet!H1868","v":0}]
[{"$f":"IF(Cover_Sheet!A1869=0,\"N\",\"Y\")","v":"N"},{"$f":"Cover_Sheet!B1869","v":0},{"$f":"Cover_Sheet!C1869","v":0},{"$f":"Cover_Sheet!D1869","v":"00:00:00"},{"$f":"Cover_Sheet!E1869","v":"00:00:00"},{"$f":"IF(Cover_Sheet!F1869=\"\",\"\",Cover_Sheet!F1869)","v":""},{"$f":"Cover_Sheet!G1869","v":0},{"$f":"Cover_Sheet!H1869","v":0}]
[{"$f":"IF(Cover_Sheet!A1870=0,\"N\",\"Y\")","v":"N"},{"$f":"Cover_Sheet!B1870","v":0},{"$f":"Cover_Sheet!C1870","v":0},{"$f":"Cover_Sheet!D1870","v":"00:00:00"},{"$f":"Cover_Sheet!E1870","v":"00:00:00"},{"$f":"IF(Cover_Sheet!F1870=\"\",\"\",Cover_Sheet!F1870)","v":""},{"$f":"Cover_Sheet!G1870","v":0},{"$f":"Cover_Sheet!H1870","v":0}]
[{"$f":"IF(Cover_Sheet!A1871=0,\"N\",\"Y\")","v":"N"},{"$f":"Cover_Sheet!B1871","v":0},{"$f":"Cover_Sheet!C1871","v":0},{"$f":"Cover_Sheet!D1871","v":"00:00:00"},{"$f":"Cover_Sheet!E1871","v":"00:00:00"},{"$f":"IF(Cover_Sheet!F1871=\"\",\"\",Cover_Sheet!F1871)","v":""},{"$f":"Cover_Sheet!G1871","v":0},{"$f":"Cover_Sheet!H1871","v":0}]
[{"$f":"IF(Cover_Sheet!A1872=0,\"N\",\"Y\")","v":"N"},{"$f":"Cover_Sheet!B1872","v":0},{"$f":"Cover_Sheet!C1872","v":0},{"$f":"Cover_Sheet!D1872","v":"00:00:00"},{"$f":"Cover_Sheet!E1872","v":"00:00:00"},{"$f":"IF(Cover_Sheet!F1872=\"\",\"\",Cover_Sheet!F1872)","v":""},{"$f":"Cover_Sheet!G1872","v":0},{"$f":"Cover_Sheet!H1872","v":0}]
[{"$f":"IF(Cover_Sheet!A1873=0,\"N\",\"Y\")","v":"N"},{"$f":"Cover_Sheet!B1873","v":0},{"$f":"Cover_Sheet!C1873","v":0},{"$f":"Cover_Sheet!D1873","v":"00:00:00"},{"$f":"Cover_Sheet!E1873","v":"00:00:00"},{"$f":"IF(Cover_Sheet!F1873=\"\",\"\",Cover_Sheet!F1873)","v":""},{"$f":"Cover_Sheet!G1873","v":0},{"$f":"Cover_Sheet!H1873","v":0}]
[{"$f":"IF(Cover_Sheet!A1874=0,\"N\",\"Y\")","v":"N"},{"$f":"Cover_Sheet!B1874","v":0},{"$f":"Cover_Sheet!C1874","v":0},{"$f":"Cover_Sheet!D1874","v":"00:00:00"},{"$f":"Cover_Sheet!E1874","v":"00:00:00"},{"$f":"IF(Cover_Sheet!F1874=\"\",\"\",Cover_Sheet!F1874)","v":""},{"$f":"Cover_Sheet!G1874","v":0},{"$f":"Cover_Sheet!H1874","v":0}]
[{"$f":"IF(Cover_Sheet!A1875=0,\"N\",\"Y\")","v":"N"},{"$f":"Cover_Sheet!B1875","v":0},{"$f":"Cover_Sheet!C1875","v":0},{"$f":"Cover_Sheet!D1875","v":"00:00:00"},{"$f":"Cover_Sheet!E1875","v":"00:00:00"},{"$f":"IF(Cover_Sheet!F1875=\"\",\"\",Cover_Sheet!F1875)","v":""},{"$f":"Cover_Sheet!G1875","v":0},{"$f":"Cover_Sheet!H1875","v":0}]
[{"$f":"IF(Cover_Sheet!A1876=0,\"N\",\"Y\")","v":"N"},{"$f":"Cover_Sheet!B1876","v":0},{"$f":"Cover_Sheet!C1876","v":0},{"$f":"Cover_Sheet!D1876","v":"00:00:00"},{"$f":"Cover_Sheet!E1876","v":"00:00:00"},{"$f":"IF(Cover_Sheet!F1876=\"\",\"\",Cover_Sheet!F1876)","v":""},{"$f":"Cover_Sheet!G1876","v":0},{"$f":"Cover_Sheet!H1876","v":0}]
[{"$f":"IF(Cover_Sheet!A1877=0,\"N\",\"Y\")","v":"N"},{"$f":"Cover_Sheet!B1877","v":0},{"$f":"Cover_Sheet!C1877","v":0},{"$f":"Cover_Sheet!D1877","v":"00:00:00"},{"$f":"Cover_Sheet!E1877","v":"00:00:00"},{"$f":"IF(Cover_Sheet!F1877=\"\",\"\",Cover_Sheet!F1877)","v":""},{"$f":"Cover_Sheet!G1877","v":0},{"$f":"Cover_Sheet!H1877","v":0}]
[{"$f":"IF(Cover_Sheet!A1878=0,\"N\",\"Y\")","v":"N"},{"$f":"Cover_Sheet!B1878","v":0},{"$f":"Cover_Sheet!C1878","v":0},{"$f":"Cover_Sheet!D1878","v":"00:00:00"},{"$f":"Cover_Sheet!E1878","v":"00:00:00"},{"$f":"IF(Cover_Sheet!F1878=\"\",\"\",Cover_Sheet!F1878)","v":""},{"$f":"Cover_Sheet!G1878","v":0},{"$f":"Cover_Sheet!H1878","v":0}]
[{"$f":"IF(Cover_Sheet!A1879=0,\"N\",\"Y\")","v":"N"},{"$f":"Cover_Sheet!B1879","v":0},{"$f":"Cover_Sheet!C1879","v":0},{"$f":"Cover_Sheet!D1879","v":"00:00:00"},{"$f":"Cover_Sheet!E1879","v":"00:00:00"},{"$f":"IF(Cover_Sheet!F1879=\"\",\"\",Cover_Sheet!F1879)","v":""},{"$f":"Cover_Sheet!G1879","v":0},{"$f":"Cover_Sheet!H1879","v":0}]
[{"$f":"IF(Cover_Sheet!A1880=0,\"N\",\"Y\")","v":"N"},{"$f":"Cover_Sheet!B1880","v":0},{"$f":"Cover_Sheet!C1880","v":0},{"$f":"Cover_Sheet!D1880","v":"00:00:00"},{"$f":"Cover_Sheet!E1880","v":"00:00:00"},{"$f":"IF(Cover_Sheet!F1880=\"\",\"\",Cover_Sheet!F1880)","v":""},{"$f":"Cover_Sheet!G1880","v":0},{"$f":"Cover_Sheet!H1880","v":0}]
[{"$f":"IF(Cover_Sheet!A1881=0,\"N\",\"Y\")","v":"N"},{"$f":"Cover_Sheet!B1881","v":0},{"$f":"Cover_Sheet!C1881","v":0},{"$f":"Cover_Sheet!D1881","v":"00:00:00"},{"$f":"Cover_Sheet!E1881","v":"00:00:00"},{"$f":"IF(Cover_Sheet!F1881=\"\",\"\",Cover_Sheet!F1881)","v":""},{"$f":"Cover_Sheet!G1881","v":0},{"$f":"Cover_Sheet!H1881","v":0}]
[{"$f":"IF(Cover_Sheet!A1882=0,\"N\",\"Y\")","v":"N"},{"$f":"Cover_Sheet!B1882","v":0},{"$f":"Cover_Sheet!C1882","v":0},{"$f":"Cover_Sheet!D1882","v":"00:00:00"},{"$f":"Cover_Sheet!E1882","v":"00:00:00"},{"$f":"IF(Cover_Sheet!F1882=\"\",\"\",Cover_Sheet!F1882)","v":""},{"$f":"Cover_Sheet!G1882","v":0},{"$f":"Cover_Sheet!H1882","v":0}]
[{"$f":"IF(Cover_Sheet!A1883=0,\"N\",\"Y\")","v":"N"},{"$f":"Cover_Sheet!B1883","v":0},{"$f":"Cover_Sheet!C1883","v":0},{"$f":"Cover_Sheet!D1883","v":"00:00:00"},{"$f":"Cover_Sheet!E1883","v":"00:00:00"},{"$f":"IF(Cover_Sheet!F1883=\"\",\"\",Cover_Sheet!F1883)","v":""},{"$f":"Cover_Sheet!G1883","v":0},{"$f":"Cover_Sheet!H1883","v":0}]
[{"$f":"IF(Cover_Sheet!A1884=0,\"N\",\"Y\")","v":"N"},{"$f":"Cover_Sheet!B1884","v":0},{"$f":"Cover_Sheet!C1884","v":0},{"$f":"Cover_Sheet!D1884","v":"00:00:00"},{"$f":"Cover_Sheet!E1884","v":"00:00:00"},{"$f":"IF(Cover_Sheet!F1884=\"\",\"\",Cover_Sheet!F1884)","v":""},{"$f":"Cover_Sheet!G1884","v":0},{"$f":"Cover_Sheet!H1884","v":0}]
[{"$f":"IF(Cover_Sheet!A1885=0,\"N\",\"Y\")","v":"N"},{"$f":"Cover_Sheet!B1885","v":0},{"$f":"Cover_Sheet!C1885","v":0},{"$f":"Cover_Sheet!D1885","v":"00:00:00"},{"$f":"Cover_Sheet!E1885","v":"00:00:00"},{"$f":"IF(Cover_Sheet!F1885=\"\",\"\",Cover_Sheet!F1885)","v":""},{"$f":"Cover_Sheet!G1885","v":0},{"$f":"Cover_Sheet!H1885","v":0}]
[{"$f":"IF(Cover_Sheet!A1886=0,\"N\",\"Y\")","v":"N"},{"$f":"Cover_Sheet!B1886","v":0},{"$f":"Cover_Sheet!C1886","v":0},{"$f":"Cover_Sheet!D1886","v":"00:00:00"},{"$f":"Cover_Sheet!E1886","v":"00:00:00"},{"$f":"IF(Cover_Sheet!F1886=\"\",\"\",Cover_Sheet!F1886)","v":""},{"$f":"Cover_Sheet!G1886","v":0},{"$f":"Cover_Sheet!H1886","v":0}]
[{"$f":"IF(Cover_Sheet!A1887=0,\"N\",\"Y\")","v":"N"},{"$f":"Cover_Sheet!B1887","v":0},{"$f":"Cover_Sheet!C1887","v":0},{"$f":"Cover_Sheet!D1887","v":"00:00:00"},{"$f":"Cover_Sheet!E1887","v":"00:00:00"},{"$f":"IF(Cover_Sheet!F1887=\"\",\"\",Cover_Sheet!F1887)","v":""},{"$f":"Cover_Sheet!G1887","v":0},{"$f":"Cover_Sheet!H1887","v":0}]
[{"$f":"IF(Cover_Sheet!A1888=0,\"N\",\"Y\")","v":"N"},{"$f":"Cover_Sheet!B1888","v":0},{"$f":"Cover_Sheet!C1888","v":0},{"$f":"Cover_Sheet!D1888","v":"00:00:00"},{"$f":"Cover_Sheet!E1888","v":"00:00:00"},{"$f":"IF(Cover_Sheet!F1888=\"\",\"\",Cover_Sheet!F1888)","v":""},{"$f":"Cover_Sheet!G1888","v":0},{"$f":"Cover_Sheet!H1888","v":0}]
[{"$f":"IF(Cover_Sheet!A1889=0,\"N\",\"Y\")","v":"N"},{"$f":"Cover_Sheet!B1889","v":0},{"$f":"Cover_Sheet!C1889","v":0},{"$f":"Cover_Sheet!D1889","v":"00:00:00"},{"$f":"Cover_Sheet!E1889","v":"00:00:00"},{"$f":"IF(Cover_Sheet!F1889=\"\",\"\",Cover_Sheet!F1889)","v":""},{"$f":"Cover_Sheet!G1889","v":0},{"$f":"Cover_Sheet!H1889","v":0}]
[{"$f":"IF(Cover_Sheet!A1890=0,\"N\",\"Y\")","v":"N"},{"$f":"Cover_Sheet!B1890","v":0},{"$f":"Cover_Sheet!C1890","v":0},{"$f":"Cover_Sheet!D1890","v":"00:00:00"},{"$f":"Cover_Sheet!E1890","v":"00:00:00"},{"$f":"IF(Cover_Sheet!F1890=\"\",\"\",Cover_Sheet!F1890)","v":""},{"$f":"Cover_Sheet!G1890","v":0},{"$f":"Cover_Sheet!H1890","v":0}]
[{"$f":"IF(Cover_Sheet!A1891=0,\"N\",\"Y\")","v":"N"},{"$f":"Cover_Sheet!B1891","v":0},{"$f":"Cover_Sheet!C1891","v":0},{"$f":"Cover_Sheet!D1891","v":"00:00:00"},{"$f":"Cover_Sheet!E1891","v":"00:00:00"},{"$f":"IF(Cover_Sheet!F1891=\"\",\"\",Cover_Sheet!F1891)","v":""},{"$f":"Cover_Sheet!G1891","v":0},{"$f":"Cover_Sheet!H1891","v":0}]
[{"$f":"IF(Cover_Sheet!A1892=0,\"N\",\"Y\")","v":"N"},{"$f":"Cover_Sheet!B1892","v":0},{"$f":"Cover_Sheet!C1892","v":0},{"$f":"Cover_Sheet!D1892","v":"00:00:00"},{"$f":"Cover_Sheet!E1892","v":"00:00:00"},{"$f":"IF(Cover_Sheet!F1892=\"\",\"\",Cover_Sheet!F1892)","v":""},{"$f":"Cover_Sheet!G1892","v":0},{"$f":"Cover_Sheet!H1892","v":0}]
[{"$f":"IF(Cover_Sheet!A1893=0,\"N\",\"Y\")","v":"N"},{"$f":"Cover_Sheet!B1893","v":0},{"$f":"Cover_Sheet!C1893","v":0},{"$f":"Cover_Sheet!D1893","v":"00:00:00"},{"$f":"Cover_Sheet!E1893","v":"00:00:00"},{"$f":"IF(Cover_Sheet!F1893=\"\",\"\",Cover_Sheet!F1893)","v":""},{"$f":"Cover_Sheet!G1893","v":0},{"$f":"Cover_Sheet!H1893","v":0}]
[{"$f":"IF(Cover_Sheet!A1894=0,\"N\",\"Y\")","v":"N"},{"$f":"Cover_Sheet!B1894","v":0},{"$f":"Cover_Sheet!C1894","v":0},{"$f":"Cover_Sheet!D1894","v":"00:00:00"},{"$f":"Cover_Sheet!E1894","v":"00:00:00"},{"$f":"IF(Cover_Sheet!F1894=\"\",\"\",Cover_Sheet!F1894)","v":""},{"$f":"Cover_Sheet!G1894","v":0},{"$f":"Cover_Sheet!H1894","v":0}]
[{"$f":"IF(Cover_Sheet!A1895=0,\"N\",\"Y\")","v":"N"},{"$f":"Cover_Sheet!B1895","v":0},{"$f":"Cover_Sheet!C1895","v":0},{"$f":"Cover_Sheet!D1895","v":"00:00:00"},{"$f":"Cover_Sheet!E1895","v":"00:00:00"},{"$f":"IF(Cover_Sheet!F1895=\"\",\"\",Cover_Sheet!F1895)","v":""},{"$f":"Cover_Sheet!G1895","v":0},{"$f":"Cover_Sheet!H1895","v":0}]
[{"$f":"IF(Cover_Sheet!A1896=0,\"N\",\"Y\")","v":"N"},{"$f":"Cover_Sheet!B1896","v":0},{"$f":"Cover_Sheet!C1896","v":0},{"$f":"Cover_Sheet!D1896","v":"00:00:00"},{"$f":"Cover_Sheet!E1896","v":"00:00:00"},{"$f":"IF(Cover_Sheet!F1896=\"\",\"\",Cover_Sheet!F1896)","v":""},{"$f":"Cover_Sheet!G1896","v":0},{"$f":"Cover_Sheet!H1896","v":0}]
[{"$f":"IF(Cover_Sheet!A1897=0,\"N\",\"Y\")","v":"N"},{"$f":"Cover_Sheet!B1897","v":0},{"$f":"Cover_Sheet!C1897","v":0},{"$f":"Cover_Sheet!D1897","v":"00:00:00"},{"$f":"Cover_Sheet!E1897","v":"00:00:00"},{"$f":"IF(Cover_Sheet!F1897=\"\",\"\",Cover_Sheet!F1897)","v":""},{"$f":"Cover_Sheet!G1897","v":0},{"$f":"Cover_Sheet!H1897","v":0}]
[{"$f":"IF(Cover_Sheet!A1898=0,\"N\",\"Y\")","v":"N"},{"$f":"Cover_Sheet!B1898","v":0},{"$f":"Cover_Sheet!C1898","v":0},{"$f":"Cover_Sheet!D1898","v":"00:00:00"},{"$f":"Cover_Sheet!E1898","v":"00:00:00"},{"$f":"IF(Cover_Sheet!F1898=\"\",\"\",Cover_Sheet!F1898)","v":""},{"$f":"Cover_Sheet!G1898","v":0},{"$f":"Cover_Sheet!H1898","v":0}]
[{"$f":"IF(Cover_Sheet!A1899=0,\"N\",\"Y\")","v":"N"},{"$f":"Cover_Sheet!B1899","v":0},{"$f":"Cover_Sheet!C1899","v":0},{"$f":"Cover_Sheet!D1899","v":"00:00:00"},{"$f":"Cover_Sheet!E1899","v":"00:00:00"},{"$f":"IF(Cover_Sheet!F1899=\"\",\"\",Cover_Sheet!F1899)","v":""},{"$f":"Cover_Sheet!G1899","v":0},{"$f":"Cover_Sheet!H1899","v":0}]
[{"$f":"IF(Cover_Sheet!A1900=0,\"N\",\"Y\")","v":"N"},{"$f":"Cover_Sheet!B1900","v":0},{"$f":"Cover_Sheet!C1900","v":0},{"$f":"Cover_Sheet!D1900","v":"00:00:00"},{"$f":"Cover_Sheet!E1900","v":"00:00:00"},{"$f":"IF(Cover_Sheet!F1900=\"\",\"\",Cover_Sheet!F1900)","v":""},{"$f":"Cover_Sheet!G1900","v":0},{"$f":"Cover_Sheet!H1900","v":0}]
[{"$f":"IF(Cover_Sheet!A1901=0,\"N\",\"Y\")","v":"N"},{"$f":"Cover_Sheet!B1901","v":0},{"$f":"Cover_Sheet!C1901","v":0},{"$f":"Cover_Sheet!D1901","v":"00:00:00"},{"$f":"Cover_Sheet!E1901","v":"00:00:00"},{"$f":"IF(Cover_Sheet!F1901=\"\",\"\",Cover_Sheet!F1901)","v":""},{"$f":"Cover_Sheet!G1901","v":0},{"$f":"Cover_Sheet!H1901","v":0}]
[{"$f":"IF(Cover_Sheet!A1902=0,\"N\",\"Y\")","v":"N"},{"$f":"Cover_Sheet!B1902","v":0},{"$f":"Cover_Sheet!C1902","v":0},{"$f":"Cover_Sheet!D1902","v":"00:00:00"},{"$f":"Cover_Sheet!E1902","v":"00:00:00"},{"$f":"IF(Cover_Sheet!F1902=\"\",\"\",Cover_Sheet!F1902)","v":""},{"$f":"Cover_Sheet!G1902","v":0},{"$f":"Cover_Sheet!H1902","v":0}]
[{"$f":"IF(Cover_Sheet!A1903=0,\"N\",\"Y\")","v":"N"},{"$f":"Cover_Sheet!B1903","v":0},{"$f":"Cover_Sheet!C1903","v":0},{"$f":"Cover_Sheet!D1903","v":"00:00:00"},{"$f":"Cover_Sheet!E1903","v":"00:00:00"},{"$f":"IF(Cover_Sheet!F1903=\"\",\"\",Cover_Sheet!F1903)","v":""},{"$f":"Cover_Sheet!G1903","v":0},{"$f":"Cover_Sheet!H1903","v":0}]
[{"$f":"IF(Cover_Sheet!A1904=0,\"N\",\"Y\")","v":"N"},{"$f":"Cover_Sheet!B1904","v":0},{"$f":"Cover_Sheet!C1904","v":0},{"$f":"Cover_Sheet!D1904","v":"00:00:00"},{"$f":"Cover_Sheet!E1904","v":"00:00:00"},{"$f":"IF(Cover_Sheet!F1904=\"\",\"\",Cover_Sheet!F1904)","v":""},{"$f":"Cover_Sheet!G1904","v":0},{"$f":"Cover_Sheet!H1904","v":0}]
[{"$f":"IF(Cover_Sheet!A1905=0,\"N\",\"Y\")","v":"N"},{"$f":"Cover_Sheet!B1905","v":0},{"$f":"Cover_Sheet!C1905","v":0},{"$f":"Cover_Sheet!D1905","v":"00:00:00"},{"$f":"Cover_Sheet!E1905","v":"00:00:00"},{"$f":"IF(Cover_Sheet!F1905=\"\",\"\",Cover_Sheet!F1905)","v":""},{"$f":"Cover_Sheet!G1905","v":0},{"$f":"Cover_Sheet!H1905","v":0}]
[{"$f":"IF(Cover_Sheet!A1906=0,\"N\",\"Y\")","v":"N"},{"$f":"Cover_Sheet!B1906","v":0},{"$f":"Cover_Sheet!C1906","v":0},{"$f":"Cover_Sheet!D1906","v":"00:00:00"},{"$f":"Cover_Sheet!E1906","v":"00:00:00"},{"$f":"IF(Cover_Sheet!F1906=\"\",\"\",Cover_Sheet!F1906)","v":""},{"$f":"Cover_Sheet!G1906","v":0},{"$f":"Cover_Sheet!H1906","v":0}]
[{"$f":"IF(Cover_Sheet!A1907=0,\"N\",\"Y\")","v":"N"},{"$f":"Cover_Sheet!B1907","v":0},{"$f":"Cover_Sheet!C1907","v":0},{"$f":"Cover_Sheet!D1907","v":"00:00:00"},{"$f":"Cover_Sheet!E1907","v":"00:00:00"},{"$f":"IF(Cover_Sheet!F1907=\"\",\"\",Cover_Sheet!F1907)","v":""},{"$f":"Cover_Sheet!G1907","v":0},{"$f":"Cover_Sheet!H1907","v":0}]
[{"$f":"IF(Cover_Sheet!A1908=0,\"N\",\"Y\")","v":"N"},{"$f":"Cover_Sheet!B1908","v":0},{"$f":"Cover_Sheet!C1908","v":0},{"$f":"Cover_Sheet!D1908","v":"00:00:00"},{"$f":"Cover_Sheet!E1908","v":"00:00:00"},{"$f":"IF(Cover_Sheet!F1908=\"\",\"\",Cover_Sheet!F1908)","v":""},{"$f":"Cover_Sheet!G1908","v":0},{"$f":"Cover_Sheet!H1908","v":0}]
[{"$f":"IF(Cover_Sheet!A1909=0,\"N\",\"Y\")","v":"N"},{"$f":"Cover_Sheet!B1909","v":0},{"$f":"Cover_Sheet!C1909","v":0},{"$f":"Cover_Sheet!D1909","v":"00:00:00"},{"$f":"Cover_Sheet!E1909","v":"00:00:00"},{"$f":"IF(Cover_Sheet!F1909=\"\",\"\",Cover_Sheet!F1909)","v":""},{"$f":"Cover_Sheet!G1909","v":0},{"$f":"Cover_Sheet!H1909","v":0}]
[{"$f":"IF(Cover_Sheet!A1910=0,\"N\",\"Y\")","v":"N"},{"$f":"Cover_Sheet!B1910","v":0},{"$f":"Cover_Sheet!C1910","v":0},{"$f":"Cover_Sheet!D1910","v":"00:00:00"},{"$f":"Cover_Sheet!E1910","v":"00:00:00"},{"$f":"IF(Cover_Sheet!F1910=\"\",\"\",Cover_Sheet!F1910)","v":""},{"$f":"Cover_Sheet!G1910","v":0},{"$f":"Cover_Sheet!H1910","v":0}]
[{"$f":"IF(Cover_Sheet!A1911=0,\"N\",\"Y\")","v":"N"},{"$f":"Cover_Sheet!B1911","v":0},{"$f":"Cover_Sheet!C1911","v":0},{"$f":"Cover_Sheet!D1911","v":"00:00:00"},{"$f":"Cover_Sheet!E1911","v":"00:00:00"},{"$f":"IF(Cover_Sheet!F1911=\"\",\"\",Cover_Sheet!F1911)","v":""},{"$f":"Cover_Sheet!G1911","v":0},{"$f":"Cover_Sheet!H1911","v":0}]
[{"$f":"IF(Cover_Sheet!A1912=0,\"N\",\"Y\")","v":"N"},{"$f":"Cover_Sheet!B1912","v":0},{"$f":"Cover_Sheet!C1912","v":0},{"$f":"Cover_Sheet!D1912","v":"00:00:00"},{"$f":"Cover_Sheet!E1912","v":"00:00:00"},{"$f":"IF(Cover_Sheet!F1912=\"\",\"\",Cover_Sheet!F1912)","v":""},{"$f":"Cover_Sheet!G1912","v":0},{"$f":"Cover_Sheet!H1912","v":0}]
[{"$f":"IF(Cover_Sheet!A1913=0,\"N\",\"Y\")","v":"N"},{"$f":"Cover_Sheet!B1913","v":0},{"$f":"Cover_Sheet!C1913","v":0},{"$f":"Cover_Sheet!D1913","v":"00:00:00"},{"$f":"Cover_Sheet!E1913","v":"00:00:00"},{"$f":"IF(Cover_Sheet!F1913=\"\",\"\",Cover_Sheet!F1913)","v":""},{"$f":"Cover_Sheet!G1913","v":0},{"$f":"Cover_Sheet!H1913","v":0}]
[{"$f":"IF(Cover_Sheet!A1914=0,\"N\",\"Y\")","v":"N"},{"$f":"Cover_Sheet!B1914","v":0},{"$f":"Cover_Sheet!C1914","v":0},{"$f":"Cover_Sheet!D1914","v":"00:00:00"},{"$f":"Cover_Sheet!E1914","v":"00:00:00"},{"$f":"IF(Cover_Sheet!F1914=\"\",\"\",Cover_Sheet!F1914)","v":""},{"$f":"Cover_Sheet!G1914","v":0},{"$f":"Cover_Sheet!H1914","v":0}]
[{"$f":"IF(Cover_Sheet!A1915=0,\"N\",\"Y\")","v":"N"},{"$f":"Cover_Sheet!B1915","v":0},{"$f":"Cover_Sheet!C1915","v":0},{"$f":"Cover_Sheet!D1915","v":"00:00:00"},{"$f":"Cover_Sheet!E1915","v":"00:00:00"},{"$f":"IF(Cover_Sheet!F1915=\"\",\"\",Cover_Sheet!F1915)","v":""},{"$f":"Cover_Sheet!G1915","v":0},{"$f":"Cover_Sheet!H1915","v":0}]
[{"$f":"IF(Cover_Sheet!A1916=0,\"N\",\"Y\")","v":"N"},{"$f":"Cover_Sheet!B1916","v":0},{"$f":"Cover_Sheet!C1916","v":0},{"$f":"Cover_Sheet!D1916","v":"00:00:00"},{"$f":"Cover_Sheet!E1916","v":"00:00:00"},{"$f":"IF(Cover_Sheet!F1916=\"\",\"\",Cover_Sheet!F1916)","v":""},{"$f":"Cover_Sheet!G1916","v":0},{"$f":"Cover_Sheet!H1916","v":0}]
[{"$f":"IF(Cover_Sheet!A1917=0,\"N\",\"Y\")","v":"N"},{"$f":"Cover_Sheet!B1917","v":0},{"$f":"Cover_Sheet!C1917","v":0},{"$f":"Cover_Sheet!D1917","v":"00:00:00"},{"$f":"Cover_Sheet!E1917","v":"00:00:00"},{"$f":"IF(Cover_Sheet!F1917=\"\",\"\",Cover_Sheet!F1917)","v":""},{"$f":"Cover_Sheet!G1917","v":0},{"$f":"Cover_Sheet!H1917","v":0}]
[{"$f":"IF(Cover_Sheet!A1918=0,\"N\",\"Y\")","v":"N"},{"$f":"Cover_Sheet!B1918","v":0},{"$f":"Cover_Sheet!C1918","v":0},{"$f":"Cover_Sheet!D1918","v":"00:00:00"},{"$f":"Cover_Sheet!E1918","v":"00:00:00"},{"$f":"IF(Cover_Sheet!F1918=\"\",\"\",Cover_Sheet!F1918)","v":""},{"$f":"Cover_Sheet!G1918","v":0},{"$f":"Cover_Sheet!H1918","v":0}]
[{"$f":"IF(Cover_Sheet!A1919=0,\"N\",\"Y\")","v":"N"},{"$f":"Cover_Sheet!B1919","v":0},{"$f":"Cover_Sheet!C1919","v":0},{"$f":"Cover_Sheet!D1919","v":"00:00:00"},{"$f":"Cover_Sheet!E1919","v":"00:00:00"},{"$f":"IF(Cover_Sheet!F1919=\"\",\"\",Cover_Sheet!F1919)","v":""},{"$f":"Cover_Sheet!G1919","v":0},{"$f":"Cover_Sheet!H1919","v":0}]
[{"$f":"IF(Cover_Sheet!A1920=0,\"N\",\"Y\")","v":"N"},{"$f":"Cover_Sheet!B1920","v":0},{"$f":"Cover_Sheet!C1920","v":0},{"$f":"Cover_Sheet!D1920","v":"00:00:00"},{"$f":"Cover_Sheet!E1920","v":"00:00:00"},{"$f":"IF(Cover_Sheet!F1920=\"\",\"\",Cover_Sheet!F1920)","v":""},{"$f":"Cover_Sheet!G1920","v":0},{"$f":"Cover_Sheet!H1920","v":0}]
[{"$f":"IF(Cover_Sheet!A1921=0,\"N\",\"Y\")","v":"N"},{"$f":"Cover_Sheet!B1921","v":0},{"$f":"Cover_Sheet!C1921","v":0},{"$f":"Cover_Sheet!D1921","v":"00:00:00"},{"$f":"Cover_Sheet!E1921","v":"00:00:00"},{"$f":"IF(Cover_Sheet!F1921=\"\",\"\",Cover_Sheet!F1921)","v":""},{"$f":"Cover_Sheet!G1921","v":0},{"$f":"Cover_Sheet!H1921","v":0}]
[{"$f":"IF(Cover_Sheet!A1922=0,\"N\",\"Y\")","v":"N"},{"$f":"Cover_Sheet!B1922","v":0},{"$f":"Cover_Sheet!C1922","v":0},{"$f":"Cover_Sheet!D1922","v":"00:00:00"},{"$f":"Cover_Sheet!E1922","v":"00:00:00"},{"$f":"IF(Cover_Sheet!F1922=\"\",\"\",Cover_Sheet!F1922)","v":""},{"$f":"Cover_Sheet!G1922","v":0},{"$f":"Cover_Sheet!H1922","v":0}]
[{"$f":"IF(Cover_Sheet!A1923=0,\"N\",\"Y\")","v":"N"},{"$f":"Cover_Sheet!B1923","v":0},{"$f":"Cover_Sheet!C1923","v":0},{"$f":"Cover_Sheet!D1923","v":"00:00:00"},{"$f":"Cover_Sheet!E1923","v":"00:00:00"},{"$f":"IF(Cover_Sheet!F1923=\"\",\"\",Cover_Sheet!F1923)","v":""},{"$f":"Cover_Sheet!G1923","v":0},{"$f":"Cover_Sheet!H1923","v":0}]
[{"$f":"IF(Cover_Sheet!A1924=0,\"N\",\"Y\")","v":"N"},{"$f":"Cover_Sheet!B1924","v":0},{"$f":"Cover_Sheet!C1924","v":0},{"$f":"Cover_Sheet!D1924","v":"00:00:00"},{"$f":"Cover_Sheet!E1924","v":"00:00:00"},{"$f":"IF(Cover_Sheet!F1924=\"\",\"\",Cover_Sheet!F1924)","v":""},{"$f":"Cover_Sheet!G1924","v":0},{"$f":"Cover_Sheet!H1924","v":0}]
[{"$f":"IF(Cover_Sheet!A1925=0,\"N\",\"Y\")","v":"N"},{"$f":"Cover_Sheet!B1925","v":0},{"$f":"Cover_Sheet!C1925","v":0},{"$f":"Cover_Sheet!D1925","v":"00:00:00"},{"$f":"Cover_Sheet!E1925","v":"00:00:00"},{"$f":"IF(Cover_Sheet!F1925=\"\",\"\",Cover_Sheet!F1925)","v":""},{"$f":"Cover_Sheet!G1925","v":0},{"$f":"Cover_Sheet!H1925","v":0}]
[{"$f":"IF(Cover_Sheet!A1926=0,\"N\",\"Y\")","v":"N"},{"$f":"Cover_Sheet!B1926","v":0},{"$f":"Cover_Sheet!C1926","v":0},{"$f":"Cover_Sheet!D1926","v":"00:00:00"},{"$f":"Cover_Sheet!E1926","v":"00:00:00"},{"$f":"IF(Cover_Sheet!F1926=\"\",\"\",Cover_Sheet!F1926)","v":""},{"$f":"Cover_Sheet!G1926","v":0},{"$f":"Cover_Sheet!H1926","v":0}]
[{"$f":"IF(Cover_Sheet!A1927=0,\"N\",\"Y\")","v":"N"},{"$f":"Cover_Sheet!B1927","v":0},{"$f":"Cover_Sheet!C1927","v":0},{"$f":"Cover_Sheet!D1927","v":"00:00:00"},{"$f":"Cover_Sheet!E1927","v":"00:00:00"},{"$f":"IF(Cover_Sheet!F1927=\"\",\"\",Cover_Sheet!F1927)","v":""},{"$f":"Cover_Sheet!G1927","v":0},{"$f":"Cover_Sheet!H1927","v":0}]
[{"$f":"IF(Cover_Sheet!A1928=0,\"N\",\"Y\")","v":"N"},{"$f":"Cover_Sheet!B1928","v":0},{"$f":"Cover_Sheet!C1928","v":0},{"$f":"Cover_Sheet!D1928","v":"00:00:00"},{"$f":"Cover_Sheet!E1928","v":"00:00:00"},{"$f":"IF(Cover_Sheet!F1928=\"\",\"\",Cover_Sheet!F1928)","v":""},{"$f":"Cover_Sheet!G1928","v":0},{"$f":"Cover_Sheet!H1928","v":0}]
[{"$f":"IF(Cover_Sheet!A1929=0,\"N\",\"Y\")","v":"N"},{"$f":"Cover_Sheet!B1929","v":0},{"$f":"Cover_Sheet!C1929","v":0},{"$f":"Cover_Sheet!D1929","v":"00:00:00"},{"$f":"Cover_Sheet!E1929","v":"00:00:00"},{"$f":"IF(Cover_Sheet!F1929=\"\",\"\",Cover_Sheet!F1929)","v":""},{"$f":"Cover_Sheet!G1929","v":0},{"$f":"Cover_Sheet!H1929","v":0}]
[{"$f":"IF(Cover_Sheet!A1930=0,\"N\",\"Y\")","v":"N"},{"$f":"Cover_Sheet!B1930","v":0},{"$f":"Cover_Sheet!C1930","v":0},{"$f":"Cover_Sheet!D1930","v":"00:00:00"},{"$f":"Cover_Sheet!E1930","v":"00:00:00"},{"$f":"IF(Cover_Sheet!F1930=\"\",\"\",Cover_Sheet!F1930)","v":""},{"$f":"Cover_Sheet!G1930","v":0},{"$f":"Cover_Sheet!H1930","v":0}]
[{"$f":"IF(Cover_Sheet!A1931=0,\"N\",\"Y\")","v":"N"},{"$f":"Cover_Sheet!B1931","v":0},{"$f":"Cover_Sheet!C1931","v":0},{"$f":"Cover_Sheet!D1931","v":"00:00:00"},{"$f":"Cover_Sheet!E1931","v":"00:00:00"},{"$f":"IF(Cover_Sheet!F1931=\"\",\"\",Cover_Sheet!F1931)","v":""},{"$f":"Cover_Sheet!G1931","v":0},{"$f":"Cover_Sheet!H1931","v":0}]
[{"$f":"IF(Cover_Sheet!A1932=0,\"N\",\"Y\")","v":"N"},{"$f":"Cover_Sheet!B1932","v":0},{"$f":"Cover_Sheet!C1932","v":0},{"$f":"Cover_Sheet!D1932","v":"00:00:00"},{"$f":"Cover_Sheet!E1932","v":"00:00:00"},{"$f":"IF(Cover_Sheet!F1932=\"\",\"\",Cover_Sheet!F1932)","v":""},{"$f":"Cover_Sheet!G1932","v":0},{"$f":"Cover_Sheet!H1932","v":0}]
[{"$f":"IF(Cover_Sheet!A1933=0,\"N\",\"Y\")","v":"N"},{"$f":"Cover_Sheet!B1933","v":0},{"$f":"Cover_Sheet!C1933","v":0},{"$f":"Cover_Sheet!D1933","v":"00:00:00"},{"$f":"Cover_Sheet!E1933","v":"00:00:00"},{"$f":"IF(Cover_Sheet!F1933=\"\",\"\",Cover_Sheet!F1933)","v":""},{"$f":"Cover_Sheet!G1933","v":0},{"$f":"Cover_Sheet!H1933","v":0}]
[{"$f":"IF(Cover_Sheet!A1934=0,\"N\",\"Y\")","v":"N"},{"$f":"Cover_Sheet!B1934","v":0},{"$f":"Cover_Sheet!C1934","v":0},{"$f":"Cover_Sheet!D1934","v":"00:00:00"},{"$f":"Cover_Sheet!E1934","v":"00:00:00"},{"$f":"IF(Cover_Sheet!F1934=\"\",\"\",Cover_Sheet!F1934)","v":""},{"$f":"Cover_Sheet!G1934","v":0},{"$f":"Cover_Sheet!H1934","v":0}]
[{"$f":"IF(Cover_Sheet!A1935=0,\"N\",\"Y\")","v":"N"},{"$f":"Cover_Sheet!B1935","v":0},{"$f":"Cover_Sheet!C1935","v":0},{"$f":"Cover_Sheet!D1935","v":"00:00:00"},{"$f":"Cover_Sheet!E1935","v":"00:00:00"},{"$f":"IF(Cover_Sheet!F1935=\"\",\"\",Cover_Sheet!F1935)","v":""},{"$f":"Cover_Sheet!G1935","v":0},{"$f":"Cover_Sheet!H1935","v":0}]
[{"$f":"IF(Cover_Sheet!A1936=0,\"N\",\"Y\")","v":"N"},{"$f":"Cover_Sheet!B1936","v":0},{"$f":"Cover_Sheet!C1936","v":0},{"$f":"Cover_Sheet!D1936","v":"00:00:00"},{"$f":"Cover_Sheet!E1936","v":"00:00:00"},{"$f":"IF(Cover_Sheet!F1936=\"\",\"\",Cover_Sheet!F1936)","v":""},{"$f":"Cover_Sheet!G1936","v":0},{"$f":"Cover_Sheet!H1936","v":0}]
[{"$f":"IF(Cover_Sheet!A1937=0,\"N\",\"Y\")","v":"N"},{"$f":"Cover_Sheet!B1937","v":0},{"$f":"Cover_Sheet!C1937","v":0},{"$f":"Cover_Sheet!D1937","v":"00:00:00"},{"$f":"Cover_Sheet!E1937","v":"00:00:00"},{"$f":"IF(Cover_Sheet!F1937=\"\",\"\",Cover_Sheet!F1937)","v":""},{"$f":"Cover_Sheet!G1937","v":0},{"$f":"Cover_Sheet!H1937","v":0}]
[{"$f":"IF(Cover_Sheet!A1938=0,\"N\",\"Y\")","v":"N"},{"$f":"Cover_Sheet!B1938","v":0},{"$f":"Cover_Sheet!C1938","v":0},{"$f":"Cover_Sheet!D1938","v":"00:00:00"},{"$f":"Cover_Sheet!E1938","v":"00:00:00"},{"$f":"IF(Cover_Sheet!F1938=\"\",\"\",Cover_Sheet!F1938)","v":""},{"$f":"Cover_Sheet!G1938","v":0},{"$f":"Cover_Sheet!H1938","v":0}]
[{"$f":"IF(Cover_Sheet!A1939=0,\"N\",\"Y\")","v":"N"},{"$f":"Cover_Sheet!B1939","v":0},{"$f":"Cover_Sheet!C1939","v":0},{"$f":"Cover_Sheet!D1939","v":"00:00:00"},{"$f":"Cover_Sheet!E1939","v":"00:00:00"},{"$f":"IF(Cover_Sheet!F1939=\"\",\"\",Cover_Sheet!F1939)","v":""},{"$f":"Cover_Sheet!G1939","v":0},{"$f":"Cover_Sheet!H1939","v":0}]
[{"$f":"IF(Cover_Sheet!A1940=0,\"N\",\"Y\")","v":"N"},{"$f":"Cover_Sheet!B1940","v":0},{"$f":"Cover_Sheet!C1940","v":0},{"$f":"Cover_Sheet!D1940","v":"00:00:00"},{"$f":"Cover_Sheet!E1940","v":"00:00:00"},{"$f":"IF(Cover_Sheet!F1940=\"\",\"\",Cover_Sheet!F1940)","v":""},{"$f":"Cover_Sheet!G1940","v":0},{"$f":"Cover_Sheet!H1940","v":0}]
[{"$f":"IF(Cover_Sheet!A1941=0,\"N\",\"Y\")","v":"N"},{"$f":"Cover_Sheet!B1941","v":0},{"$f":"Cover_Sheet!C1941","v":0},{"$f":"Cover_Sheet!D1941","v":"00:00:00"},{"$f":"Cover_Sheet!E1941","v":"00:00:00"},{"$f":"IF(Cover_Sheet!F1941=\"\",\"\",Cover_Sheet!F1941)","v":""},{"$f":"Cover_Sheet!G1941","v":0},{"$f":"Cover_Sheet!H1941","v":0}]
[{"$f":"IF(Cover_Sheet!A1942=0,\"N\",\"Y\")","v":"N"},{"$f":"Cover_Sheet!B1942","v":0},{"$f":"Cover_Sheet!C1942","v":0},{"$f":"Cover_Sheet!D1942","v":"00:00:00"},{"$f":"Cover_Sheet!E1942","v":"00:00:00"},{"$f":"IF(Cover_Sheet!F1942=\"\",\"\",Cover_Sheet!F1942)","v":""},{"$f":"Cover_Sheet!G1942","v":0},{"$f":"Cover_Sheet!H1942","v":0}]
[{"$f":"IF(Cover_Sheet!A1943=0,\"N\",\"Y\")","v":"N"},{"$f":"Cover_Sheet!B1943","v":0},{"$f":"Cover_Sheet!C1943","v":0},{"$f":"Cover_Sheet!D1943","v":"00:00:00"},{"$f":"Cover_Sheet!E1943","v":"00:00:00"},{"$f":"IF(Cover_Sheet!F1943=\"\",\"\",Cover_Sheet!F1943)","v":""},{"$f":"Cover_Sheet!G1943","v":0},{"$f":"Cover_Sheet!H1943","v":0}]
[{"$f":"IF(Cover_Sheet!A1944=0,\"N\",\"Y\")","v":"N"},{"$f":"Cover_Sheet!B1944","v":0},{"$f":"Cover_Sheet!C1944","v":0},{"$f":"Cover_Sheet!D1944","v":"00:00:00"},{"$f":"Cover_Sheet!E1944","v":"00:00:00"},{"$f":"IF(Cover_Sheet!F1944=\"\",\"\",Cover_Sheet!F1944)","v":""},{"$f":"Cover_Sheet!G1944","v":0},{"$f":"Cover_Sheet!H1944","v":0}]
[{"$f":"IF(Cover_Sheet!A1945=0,\"N\",\"Y\")","v":"N"},{"$f":"Cover_Sheet!B1945","v":0},{"$f":"Cover_Sheet!C1945","v":0},{"$f":"Cover_Sheet!D1945","v":"00:00:00"},{"$f":"Cover_Sheet!E1945","v":"00:00:00"},{"$f":"IF(Cover_Sheet!F1945=\"\",\"\",Cover_Sheet!F1945)","v":""},{"$f":"Cover_Sheet!G1945","v":0},{"$f":"Cover_Sheet!H1945","v":0}]
[{"$f":"IF(Cover_Sheet!A1946=0,\"N\",\"Y\")","v":"N"},{"$f":"Cover_Sheet!B1946","v":0},{"$f":"Cover_Sheet!C1946","v":0},{"$f":"Cover_Sheet!D1946","v":"00:00:00"},{"$f":"Cover_Sheet!E1946","v":"00:00:00"},{"$f":"IF(Cover_Sheet!F1946=\"\",\"\",Cover_Sheet!F1946)","v":""},{"$f":"Cover_Sheet!G1946","v":0},{"$f":"Cover_Sheet!H1946","v":0}]
[{"$f":"IF(Cover_Sheet!A1947=0,\"N\",\"Y\")","v":"N"},{"$f":"Cover_Sheet!B1947","v":0},{"$f":"Cover_Sheet!C1947","v":0},{"$f":"Cover_Sheet!D1947","v":"00:00:00"},{"$f":"Cover_Sheet!E1947","v":"00:00:00"},{"$f":"IF(Cover_Sheet!F1947=\"\",\"\",Cover_Sheet!F1947)","v":""},{"$f":"Cover_Sheet!G1947","v":0},{"$f":"Cover_Sheet!H1947","v":0}]
[{"$f":"IF(Cover_Sheet!A1948=0,\"N\",\"Y\")","v":"N"},{"$f":"Cover_Sheet!B1948","v":0},{"$f":"Cover_Sheet!C1948","v":0},{"$f":"Cover_Sheet!D1948","v":"00:00:00"},{"$f":"Cover_Sheet!E1948","v":"00:00:00"},{"$f":"IF(Cover_Sheet!F1948=\"\",\"\",Cover_Sheet!F1948)","v":""},{"$f":"Cover_Sheet!G1948","v":0},{"$f":"Cover_Sheet!H1948","v":0}]
[{"$f":"IF(Cover_Sheet!A1949=0,\"N\",\"Y\")","v":"N"},{"$f":"Cover_Sheet!B1949","v":0},{"$f":"Cover_Sheet!C1949","v":0},{"$f":"Cover_Sheet!D1949","v":"00:00:00"},{"$f":"Cover_Sheet!E1949","v":"00:00:00"},{"$f":"IF(Cover_Sheet!F1949=\"\",\"\",Cover_Sheet!F1949)","v":""},{"$f":"Cover_Sheet!G1949","v":0},{"$f":"Cover_Sheet!H1949","v":0}]
[{"$f":"IF(Cover_Sheet!A1950=0,\"N\",\"Y\")","v":"N"},{"$f":"Cover_Sheet!B1950","v":0},{"$f":"Cover_Sheet!C1950","v":0},{"$f":"Cover_Sheet!D1950","v":"00:00:00"},{"$f":"Cover_Sheet!E1950","v":"00:00:00"},{"$f":"IF(Cover_Sheet!F1950=\"\",\"\",Cover_Sheet!F1950)","v":""},{"$f":"Cover_Sheet!G1950","v":0},{"$f":"Cover_Sheet!H1950","v":0}]
[{"$f":"IF(Cover_Sheet!A1951=0,\"N\",\"Y\")","v":"N"},{"$f":"Cover_Sheet!B1951","v":0},{"$f":"Cover_Sheet!C1951","v":0},{"$f":"Cover_Sheet!D1951","v":"00:00:00"},{"$f":"Cover_Sheet!E1951","v":"00:00:00"},{"$f":"IF(Cover_Sheet!F1951=\"\",\"\",Cover_Sheet!F1951)","v":""},{"$f":"Cover_Sheet!G1951","v":0},{"$f":"Cover_Sheet!H1951","v":0}]
[{"$f":"IF(Cover_Sheet!A1952=0,\"N\",\"Y\")","v":"N"},{"$f":"Cover_Sheet!B1952","v":0},{"$f":"Cover_Sheet!C1952","v":0},{"$f":"Cover_Sheet!D1952","v":"00:00:00"},{"$f":"Cover_Sheet!E1952","v":"00:00:00"},{"$f":"IF(Cover_Sheet!F1952=\"\",\"\",Cover_Sheet!F1952)","v":""},{"$f":"Cover_Sheet!G1952","v":0},{"$f":"Cover_Sheet!H1952","v":0}]
[{"$f":"IF(Cover_Sheet!A1953=0,\"N\",\"Y\")","v":"N"},{"$f":"Cover_Sheet!B1953","v":0},{"$f":"Cover_Sheet!C1953","v":0},{"$f":"Cover_Sheet!D1953","v":"00:00:00"},{"$f":"Cover_Sheet!E1953","v":"00:00:00"},{"$f":"IF(Cover_Sheet!F1953=\"\",\"\",Cover_Sheet!F1953)","v":""},{"$f":"Cover_Sheet!G1953","v":0},{"$f":"Cover_Sheet!H1953","v":0}]
[{"$f":"IF(Cover_Sheet!A1954=0,\"N\",\"Y\")","v":"N"},{"$f":"Cover_Sheet!B1954","v":0},{"$f":"Cover_Sheet!C1954","v":0},{"$f":"Cover_Sheet!D1954","v":"00:00:00"},{"$f":"Cover_Sheet!E1954","v":"00:00:00"},{"$f":"IF(Cover_Sheet!F1954=\"\",\"\",Cover_Sheet!F1954)","v":""},{"$f":"Cover_Sheet!G1954","v":0},{"$f":"Cover_Sheet!H1954","v":0}]
[{"$f":"IF(Cover_Sheet!A1955=0,\"N\",\"Y\")","v":"N"},{"$f":"Cover_Sheet!B1955","v":0},{"$f":"Cover_Sheet!C1955","v":0},{"$f":"Cover_Sheet!D1955","v":"00:00:00"},{"$f":"Cover_Sheet!E1955","v":"00:00:00"},{"$f":"IF(Cover_Sheet!F1955=\"\",\"\",Cover_Sheet!F1955)","v":""},{"$f":"Cover_Sheet!G1955","v":0},{"$f":"Cover_Sheet!H1955","v":0}]
[{"$f":"IF(Cover_Sheet!A1956=0,\"N\",\"Y\")","v":"N"},{"$f":"Cover_Sheet!B1956","v":0},{"$f":"Cover_Sheet!C1956","v":0},{"$f":"Cover_Sheet!D1956","v":"00:00:00"},{"$f":"Cover_Sheet!E1956","v":"00:00:00"},{"$f":"IF(Cover_Sheet!F1956=\"\",\"\",Cover_Sheet!F1956)","v":""},{"$f":"Cover_Sheet!G1956","v":0},{"$f":"Cover_Sheet!H1956","v":0}]
[{"$f":"IF(Cover_Sheet!A1957=0,\"N\",\"Y\")","v":"N"},{"$f":"Cover_Sheet!B1957","v":0},{"$f":"Cover_Sheet!C1957","v":0},{"$f":"Cover_Sheet!D1957","v":"00:00:00"},{"$f":"Cover_Sheet!E1957","v":"00:00:00"},{"$f":"IF(Cover_Sheet!F1957=\"\",\"\",Cover_Sheet!F1957)","v":""},{"$f":"Cover_Sheet!G1957","v":0},{"$f":"Cover_Sheet!H1957","v":0}]
[{"$f":"IF(Cover_Sheet!A1958=0,\"N\",\"Y\")","v":"N"},{"$f":"Cover_Sheet!B1958","v":0},{"$f":"Cover_Sheet!C1958","v":0},{"$f":"Cover_Sheet!D1958","v":"00:00:00"},{"$f":"Cover_Sheet!E1958","v":"00:00:00"},{"$f":"IF(Cover_Sheet!F1958=\"\",\"\",Cover_Sheet!F1958)","v":""},{"$f":"Cover_Sheet!G1958","v":0},{"$f":"Cover_Sheet!H1958","v":0}]
[{"$f":"IF(Cover_Sheet!A1959=0,\"N\",\"Y\")","v":"N"},{"$f":"Cover_Sheet!B1959","v":0},{"$f":"Cover_Sheet!C1959","v":0},{"$f":"Cover_Sheet!D1959","v":"00:00:00"},{"$f":"Cover_Sheet!E1959","v":"00:00:00"},{"$f":"IF(Cover_Sheet!F1959=\"\",\"\",Cover_Sheet!F1959)","v":""},{"$f":"Cover_Sheet!G1959","v":0},{"$f":"Cover_Sheet!H1959","v":0}]
[{"$f":"IF(Cover_Sheet!A1960=0,\"N\",\"Y\")","v":"N"},{"$f":"Cover_Sheet!B1960","v":0},{"$f":"Cover_Sheet!C1960","v":0},{"$f":"Cover_Sheet!D1960","v":"00:00:00"},{"$f":"Cover_Sheet!E1960","v":"00:00:00"},{"$f":"IF(Cover_Sheet!F1960=\"\",\"\",Cover_Sheet!F1960)","v":""},{"$f":"Cover_Sheet!G1960","v":0},{"$f":"Cover_Sheet!H1960","v":0}]
[{"$f":"IF(Cover_Sheet!A1961=0,\"N\",\"Y\")","v":"N"},{"$f":"Cover_Sheet!B1961","v":0},{"$f":"Cover_Sheet!C1961","v":0},{"$f":"Cover_Sheet!D1961","v":"00:00:00"},{"$f":"Cover_Sheet!E1961","v":"00:00:00"},{"$f":"IF(Cover_Sheet!F1961=\"\",\"\",Cover_Sheet!F1961)","v":""},{"$f":"Cover_Sheet!G1961","v":0},{"$f":"Cover_Sheet!H1961","v":0}]
[{"$f":"IF(Cover_Sheet!A1962=0,\"N\",\"Y\")","v":"N"},{"$f":"Cover_Sheet!B1962","v":0},{"$f":"Cover_Sheet!C1962","v":0},{"$f":"Cover_Sheet!D1962","v":"00:00:00"},{"$f":"Cover_Sheet!E1962","v":"00:00:00"},{"$f":"IF(Cover_Sheet!F1962=\"\",\"\",Cover_Sheet!F1962)","v":""},{"$f":"Cover_Sheet!G1962","v":0},{"$f":"Cover_Sheet!H1962","v":0}]
[{"$f":"IF(Cover_Sheet!A1963=0,\"N\",\"Y\")","v":"N"},{"$f":"Cover_Sheet!B1963","v":0},{"$f":"Cover_Sheet!C1963","v":0},{"$f":"Cover_Sheet!D1963","v":"00:00:00"},{"$f":"Cover_Sheet!E1963","v":"00:00:00"},{"$f":"IF(Cover_Sheet!F1963=\"\",\"\",Cover_Sheet!F1963)","v":""},{"$f":"Cover_Sheet!G1963","v":0},{"$f":"Cover_Sheet!H1963","v":0}]
[{"$f":"IF(Cover_Sheet!A1964=0,\"N\",\"Y\")","v":"N"},{"$f":"Cover_Sheet!B1964","v":0},{"$f":"Cover_Sheet!C1964","v":0},{"$f":"Cover_Sheet!D1964","v":"00:00:00"},{"$f":"Cover_Sheet!E1964","v":"00:00:00"},{"$f":"IF(Cover_Sheet!F1964=\"\",\"\",Cover_Sheet!F1964)","v":""},{"$f":"Cover_Sheet!G1964","v":0},{"$f":"Cover_Sheet!H1964","v":0}]
[{"$f":"IF(Cover_Sheet!A1965=0,\"N\",\"Y\")","v":"N"},{"$f":"Cover_Sheet!B1965","v":0},{"$f":"Cover_Sheet!C1965","v":0},{"$f":"Cover_Sheet!D1965","v":"00:00:00"},{"$f":"Cover_Sheet!E1965","v":"00:00:00"},{"$f":"IF(Cover_Sheet!F1965=\"\",\"\",Cover_Sheet!F1965)","v":""},{"$f":"Cover_Sheet!G1965","v":0},{"$f":"Cover_Sheet!H1965","v":0}]
[{"$f":"IF(Cover_Sheet!A1966=0,\"N\",\"Y\")","v":"N"},{"$f":"Cover_Sheet!B1966","v":0},{"$f":"Cover_Sheet!C1966","v":0},{"$f":"Cover_Sheet!D1966","v":"00:00:00"},{"$f":"Cover_Sheet!E1966","v":"00:00:00"},{"$f":"IF(Cover_Sheet!F1966=\"\",\"\",Cover_Sheet!F1966)","v":""},{"$f":"Cover_Sheet!G1966","v":0},{"$f":"Cover_Sheet!H1966","v":0}]
[{"$f":"IF(Cover_Sheet!A1967=0,\"N\",\"Y\")","v":"N"},{"$f":"Cover_Sheet!B1967","v":0},{"$f":"Cover_Sheet!C1967","v":0},{"$f":"Cover_Sheet!D1967","v":"00:00:00"},{"$f":"Cover_Sheet!E1967","v":"00:00:00"},{"$f":"IF(Cover_Sheet!F1967=\"\",\"\",Cover_Sheet!F1967)","v":""},{"$f":"Cover_Sheet!G1967","v":0},{"$f":"Cover_Sheet!H1967","v":0}]
[{"$f":"IF(Cover_Sheet!A1968=0,\"N\",\"Y\")","v":"N"},{"$f":"Cover_Sheet!B1968","v":0},{"$f":"Cover_Sheet!C1968","v":0},{"$f":"Cover_Sheet!D1968","v":"00:00:00"},{"$f":"Cover_Sheet!E1968","v":"00:00:00"},{"$f":"IF(Cover_Sheet!F1968=\"\",\"\",Cover_Sheet!F1968)","v":""},{"$f":"Cover_Sheet!G1968","v":0},{"$f":"Cover_Sheet!H1968","v":0}]
[{"$f":"IF(Cover_Sheet!A1969=0,\"N\",\"Y\")","v":"N"},{"$f":"Cover_Sheet!B1969","v":0},{"$f":"Cover_Sheet!C1969","v":0},{"$f":"Cover_Sheet!D1969","v":"00:00:00"},{"$f":"Cover_Sheet!E1969","v":"00:00:00"},{"$f":"IF(Cover_Sheet!F1969=\"\",\"\",Cover_Sheet!F1969)","v":""},{"$f":"Cover_Sheet!G1969","v":0},{"$f":"Cover_Sheet!H1969","v":0}]
[{"$f":"IF(Cover_Sheet!A1970=0,\"N\",\"Y\")","v":"N"},{"$f":"Cover_Sheet!B1970","v":0},{"$f":"Cover_Sheet!C1970","v":0},{"$f":"Cover_Sheet!D1970","v":"00:00:00"},{"$f":"Cover_Sheet!E1970","v":"00:00:00"},{"$f":"IF(Cover_Sheet!F1970=\"\",\"\",Cover_Sheet!F1970)","v":""},{"$f":"Cover_Sheet!G1970","v":0},{"$f":"Cover_Sheet!H1970","v":0}]
[{"$f":"IF(Cover_Sheet!A1971=0,\"N\",\"Y\")","v":"N"},{"$f":"Cover_Sheet!B1971","v":0},{"$f":"Cover_Sheet!C1971","v":0},{"$f":"Cover_Sheet!D1971","v":"00:00:00"},{"$f":"Cover_Sheet!E1971","v":"00:00:00"},{"$f":"IF(Cover_Sheet!F1971=\"\",\"\",Cover_Sheet!F1971)","v":""},{"$f":"Cover_Sheet!G1971","v":0},{"$f":"Cover_Sheet!H1971","v":0}]
[{"$f":"IF(Cover_Sheet!A1972=0,\"N\",\"Y\")","v":"N"},{"$f":"Cover_Sheet!B1972","v":0},{"$f":"Cover_Sheet!C1972","v":0},{"$f":"Cover_Sheet!D1972","v":"00:00:00"},{"$f":"Cover_Sheet!E1972","v":"00:00:00"},{"$f":"IF(Cover_Sheet!F1972=\"\",\"\",Cover_Sheet!F1972)","v":""},{"$f":"Cover_Sheet!G1972","v":0},{"$f":"Cover_Sheet!H1972","v":0}]
[{"$f":"IF(Cover_Sheet!A1973=0,\"N\",\"Y\")","v":"N"},{"$f":"Cover_Sheet!B1973","v":0},{"$f":"Cover_Sheet!C1973","v":0},{"$f":"Cover_Sheet!D1973","v":"00:00:00"},{"$f":"Cover_Sheet!E1973","v":"00:00:00"},{"$f":"IF(Cover_Sheet!F1973=\"\",\"\",Cover_Sheet!F1973)","v":""},{"$f":"Cover_Sheet!G1973","v":0},{"$f":"Cover_Sheet!H1973","v":0}]
[{"$f":"IF(Cover_Sheet!A1974=0,\"N\",\"Y\")","v":"N"},{"$f":"Cover_Sheet!B1974","v":0},{"$f":"Cover_Sheet!C1974","v":0},{"$f":"Cover_Sheet!D1974","v":"00:00:00"},{"$f":"Cover_Sheet!E1974","v":"00:00:00"},{"$f":"IF(Cover_Sheet!F1974=\"\",\"\",Cover_Sheet!F1974)","v":""},{"$f":"Cover_Sheet!G1974","v":0},{"$f":"Cover_Sheet!H1974","v":0}]
[{"$f":"IF(Cover_Sheet!A1975=0,\"N\",\"Y\")","v":"N"},{"$f":"Cover_Sheet!B1975","v":0},{"$f":"Cover_Sheet!C1975","v":0},{"$f":"Cover_Sheet!D1975","v":"00:00:00"},{"$f":"Cover_Sheet!E1975","v":"00:00:00"},{"$f":"IF(Cover_Sheet!F1975=\"\",\"\",Cover_Sheet!F1975)","v":""},{"$f":"Cover_Sheet!G1975","v":0},{"$f":"Cover_Sheet!H1975","v":0}]
[{"$f":"IF(Cover_Sheet!A1976=0,\"N\",\"Y\")","v":"N"},{"$f":"Cover_Sheet!B1976","v":0},{"$f":"Cover_Sheet!C1976","v":0},{"$f":"Cover_Sheet!D1976","v":"00:00:00"},{"$f":"Cover_Sheet!E1976","v":"00:00:00"},{"$f":"IF(Cover_Sheet!F1976=\"\",\"\",Cover_Sheet!F1976)","v":""},{"$f":"Cover_Sheet!G1976","v":0},{"$f":"Cover_Sheet!H1976","v":0}]
[{"$f":"IF(Cover_Sheet!A1977=0,\"N\",\"Y\")","v":"N"},{"$f":"Cover_Sheet!B1977","v":0},{"$f":"Cover_Sheet!C1977","v":0},{"$f":"Cover_Sheet!D1977","v":"00:00:00"},{"$f":"Cover_Sheet!E1977","v":"00:00:00"},{"$f":"IF(Cover_Sheet!F1977=\"\",\"\",Cover_Sheet!F1977)","v":""},{"$f":"Cover_Sheet!G1977","v":0},{"$f":"Cover_Sheet!H1977","v":0}]
[{"$f":"IF(Cover_Sheet!A1978=0,\"N\",\"Y\")","v":"N"},{"$f":"Cover_Sheet!B1978","v":0},{"$f":"Cover_Sheet!C1978","v":0},{"$f":"Cover_Sheet!D1978","v":"00:00:00"},{"$f":"Cover_Sheet!E1978","v":"00:00:00"},{"$f":"IF(Cover_Sheet!F1978=\"\",\"\",Cover_Sheet!F1978)","v":""},{"$f":"Cover_Sheet!G1978","v":0},{"$f":"Cover_Sheet!H1978","v":0}]
[{"$f":"IF(Cover_Sheet!A1979=0,\"N\",\"Y\")","v":"N"},{"$f":"Cover_Sheet!B1979","v":0},{"$f":"Cover_Sheet!C1979","v":0},{"$f":"Cover_Sheet!D1979","v":"00:00:00"},{"$f":"Cover_Sheet!E1979","v":"00:00:00"},{"$f":"IF(Cover_Sheet!F1979=\"\",\"\",Cover_Sheet!F1979)","v":""},{"$f":"Cover_Sheet!G1979","v":0},{"$f":"Cover_Sheet!H1979","v":0}]
[{"$f":"IF(Cover_Sheet!A1980=0,\"N\",\"Y\")","v":"N"},{"$f":"Cover_Sheet!B1980","v":0},{"$f":"Cover_Sheet!C1980","v":0},{"$f":"Cover_Sheet!D1980","v":"00:00:00"},{"$f":"Cover_Sheet!E1980","v":"00:00:00"},{"$f":"IF(Cover_Sheet!F1980=\"\",\"\",Cover_Sheet!F1980)","v":""},{"$f":"Cover_Sheet!G1980","v":0},{"$f":"Cover_Sheet!H1980","v":0}]
[{"$f":"IF(Cover_Sheet!A1981=0,\"N\",\"Y\")","v":"N"},{"$f":"Cover_Sheet!B1981","v":0},{"$f":"Cover_Sheet!C1981","v":0},{"$f":"Cover_Sheet!D1981","v":"00:00:00"},{"$f":"Cover_Sheet!E1981","v":"00:00:00"},{"$f":"IF(Cover_Sheet!F1981=\"\",\"\",Cover_Sheet!F1981)","v":""},{"$f":"Cover_Sheet!G1981","v":0},{"$f":"Cover_Sheet!H1981","v":0}]
[{"$f":"IF(Cover_Sheet!A1982=0,\"N\",\"Y\")","v":"N"},{"$f":"Cover_Sheet!B1982","v":0},{"$f":"Cover_Sheet!C1982","v":0},{"$f":"Cover_Sheet!D1982","v":"00:00:00"},{"$f":"Cover_Sheet!E1982","v":"00:00:00"},{"$f":"IF(Cover_Sheet!F1982=\"\",\"\",Cover_Sheet!F1982)","v":""},{"$f":"Cover_Sheet!G1982","v":0},{"$f":"Cover_Sheet!H1982","v":0}]
[{"$f":"IF(Cover_Sheet!A1983=0,\"N\",\"Y\")","v":"N"},{"$f":"Cover_Sheet!B1983","v":0},{"$f":"Cover_Sheet!C1983","v":0},{"$f":"Cover_Sheet!D1983","v":"00:00:00"},{"$f":"Cover_Sheet!E1983","v":"00:00:00"},{"$f":"IF(Cover_Sheet!F1983=\"\",\"\",Cover_Sheet!F1983)","v":""},{"$f":"Cover_Sheet!G1983","v":0},{"$f":"Cover_Sheet!H1983","v":0}]
[{"$f":"IF(Cover_Sheet!A1984=0,\"N\",\"Y\")","v":"N"},{"$f":"Cover_Sheet!B1984","v":0},{"$f":"Cover_Sheet!C1984","v":0},{"$f":"Cover_Sheet!D1984","v":"00:00:00"},{"$f":"Cover_Sheet!E1984","v":"00:00:00"},{"$f":"IF(Cover_Sheet!F1984=\"\",\"\",Cover_Sheet!F1984)","v":""},{"$f":"Cover_Sheet!G1984","v":0},{"$f":"Cover_Sheet!H1984","v":0}]
[{"$f":"IF(Cover_Sheet!A1985=0,\"N\",\"Y\")","v":"N"},{"$f":"Cover_Sheet!B1985","v":0},{"$f":"Cover_Sheet!C1985","v":0},{"$f":"Cover_Sheet!D1985","v":"00:00:00"},{"$f":"Cover_Sheet!E1985","v":"00:00:00"},{"$f":"IF(Cover_Sheet!F1985=\"\",\"\",Cover_Sheet!F1985)","v":""},{"$f":"Cover_Sheet!G1985","v":0},{"$f":"Cover_Sheet!H1985","v":0}]
[{"$f":"IF(Cover_Sheet!A1986=0,\"N\",\"Y\")","v":"N"},{"$f":"Cover_Sheet!B1986","v":0},{"$f":"Cover_Sheet!C1986","v":0},{"$f":"Cover_Sheet!D1986","v":"00:00:00"},{"$f":"Cover_Sheet!E1986","v":"00:00:00"},{"$f":"IF(Cover_Sheet!F1986=\"\",\"\",Cover_Sheet!F1986)","v":""},{"$f":"Cover_Sheet!G1986","v":0},{"$f":"Cover_Sheet!H1986","v":0}]
[{"$f":"IF(Cover_Sheet!A1987=0,\"N\",\"Y\")","v":"N"},{"$f":"Cover_Sheet!B1987","v":0},{"$f":"Cover_Sheet!C1987","v":0},{"$f":"Cover_Sheet!D1987","v":"00:00:00"},{"$f":"Cover_Sheet!E1987","v":"00:00:00"},{"$f":"IF(Cover_Sheet!F1987=\"\",\"\",Cover_Sheet!F1987)","v":""},{"$f":"Cover_Sheet!G1987","v":0},{"$f":"Cover_Sheet!H1987","v":0}]
[{"$f":"IF(Cover_Sheet!A1988=0,\"N\",\"Y\")","v":"N"},{"$f":"Cover_Sheet!B1988","v":0},{"$f":"Cover_Sheet!C1988","v":0},{"$f":"Cover_Sheet!D1988","v":"00:00:00"},{"$f":"Cover_Sheet!E1988","v":"00:00:00"},{"$f":"IF(Cover_Sheet!F1988=\"\",\"\",Cover_Sheet!F1988)","v":""},{"$f":"Cover_Sheet!G1988","v":0},{"$f":"Cover_Sheet!H1988","v":0}]
[{"$f":"IF(Cover_Sheet!A1989=0,\"N\",\"Y\")","v":"N"},{"$f":"Cover_Sheet!B1989","v":0},{"$f":"Cover_Sheet!C1989","v":0},{"$f":"Cover_Sheet!D1989","v":"00:00:00"},{"$f":"Cover_Sheet!E1989","v":"00:00:00"},{"$f":"IF(Cover_Sheet!F1989=\"\",\"\",Cover_Sheet!F1989)","v":""},{"$f":"Cover_Sheet!G1989","v":0},{"$f":"Cover_Sheet!H1989","v":0}]
[{"$f":"IF(Cover_Sheet!A1990=0,\"N\",\"Y\")","v":"N"},{"$f":"Cover_Sheet!B1990","v":0},{"$f":"Cover_Sheet!C1990","v":0},{"$f":"Cover_Sheet!D1990","v":"00:00:00"},{"$f":"Cover_Sheet!E1990","v":"00:00:00"},{"$f":"IF(Cover_Sheet!F1990=\"\",\"\",Cover_Sheet!F1990)","v":""},{"$f":"Cover_Sheet!G1990","v":0},{"$f":"Cover_Sheet!H1990","v":0}]
[{"$f":"IF(Cover_Sheet!A1991=0,\"N\",\"Y\")","v":"N"},{"$f":"Cover_Sheet!B1991","v":0},{"$f":"Cover_Sheet!C1991","v":0},{"$f":"Cover_Sheet!D1991","v":"00:00:00"},{"$f":"Cover_Sheet!E1991","v":"00:00:00"},{"$f":"IF(Cover_Sheet!F1991=\"\",\"\",Cover_Sheet!F1991)","v":""},{"$f":"Cover_Sheet!G1991","v":0},{"$f":"Cover_Sheet!H1991","v":0}]
[{"$f":"IF(Cover_Sheet!A1992=0,\"N\",\"Y\")","v":"N"},{"$f":"Cover_Sheet!B1992","v":0},{"$f":"Cover_Sheet!C1992","v":0},{"$f":"Cover_Sheet!D1992","v":"00:00:00"},{"$f":"Cover_Sheet!E1992","v":"00:00:00"},{"$f":"IF(Cover_Sheet!F1992=\"\",\"\",Cover_Sheet!F1992)","v":""},{"$f":"Cover_Sheet!G1992","v":0},{"$f":"Cover_Sheet!H1992","v":0}]
[{"$f":"IF(Cover_Sheet!A1993=0,\"N\",\"Y\")","v":"N"},{"$f":"Cover_Sheet!B1993","v":0},{"$f":"Cover_Sheet!C1993","v":0},{"$f":"Cover_Sheet!D1993","v":"00:00:00"},{"$f":"Cover_Sheet!E1993","v":"00:00:00"},{"$f":"IF(Cover_Sheet!F1993=\"\",\"\",Cover_Sheet!F1993)","v":""},{"$f":"Cover_Sheet!G1993","v":0},{"$f":"Cover_Sheet!H1993","v":0}]
[{"$f":"IF(Cover_Sheet!A1994=0,\"N\",\"Y\")","v":"N"},{"$f":"Cover_Sheet!B1994","v":0},{"$f":"Cover_Sheet!C1994","v":0},{"$f":"Cover_Sheet!D1994","v":"00:00:00"},{"$f":"Cover_Sheet!E1994","v":"00:00:00"},{"$f":"IF(Cover_Sheet!F1994=\"\",\"\",Cover_Sheet!F1994)","v":""},{"$f":"Cover_Sheet!G1994","v":0},{"$f":"Cover_Sheet!H1994","v":0}]
[{"$f":"IF(Cover_Sheet!A1995=0,\"N\",\"Y\")","v":"N"},{"$f":"Cover_Sheet!B1995","v":0},{"$f":"Cover_Sheet!C1995","v":0},{"$f":"Cover_Sheet!D1995","v":"00:00:00"},{"$f":"Cover_Sheet!E1995","v":"00:00:00"},{"$f":"IF(Cover_Sheet!F1995=\"\",\"\",Cover_Sheet!F1995)","v":""},{"$f":"Cover_Sheet!G1995","v":0},{"$f":"Cover_Sheet!H1995","v":0}]
[{"$f":"IF(Cover_Sheet!A1996=0,\"N\",\"Y\")","v":"N"},{"$f":"Cover_Sheet!B1996","v":0},{"$f":"Cover_Sheet!C1996","v":0},{"$f":"Cover_Sheet!D1996","v":"00:00:00"},{"$f":"Cover_Sheet!E1996","v":"00:00:00"},{"$f":"IF(Cover_Sheet!F1996=\"\",\"\",Cover_Sheet!F1996)","v":""},{"$f":"Cover_Sheet!G1996","v":0},{"$f":"Cover_Sheet!H1996","v":0}]
[{"$f":"IF(Cover_Sheet!A1997=0,\"N\",\"Y\")","v":"N"},{"$f":"Cover_Sheet!B1997","v":0},{"$f":"Cover_Sheet!C1997","v":0},{"$f":"Cover_Sheet!D1997","v":"00:00:00"},{"$f":"Cover_Sheet!E1997","v":"00:00:00"},{"$f":"IF(Cover_Sheet!F1997=\"\",\"\",Cover_Sheet!F1997)","v":""},{"$f":"Cover_Sheet!G1997","v":0},{"$f":"Cover_Sheet!H1997","v":0}]
[{"$f":"IF(Cover_Sheet!A1998=0,\"N\",\"Y\")","v":"N"},{"$f":"Cover_Sheet!B1998","v":0},{"$f":"Cover_Sheet!C1998","v":0},{"$f":"Cover_Sheet!D1998","v":"00:00:00"},{"$f":"Cover_Sheet!E1998","v":"00:00:00"},{"$f":"IF(Cover_Sheet!F1998=\"\",\"\",Cover_Sheet!F1998)","v":""},{"$f":"Cover_Sheet!G1998","v":0},{"$f":"Cover_Sheet!H1998","v":0}]
[{"$f":"IF(Cover_Sheet!A1999=0,\"N\",\"Y\")","v":"N"},{"$f":"Cover_Sheet!B1999","v":0},{"$f":"Cover_Sheet!C1999","v":0},{"$f":"Cover_Sheet!D1999","v":"00:00:00"},{"$f":"Cover_Sheet!E1999","v":"00:00:00"},{"$f":"IF(Cover_Sheet!F1999=\"\",\"\",Cover_Sheet!F1999)","v":""},{"$f":"Cover_Sheet!G1999","v":0},{"$f":"Cover_Sheet!H1999","v":0}]

{"sheet":"Cover_Sheet","index":1,"n_rows":1,"n_cols":8,"rows_kept":1,"cut":false,"hidden":true,"merged":[]}
["Notify Customer","Outage .","CoverDesc","Start Date","End Date","Notes","O_Project Type","O_Location"]

{"sheet":"Week_1","index":2,"n_rows":21,"n_cols":21,"rows_kept":21,"cut":false,"hidden":false,"merged":[[4,14,4,20],[5,2,5,8],[20,0,20,9],[1,0,1,8],[2,0,2,8],[4,0,5,0],[4,1,5,1],[4,9,5,9]]}
[null,null,null,null,null,null,null,null,null,"     -Restrictions to Primary In-Path transportation services may be necessary."]
["SNG - Outage Impact Report",null,null,null,null,null,null,null,null,"     -Restrictions to In-Path transportation services may be necessary."]
["Seven Day Forecast (updated 05/30/24)",null,null,null,null,null,null,null,null,"     -Restrictions to Interruptible and Out of Path transportation services may be necessary."]
[null,null,null,null,null,null,null,null,null,"     -No anticipated impact to transportation services."]
["Station / Seg\n","Est Nominal Design Capacity (Thousand Dth)","Monday\n (6/3)","Tuesday\n (6/4)","Wednesday\n (6/5)","Thursday\n (6/6)","Friday\n (6/7)","Saturday\n (6/8)","Sunday\n (6/9)","Primary Outage(s) that may Impact Throughput",null,null,null,null,"Color Coding"]
[null,null,"Est. Operational Capacity (Operational Impact) - Thousand Dth",null,null,null,null,null,null,null,null,null,null,null,"Monday","Tuesday","Wednesday","Thursday","Friday","Saturday","Sunday"]
["Onward \n(segment 30)",203,203,203,203,203,203,203,203,null,null,null,null,null,"","","","","","",""]
["Duncanville Lateral\n(segment 90)",36,36,36,36,36,36,36,36,null,null,null,null,null,"","","","","","",""]
["Dearmanville\n(segment 150)",346,346,346,346,346,346,346,346,null,null,null,null,null,"","","","","","",""]
["White Castle\n(segment 340)",772,772,772,772,772,772,772,772,null,null,null,null,null,"","","","","","",""]
["Sesh\n(segment 380)",504,504,504,504,504,504,504,504,null,null,null,null,null,"","","","","","",""]
["Gwinville\n(segment 400)",234,"194 \n(40)","194 \n(40)","194 \n(40)","194 \n(40)","194 \n(40)","194 \n(40)","194 \n(40)","Gwinville compressor station: unit maintenance  (6/3/2024 - 6/14/2024)",null,null,null,null,1,1,1,1,1,1,1]
["Bay Springs\n(segment 420)",1675,"1625 \n(50)","1625 \n(50)","1625 \n(50)","1625 \n(50)","1625 \n(50)","1625 \n(50)","1625 \n(50)","South main line east of Bay Springs: Pipeline maintenance  (5/22/2024 - 6/18/2024)",null,null,null,null,1,1,1,1,1,1,1]
["Enterprise\n(segment 430)",2306,"2158 \n(148)","2158 \n(148)","2158 \n(148)","2158 \n(148)","2158 \n(148)","2158 \n(148)","2158 \n(148)","South main line west of Enterprise compressor station: Pipeline maintenance  (5/20/2024 - 6/18/2024)",null,null,null,null,1,1,1,1,1,1,1]
["Ellerslie \n(segment 490)",1547,1547,1547,1547,1547,1547,1547,1547,null,null,null,null,null,"","","","","","",""]
["Thomaston West\n(segment 490)",1535,"1365 \n(170)","1365 \n(170)","1365 \n(170)","1365 \n(170)","1365 \n(170)","1365 \n(170)","1365 \n(170)","Thomaston compressor station: Unscheduled unit outage  (5/16/2024 - 8/14/2024)\nThomaston compressor station: Unscheduled unit outage  (5/23/2024 - 8/30/2024)",null,null,null,null,1,1,1,1,1,1,1]
["South Atlanta\n(segment 510)",522,522,522,522,522,522,522,522,null,null,null,null,null,"","","","","","",""]
["Thomaston East\n(segment 530)",849,849,849,849,849,849,849,849,null,null,null,null,null,"","","","","","",""]
["Hall Gate\n(segment 560)",705,"680 \n(25)","680 \n(25)","685 \n(20)","685 \n(20)","685 \n(20)","685 \n(20)","685 \n(20)","Hall Gate compressor station: scheduled unit maintenance  (4/1/2024 - 6/4/2024)\nSouth main loop line west of Hall Gate compressor station: Unscheduled pipeline maintenance  (6/1/2024 - 7/3/2024)",null,null,null,null,1,1,1,1,1,1,1]
["South Georgia\n(segment 650)",127,127,127,127,127,127,127,127,null,null,null,null,null,"","","","","","",""]
["This document is updated on a weekly basis and outage schedules/impacts are subject to change as the week progresses.  \nDates posted on DART should be deemed correct in the event of conflicts between DART posted dates and dates on this report. \nThe impacts sheet are based on steady-state hydraulic models assuming recent operating flows, conditions, and various unit outages."]

{"sheet":"June","index":3,"n_rows":22,"n_cols":16,"rows_kept":22,"cut":false,"hidden":false,"merged":[[4,11,4,15],[5,2,5,5],[2,0,2,5],[1,0,1,5],[21,0,21,6],[4,0,5,0],[4,1,5,1],[4,6,5,6]]}
[null,null,null,null,null,null,"     -Restrictions to Primary In-Path transportation services may be necessary."]
["SNG - Outage Impact Report",null,null,null,null,null,"     -Restrictions to In-Path transportation services may be necessary."]
["June 2024 (updated 05/30/24)",null,null,null,null,null,"     -Restrictions to Interruptible and Out of Path transportation services may be necessary."]
[null,null,null,null,null,null,"     -No anticipated impact to transportation services."]
["Station / Seg\n","Est Nominal Design Capacity (Thousand Dth)","Week 1\n(6/3 - 6/9)","Week 2\n(6/10 - 6/16)","Week 3\n(6/17 - 6/23)","Week 4\n(6/24 - 6/30)","Primary Outage(s)",null,null,null,null,"Color Coding"]
[null,null,"Est. Operational Capacity (Operational Impact) - Thousand Dth",null,null,null,null,null,null,null,null,"Week 1","Week 2","Week 3","Week 4","Week 5"]
["Onward \n(segment 30)",203,"",203,203,203,null,null,null,null,null,"","","","",""]
["Duncanville Lateral\n(segment 90)",36,"",36,36,36,null,null,null,null,null,"","","","",""]
["Dearmanville\n(segment 150)",346,"",346,346,346,null,null,null,null,null,"","","","",""]
["White Castle\n(segment 340)",772,"",772,772,772,null,null,null,null,null,"","","","",""]
["Sesh\n(segment 380)",504,"",504,504,504,null,null,null,null,null,"","","","",""]
["Gwinville\n(segment 400)",234,"","194 \n(40)",234,234,"Gwinville compressor station: unit maintenance  (6/3/2024 - 6/14/2024)",null,null,null,null,"",1,"","",""]
["Bay Springs\n(segment 420)",1675,"","1625 \n(50)","1625 \n(50)","1300 \n(375)","Bay Springs compressor station: unit outage  (6/24/2024 - 6/26/2024)\nSouth main line east of Bay Springs: Pipeline maintenance  (5/22/2024 - 6/18/2024)",null,null,null,null,"",1,1,1,""]
["Enterprise\n(segment 430)",2306,"","1833 \n(473)","2158 \n(148)",2306,"South main line west of Enterprise compressor station: Pipeline maintenance  (5/20/2024 - 6/18/2024)\nSouth main line west of Enterprise compressor station: Pipeline maintenance  (6/15/2024 - 6/16/2024)",null,null,null,null,"",1,1,"",""]
["Elmore\n(segment 460)",2010,"",2010,2010,"1945 \n(65)","South main 2nd loop line east of Elmore: Pipeline maintenance - anomaly  (6/24/2024 - 6/28/2024)",null,null,null,null,"","","",1,""]
["Ellerslie \n(segment 490)",1547,"",1547,1547,"1517 \n(30)","South Main line west of Thomaston: Pipeline maintenance (anomalies) Project 17842  (6/24/2024 - 6/28/2024)",null,null,null,null,"","","",1,""]
["Thomaston West\n(segment 490)",1535,"","1365 \n(170)","1365 \n(170)","1365 \n(170)","Thomaston compressor station: Unscheduled unit outage  (5/16/2024 - 8/14/2024)\nThomaston compressor station: Unscheduled unit outage  (5/23/2024 - 8/30/2024)",null,null,null,null,"",1,1,1,""]
["South Atlanta\n(segment 510)",522,"",522,522,522,null,null,null,null,null,"","","","",""]
["Thomaston East\n(segment 530)",849,"",849,849,849,"South Main line west of Thomaston: Pipeline maintenance (anomalies) Project 34908  (6/24/2024 - 6/28/2024)",null,null,null,null,"","","","",""]
["Hall Gate\n(segment 560)",705,"","685 \n(20)","685 \n(20)","685 \n(20)","South main loop line west of Hall Gate compressor station: Unscheduled pipeline maintenance  (6/1/2024 - 7/3/2024)",null,null,null,null,"",1,1,1,""]
["South Georgia\n(segment 650)",127,"",127,127,127,null,null,null,null,null,"","","","",""]
["This document is updated on a weekly basis and outage schedules/impacts are subject to change as the week progresses.  \nDates posted on DART should be deemed correct in the event of conflicts between DART posted dates and dates on this report. \nThe impacts sheet are based on steady-state hydraulic models assuming recent operating flows, conditions, and various unit outages."]

{"sheet":"July","index":4,"n_rows":21,"n_cols":16,"rows_kept":21,"cut":false,"hidden":false,"merged":[[4,11,4,15],[5,2,5,5],[2,0,2,5],[1,0,1,5],[20,0,20,6],[4,0,5,0],[4,1,5,1],[4,6,5,6]]}
[null,null,null,null,null,null,"     -Restrictions to Primary In-Path transportation services may be necessary."]
["SNG - Outage Impact Report",null,null,null,null,null,"     -Restrictions to In-Path transportation services may be necessary."]
["July 2024 (updated 05/30/24)",null,null,null,null,null,"     -Restrictions to Interruptible and Out of Path transportation services may be necessary."]
[null,null,null,null,null,null,"     -No anticipated impact to transportation services."]
["Station / Seg\n","Est Nominal Design Capacity (Thousand Dth)","Week 1\n(7/1 - 7/7)","Week 2\n(7/8 - 7/14)","Week 3\n(7/15 - 7/21)","Week 4\n(7/22 - 7/28)","Primary Outage(s)",null,null,null,null,"Color Coding"]
[null,null,"Est. Operational Capacity (Operational Impact) - Thousand Dth",null,null,null,null,null,null,null,null,"Week 1","Week 2","Week 3","Week 4","Week 5"]
["Onward \n(segment 30)",203,203,203,203,203,null,null,null,null,null,"","","","",""]
["Duncanville Lateral\n(segment 90)",36,36,36,36,36,null,null,null,null,null,"","","","",""]
["Dearmanville\n(segment 150)",346,346,346,346,346,null,null,null,null,null,"","","","",""]
["White Castle\n(segment 340)",772,772,772,772,772,null,null,null,null,null,"","","","",""]
["GWINVILLE SOUTH\n(segment 370)",1123,1123,"1103 \n(20)","1103 \n(20)","1103 \n(20)","Franklinton Gwinville line south of Gwinville: Pipeline maintenance (pressure test)  (7/8/2024 - 8/8/2024)",null,null,null,null,"",1,1,1,""]
["Sesh\n(segment 380)",483,483,483,483,483,null,null,null,null,null,"","","","",""]
["Gwinville\n(segment 400)",234,234,234,234,234,null,null,null,null,null,"","","","",""]
["Enterprise\n(segment 430)",2306,2306,2306,2306,2306,null,null,null,null,null,"","","","",""]
["Ellerslie \n(segment 490)",1547,1547,1547,1547,1547,null,null,null,null,null,"","","","",""]
["Thomaston West\n(segment 490)",1535,"1365 \n(170)","1365 \n(170)","1365 \n(170)","1365 \n(170)","Thomaston compressor station: Unscheduled unit outage  (5/16/2024 - 8/14/2024)\nThomaston compressor station: Unscheduled unit outage  (5/23/2024 - 8/30/2024)",null,null,null,null,1,1,1,1,""]
["South Atlanta\n(segment 510)",522,522,522,522,522,null,null,null,null,null,"","","","",""]
["Thomaston East\n(segment 530)",849,849,849,849,849,null,null,null,null,null,"","","","",""]
["Hall Gate\n(segment 560)",705,"685 \n(20)",705,705,705,"South main loop line west of Hall Gate compressor station: Unscheduled pipeline maintenance  (6/1/2024 - 7/3/2024)",null,null,null,null,1,"","","",""]
["South Georgia\n(segment 650)",127,127,127,127,127,null,null,null,null,null,"","","","",""]
["This document is updated on a weekly basis and outage schedules/impacts are subject to change as the week progresses.  \nDates posted on DART should be deemed correct in the event of conflicts between DART posted dates and dates on this report. \nThe impacts sheet are based on steady-state hydraulic models assuming recent operating flows, conditions, and various unit outages."]

{"sheet":"August","index":5,"n_rows":20,"n_cols":17,"rows_kept":20,"cut":false,"hidden":false,"merged":[[4,12,4,16],[5,2,5,6],[19,0,19,7],[1,0,1,6],[2,0,2,6],[4,0,5,0],[4,1,5,1],[4,7,5,7]]}
[null,null,null,null,null,null,null,"     -Restrictions to Primary In-Path transportation services may be necessary."]
["SNG - Outage Impact Report",null,null,null,null,null,null,"     -Restrictions to In-Path transportation services may be necessary."]
["August 2024 (updated 05/30/24)",null,null,null,null,null,null,"     -Restrictions to Interruptible and Out of Path transportation services may be necessary."]
[null,null,null,null,null,null,null,"     -No anticipated impact to transportation services."]
["Station / Seg\n","Est Nominal Design Capacity (Thousand Dth)","Week 1\n(7/29 - 8/4)","Week 2\n(8/5 - 8/11)","Week 3\n(8/12 - 8/18)","Week 4\n(8/19 - 8/25)","Week 5\n(8/26 - 9/1)","Primary Outage(s)",null,null,null,null,"Color Coding"]
[null,null,"Est. Operational Capacity (Operational Impact) - Thousand Dth",null,null,null,null,null,null,null,null,null,"Week 1","Week 2","Week 3","Week 4","Week 5"]
["Onward \n(segment 30)",203,203,203,203,203,203,null,null,null,null,null,"","","","",""]
["Duncanville Lateral\n(segment 90)",36,36,36,36,36,36,null,null,null,null,null,"","","","",""]
["Dearmanville\n(segment 150)",346,346,346,346,346,346,null,null,null,null,null,"","","","",""]
["White Castle\n(segment 340)",772,772,772,772,772,772,null,null,null,null,null,"","","","",""]
["GWINVILLE SOUTH\n(segment 370)",1123,"1103 \n(20)","1103 \n(20)",1123,"973 \n(150)","963 \n(160)","Franklinton Gwinville 2nd loop line north of Pearl River: Pipeline valve maintenance  (8/27/2024 - 9/3/2024)\nFranklinton Gwinville line south of Gwinville: Pipeline maintenance (pressure test)  (7/8/2024 - 8/8/2024)\nFranklinton Gwinville loop line north of Pearl River: Pipeline valve maintenance  (8/19/2024 - 8/26/2024)",null,null,null,null,1,1,"",1,1]
["Sesh\n(segment 380)",483,483,483,483,483,483,null,null,null,null,null,"","","","",""]
["Gwinville\n(segment 400)",234,234,234,234,234,234,null,null,null,null,null,"","","","",""]
["Enterprise\n(segment 430)",2306,2306,2306,2306,2306,2306,null,null,null,null,null,"","","","",""]
["Ellerslie \n(segment 490)",1547,1547,1547,1547,1547,1547,null,null,null,null,null,"","","","",""]
["Thomaston West\n(segment 490)",1535,"1365 \n(170)","1365 \n(170)","1365 \n(170)","1365 \n(170)","1365 \n(170)","Thomaston compressor station: Unscheduled unit outage  (5/16/2024 - 8/14/2024)\nThomaston compressor station: Unscheduled unit outage  (5/23/2024 - 8/30/2024)",null,null,null,null,1,1,1,1,1]
["South Atlanta\n(segment 510)",522,522,522,522,522,522,null,null,null,null,null,"","","","",""]
["Thomaston East\n(segment 530)",849,849,849,849,849,849,null,null,null,null,null,"","","","",""]
["South Georgia\n(segment 650)",127,127,127,127,127,127,null,null,null,null,null,"","","","",""]
["This document is updated on a weekly basis and outage schedules/impacts are subject to change as the week progresses.  \nDates posted on DART should be deemed correct in the event of conflicts between DART posted dates and dates on this report. \nThe impacts sheet are based on steady-state hydraulic models assuming recent operating flows, conditions, and various unit outages."]

{"sheet":"September","index":6,"n_rows":21,"n_cols":16,"rows_kept":21,"cut":false,"hidden":false,"merged":[[4,11,4,15],[5,2,5,5],[2,0,2,5],[1,0,1,5],[20,0,20,6],[4,0,5,0],[4,1,5,1],[4,6,5,6]]}
[null,null,null,null,null,null,"     -Restrictions to Primary In-Path transportation services may be necessary."]
["SNG - Outage Impact Report",null,null,null,null,null,"     -Restrictions to In-Path transportation services may be necessary."]
["September 2024 (updated 05/30/24)",null,null,null,null,null,"     -Restrictions to Interruptible and Out of Path transportation services may be necessary."]
[null,null,null,null,null,null,"     -No anticipated impact to transportation services."]
["Station / Seg\n","Est Nominal Design Capacity (Thousand Dth)","Week 1\n(9/2 - 9/8)","Week 2\n(9/9 - 9/15)","Week 3\n(9/16 - 9/22)","Week 4\n(9/23 - 9/29)","Primary Outage(s)",null,null,null,null,"Color Coding"]
[null,null,"Est. Operational Capacity (Operational Impact) - Thousand Dth",null,null,null,null,null,null,null,null,"Week 1","Week 2","Week 3","Week 4","Week 5"]
["Onward \n(segment 30)",203,203,203,203,203,null,null,null,null,null,"","","","",""]
["Duncanville Lateral\n(segment 90)",36,36,36,36,36,null,null,null,null,null,"","","","",""]
["Dearmanville\n(segment 150)",346,346,346,346,346,null,null,null,null,null,"","","","",""]
["White Castle\n(segment 340)",772,772,772,772,772,null,null,null,null,null,"","","","",""]
["GWINVILLE SOUTH\n(segment 370)",1123,"963 \n(160)",1123,1123,1123,"Franklinton Gwinville 2nd loop line north of Pearl River: Pipeline valve maintenance  (8/27/2024 - 9/3/2024)",null,null,null,null,1,"","","",""]
["Sesh\n(segment 380)",483,483,483,483,483,null,null,null,null,null,"","","","",""]
["Gwinville\n(segment 400)",234,234,234,234,234,null,null,null,null,null,"","","","",""]
["Enterprise\n(segment 430)",2306,2306,2306,2306,2306,null,null,null,null,null,"","","","",""]
["Gallion\n(Segment 440)",2300,2300,2300,2300,"2035 \n(265)","Gallion compressor station: Unit maintenance  (9/23/2024 - 9/24/2024)",null,null,null,null,"","","",1,""]
["Elmore\n(segment 460)",2010,2010,2010,2010,"1755 \n(255)","Elmore compressor station: Unit maintenance  (9/25/2024 - 9/26/2024)",null,null,null,null,"","","",1,""]
["Ellerslie \n(segment 490)",1547,1547,1547,1547,1547,null,null,null,null,null,"","","","",""]
["South Atlanta\n(segment 510)",522,522,522,522,522,null,null,null,null,null,"","","","",""]
["Thomaston East\n(segment 530)",849,849,849,849,849,null,null,null,null,null,"","","","",""]
["South Georgia\n(segment 650)",127,127,127,127,127,null,null,null,null,null,"","","","",""]
["This document is updated on a weekly basis and outage schedules/impacts are subject to change as the week progresses.  \nDates posted on DART should be deemed correct in the event of conflicts between DART posted dates and dates on this report. \nThe impacts sheet are based on steady-state hydraulic models assuming recent operating flows, conditions, and various unit outages."]

{"sheet":"Dart_Capacity_Upload","index":7,"n_rows":7,"n_cols":16,"rows_kept":7,"cut":false,"hidden":true,"merged":[]}
["SEG_NBR","SEG_LOC_DESC","FLOW_DIR_IND","EFF_START_DATE","EFF_END_DATE","PL_LN_NBR","PL_SECT_ID","PL_DSTNC_MILES","EBB_POST_IND","FIXED_DSGN_CAP","MODELED_CAP","MAX_AVBL_TO_SCHD","SEG_CAP_RLS_IND","CMT","LAST_MOD_USER_ID","RSN_CODE"]
[400,"PICKENS TO GWINVILLE","F","2024-06-03","2024-06-09",2,"402",77,"Y",234000,234000,194000,"Y","Gwinville compressor station: unit maintenance  (6/3/2024 - 6/14/2024)","Gas Control Upload on"]
[420,"BAY SPRINGS","F","2024-06-03","2024-06-09",2,"421",38.590000000000003,"Y",1675000,1675000,1625000,"Y","South main line east of Bay Springs: Pipeline maintenance  (5/22/2024 - 6/18/2024)","Gas Control Upload on"]
[430,"ENTERPRISE","F","2024-06-03","2024-06-09",2,"431",67.23,"Y",2306000,2306000,2158000,"Y","South main line west of Enterprise compressor station: Pipeline maintenance  (5/20/2024 - 6/18/2024)","Gas Control Upload on"]
[490,"THOMASTON WEST","F","2024-06-03","2024-06-09",2,"491",346.9,"O",1535000,1535000,1365000,"Y","Thomaston compressor station: Unscheduled unit outage  (5/16/2024 - 8/14/2024) ; Thomaston compressor station: Unscheduled unit outage  (5/23/2024 - 8/30/2024)","Gas Control Upload on"]
[560,"HALL GATE CS","F","2024-06-03","2024-06-04",2,"561",420.19,"O",705000,705000,680000,"Y","Hall Gate compressor station: scheduled unit maintenance  (4/1/2024 - 6/4/2024) ; South main loop line west of Hall Gate compressor station: Unscheduled pipeline maintenance  (6/1/2024 - 7/3/2024)","Gas Control Upload on"]
[560,"HALL GATE CS","F","2024-06-05","2024-06-09",2,"561",420.19,"O",705000,705000,685000,"Y","Hall Gate compressor station: scheduled unit maintenance  (4/1/2024 - 6/4/2024) ; South main loop line west of Hall Gate compressor station: Unscheduled pipeline maintenance  (6/1/2024 - 7/3/2024)","Gas Control Upload on"]

{"sheet":"Bkup_Dart_Capacity_Upload","index":8,"n_rows":7,"n_cols":16,"rows_kept":7,"cut":false,"hidden":true,"merged":[]}
["SEG_NBR","SEG_LOC_DESC","FLOW_DIR_IND","EFF_START_DATE","EFF_END_DATE","PL_LN_NBR","PL_SECT_ID","PL_DSTNC_MILES","EBB_POST_IND","FIXED_DSGN_CAP","MODELED_CAP","MAX_AVBL_TO_SCHD","SEG_CAP_RLS_IND","CMT","LAST_MOD_USER_ID","RSN_CODE"]
[400,"PICKENS TO GWINVILLE","F","2024-06-03","2024-06-09",2,"402",77,"Y",234000,234000,234000,"Y","Outage capacity upload error. Restoring original SCHD capacity.","Gas Control Upload on"]
[420,"BAY SPRINGS","F","2024-06-03","2024-06-09",2,"421",38.590000000000003,"Y",1675000,1675000,1675000,"Y","Outage capacity upload error. Restoring original SCHD capacity.","Gas Control Upload on"]
[430,"ENTERPRISE","F","2024-06-03","2024-06-09",2,"431",67.23,"Y",2306000,2306000,2306000,"Y","Outage capacity upload error. Restoring original SCHD capacity.","Gas Control Upload on"]
[490,"THOMASTON WEST","F","2024-06-03","2024-06-09",2,"491",346.9,"O",1535000,1535000,1535000,"Y","Outage capacity upload error. Restoring original SCHD capacity.","Gas Control Upload on"]
[560,"HALL GATE CS","F","2024-06-03","2024-06-04",2,"561",420.19,"O",705000,705000,705000,"Y","Outage capacity upload error. Restoring original SCHD capacity.","Gas Control Upload on"]
[560,"HALL GATE CS","F","2024-06-05","2024-06-09",2,"561",420.19,"O",705000,705000,705000,"Y","Outage capacity upload error. Restoring original SCHD capacity.","Gas Control Upload on"]